{"text_format":"1","workbook":"xlsx","n_sheets":25,"sheets":["Copying & Saving Directions","Caseload Files","Caseload Data","Compiled Notes","File 1","File 2","File 3","File 4","File 5","File 6","File 7","File 8","File 9","File 10","File 11","File 12","File 13","Sheet1","File 14","File 15","File 16","File 17","File 18","File 19","File 20"],"not_rendered":{"charts":0,"images":1,"macros":1,"external_links":0,"defined_names":0,"comments":1,"pivot_tables":0},"unopened":[],"bounds":{"document_bytes":16777216,"sheet_cells":100000,"rows_first":2000,"rows_last":500,"rows_between":2000,"halvings":0,"cell_chars":16384,"cell_head_chars":4096},"cells_cut":0,"cells_raw":0,"read":"whole","date_system":"1900"}

{"sheet":"Copying & Saving Directions","index":0,"n_rows":12,"n_cols":9,"rows_kept":12,"cut":false,"hidden":true,"merged":[[9,8,9,13],[10,0,10,5],[10,8,11,13],[11,0,11,5],[0,0,0,5],[0,6,11,7],[0,8,0,13],[1,8,1,13],[2,8,2,13],[3,8,3,13],[4,8,4,13],[5,8,6,13],[7,0,7,5],[7,8,7,13],[8,0,8,5],[8,8,8,13],[3,0,3,5],[4,0,4,5],[1,0,2,5],[5,0,5,5],[23,0,23,5],[9,0,9,5]]}
["Things for Administrators to consider when using and saving this document:",null,null,null,null,null,null,null,"Description of and Instructions for Utilizing the Tabs of this Document:"]
["This document has formulas and connections embedded within that connect each \"File ___\" tab to the \"Compiled Notes\" and \"Caseload Data\" tabs to collect data and information that will help you recognize systemic areas of strength, as well as areas for improvement.  ",null,null,null,null,null,null,null,"Each of the tabs within this document serve a different purpose - these purposes are outlined below.  Please note that changing the names of any of the tabs, adjusting formulas, and inserting/deleting rows and/or columns may compromise the document's use."]
[null,null,null,null,null,null,null,null,"\"Caseload Files\" Tab"]
["You can share this document with teachers via email attachment, however, be aware that if you just send one document out to all teachers, when the teachers send their completed reviews back to you, they will not automatically fill in on one document - they will be separate documents and data will not be compiled into one document.",null,null,null,null,null,null,null,"This tab is where case managers can be assigned to a file number.  There are more detailed instructions within the \"Notes\" section of this tab (located at the top in gray)."]
["Every Spring, the state will request, which area identified on this caseload data tab, the district has identified as need for additional professional development.",null,null,null,null,null,null,null,"\"File ___\" Tabs"]
["This is an internal document to gather data from case managers and not submitted to the state. If concern with PII being shared, staff are not required to complete the student demographic information. This is a district decision.",null,null,null,null,null,null,null,"Each of these tabs include a file review form that can be completed by case managers.  There are detailed instructions for completion within each section of the review form, as well as links to the corresponding Administrative Rules of South Dakota.  It is critical that case managers do not insert/delete rows or columns when completing their review form, and also do not type over or clear formulas out of any cells in their review form, as this link will then be lost.  In the case that this happens accidentally, hit \"undo\" immediately."]
["In order to have information contained on one document you could:"]
["Upload into Sharepoint and Share out:",null,null,null,null,null,null,null,"\"Compiled Notes\" Tab"]
["After downloading this document, upload this Excel file into Office 365/Sharepoint, and then share the URL link out to your staff. Using the \"Caseload Files Schedule\" tab to assign staff to specific \"File ___\" tabs.  Once you upload this document into sharepoint and share the link out, this becomes a collaborative document in which others can edit/work in at the same time. ",null,null,null,null,null,null,null,"This tab will show all of the notes taken within each section of the review for each file.  This is because these cells are linked to the corresponding cells within the given \"File ___\" tab - it is crucial that the cells on this tab do not get cleared or typed-over, as the links to these tabs will be lost. These notes will provide additional information around each section within each file that will allow you to further identify systemic issues. "]
["Email IR Out and Compile:",null,null,null,null,null,null,null,"\"Caseload Data\" Tab"]
["After downloading this document, use the \"Caseload Files Schedule\" tab to schedule teachers/case managers into \"File ___\" tabs. Email this document out and have teachers complete their assigned files.  Afterwards, have each teacher email document back to you (they should change the name of the document).  As you receive these files back you can copy and paste the markings into your \"master\" file which will autopopulate the caseload data and compiled notes.  Or, if there are only a few teachers, you could review each file individually and document what you are noticing within the files/data.  ",null,null,null,null,null,null,null,"This tab will show all of the scores for each section of the review for each file, and calculate an average score for each section.  This is because these cells are linked to the corresponding cells within the given \"File ___\" tab - it is crucial that the cells on this tab do not get cleared or typed-over, as the links to these tabs will be lost. This data will provide additional information that will allow you to identify areas of strengths and issues that are occuring.\nEvery Spring, the state will request, which area identifed on this caseload data tab, the district has identified as need for additional professional development. "]
["You could also pass along the document from teacher to teacher following the schedule, i.e. you send the document to one teacher, they save their changes to the document, and then they send it on to the next teacher on the schedule for them to complete their assigned file."]

{"sheet":"Caseload Files","index":1,"n_rows":30,"n_cols":26,"rows_kept":30,"cut":false,"hidden":false,"merged":[[26,19,26,21],[26,22,26,24],[26,25,26,28],[26,1,26,2],[26,3,26,4],[26,5,26,7],[26,8,26,10],[26,11,26,13],[26,14,26,16],[26,17,26,18],[25,19,25,21],[25,22,25,24],[25,25,25,28],[25,1,25,2],[25,3,25,4],[25,5,25,7],[25,8,25,10],[25,11,25,13],[25,14,25,16],[25,17,25,18],[24,19,24,21],[24,22,24,24],[24,25,24,28],[24,1,24,2],[24,3,24,4],[24,5,24,7],[24,8,24,10],[24,11,24,13],[24,14,24,16],[24,17,24,18],[23,19,23,21],[23,22,23,24],[23,25,23,28],[23,1,23,2],[23,3,23,4],[23,5,23,7],[23,8,23,10],[23,11,23,13],[23,14,23,16],[23,17,23,18],[22,19,22,21],[22,22,22,24],[22,25,22,28],[22,1,22,2],[22,3,22,4],[22,5,22,7],[22,8,22,10],[22,11,22,13],[22,14,22,16],[22,17,22,18],[21,19,21,21],[21,22,21,24],[21,25,21,28],[21,1,21,2],[21,3,21,4],[21,5,21,7],[21,8,21,10],[21,11,21,13],[21,14,21,16],[21,17,21,18],[20,19,20,21],[20,22,20,24],[20,25,20,28],[20,1,20,2],[20,3,20,4],[20,5,20,7],[20,8,20,10],[20,11,20,13],[20,14,20,16],[20,17,20,18],[29,19,29,21],[29,22,29,24],[29,25,29,28],[29,1,29,2],[29,3,29,4],[29,5,29,7],[29,8,29,10],[29,11,29,13],[29,14,29,16],[29,17,29,18],[13,19,13,21],[13,22,13,24],[13,25,13,28],[13,1,13,2],[13,3,13,4],[13,5,13,7],[13,8,13,10],[13,11,13,13],[13,14,13,16],[13,17,13,18],[12,19,12,21],[12,22,12,24],[12,25,12,28],[12,1,12,2],[12,3,12,4],[12,5,12,7],[12,8,12,10],[12,11,12,13],[12,14,12,16],[12,17,12,18],[11,19,11,21],[11,22,11,24],[11,25,11,28],[11,1,11,2],[11,3,11,4],[11,5,11,7],[11,8,11,10],[11,11,11,13],[11,14,11,16],[11,17,11,18],[28,19,28,21],[28,22,28,24],[28,25,28,28],[28,1,28,2],[28,3,28,4],[28,5,28,7],[28,8,28,10],[28,11,28,13],[28,14,28,16],[28,17,28,18],[27,19,27,21],[27,22,27,24],[27,25,27,28],[27,1,27,2],[27,3,27,4],[27,5,27,7],[27,8,27,10],[27,11,27,13],[27,14,27,16],[27,17,27,18],[19,19,19,21],[19,22,19,24],[19,25,19,28],[19,1,19,2],[19,3,19,4],[19,5,19,7],[19,8,19,10],[19,11,19,13],[19,14,19,16],[19,17,19,18],[18,19,18,21],[18,22,18,24],[18,25,18,28],[18,1,18,2],[18,3,18,4],[18,5,18,7],[18,8,18,10],[18,11,18,13],[18,14,18,16],[18,17,18,18],[17,19,17,21],[17,22,17,24],[17,25,17,28],[17,1,17,2],[17,3,17,4],[17,5,17,7],[17,8,17,10],[17,11,17,13],[17,14,17,16],[17,17,17,18],[16,19,16,21],[16,22,16,24],[16,25,16,28],[16,1,16,2],[16,3,16,4],[16,5,16,7],[16,8,16,10],[16,11,16,13],[16,14,16,16],[16,17,16,18],[15,19,15,21],[15,22,15,24],[15,25,15,28],[15,1,15,2],[15,3,15,4],[15,5,15,7],[15,8,15,10],[15,11,15,13],[15,14,15,16],[15,17,15,18],[14,19,14,21],[14,22,14,24],[14,25,14,28],[14,1,14,2],[14,3,14,4],[14,5,14,7],[14,8,14,10],[14,11,14,13],[14,14,14,16],[14,17,14,18],[10,19,10,21],[10,22,10,24],[10,25,10,28],[10,1,10,2],[10,3,10,4],[10,5,10,7],[10,8,10,10],[10,11,10,13],[10,14,10,16],[10,17,10,18],[9,17,9,18],[9,19,9,21],[9,22,9,24],[9,25,9,28],[8,1,8,7],[8,8,8,28],[9,1,9,4],[9,5,9,7],[9,8,9,10],[9,11,9,13],[9,14,9,16],[0,1,0,7],[0,8,0,21],[0,22,0,28],[1,1,1,28],[2,1,2,28],[3,1,3,28],[4,1,4,3],[4,4,4,8],[4,11,7,28],[5,1,5,3],[5,4,5,8],[5,10,7,10],[6,1,6,3],[6,4,6,8]]}
[null,null,null,null,null,null,null,null,"South Dakota Internal Review Collection Form",null,null,null,null,null,null,null,null,null,null,null,null,null,"Version8.24.2020"]
[null,{"$f":"E5","v":"Teacher Caseload Review"}]
[null,"District 00-0"]
[]
[null,"Review Purpose:",null,null,"Teacher Caseload Review",null,null,null,null,null,"Notes:","This is an internal document to gather data from case managers and not submitted to the state. If concern with PII being shared, staff are not required to complete the student demographic information. This is a district decision.  How you set-up this tab is entirely up to you.  Information typed into these cells will auto-populate into their corresponding cell in the given \"File ___\" tab.  You can input the case manager's name into the \"Case Manager\" column to assign them to a File number.  You can simplify this tab by removing information that you don't care to have included within the review form - however, it is crucial that this information is simply cleared and not deleted, as deleting a column or row can compromise the links to the other tabs.  "]
[null,"School Name:",null,null,"School Name"]
[null,"School Year:",null,null,"1998-1999"]
[]
[null,"File Reviews",null,null,null,null,null,null,"Be sure to input this information before working in the coresponding file number.  \nThis information auto-populates out to each file number, but not vice versa.  "]
[null,"File #",null,null,null,"Reviewer",null,null,"Staff Reviewed",null,null,"Student Name",null,null,"SIMS#",null,null,"DOB",null,"Race/Ethnicity",null,null,"Disability Code",null,null,"Type of IEP"]
[null,null,null,"File 1",null,"Reviewer 1",null,null,"Staff 1",null,null,"Student 1",null,null,10123456,null,null,"2001-01-01",null,"Race 1",null,null,"DisCode 1",null,null,"Type 1"]
[null,null,null,"File 2",null,"Reviewer 2",null,null,"Staff 2",null,null,"Student 2",null,null,20123456,null,null,"2002-02-02",null,"Race 2",null,null,"DisCode 2",null,null,"Type 2"]
[null,null,null,"File 3",null,"Reviewer 3",null,null,"Staff 3",null,null,"Student 3",null,null,30123456,null,null,"2003-03-03",null,"Race 3",null,null,"DisCode 3",null,null,"Type 3"]
[null,null,null,"File 4",null,"Reviewer 4",null,null,"Staff 4",null,null,"Student 4",null,null,40123456,null,null,"2004-04-04",null,"Race 4",null,null,"DisCode 4",null,null,"Type 4"]
[null,null,null,"File 5",null,"Reviewer 5",null,null,"Staff 5",null,null,"Student 5",null,null,50123456,null,null,"2005-05-05",null,"Race 5",null,null,"DisCode 5",null,null,"Type 5"]
[null,null,null,"File 6",null,"Reviewer 6",null,null,"Staff 6",null,null,"Student 6",null,null,60123456,null,null,"2006-06-06",null,"Race 6",null,null,"DisCode 6",null,null,"Type 6"]
[null,null,null,"File 7",null,"Reviewer 7",null,null,"Staff 7",null,null,"Student 7",null,null,70123456,null,null,"2007-07-07",null,"Race 7",null,null,"DisCode 7",null,null,"Type 7"]
[null,null,null,"File 8",null,"Reviewer 8",null,null,"Staff 8",null,null,"Student 8",null,null,80123456,null,null,"2008-08-08",null,"Race 8",null,null,"DisCode 8",null,null,"Type 8"]
[null,null,null,"File 9",null,"Reviewer 9",null,null,"Staff 9",null,null,"Student 9",null,null,90123456,null,null,"2009-09-09",null,"Race 9",null,null,"DisCode 9",null,null,"Type 9"]
[null,null,null,"File 10",null,"Reviewer 10",null,null,"Staff 10",null,null,"Student 10",null,null,101234567,null,null,"2010-10-10",null,"Race 10",null,null,"DisCode 10",null,null,"Type 10"]
[null,null,null,"File 11",null,"Reviewer 11",null,null,"Staff 11",null,null,"Student 11",null,null,110123456,null,null,"2011-11-11",null,"Race 11",null,null,"DisCode 11",null,null,"Type 11"]
[null,null,null,"File 12",null,"Reviewer 12",null,null,"Staff 12",null,null,"Student 12",null,null,120123456,null,null,"2012-12-12",null,"Race 12",null,null,"DisCode 12",null,null,"Type 12"]
[null,null,null,"File 13",null,"Reviewer 13",null,null,"Staff 13",null,null,"Student 13",null,null,130123456,null,null,"2013-01-13",null,"Race 13",null,null,"DisCode 13",null,null,"Type 13"]
[null,null,null,"File 14",null,"Reviewer 14",null,null,"Staff 14",null,null,"Student 14",null,null,140123456,null,null,"2014-01-14",null,"Race 14",null,null,"DisCode 14",null,null,"Type 14"]
[null,null,null,"File 15",null,"Reviewer 15",null,null,"Staff 15",null,null,"Student 15",null,null,150123456,null,null,"2015-01-15",null,"Race 15",null,null,"DisCode 15",null,null,"Type 15"]
[null,null,null,"File 16",null,"Reviewer 16",null,null,"Staff 16",null,null,"Student 16",null,null,160123456,null,null,"2016-01-16",null,"Race 16",null,null,"DisCode 16",null,null,"Type 16"]
[null,null,null,"File 17",null,"Reviewer 17",null,null,"Staff 17",null,null,"Student 17",null,null,170123456,null,null,"2017-01-17",null,"Race 17",null,null,"DisCode 17",null,null,"Type 17"]
[null,null,null,"File 18",null,"Reviewer 18",null,null,"Staff 18",null,null,"Student 18",null,null,180123456,null,null,"2018-01-18",null,"Race 18",null,null,"DisCode 18",null,null,"Type 18"]
[null,null,null,"File 19",null,"Reviewer 19",null,null,"Staff 19",null,null,"Student 19",null,null,190123456,null,null,"2019-01-19",null,"Race 19",null,null,"DisCode 19",null,null,"Type 19"]
[null,null,null,"File 20",null,"Reviewer 20",null,null,"Staff 20",null,null,"Student 20",null,null,201234567,null,null,"2020-02-20",null,"Race 20",null,null,"DisCode 20",null,null,"Type 20"]

{"sheet":"Caseload Data","index":2,"n_rows":25,"n_cols":30,"rows_kept":25,"cut":false,"hidden":false,"merged":[[23,1,24,2],[23,3,24,4],[23,5,24,6],[23,7,24,8],[23,9,24,10],[23,20,24,21],[23,22,24,23],[23,25,24,26],[23,27,24,28],[23,29,24,30],[0,9,1,10],[0,11,1,11],[23,14,24,15],[23,16,24,17],[23,18,24,19],[23,11,24,12],[23,13,24,13],[0,13,1,13],[0,0,1,0],[0,1,1,2],[0,3,1,4],[0,5,1,6],[0,7,1,8],[0,27,1,28],[0,29,1,30],[1,14,1,15],[1,16,1,17],[1,22,1,23],[1,18,1,19],[1,20,1,21],[0,16,0,19],[0,25,1,26]]}
["SD Internal Review Data","Record \nof Access",null,"Referral",null,"Initial\nPlacement",null,"Evaluation",null,"Eligibility\nfor SLD",null,"Meeting \nNotice",null,"IEP\nCover",null,null,"Individual Education Plan",null,null,null,null,null,null,null,null,"PPWN",null,"Amendment \nIEP",null,"Additional Items"]
[null,null,null,null,null,null,null,null,null,null,null,null,null,null,"Present Levels",null,"Special Factors",null,"Transition",null,"Related Services",null,"LRE"]
[{"$f":"'Caseload Files'!E9","v":0}]
["File 1",{"$f":"'File 1'!S$15","v":"N/A"},null,{"$f":"'File 1'!S$19","v":"N/A"},null,{"$f":"'File 1'!S$27","v":"N/A"},null,{"$f":"'File 1'!S$35","v":"N/A"},null,{"$f":"'File 1'!S$122","v":"N/A"},null,{"$f":"'File 1'!S$176","v":"N/A"},null,{"$f":"'File 1'!S$203","v":"N/A"},{"$f":"'File 1'!S$211","v":"N/A"},null,{"$f":"'File 1'!S$255","v":"N/A"},null,{"$f":"'File 1'!S$305","v":"N/A"},null,{"$f":"'File 1'!S$372","v":"N/A"},null,{"$f":"'File 1'!S$382","v":"N/A"},null,null,{"$f":"'File 1'!S$414","v":"N/A"},null,{"$f":"'File 1'!S$430","v":"N/A"},null,{"$f":"'File 1'!S$436","v":"N/A"}]
["File 2",{"$f":"'File 2'!S$15","v":"N/A"},null,{"$f":"'File 2'!S$19","v":"N/A"},null,{"$f":"'File 2'!S$27","v":"N/A"},null,{"$f":"'File 2'!S$35","v":"N/A"},null,{"$f":"'File 2'!S$122","v":"N/A"},null,{"$f":"'File 2'!S$176","v":"N/A"},null,{"$f":"'File 2'!S$203","v":"N/A"},{"$f":"'File 2'!S$211","v":"N/A"},null,{"$f":"'File 2'!S$255","v":"N/A"},null,{"$f":"'File 2'!S$305","v":"N/A"},null,{"$f":"'File 2'!S$372","v":"N/A"},null,{"$f":"'File 2'!S$382","v":"N/A"},null,null,{"$f":"'File 2'!S$414","v":"N/A"},null,{"$f":"'File 2'!S$430","v":"N/A"},null,{"$f":"'File 2'!S$436","v":"N/A"}]
["File 3",{"$f":"'File 3'!S$15","v":"N/A"},null,{"$f":"'File 3'!S$19","v":"N/A"},null,{"$f":"'File 3'!S$27","v":"N/A"},null,{"$f":"'File 3'!S$35","v":"N/A"},null,{"$f":"'File 3'!S$122","v":"N/A"},null,{"$f":"'File 3'!S$176","v":"N/A"},null,{"$f":"'File 3'!S$203","v":"N/A"},{"$f":"'File 3'!S$211","v":"N/A"},null,{"$f":"'File 3'!S$255","v":"N/A"},null,{"$f":"'File 3'!S$305","v":"N/A"},null,{"$f":"'File 3'!S$372","v":"N/A"},null,{"$f":"'File 3'!S$382","v":"N/A"},null,null,{"$f":"'File 3'!S$414","v":"N/A"},null,{"$f":"'File 3'!S$430","v":"N/A"},null,{"$f":"'File 3'!S$436","v":"N/A"}]
["File 4",{"$f":"'File 4'!S$15","v":"N/A"},null,{"$f":"'File 4'!S$19","v":"N/A"},null,{"$f":"'File 4'!S$27","v":"N/A"},null,{"$f":"'File 4'!S$35","v":"N/A"},null,{"$f":"'File 4'!S$122","v":"N/A"},null,{"$f":"'File 4'!S$176","v":"N/A"},null,{"$f":"'File 4'!S$203","v":"N/A"},{"$f":"'File 4'!S$211","v":"N/A"},null,{"$f":"'File 4'!S$255","v":"N/A"},null,{"$f":"'File 4'!S$305","v":"N/A"},null,{"$f":"'File 4'!S$372","v":"N/A"},null,{"$f":"'File 4'!S$382","v":"N/A"},null,null,{"$f":"'File 4'!S$414","v":"N/A"},null,{"$f":"'File 4'!S$430","v":"N/A"},null,{"$f":"'File 4'!S$436","v":"N/A"}]
["File 5",{"$f":"'File 5'!S$15","v":"N/A"},null,{"$f":"'File 5'!S$19","v":"N/A"},null,{"$f":"'File 5'!S$27","v":"N/A"},null,{"$f":"'File 5'!S$35","v":"N/A"},null,{"$f":"'File 5'!S$122","v":"N/A"},null,{"$f":"'File 5'!S$176","v":"N/A"},null,{"$f":"'File 5'!S$203","v":"N/A"},{"$f":"'File 5'!S$211","v":"N/A"},null,{"$f":"'File 5'!S$255","v":"N/A"},null,{"$f":"'File 5'!S$305","v":"N/A"},null,{"$f":"'File 5'!S$372","v":"N/A"},null,{"$f":"'File 5'!S$382","v":"N/A"},null,null,{"$f":"'File 5'!S$414","v":"N/A"},null,{"$f":"'File 5'!S$430","v":"N/A"},null,{"$f":"'File 5'!S$436","v":"N/A"}]
["File 6",{"$f":"'File 6'!S$15","v":"N/A"},null,{"$f":"'File 6'!S$19","v":"N/A"},null,{"$f":"'File 6'!S$27","v":"N/A"},null,{"$f":"'File 6'!S$35","v":"N/A"},null,{"$f":"'File 6'!S$122","v":"N/A"},null,{"$f":"'File 6'!S$176","v":"N/A"},null,{"$f":"'File 6'!S$203","v":"N/A"},{"$f":"'File 6'!S$211","v":"N/A"},null,{"$f":"'File 6'!S$255","v":"N/A"},null,{"$f":"'File 6'!S$305","v":"N/A"},null,{"$f":"'File 6'!S$372","v":"N/A"},null,{"$f":"'File 6'!S$382","v":"N/A"},null,null,{"$f":"'File 6'!S$414","v":"N/A"},null,{"$f":"'File 6'!S$430","v":"N/A"},null,{"$f":"'File 6'!S$436","v":"N/A"}]
["File 7",{"$f":"'File 7'!S$15","v":"N/A"},null,{"$f":"'File 7'!S$19","v":"N/A"},null,{"$f":"'File 7'!S$27","v":"N/A"},null,{"$f":"'File 7'!S$35","v":"N/A"},null,{"$f":"'File 7'!S$122","v":"N/A"},null,{"$f":"'File 7'!S$176","v":"N/A"},null,{"$f":"'File 7'!S$203","v":"N/A"},{"$f":"'File 7'!S$211","v":"N/A"},null,{"$f":"'File 7'!S$255","v":"N/A"},null,{"$f":"'File 7'!S$305","v":"N/A"},null,{"$f":"'File 7'!S$372","v":"N/A"},null,{"$f":"'File 7'!S$382","v":"N/A"},null,null,{"$f":"'File 7'!S$414","v":"N/A"},null,{"$f":"'File 7'!S$430","v":"N/A"},null,{"$f":"'File 7'!S$436","v":"N/A"}]
["File 8",{"$f":"'File 8'!S$15","v":"N/A"},null,{"$f":"'File 8'!S$19","v":"N/A"},null,{"$f":"'File 8'!S$27","v":"N/A"},null,{"$f":"'File 8'!S$35","v":"N/A"},null,{"$f":"'File 8'!S$122","v":"N/A"},null,{"$f":"'File 8'!S$176","v":"N/A"},null,{"$f":"'File 8'!S$203","v":"N/A"},{"$f":"'File 8'!S$211","v":"N/A"},null,{"$f":"'File 8'!S$255","v":"N/A"},null,{"$f":"'File 8'!S$305","v":"N/A"},null,{"$f":"'File 8'!S$372","v":"N/A"},null,{"$f":"'File 8'!S$382","v":"N/A"},null,null,{"$f":"'File 8'!S$414","v":"N/A"},null,{"$f":"'File 8'!S$430","v":"N/A"},null,{"$f":"'File 8'!S$436","v":"N/A"}]
["File 9",{"$f":"'File 9'!S$15","v":"N/A"},null,{"$f":"'File 9'!S$19","v":"N/A"},null,{"$f":"'File 9'!S$27","v":"N/A"},null,{"$f":"'File 9'!S$35","v":"N/A"},null,{"$f":"'File 9'!S$122","v":"N/A"},null,{"$f":"'File 9'!S$176","v":"N/A"},null,{"$f":"'File 9'!S$203","v":"N/A"},{"$f":"'File 9'!S$211","v":"N/A"},null,{"$f":"'File 9'!S$255","v":"N/A"},null,{"$f":"'File 9'!S$305","v":"N/A"},null,{"$f":"'File 9'!S$372","v":"N/A"},null,{"$f":"'File 9'!S$382","v":"N/A"},null,null,{"$f":"'File 9'!S$414","v":"N/A"},null,{"$f":"'File 9'!S$430","v":"N/A"},null,{"$f":"'File 9'!S$436","v":"N/A"}]
["File 10",{"$f":"'File 10'!S$15","v":"N/A"},null,{"$f":"'File 10'!S$19","v":"N/A"},null,{"$f":"'File 10'!S$27","v":"N/A"},null,{"$f":"'File 10'!S$35","v":"N/A"},null,{"$f":"'File 10'!S$122","v":"N/A"},null,{"$f":"'File 10'!S$176","v":"N/A"},null,{"$f":"'File 10'!S$203","v":"N/A"},{"$f":"'File 10'!S$211","v":"N/A"},null,{"$f":"'File 10'!S$255","v":"N/A"},null,{"$f":"'File 10'!S$305","v":"N/A"},null,{"$f":"'File 10'!S$372","v":"N/A"},null,{"$f":"'File 10'!S$382","v":"N/A"},null,null,{"$f":"'File 10'!S$414","v":"N/A"},null,{"$f":"'File 10'!S$430","v":"N/A"},null,{"$f":"'File 10'!S$436","v":"N/A"}]
["File 11",{"$f":"'File 11'!S$15","v":"N/A"},null,{"$f":"'File 11'!S$19","v":"N/A"},null,{"$f":"'File 11'!S$27","v":"N/A"},null,{"$f":"'File 11'!S$35","v":"N/A"},null,{"$f":"'File 11'!S$122","v":"N/A"},null,{"$f":"'File 11'!S$176","v":"N/A"},null,{"$f":"'File 11'!S$203","v":"N/A"},{"$f":"'File 11'!S$211","v":"N/A"},null,{"$f":"'File 11'!S$255","v":"N/A"},null,{"$f":"'File 11'!S$305","v":"N/A"},null,{"$f":"'File 11'!S$372","v":"N/A"},null,{"$f":"'File 11'!S$382","v":"N/A"},null,null,{"$f":"'File 11'!S$414","v":"N/A"},null,{"$f":"'File 11'!S$430","v":"N/A"},null,{"$f":"'File 11'!S$436","v":"N/A"}]
["File 12",{"$f":"'File 12'!S$15","v":"N/A"},null,{"$f":"'File 12'!S$19","v":"N/A"},null,{"$f":"'File 12'!S$27","v":"N/A"},null,{"$f":"'File 12'!S$35","v":"N/A"},null,{"$f":"'File 12'!S$122","v":"N/A"},null,{"$f":"'File 12'!S$176","v":"N/A"},null,{"$f":"'File 12'!S$203","v":"N/A"},{"$f":"'File 12'!S$211","v":"N/A"},null,{"$f":"'File 12'!S$255","v":"N/A"},null,{"$f":"'File 12'!S$305","v":"N/A"},null,{"$f":"'File 12'!S$372","v":"N/A"},null,{"$f":"'File 12'!S$382","v":"N/A"},null,null,{"$f":"'File 12'!S$414","v":"N/A"},null,{"$f":"'File 12'!S$430","v":"N/A"},null,{"$f":"'File 12'!S$436","v":"N/A"}]
["File 13",{"$f":"'File 13'!S$15","v":"N/A"},null,{"$f":"'File 13'!S$19","v":"N/A"},null,{"$f":"'File 13'!S$27","v":"N/A"},null,{"$f":"'File 13'!S$35","v":"N/A"},null,{"$f":"'File 13'!S$122","v":"N/A"},null,{"$f":"'File 13'!S$176","v":"N/A"},null,{"$f":"'File 13'!S$203","v":"N/A"},{"$f":"'File 13'!S$211","v":"N/A"},null,{"$f":"'File 13'!S$255","v":"N/A"},null,{"$f":"'File 13'!S$305","v":"N/A"},null,{"$f":"'File 13'!S$372","v":"N/A"},null,{"$f":"'File 13'!S$382","v":"N/A"},null,null,{"$f":"'File 13'!S$414","v":"N/A"},null,{"$f":"'File 13'!S$430","v":"N/A"},null,{"$f":"'File 13'!S$436","v":"N/A"}]
["File 14",{"$f":"'File 14'!S$15","v":"N/A"},null,{"$f":"'File 14'!S$19","v":"N/A"},null,{"$f":"'File 14'!S$27","v":"N/A"},null,{"$f":"'File 14'!S$35","v":"N/A"},null,{"$f":"'File 14'!S$122","v":"N/A"},null,{"$f":"'File 14'!S$176","v":"N/A"},null,{"$f":"'File 14'!S$203","v":"N/A"},{"$f":"'File 14'!S$211","v":"N/A"},null,{"$f":"'File 14'!S$255","v":"N/A"},null,{"$f":"'File 14'!S$305","v":"N/A"},null,{"$f":"'File 14'!S$372","v":"N/A"},null,{"$f":"'File 14'!S$382","v":"N/A"},null,null,{"$f":"'File 14'!S$414","v":"N/A"},null,{"$f":"'File 14'!S$430","v":"N/A"},null,{"$f":"'File 14'!S$436","v":"N/A"}]
["File 15",{"$f":"'File 15'!S$15","v":"N/A"},null,{"$f":"'File 15'!S$19","v":"N/A"},null,{"$f":"'File 15'!S$27","v":"N/A"},null,{"$f":"'File 15'!S$35","v":"N/A"},null,{"$f":"'File 15'!S$122","v":"N/A"},null,{"$f":"'File 15'!S$176","v":"N/A"},null,{"$f":"'File 15'!S$203","v":"N/A"},{"$f":"'File 15'!S$211","v":"N/A"},null,{"$f":"'File 15'!S$255","v":"N/A"},null,{"$f":"'File 15'!S$305","v":"N/A"},null,{"$f":"'File 15'!S$372","v":"N/A"},null,{"$f":"'File 15'!S$382","v":"N/A"},null,null,{"$f":"'File 15'!S$414","v":"N/A"},null,{"$f":"'File 15'!S$430","v":"N/A"},null,{"$f":"'File 15'!S$436","v":"N/A"}]
["File 16",{"$f":"'File 16'!S$15","v":"N/A"},null,{"$f":"'File 16'!S$19","v":"N/A"},null,{"$f":"'File 16'!S$27","v":"N/A"},null,{"$f":"'File 16'!S$35","v":"N/A"},null,{"$f":"'File 16'!S$122","v":"N/A"},null,{"$f":"'File 16'!S$176","v":"N/A"},null,{"$f":"'File 16'!S$203","v":"N/A"},{"$f":"'File 16'!S$211","v":"N/A"},null,{"$f":"'File 16'!S$255","v":"N/A"},null,{"$f":"'File 16'!S$305","v":"N/A"},null,{"$f":"'File 16'!S$372","v":"N/A"},null,{"$f":"'File 16'!S$382","v":"N/A"},null,null,{"$f":"'File 16'!S$414","v":"N/A"},null,{"$f":"'File 16'!S$430","v":"N/A"},null,{"$f":"'File 16'!S$436","v":"N/A"}]
["File 17",{"$f":"'File 17'!S$15","v":"N/A"},null,{"$f":"'File 17'!S$19","v":"N/A"},null,{"$f":"'File 17'!S$27","v":"N/A"},null,{"$f":"'File 17'!S$35","v":"N/A"},null,{"$f":"'File 17'!S$122","v":"N/A"},null,{"$f":"'File 17'!S$176","v":"N/A"},null,{"$f":"'File 17'!S$203","v":"N/A"},{"$f":"'File 17'!S$211","v":"N/A"},null,{"$f":"'File 17'!S$255","v":"N/A"},null,{"$f":"'File 17'!S$305","v":"N/A"},null,{"$f":"'File 17'!S$372","v":"N/A"},null,{"$f":"'File 17'!S$382","v":"N/A"},null,null,{"$f":"'File 17'!S$414","v":"N/A"},null,{"$f":"'File 17'!S$430","v":"N/A"},null,{"$f":"'File 17'!S$436","v":"N/A"}]
["File 18",{"$f":"'File 18'!S$15","v":"N/A"},null,{"$f":"'File 18'!S$19","v":"N/A"},null,{"$f":"'File 18'!S$27","v":"N/A"},null,{"$f":"'File 18'!S$35","v":"N/A"},null,{"$f":"'File 18'!S$122","v":"N/A"},null,{"$f":"'File 18'!S$176","v":"N/A"},null,{"$f":"'File 18'!S$203","v":"N/A"},{"$f":"'File 18'!S$211","v":"N/A"},null,{"$f":"'File 18'!S$255","v":"N/A"},null,{"$f":"'File 18'!S$305","v":"N/A"},null,{"$f":"'File 18'!S$372","v":"N/A"},null,{"$f":"'File 18'!S$382","v":"N/A"},null,null,{"$f":"'File 18'!S$414","v":"N/A"},null,{"$f":"'File 18'!S$430","v":"N/A"},null,{"$f":"'File 18'!S$436","v":"N/A"}]
["File 19",{"$f":"'File 19'!S$15","v":"N/A"},null,{"$f":"'File 19'!S$19","v":"N/A"},null,{"$f":"'File 19'!S$27","v":"N/A"},null,{"$f":"'File 19'!S$35","v":"N/A"},null,{"$f":"'File 19'!S$122","v":"N/A"},null,{"$f":"'File 19'!S$176","v":"N/A"},null,{"$f":"'File 19'!S$203","v":"N/A"},{"$f":"'File 19'!S$211","v":"N/A"},null,{"$f":"'File 19'!S$255","v":"N/A"},null,{"$f":"'File 19'!S$305","v":"N/A"},null,{"$f":"'File 19'!S$372","v":"N/A"},null,{"$f":"'File 19'!S$382","v":"N/A"},null,null,{"$f":"'File 19'!S$414","v":"N/A"},null,{"$f":"'File 19'!S$430","v":"N/A"},null,{"$f":"'File 19'!S$436","v":"N/A"}]
["File 20",{"$f":"'File 20'!S$15","v":"N/A"},null,{"$f":"'File 20'!S$19","v":"N/A"},null,{"$f":"'File 20'!S$27","v":"N/A"},null,{"$f":"'File 20'!S$35","v":"N/A"},null,{"$f":"'File 20'!S$122","v":"N/A"},null,{"$f":"'File 20'!S$176","v":"N/A"},null,{"$f":"'File 20'!S$203","v":"N/A"},{"$f":"'File 20'!S$211","v":"N/A"},null,{"$f":"'File 20'!S$255","v":"N/A"},null,{"$f":"'File 20'!S$305","v":"N/A"},null,{"$f":"'File 20'!S$372","v":"N/A"},null,{"$f":"'File 20'!S$382","v":"N/A"},null,null,{"$f":"'File 20'!S$414","v":"N/A"},null,{"$f":"'File 20'!S$430","v":"N/A"},null,{"$f":"'File 20'!S$436","v":"N/A"}]
["District ",{"$f":"IFERROR(AVERAGE(B4:B23), \"N/A\")","v":"N/A"},null,{"$f":"IFERROR(AVERAGE(D4:D23), \"N/A\")","v":"N/A"},null,{"$f":"IFERROR(AVERAGE(F4:F23), \"N/A\")","v":"N/A"},null,{"$f":"IFERROR(AVERAGE(H4:H23), \"N/A\")","v":"N/A"},null,{"$f":"IFERROR(AVERAGE(J4:J23), \"N/A\")","v":"N/A"},null,{"$f":"IFERROR(AVERAGE(L4:L23), \"N/A\")","v":"N/A"},null,{"$f":"IFERROR(AVERAGE(N4:N23), \"N/A\")","v":"N/A"},{"$f":"IFERROR(AVERAGE(O4:O23), \"N/A\")","v":"N/A"},null,{"$f":"IFERROR(AVERAGE(Q4:Q23), \"N/A\")","v":"N/A"},null,{"$f":"IFERROR(AVERAGE(S4:S23), \"N/A\")","v":"N/A"},null,{"$f":"IFERROR(AVERAGE(U4:U23), \"N/A\")","v":"N/A"},null,{"$f":"IFERROR(AVERAGE(W4:W23), \"N/A\")","v":"N/A"},null,null,{"$f":"IFERROR(AVERAGE(Z4:Z23), \"N/A\")","v":"N/A"},null,{"$f":"IFERROR(AVERAGE(AB4:AB23), \"N/A\")","v":"N/A"},null,{"$f":"IFERROR(AVERAGE(AD4:AD23), \"N/A\")","v":"N/A"}]
["Averages"]

{"sheet":"Compiled Notes","index":3,"n_rows":110,"n_cols":21,"rows_kept":110,"cut":false,"hidden":false,"merged":[[40,3,46,3],[54,18,55,18],[54,19,55,19],[50,15,52,15],[50,16,52,16],[50,17,52,17],[50,18,52,18],[50,19,52,19],[50,20,52,20],[54,17,55,17],[54,20,55,20],[54,15,55,15],[54,16,55,16],[54,8,55,8],[54,9,55,9],[54,10,55,10],[54,11,55,11],[54,12,55,12],[54,13,55,13],[54,14,55,14],[26,6,29,6],[26,7,29,7],[22,6,25,6],[22,7,25,7],[40,4,46,4],[40,5,46,5],[40,6,46,6],[40,7,46,7],[54,1,55,1],[54,2,55,2],[54,3,55,3],[54,4,55,4],[54,5,55,5],[54,6,55,6],[54,7,55,7],[50,1,52,1],[50,2,52,2],[50,3,52,3],[50,4,52,4],[50,5,52,5],[50,6,52,6],[50,7,52,7],[40,1,46,1],[40,2,46,2],[22,1,25,1],[22,2,25,2],[22,3,25,3],[22,4,25,4],[22,5,25,5],[26,1,29,1],[26,2,29,2],[26,3,29,3],[26,4,29,4],[26,5,29,5],[33,17,34,17],[33,18,34,18],[33,19,34,19],[33,20,34,20],[50,8,52,8],[50,9,52,9],[50,10,52,10],[50,11,52,11],[50,12,52,12],[50,13,52,13],[50,14,52,14],[40,15,46,15],[40,16,46,16],[40,17,46,17],[40,18,46,18],[40,19,46,19],[40,20,46,20],[40,8,46,8],[40,9,46,9],[40,10,46,10],[40,11,46,11],[40,12,46,12],[40,13,46,13],[40,14,46,14],[26,19,29,19],[26,20,29,20],[22,13,25,13],[22,14,25,14],[22,15,25,15],[22,16,25,16],[22,18,25,18],[22,19,25,19],[22,20,25,20],[22,8,25,8],[22,9,25,9],[22,10,25,10],[22,11,25,11],[22,12,25,12],[22,17,25,17],[26,17,29,17],[12,17,15,17],[12,18,15,18],[26,15,29,15],[26,16,29,16],[26,8,29,8],[26,9,29,9],[26,10,29,10],[26,11,29,11],[26,12,29,12],[26,13,29,13],[26,14,29,14],[26,18,29,18],[12,19,15,19],[12,20,15,20],[12,8,15,8],[12,9,15,9],[12,11,15,11],[12,12,15,12],[12,13,15,13],[12,14,15,14],[12,15,15,15],[0,0,0,10],[1,0,1,10],[12,1,15,1],[12,2,15,2],[12,3,15,3],[12,4,15,4],[12,5,15,5],[12,10,15,10],[12,16,15,16],[12,6,15,6],[12,7,15,7],[35,15,36,15],[35,16,36,16],[35,17,36,17],[35,18,36,18],[35,19,36,19],[35,20,36,20],[35,8,36,8],[35,9,36,9],[35,10,36,10],[35,11,36,11],[35,12,36,12],[35,13,36,13],[35,14,36,14],[33,1,34,1],[33,2,34,2],[33,3,34,3],[33,4,34,4],[33,5,34,5],[33,6,34,6],[33,7,34,7],[35,1,36,1],[35,2,36,2],[35,3,36,3],[35,4,36,4],[35,5,36,5],[35,6,36,6],[35,7,36,7],[33,15,34,15],[33,16,34,16],[33,8,34,8],[33,9,34,9],[33,10,34,10],[33,11,34,11],[33,12,34,12],[33,13,34,13],[33,14,34,14],[83,17,86,17],[83,18,86,18],[83,19,86,19],[83,20,86,20],[97,17,98,17],[97,18,98,18],[97,19,98,19],[97,20,98,20],[97,1,98,1],[97,2,98,2],[97,3,98,3],[97,4,98,4],[97,5,98,5],[97,6,98,6],[97,7,98,7],[91,15,93,15],[91,16,93,16],[91,8,93,8],[91,9,93,9],[91,10,93,10],[91,11,93,11],[91,12,93,12],[91,13,93,13],[91,14,93,14],[65,1,67,1],[65,2,67,2],[65,3,67,3],[65,4,67,4],[65,5,67,5],[65,6,67,6],[65,7,67,7],[83,15,86,15],[83,16,86,16],[65,15,67,15],[65,16,67,16],[83,12,86,12],[83,13,86,13],[83,14,86,14],[83,1,86,1],[83,2,86,2],[83,3,86,3],[83,4,86,4],[83,5,86,5],[83,6,86,6],[83,7,86,7],[83,8,86,8],[83,9,86,9],[83,10,86,10],[65,17,67,17],[65,18,67,18],[65,19,67,19],[65,20,67,20],[65,8,67,8],[65,9,67,9],[65,10,67,10],[65,11,67,11],[65,12,67,12],[65,13,67,13],[65,14,67,14],[106,15,109,15],[106,16,109,16],[101,15,103,15],[101,16,103,16],[97,15,98,15],[97,16,98,16],[97,8,98,8],[97,9,98,9],[97,10,98,10],[97,11,98,11],[97,12,98,12],[97,13,98,13],[97,14,98,14],[83,11,86,11],[106,17,109,17],[106,18,109,18],[106,19,109,19],[106,20,109,20],[106,8,109,8],[106,9,109,9],[106,10,109,10],[106,11,109,11],[106,12,109,12],[106,13,109,13],[106,14,109,14],[101,17,103,17],[101,18,103,18],[101,19,103,19],[101,20,103,20],[101,8,103,8],[101,9,103,9],[101,10,103,10],[101,11,103,11],[101,12,103,12],[101,13,103,13],[101,14,103,14],[91,17,93,17],[101,1,103,1],[101,2,103,2],[101,3,103,3],[101,4,103,4],[101,5,103,5],[101,6,103,6],[101,7,103,7],[106,1,109,1],[106,2,109,2],[106,3,109,3],[106,4,109,4],[106,5,109,5],[106,6,109,6],[106,7,109,7],[91,18,93,18],[91,19,93,19],[91,20,93,20],[91,1,93,1],[91,2,93,2],[91,3,93,3],[91,4,93,4],[91,5,93,5],[91,6,93,6],[91,7,93,7]]}
["South Dakota Internal Review Compiled Notes"]
["Be sure to AutoFit Row Height to see all text.  (\"Home\"/\"Format\"/AutoFit Row Height)\nDo NOT type in any of the cells.  Go to the original file to type in notes."]
["Record of Access","File 1","File 2","File 3","File 4","File 5","File 6","File 7","File 8","File 9","File 10","File 11","File 12","File 13","File 14","File 15","File 16","File 17","File 18","File 19","File 20"]
[{"$f":"HYPERLINK(\"http://sdlegislature.gov/Rules/DisplayRule.aspx?Rule=24:05:29:15\",\"Record of Access\n(24:05:29:15)\")","v":"Record of Access\n(24:05:29:15)"},{"$f":"'File 1'!T16","v":0},{"$f":"'File 2'!T16","v":"V16"},{"$f":"'File 3'!T16","v":"V16"},{"$f":"'File 4'!T16","v":"V16"},{"$f":"'File 5'!T16","v":"V16"},{"$f":"'File 6'!T16","v":"V16"},{"$f":"'File 7'!T16","v":"V16"},{"$f":"'File 8'!T16","v":"V16"},{"$f":"'File 9'!T16","v":"V16"},{"$f":"'File 10'!T16","v":"V16"},{"$f":"'File 11'!T16","v":"V16"},{"$f":"'File 12'!T16","v":"V16"},{"$f":"'File 13'!T16","v":"V16"},{"$f":"'File 14'!T16","v":"V16"},{"$f":"'File 15'!T16","v":"V16"},{"$f":"'File 16'!T16","v":"V16"},{"$f":"'File 17'!T16","v":"V16"},{"$f":"'File 18'!T16","v":"V16"},{"$f":"'File 19'!T16","v":"V16"},{"$f":"'File 20'!T16","v":"V16"}]
[]
["Referral","File 1","File 2","File 3","File 4","File 5","File 6","File 7","File 8","File 9","File 10","File 11","File 12","File 13","File 14","File 15","File 16","File 17","File 18","File 19","File 20"]
[{"$f":"HYPERLINK(\"http://sdlegislature.gov/Rules/DisplayRule.aspx?Rule=24:05:24:01\",\"Referral Document\n(initial only)\n(24:05:24:01)\")","v":"Referral Document\n(initial only)\n(24:05:24:01)"},{"$f":"'File 1'!T$20","v":0},{"$f":"'File 2'!T20","v":"V20"},{"$f":"'File 3'!T20","v":"V20"},{"$f":"'File 4'!T20","v":"V20"},{"$f":"'File 5'!T20","v":"V20"},{"$f":"'File 6'!T20","v":"V20"},{"$f":"'File 7'!T20","v":"V20"},{"$f":"'File 8'!T20","v":"V20"},{"$f":"'File 9'!T20","v":"V20"},{"$f":"'File 10'!T20","v":"V20"},{"$f":"'File 11'!T20","v":"V20"},{"$f":"'File 12'!T20","v":"V20"},{"$f":"'File 13'!T20","v":"V20"},{"$f":"'File 14'!T20","v":"V20"},{"$f":"'File 15'!T20","v":"V20"},{"$f":"'File 16'!T20","v":"V20"},{"$f":"'File 17'!T20","v":"V20"},{"$f":"'File 18'!T20","v":"V20"},{"$f":"'File 19'!T20","v":"V20"},{"$f":"'File 20'!T20","v":"V20"}]
[]
["Initial Placement","File 1","File 2","File 3","File 4","File 5","File 6","File 7","File 8","File 9","File 10","File 11","File 12","File 13","File 14","File 15","File 16","File 17","File 18","File 19","File 20"]
[{"$f":"HYPERLINK(\"http://sdlegislature.gov/rules/DisplayRule.aspx?Rule=24:05:27:04.01\",\"Consent Signed for Initial Placement \ninto Special Education\n(24:05:27:04.01)\")","v":"Consent Signed for Initial Placement \ninto Special Education\n(24:05:27:04.01)"},{"$f":"'File 1'!T$28","v":"insert"},{"$f":"'File 2'!T28","v":"V28"},{"$f":"'File 3'!T28","v":"V28"},{"$f":"'File 4'!T28","v":"V28"},{"$f":"'File 5'!T28","v":"V28"},{"$f":"'File 6'!T28","v":"V28"},{"$f":"'File 7'!T28","v":"V28"},{"$f":"'File 8'!T28","v":"V28"},{"$f":"'File 9'!T28","v":"V28"},{"$f":"'File 10'!T28","v":"V28"},{"$f":"'File 11'!T28","v":"V28"},{"$f":"'File 12'!T28","v":"V28"},{"$f":"'File 13'!T28","v":"V28"},{"$f":"'File 14'!T28","v":"V28"},{"$f":"'File 15'!T28","v":"V28"},{"$f":"'File 16'!T28","v":"V28"},{"$f":"'File 17'!T28","v":"V28"},{"$f":"'File 18'!T28","v":"V28"},{"$f":"'File 19'!T28","v":"V28"},{"$f":"'File 20'!T28","v":"V28"}]
[]
["Evaluation","File 1","File 2","File 3","File 4","File 5","File 6","File 7","File 8","File 9","File 10","File 11","File 12","File 13","File 14","File 15","File 16","File 17","File 18","File 19","File 20"]
[{"$f":"HYPERLINK(\"http://sdlegislature.gov/rules/DisplayRule.aspx?Rule=24:05:25:02.01\",\"Initial Evaluation\n(24:05:25:02.01)\")","v":"Initial Evaluation\n(24:05:25:02.01)"},{"$f":"'File 1'!T$36","v":"V36"},{"$f":"'File 2'!T36","v":"V36"},{"$f":"'File 3'!T36","v":"V36"},{"$f":"'File 4'!T36","v":"V36"},{"$f":"'File 5'!T36","v":"V36"},{"$f":"'File 6'!T36","v":"V36"},{"$f":"'File 7'!T36","v":"V36"},{"$f":"'File 8'!T36","v":"V36"},{"$f":"'File 9'!T36","v":"V36"},{"$f":"'File 10'!T36","v":"V36"},{"$f":"'File 11'!T36","v":"V36"},{"$f":"'File 12'!T36","v":"V36"},{"$f":"'File 13'!T36","v":"V36"},{"$f":"'File 14'!T36","v":"V36"},{"$f":"'File 15'!T36","v":"V36"},{"$f":"'File 16'!T36","v":"V36"},{"$f":"'File 17'!T36","v":"V36"},{"$f":"'File 18'!T36","v":"V36"},{"$f":"'File 19'!T36","v":"V36"},{"$f":"'File 20'!T36","v":"V36"}]
[{"$f":"HYPERLINK(\"http://sdlegislature.gov/Rules/DisplayRule.aspx?Rule=24:05:25:16\",\"Parent Input into Evalaution\n(24:05:25:16)\")","v":"Parent Input into Evalaution\n(24:05:25:16)"}]
[{"$f":"HYPERLINK(\"http://sdlegislature.gov/Rules/DisplayRule.aspx?Rule=24:05:30:06.01\",\"Procedural Safeguards\n(24:05:30:06.01)\")","v":"Procedural Safeguards\n(24:05:30:06.01)"}]
[{"$f":"HYPERLINK(\"http://sdlegislature.gov/Rules/DisplayRule.aspx?Rule=24:05:25:03\",\"Extension on 25 Day Timeline\n(24:05:25:03)\")","v":"Extension on 25 Day Timeline\n(24:05:25:03)"}]
[{"$f":"HYPERLINK(\"http://sdlegislature.gov/Rules/DisplayRule.aspx?Rule=24:05:30:05\",\"Content of Prior Written Notice/\nConsent for Evaluation\n (24:05:30:05)\")","v":"Content of Prior Written Notice/\nConsent for Evaluation\n (24:05:30:05)"},{"$f":"'File 1'!T$46","v":"V46"},{"$f":"'File 2'!T46","v":"V46"},{"$f":"'File 3'!T46","v":"V46"},{"$f":"'File 4'!T46","v":"V46"},{"$f":"'File 5'!T46","v":"V46"},{"$f":"'File 6'!T46","v":"V46"},{"$f":"'File 7'!T46","v":"V46"},{"$f":"'File 8'!T46","v":"V46"},{"$f":"'File 9'!T46","v":"V46"},{"$f":"'File 10'!T46","v":"V46"},{"$f":"'File 11'!T46","v":"V46"},{"$f":"'File 12'!T46","v":"V46"},{"$f":"'File 13'!T46","v":"V46"},{"$f":"'File 14'!T46","v":"V46"},{"$f":"'File 15'!T46","v":"V46"},{"$f":"'File 16'!T46","v":"V46"},{"$f":"'File 17'!T46","v":"V46"},{"$f":"'File 18'!T46","v":"V46"},{"$f":"'File 19'!T46","v":"V46"},{"$f":"'File 20'!T46","v":"V46"}]
[{"$f":"HYPERLINK(\"http://sdlegislature.gov/Rules/DisplayRule.aspx?Rule=24:05:30:05\",\"Timeline of Prior Written Notice/\nConsent for Evaluation\n(24:05:25:03)\")","v":"Timeline of Prior Written Notice/\nConsent for Evaluation\n(24:05:25:03)"},{"$f":"'File 1'!T$55","v":"V54"},{"$f":"'File 2'!T55","v":"V54"},{"$f":"'File 3'!T55","v":"V54"},{"$f":"'File 4'!T55","v":"V54"},{"$f":"'File 5'!T55","v":"V54"},{"$f":"'File 6'!T55","v":"V54"},{"$f":"'File 7'!T55","v":"V54"},{"$f":"'File 8'!T55","v":"V54"},{"$f":"'File 9'!T55","v":"V54"},{"$f":"'File 10'!T55","v":"V54"},{"$f":"'File 11'!T55","v":"V54"},{"$f":"'File 12'!T55","v":"V54"},{"$f":"'File 13'!T55","v":"V54"},{"$f":"'File 14'!T55","v":"V54"},{"$f":"'File 15'!T55","v":"V54"},{"$f":"'File 16'!T55","v":"V54"},{"$f":"'File 17'!T55","v":"V54"},{"$f":"'File 18'!T55","v":"V54"},{"$f":"'File 19'!T55","v":"V54"},{"$f":"'File 20'!T55","v":"V54"}]
[{"$f":"HYPERLINK(\"http://sdlegislature.gov/Rules/DisplayRule.aspx?Rule=24:05:25:04.02\",\"Evaluations to be Completed by the District per Parental Prior Written/Consent for Evaluation\n(24:05:25:04.02)\")","v":"Evaluations to be Completed by the District per Parental Prior Written/Consent for Evaluation\n(24:05:25:04.02)"},{"$f":"'File 1'!T$61","v":"V60"},{"$f":"'File 2'!T61","v":"V60"},{"$f":"'File 3'!T61","v":"V60"},{"$f":"'File 4'!T61","v":"V60"},{"$f":"'File 5'!T61","v":"V60"},{"$f":"'File 6'!T61","v":"V60"},{"$f":"'File 7'!T61","v":"V60"},{"$f":"'File 8'!T61","v":"V60"},{"$f":"'File 9'!T61","v":"V60"},{"$f":"'File 10'!T61","v":"V60"},{"$f":"'File 11'!T61","v":"V60"},{"$f":"'File 12'!T61","v":"V60"},{"$f":"'File 13'!T61","v":"V60"},{"$f":"'File 14'!T61","v":"V60"},{"$f":"'File 15'!T61","v":"V60"},{"$f":"'File 16'!T61","v":"V60"},{"$f":"'File 17'!T61","v":"V60"},{"$f":"'File 18'!T61","v":"V60"},{"$f":"'File 19'!T61","v":"V60"},{"$f":"'File 20'!T61","v":"V60"}]
[{"$f":"HYPERLINK(\"http://sdlegislature.gov/Rules/DisplayRule.aspx?Rule=24:05:25:04.02\",\"Existing Evaluation Data\nto be Pulled Forward\n(24:05:25:04.02)\")","v":"Existing Evaluation Data\nto be Pulled Forward\n(24:05:25:04.02)"},{"$f":"'File 1'!T$75","v":"V74"},{"$f":"'File 2'!T75","v":"V74"},{"$f":"'File 3'!T75","v":"V74"},{"$f":"'File 4'!T75","v":"V74"},{"$f":"'File 5'!T75","v":"V74"},{"$f":"'File 6'!T75","v":"V74"},{"$f":"'File 7'!T75","v":"V74"},{"$f":"'File 8'!T75","v":"V74"},{"$f":"'File 9'!T75","v":"V74"},{"$f":"'File 10'!T75","v":"V74"},{"$f":"'File 11'!T75","v":"V74"},{"$f":"'File 12'!T75","v":"V74"},{"$f":"'File 13'!T75","v":"V74"},{"$f":"'File 14'!T75","v":"V74"},{"$f":"'File 15'!T75","v":"V74"},{"$f":"'File 16'!T75","v":"V74"},{"$f":"'File 17'!T75","v":"V74"},{"$f":"'File 18'!T75","v":"V74"},{"$f":"'File 19'!T75","v":"V74"},{"$f":"'File 20'!T75","v":"V74"}]
[{"$f":"HYPERLINK(\"http://sdlegislature.gov/Rules/DisplayRule.aspx?Rule=24:05:25:04.02\",\"Skills Based Assessment and Report\n(24:05:25:04.02)\")","v":"Skills Based Assessment and Report\n(24:05:25:04.02)"},{"$f":"'File 1'!T$85","v":"V84"},{"$f":"'File 2'!T85","v":"V84"},{"$f":"'File 3'!T85","v":"V84"},{"$f":"'File 4'!T85","v":"V84"},{"$f":"'File 5'!T85","v":"V84"},{"$f":"'File 6'!T85","v":"V84"},{"$f":"'File 7'!T85","v":"V84"},{"$f":"'File 8'!T85","v":"V84"},{"$f":"'File 9'!T85","v":"V84"},{"$f":"'File 10'!T85","v":"V84"},{"$f":"'File 11'!T85","v":"V84"},{"$f":"'File 12'!T85","v":"V84"},{"$f":"'File 13'!T85","v":"V84"},{"$f":"'File 14'!T85","v":"V84"},{"$f":"'File 15'!T85","v":"V84"},{"$f":"'File 16'!T85","v":"V84"},{"$f":"'File 17'!T85","v":"V84"},{"$f":"'File 18'!T85","v":"V84"},{"$f":"'File 19'!T85","v":"V84"},{"$f":"'File 20'!T85","v":"V84"}]
[{"$f":"HYPERLINK(\"http://sdlegislature.gov/Rules/DisplayRule.aspx?Rule=24:05:25:03\",\"Consent Received\n(24:05:25:03)\")","v":"Consent Received\n(24:05:25:03)"},{"$f":"'File 1'!T$99","v":"V98"},{"$f":"'File 2'!T99","v":"V98"},{"$f":"'File 3'!T99","v":"V98"},{"$f":"'File 4'!T99","v":"V98"},{"$f":"'File 5'!T99","v":"V98"},{"$f":"'File 6'!T99","v":"V98"},{"$f":"'File 7'!T99","v":"V98"},{"$f":"'File 8'!T99","v":"V98"},{"$f":"'File 9'!T99","v":"V98"},{"$f":"'File 10'!T99","v":"V98"},{"$f":"'File 11'!T99","v":"V98"},{"$f":"'File 12'!T99","v":"V98"},{"$f":"'File 13'!T99","v":"V98"},{"$f":"'File 14'!T99","v":"V98"},{"$f":"'File 15'!T99","v":"V98"},{"$f":"'File 16'!T99","v":"V98"},{"$f":"'File 17'!T99","v":"V98"},{"$f":"'File 18'!T99","v":"V98"},{"$f":"'File 19'!T99","v":"V98"},{"$f":"'File 20'!T99","v":"V98"}]
[{"$f":"HYPERLINK(\"http://sdlegislature.gov/Rules/DisplayRule.aspx?Rule=24:05:25:20\",\"All Evaluations Administered \")","v":"All Evaluations Administered "},{"$f":"'File 1'!T$103","v":"V102"},{"$f":"'File 2'!T103","v":"V102"},{"$f":"'File 3'!T103","v":"V102"},{"$f":"'File 4'!T103","v":"V102"},{"$f":"'File 5'!T103","v":"V102"},{"$f":"'File 6'!T103","v":"V102"},{"$f":"'File 7'!T103","v":"V102"},{"$f":"'File 8'!T103","v":"V102"},{"$f":"'File 9'!T103","v":"V102"},{"$f":"'File 10'!T103","v":"V102"},{"$f":"'File 11'!T103","v":"V102"},{"$f":"'File 12'!T103","v":"V102"},{"$f":"'File 13'!T103","v":"V102"},{"$f":"'File 14'!T103","v":"V102"},{"$f":"'File 15'!T103","v":"V102"},{"$f":"'File 16'!T103","v":"V102"},{"$f":"'File 17'!T103","v":"V102"},{"$f":"'File 18'!T103","v":"V102"},{"$f":"'File 19'!T103","v":"V102"},{"$f":"'File 20'!T103","v":"V102"}]
[{"$f":"HYPERLINK(\"http://sdlegislature.gov/Rules/DisplayRule.aspx?Rule=24:05:25:06.01\",\"Consent was Acquired\n(24:05:25:06.01)\")","v":"Consent was Acquired\n(24:05:25:06.01)"}]
[{"$f":"HYPERLINK(\"http://sdlegislature.gov/Rules/DisplayRule.aspx?Rule=24:05:25:04\",\"Variety of Sources \n(24:05:25:04)\")","v":"Variety of Sources \n(24:05:25:04)"}]
[{"$f":"HYPERLINK(\"http://sdlegislature.gov/Rules/DisplayRule.aspx?Rule=24:05:25:04\",\"Met Requirements for the Disability\n(24:05:25:04) \")","v":"Met Requirements for the Disability\n(24:05:25:04) "}]
[{"$f":"HYPERLINK(\"http://sdlegislature.gov/Rules/DisplayRule.aspx?Rule=24:05:25:03\",\"Eligibility within 30 Calendar Days \n(24:05:25:03)\")","v":"Eligibility within 30 Calendar Days \n(24:05:25:03)"},{"$f":"'File 1'!T$111","v":"V110"},{"$f":"'File 2'!T111","v":"V110"},{"$f":"'File 3'!T111","v":"V110"},{"$f":"'File 4'!T111","v":"V110"},{"$f":"'File 5'!T111","v":"V110"},{"$f":"'File 6'!T111","v":"V110"},{"$f":"'File 7'!T111","v":"V110"},{"$f":"'File 8'!T111","v":"V110"},{"$f":"'File 9'!T111","v":"V110"},{"$f":"'File 10'!T111","v":"V110"},{"$f":"'File 11'!T111","v":"V110"},{"$f":"'File 12'!T111","v":"V110"},{"$f":"'File 13'!T111","v":"V110"},{"$f":"'File 14'!T111","v":"V110"},{"$f":"'File 15'!T111","v":"V110"},{"$f":"'File 16'!T111","v":"V110"},{"$f":"'File 17'!T111","v":"V110"},{"$f":"'File 18'!T111","v":"V110"},{"$f":"'File 19'!T111","v":"V110"},{"$f":"'File 20'!T111","v":"V110"}]
[{"$f":"HYPERLINK(\"http://sdlegislature.gov/Rules/DisplayRule.aspx?Rule=24:05:25:04.03\",\"Student Eligible for Special Education \n(24:05:25:04.03)\")","v":"Student Eligible for Special Education \n(24:05:25:04.03)"}]
[{"$f":"HYPERLINK(\"http://sdlegislature.gov/Rules/DisplayRule.aspx?Rule=24:05:25:06\",\"Three Year Re-Evaluation\n(24:05:25:06)\")","v":"Three Year Re-Evaluation\n(24:05:25:06)"}]
["Evaluated to Dismiss from Services  "]
[]
["Eligibility Document for Specific Learning Disability","File 1","File 2","File 3","File 4","File 5","File 6","File 7","File 8","File 9","File 10","File 11","File 12","File 13","File 14","File 15","File 16","File 17","File 18","File 19","File 20"]
[{"$f":"HYPERLINK(\"http://sdlegislature.gov/Rules/DisplayRule.aspx?Rule=24:05:24.01:19\",\"Specific Learning Disabilities\n(24:05:24.01:19)\")","v":"Specific Learning Disabilities\n(24:05:24.01:19)"},{"$f":"'File 1'!T$123","v":"V122"},{"$f":"'File 2'!T123","v":"V122"},{"$f":"'File 3'!T123","v":"V122"},{"$f":"'File 4'!T123","v":"V122"},{"$f":"'File 5'!T123","v":"V122"},{"$f":"'File 6'!T123","v":"V122"},{"$f":"'File 7'!T123","v":"V122"},{"$f":"'File 8'!T123","v":"V122"},{"$f":"'File 9'!T123","v":"V122"},{"$f":"'File 10'!T123","v":"V122"},{"$f":"'File 11'!T123","v":"V122"},{"$f":"'File 12'!T123","v":"V122"},{"$f":"'File 13'!T123","v":"V122"},{"$f":"'File 14'!T123","v":"V122"},{"$f":"'File 15'!T123","v":"V122"},{"$f":"'File 16'!T123","v":"V122"},{"$f":"'File 17'!T123","v":"V122"},{"$f":"'File 18'!T123","v":"V122"},{"$f":"'File 19'!T123","v":"V122"},{"$f":"'File 20'!T123","v":"V122"}]
["For Initial Determination of Eligibility Only",{"$f":"'File 1'!T$131","v":"V130"},{"$f":"'File 2'!T131","v":"V130"},{"$f":"'File 3'!T131","v":"V130"},{"$f":"'File 4'!T131","v":"V130"},{"$f":"'File 5'!T131","v":"V130"},{"$f":"'File 6'!T131","v":"V130"},{"$f":"'File 7'!T131","v":"V130"},{"$f":"'File 8'!T131","v":"V130"},{"$f":"'File 9'!T131","v":"V130"},{"$f":"'File 10'!T131","v":"V130"},{"$f":"'File 11'!T131","v":"V130"},{"$f":"'File 12'!T131","v":"V130"},{"$f":"'File 13'!T131","v":"V130"},{"$f":"'File 14'!T131","v":"V130"},{"$f":"'File 15'!T131","v":"V130"},{"$f":"'File 16'!T131","v":"V130"},{"$f":"'File 17'!T131","v":"V130"},{"$f":"'File 18'!T131","v":"V130"},{"$f":"'File 19'!T131","v":"V130"},{"$f":"'File 20'!T131","v":"V130"}]
[{"$f":"HYPERLINK(\"http://sdlegislature.gov/Rules/DisplayRule.aspx?Rule=24:05:24.01:19\",\"Initial Eligibility\n(24:05:24.01:19)\")","v":"Initial Eligibility\n(24:05:24.01:19)"}]
["For Reevaluation of Eligibility Only",{"$f":"'File 1'!T$150","v":"V149"},{"$f":"'File 2'!T150","v":"V149"},{"$f":"'File 3'!T150","v":"V149"},{"$f":"'File 4'!T150","v":"V149"},{"$f":"'File 5'!T150","v":"V149"},{"$f":"'File 6'!T150","v":"V149"},{"$f":"'File 7'!T150","v":"V149"},{"$f":"'File 8'!T150","v":"V149"},{"$f":"'File 9'!T150","v":"V149"},{"$f":"'File 10'!T150","v":"V149"},{"$f":"'File 11'!T150","v":"V149"},{"$f":"'File 12'!T150","v":"V149"},{"$f":"'File 13'!T150","v":"V149"},{"$f":"'File 14'!T150","v":"V149"},{"$f":"'File 15'!T150","v":"V149"},{"$f":"'File 16'!T150","v":"V149"},{"$f":"'File 17'!T150","v":"V149"},{"$f":"'File 18'!T150","v":"V149"},{"$f":"'File 19'!T150","v":"V149"},{"$f":"'File 20'!T150","v":"V149"}]
[{"$f":"HYPERLINK(\"http://sdlegislature.gov/Rules/DisplayRule.aspx?Rule=24:05:24.01:19\",\"Reevaluation of Eligibility\n(24:05:24.01:19)\")","v":"Reevaluation of Eligibility\n(24:05:24.01:19)"}]
[{"$f":"HYPERLINK(\"http://sdlegislature.gov/Rules/DisplayRule.aspx?Rule=24:05:25:08\",\"Team Member Signatures \n(24:05:25:08)\")","v":"Team Member Signatures \n(24:05:25:08)"},{"$f":"'File 1'!T$164","v":"V163"},{"$f":"'File 2'!T164","v":"V163"},{"$f":"'File 3'!T164","v":"V163"},{"$f":"'File 4'!T164","v":"V163"},{"$f":"'File 5'!T164","v":"V163"},{"$f":"'File 6'!T164","v":"V163"},{"$f":"'File 7'!T164","v":"V163"},{"$f":"'File 8'!T164","v":"V163"},{"$f":"'File 9'!T164","v":"V163"},{"$f":"'File 10'!T164","v":"V163"},{"$f":"'File 11'!T164","v":"V163"},{"$f":"'File 12'!T164","v":"V163"},{"$f":"'File 13'!T164","v":"V163"},{"$f":"'File 14'!T164","v":"V163"},{"$f":"'File 15'!T164","v":"V163"},{"$f":"'File 16'!T164","v":"V163"},{"$f":"'File 17'!T164","v":"V163"},{"$f":"'File 18'!T164","v":"V163"},{"$f":"'File 19'!T164","v":"V163"},{"$f":"'File 20'!T164","v":"V163"}]
[]
["Meeting Notice","File 1","File 2","File 3","File 4","File 5","File 6","File 7","File 8","File 9","File 10","File 11","File 12","File 13","File 14","File 15","File 16","File 17","File 18","File 19","File 20"]
["Meeting Notice",{"$f":"'File 1'!T$177","v":"V174"},{"$f":"'File 2'!T177","v":"V174"},{"$f":"'File 3'!T177","v":"V174"},{"$f":"'File 4'!T177","v":"V174"},{"$f":"'File 5'!T177","v":"V174"},{"$f":"'File 6'!T177","v":"V174"},{"$f":"'File 7'!T177","v":"V174"},{"$f":"'File 8'!T177","v":"V174"},{"$f":"'File 9'!T177","v":"V174"},{"$f":"'File 10'!T177","v":"V174"},{"$f":"'File 11'!T177","v":"V174"},{"$f":"'File 12'!T177","v":"V174"},{"$f":"'File 13'!T177","v":"V174"},{"$f":"'File 14'!T177","v":"V174"},{"$f":"'File 15'!T177","v":"V174"},{"$f":"'File 16'!T177","v":"V174"},{"$f":"'File 17'!T177","v":"V174"},{"$f":"'File 18'!T177","v":"V174"},{"$f":"'File 19'!T177","v":"V174"},{"$f":"'File 20'!T177","v":"V174"}]
[{"$f":"HYPERLINK(\"http://sdlegislature.gov/Rules/DisplayRule.aspx?Rule=24:05:30:02.01\",\"(24:05:30:02.01)\")","v":"(24:05:30:02.01)"}]
["Procedural Safeguards"]
[{"$f":"HYPERLINK(\"http://sdlegislature.gov/Rules/DisplayRule.aspx?Rule=24:05:30:06.01\",\"(24:05:30:06.01)\")","v":"(24:05:30:06.01)"}]
["IEP Team Membership"]
[{"$f":"HYPERLINK(\"http://sdlegislature.gov/Rules/DisplayRule.aspx?Rule=24:05:27:01.01\",\"(24:05:27:01.01)\")","v":"(24:05:27:01.01)"}]
[{"$f":"HYPERLINK(\"http://sdlegislature.gov/Rules/DisplayRule.aspx?Rule=24:05:25:16\",\"(24:05:25:16)\")","v":"(24:05:25:16)"}]
[{"$f":"HYPERLINK(\"http://sdlegislature.gov/Rules/DisplayRule.aspx?Rule=24:05:27:01.05\",\"Prior to Meeting\n(24:05:27:01.05)\")","v":"Prior to Meeting\n(24:05:27:01.05)"},{"$f":"'File 1'!T$197","v":"V194"},{"$f":"'File 2'!T197","v":"V194"},{"$f":"'File 3'!T197","v":"V194"},{"$f":"'File 4'!T197","v":"V194"},{"$f":"'File 5'!T197","v":"V194"},{"$f":"'File 6'!T197","v":"V194"},{"$f":"'File 7'!T197","v":"V194"},{"$f":"'File 8'!T197","v":"V194"},{"$f":"'File 9'!T197","v":"V194"},{"$f":"'File 10'!T197","v":"V194"},{"$f":"'File 11'!T197","v":"V194"},{"$f":"'File 12'!T197","v":"V194"},{"$f":"'File 13'!T197","v":"V194"},{"$f":"'File 14'!T197","v":"V194"},{"$f":"'File 15'!T197","v":"V194"},{"$f":"'File 16'!T197","v":"V194"},{"$f":"'File 17'!T197","v":"V194"},{"$f":"'File 18'!T197","v":"V194"},{"$f":"'File 19'!T197","v":"V194"},{"$f":"'File 20'!T197","v":"V194"}]
[]
[null,"File 1","File 2","File 3","File 4","File 5","File 6","File 7","File 8","File 9","File 10","File 11","File 12","File 13","File 14","File 15","File 16","File 17","File 18","File 19","File 20"]
[{"$f":"HYPERLINK(\"http://sdlegislature.gov/Rules/DisplayRule.aspx?Rule=24:05:25:04.03\",\"Evaluation Reports Given to Parents \n(24:05:25:04.03)\")","v":"Evaluation Reports Given to Parents \n(24:05:25:04.03)"},{"$f":"'File 1'!T$204","v":"V201"},{"$f":"'File 2'!T204","v":"V201"},{"$f":"'File 3'!T204","v":"V201"},{"$f":"'File 4'!T204","v":"V201"},{"$f":"'File 5'!T204","v":"V201"},{"$f":"'File 6'!T204","v":"V201"},{"$f":"'File 7'!T204","v":"V201"},{"$f":"'File 8'!T204","v":"V201"},{"$f":"'File 9'!T204","v":"V201"},{"$f":"'File 10'!T204","v":"V201"},{"$f":"'File 11'!T204","v":"V201"},{"$f":"'File 12'!T204","v":"V201"},{"$f":"'File 13'!T204","v":"V201"},{"$f":"'File 14'!T204","v":"V201"},{"$f":"'File 15'!T204","v":"V201"},{"$f":"'File 16'!T204","v":"V201"},{"$f":"'File 17'!T204","v":"V201"},{"$f":"'File 18'!T204","v":"V201"},{"$f":"'File 19'!T204","v":"V201"},{"$f":"'File 20'!T204","v":"V201"}]
[{"$f":"HYPERLINK(\"http://sdlegislature.gov/Rules/DisplayRule.aspx?Rule=24:05:25:19\",\"Copy of IEP Given to Parents \n(24:05:25:19)\")","v":"Copy of IEP Given to Parents \n(24:05:25:19)"}]
[{"$f":"HYPERLINK(\"http://sdlegislature.gov/Rules/DisplayRule.aspx?Rule=24:05:27:08\",\"Met Annually\n(24:05:27:08)\")","v":"Met Annually\n(24:05:27:08)"}]
["PLAAPF","File 1","File 2","File 3","File 4","File 5","File 6","File 7","File 8","File 9","File 10","File 11","File 12","File 13","File 14","File 15","File 16","File 17","File 18","File 19","File 20"]
[{"$f":"HYPERLINK(\"http://sdlegislature.gov/Rules/DisplayRule.aspx?Rule=24:05:27:01.03\",\"Progress/Involvement in \nGeneral Education Curriculum\n(24:05:27:01.03)\")","v":"Progress/Involvement in \nGeneral Education Curriculum\n(24:05:27:01.03)"},{"$f":"'File 1'!T$212","v":"V209"},{"$f":"'File 2'!T212","v":"V209"},{"$f":"'File 3'!T212","v":"V209"},{"$f":"'File 4'!T212","v":"V209"},{"$f":"'File 5'!T212","v":"V209"},{"$f":"'File 6'!T212","v":"V209"},{"$f":"'File 7'!T212","v":"V209"},{"$f":"'File 8'!T212","v":"V209"},{"$f":"'File 9'!T212","v":"V209"},{"$f":"'File 10'!T212","v":"V209"},{"$f":"'File 11'!T212","v":"V209"},{"$f":"'File 12'!T212","v":"V209"},{"$f":"'File 13'!T212","v":"V209"},{"$f":"'File 14'!T212","v":"V209"},{"$f":"'File 15'!T212","v":"V209"},{"$f":"'File 16'!T212","v":"V209"},{"$f":"'File 17'!T212","v":"V209"},{"$f":"'File 18'!T212","v":"V209"},{"$f":"'File 19'!T212","v":"V209"},{"$f":"'File 20'!T212","v":"V209"}]
["Parent Input "]
[{"$f":"HYPERLINK(\"http://sdlegislature.gov/Rules/DisplayRule.aspx?Rule=24:05:27:01.03\",\"Present Levels of \nAcademic Achievement \n& Functional Performance\nLinked to Annual Goals\n(24:05:27:01.03)\")","v":"Present Levels of \nAcademic Achievement \n& Functional Performance\nLinked to Annual Goals\n(24:05:27:01.03)"},{"$f":"'File 1'!T$217","v":"V214"},{"$f":"'File 2'!T217","v":"V214"},{"$f":"'File 3'!T217","v":"V214"},{"$f":"'File 4'!T217","v":"V214"},{"$f":"'File 5'!T217","v":"V214"},{"$f":"'File 6'!T217","v":"V214"},{"$f":"'File 7'!T217","v":"V214"},{"$f":"'File 8'!T217","v":"V214"},{"$f":"'File 9'!T217","v":"V214"},{"$f":"'File 10'!T217","v":"V214"},{"$f":"'File 11'!T217","v":"V214"},{"$f":"'File 12'!T217","v":"V214"},{"$f":"'File 13'!T217","v":"V214"},{"$f":"'File 14'!T217","v":"V214"},{"$f":"'File 15'!T217","v":"V214"},{"$f":"'File 16'!T217","v":"V214"},{"$f":"'File 17'!T217","v":"V214"},{"$f":"'File 18'!T217","v":"V214"},{"$f":"'File 19'!T217","v":"V214"},{"$f":"'File 20'!T217","v":"V214"}]
[{"$f":"HYPERLINK(\"http://sdlegislature.gov/Rules/DisplayRule.aspx?Rule=24:05:27:01.03\",\"How Progress will be Measured\n(24:05:27:01.03)\")","v":"How Progress will be Measured\n(24:05:27:01.03)"},{"$f":"'File 1'!T$235","v":"V232"},{"$f":"'File 2'!T235","v":"V232"},{"$f":"'File 3'!T235","v":"V232"},{"$f":"'File 4'!T235","v":"V232"},{"$f":"'File 5'!T235","v":"V232"},{"$f":"'File 6'!T235","v":"V232"},{"$f":"'File 7'!T235","v":"V232"},{"$f":"'File 8'!T235","v":"V232"},{"$f":"'File 9'!T235","v":"V232"},{"$f":"'File 10'!T235","v":"V232"},{"$f":"'File 11'!T235","v":"V232"},{"$f":"'File 12'!T235","v":"V232"},{"$f":"'File 13'!T235","v":"V232"},{"$f":"'File 14'!T235","v":"V232"},{"$f":"'File 15'!T235","v":"V232"},{"$f":"'File 16'!T235","v":"V232"},{"$f":"'File 17'!T235","v":"V232"},{"$f":"'File 18'!T235","v":"V232"},{"$f":"'File 19'!T235","v":"V232"},{"$f":"'File 20'!T235","v":"V232"}]
[{"$f":"HYPERLINK(\"http://sdlegislature.gov/Rules/DisplayRule.aspx?Rule=24:05:27:01.03\",\"Accommodations/Modifications\n(24:05:27:01.03)\")","v":"Accommodations/Modifications\n(24:05:27:01.03)"},{"$f":"'File 1'!T$240","v":"V237"},{"$f":"'File 2'!T240","v":"V237"},{"$f":"'File 3'!T240","v":"V237"},{"$f":"'File 4'!T240","v":"V237"},{"$f":"'File 5'!T240","v":"V237"},{"$f":"'File 6'!T240","v":"V237"},{"$f":"'File 7'!T240","v":"V237"},{"$f":"'File 8'!T240","v":"V237"},{"$f":"'File 9'!T240","v":"V237"},{"$f":"'File 10'!T240","v":"V237"},{"$f":"'File 11'!T240","v":"V237"},{"$f":"'File 12'!T240","v":"V237"},{"$f":"'File 13'!T240","v":"V237"},{"$f":"'File 14'!T240","v":"V237"},{"$f":"'File 15'!T240","v":"V237"},{"$f":"'File 16'!T240","v":"V237"},{"$f":"'File 17'!T240","v":"V237"},{"$f":"'File 18'!T240","v":"V237"},{"$f":"'File 19'!T240","v":"V237"},{"$f":"'File 20'!T240","v":"V237"}]
["Special Factors","File 1","File 2","File 3","File 4","File 5","File 6","File 7","File 8","File 9","File 10","File 11","File 12","File 13","File 14","File 15","File 16","File 17","File 18","File 19","File 20"]
[{"$f":"HYPERLINK(\"http://sdlegislature.gov/Rules/DisplayRule.aspx?Rule=24:05:27:01.02\",\"Considerations\n(24:05:27:01.02)\")","v":"Considerations\n(24:05:27:01.02)"},{"$f":"'File 1'!T$256","v":"V243"},{"$f":"'File 2'!T256","v":"V243"},{"$f":"'File 3'!T256","v":"V243"},{"$f":"'File 4'!T256","v":"V243"},{"$f":"'File 5'!T256","v":"V243"},{"$f":"'File 6'!T256","v":"V243"},{"$f":"'File 7'!T256","v":"V243"},{"$f":"'File 8'!T256","v":"V243"},{"$f":"'File 9'!T256","v":"V243"},{"$f":"'File 10'!T256","v":"V243"},{"$f":"'File 11'!T256","v":"V243"},{"$f":"'File 12'!T240","v":"V237"},{"$f":"'File 13'!T240","v":"V237"},{"$f":"'File 14'!T240","v":"V237"},{"$f":"'File 15'!T240","v":"V237"},{"$f":"'File 16'!T240","v":"V237"},{"$f":"'File 17'!T240","v":"V237"},{"$f":"'File 18'!T240","v":"V237"},{"$f":"'File 19'!T240","v":"V237"},{"$f":"'File 20'!T240","v":"V237"}]
[{"$f":"HYPERLINK(\"http://sdlegislature.gov/Rules/DisplayRule.aspx?Rule=24:05:27:01.03\",\"State/District Assessments\n(24:05:27:01.03)\")","v":"State/District Assessments\n(24:05:27:01.03)"},{"$f":"'File 1'!T$265","v":"V263"},{"$f":"'File 2'!T265","v":"V263"},{"$f":"'File 3'!T265","v":"V263"},{"$f":"'File 4'!T265","v":"V263"},{"$f":"'File 5'!T265","v":"V263"},{"$f":"'File 6'!T265","v":"V263"},{"$f":"'File 7'!T265","v":"V263"},{"$f":"'File 8'!T265","v":"V263"},{"$f":"'File 9'!T265","v":"V263"},{"$f":"'File 10'!T265","v":"V263"},{"$f":"'File 11'!T265","v":"V263"},{"$f":"'File 12'!T265","v":"V263"},{"$f":"'File 13'!T265","v":"V263"},{"$f":"'File 14'!T265","v":"V263"},{"$f":"'File 15'!T265","v":"V263"},{"$f":"'File 16'!T265","v":"V263"},{"$f":"'File 17'!T265","v":"V263"},{"$f":"'File 18'!T265","v":"V263"},{"$f":"'File 19'!T265","v":"V263"},{"$f":"'File 20'!T265","v":"V263"}]
[{"$f":"HYPERLINK(\"http://sdlegislature.gov/Rules/DisplayRule.aspx?Rule=24:05:27:01.03\",\"Alternate Assessments\n(24:05:27:01.03)\")","v":"Alternate Assessments\n(24:05:27:01.03)"},{"$f":"'File 1'!T$290","v":"V257"},{"$f":"'File 2'!T290","v":"V257"},{"$f":"'File 3'!T290","v":"V257"},{"$f":"'File 4'!T290","v":"V257"},{"$f":"'File 5'!T290","v":"V257"},{"$f":"'File 6'!T290","v":"V257"},{"$f":"'File 7'!T290","v":"V257"},{"$f":"'File 8'!T290","v":"V257"},{"$f":"'File 9'!T290","v":"V257"},{"$f":"'File 10'!T290","v":"V257"},{"$f":"'File 11'!T290","v":"V257"},{"$f":"'File 12'!T290","v":"V257"},{"$f":"'File 13'!T290","v":"V257"},{"$f":"'File 14'!T290","v":"V257"},{"$f":"'File 15'!T290","v":"V257"},{"$f":"'File 16'!T290","v":"V257"},{"$f":"'File 17'!T290","v":"V257"},{"$f":"'File 18'!T290","v":"V257"},{"$f":"'File 19'!T290","v":"V257"},{"$f":"'File 20'!T290","v":"V257"}]
["Transition","File 1","File 2","File 3","File 4","File 5","File 6","File 7","File 8","File 9","File 10","File 11","File 12","File 13","File 14","File 15","File 16","File 17","File 18","File 19","File 20"]
["Indicator 13 Item 1"]
[{"$f":"HYPERLINK(\"http://sdlegislature.gov/Rules/DisplayRule.aspx?Rule=24:05:27:01.03\",\"Transition IEP*\n(24:05:27:01.03)\")","v":"Transition IEP*\n(24:05:27:01.03)"},{"$f":"'File 1'!T$307","v":"V269"},{"$f":"'File 2'!T307","v":"V269"},{"$f":"'File 3'!T307","v":"V269"},{"$f":"'File 4'!T307","v":"V269"},{"$f":"'File 5'!T307","v":"V269"},{"$f":"'File 6'!T307","v":"V269"},{"$f":"'File 7'!T307","v":"V269"},{"$f":"'File 8'!T307","v":"V269"},{"$f":"'File 9'!T307","v":"V269"},{"$f":"'File 10'!T307","v":"V269"},{"$f":"'File 11'!T307","v":"V269"},{"$f":"'File 12'!T307","v":"V269"},{"$f":"'File 13'!T307","v":"V269"},{"$f":"'File 14'!T307","v":"V269"},{"$f":"'File 15'!T307","v":"V269"},{"$f":"'File 16'!T307","v":"V269"},{"$f":"'File 17'!T307","v":"V269"},{"$f":"'File 18'!T307","v":"V269"},{"$f":"'File 19'!T307","v":"V269"},{"$f":"'File 20'!T307","v":"V269"}]
[{"$f":"HYPERLINK(\"http://sdlegislature.gov/Rules/DisplayRule.aspx?Rule=24:05:27:01.03\",\"Transition Assessments\n(24:05:27:01.03)\")","v":"Transition Assessments\n(24:05:27:01.03)"}]
["Transition Evaluation Report*\n"]
["Indicator 13 Item 2"]
[{"$f":"HYPERLINK(\"http://sdlegislature.gov/Rules/DisplayRule.aspx?Rule=24:05:27:01.03\",\"Age-Appropriate Measurable \nPost-Secondary Goals \n(24:05:27:01.03)\")","v":"Age-Appropriate Measurable \nPost-Secondary Goals \n(24:05:27:01.03)"},{"$f":"'File 1'!T$318","v":"V278"},{"$f":"'File 2'!T318","v":"V278"},{"$f":"'File 3'!T318","v":"V278"},{"$f":"'File 4'!T318","v":"V278"},{"$f":"'File 5'!T318","v":"V278"},{"$f":"'File 6'!T318","v":"V278"},{"$f":"'File 7'!T318","v":"V278"},{"$f":"'File 8'!T318","v":"V278"},{"$f":"'File 9'!T318","v":"V278"},{"$f":"'File 10'!T318","v":"V278"},{"$f":"'File 11'!T318","v":"V278"},{"$f":"'File 12'!T318","v":"V278"},{"$f":"'File 13'!T318","v":"V278"},{"$f":"'File 14'!T318","v":"V278"},{"$f":"'File 15'!T318","v":"V278"},{"$f":"'File 16'!T318","v":"V278"},{"$f":"'File 17'!T318","v":"V278"},{"$f":"'File 18'!T318","v":"V278"},{"$f":"'File 19'!T318","v":"V278"},{"$f":"'File 20'!T318","v":"V278"}]
["Indicator 13 Item 3"]
["MPSGs Updated Annually",{"$f":"'File 1'!T$325","v":"V282"},{"$f":"'File 2'!T325","v":"V282"},{"$f":"'File 3'!T325","v":"V282"},{"$f":"'File 4'!T325","v":"V282"},{"$f":"'File 5'!T325","v":"V282"},{"$f":"'File 6'!T325","v":"V282"},{"$f":"'File 7'!T325","v":"V282"},{"$f":"'File 8'!T325","v":"V282"},{"$f":"'File 9'!T325","v":"V282"},{"$f":"'File 10'!T325","v":"V282"},{"$f":"'File 11'!T325","v":"V282"},{"$f":"'File 12'!T325","v":"V282"},{"$f":"'File 13'!T325","v":"V282"},{"$f":"'File 14'!T325","v":"V282"},{"$f":"'File 15'!T325","v":"V282"},{"$f":"'File 16'!T325","v":"V282"},{"$f":"'File 17'!T325","v":"V282"},{"$f":"'File 18'!T325","v":"V282"},{"$f":"'File 19'!T325","v":"V282"},{"$f":"'File 20'!T325","v":"V282"}]
["Indicator 13 Item 4"]
[{"$f":"HYPERLINK(\"http://sdlegislature.gov/Rules/DisplayRule.aspx?Rule=24:05:27:01.03\",\"Course of Study Aligns to \nPost-Secondary Goals\n(24:05:27:01.03)\")","v":"Course of Study Aligns to \nPost-Secondary Goals\n(24:05:27:01.03)"},{"$f":"'File 1'!T$328","v":"V285"},{"$f":"'File 2'!T328","v":"V285"},{"$f":"'File 3'!T328","v":"V285"},{"$f":"'File 4'!T328","v":"V285"},{"$f":"'File 5'!T328","v":"V285"},{"$f":"'File 6'!T328","v":"V285"},{"$f":"'File 7'!T328","v":"V285"},{"$f":"'File 8'!T328","v":"V285"},{"$f":"'File 9'!T328","v":"V285"},{"$f":"'File 10'!T328","v":"V285"},{"$f":"'File 11'!T328","v":"V285"},{"$f":"'File 12'!T328","v":"V285"},{"$f":"'File 13'!T328","v":"V285"},{"$f":"'File 14'!T328","v":"V285"},{"$f":"'File 15'!T328","v":"V285"},{"$f":"'File 16'!T328","v":"V285"},{"$f":"'File 17'!T328","v":"V285"},{"$f":"'File 18'!T328","v":"V285"},{"$f":"'File 19'!T328","v":"V285"},{"$f":"'File 20'!T328","v":"V285"}]
["Indicator 13 Item 5"]
[{"$f":"HYPERLINK(\"http://sdlegislature.gov/Rules/DisplayRule.aspx?Rule=24:05:27:13.02\",\"Transition Services/Activities\n(24:05:27:13.02)\")","v":"Transition Services/Activities\n(24:05:27:13.02)"},{"$f":"'File 1'!T$335","v":"V290"},{"$f":"'File 2'!T335","v":"V290"},{"$f":"'File 3'!T335","v":"V290"},{"$f":"'File 4'!T335","v":"V290"},{"$f":"'File 5'!T335","v":"V290"},{"$f":"'File 6'!T335","v":"V290"},{"$f":"'File 7'!T335","v":"V290"},{"$f":"'File 8'!T335","v":"V290"},{"$f":"'File 9'!T335","v":"V290"},{"$f":"'File 10'!T335","v":"V290"},{"$f":"'File 11'!T335","v":"V290"},{"$f":"'File 12'!T335","v":"V290"},{"$f":"'File 13'!T335","v":"V290"},{"$f":"'File 14'!T335","v":"V290"},{"$f":"'File 15'!T335","v":"V290"},{"$f":"'File 16'!T335","v":"V290"},{"$f":"'File 17'!T335","v":"V290"},{"$f":"'File 18'!T335","v":"V290"},{"$f":"'File 19'!T335","v":"V290"},{"$f":"'File 20'!T335","v":"V290"}]
["Indicator 13 Item 6"]
[{"$f":"HYPERLINK(\"http://sdlegislature.gov/Rules/DisplayRule.aspx?Rule=24:05:27:13.02\",\"Annual Goal Related to Student’s Transition Service needs in\n(24:05:27:13.02)\")","v":"Annual Goal Related to Student’s Transition Service needs in\n(24:05:27:13.02)"},{"$f":"'File 1'!T$342","v":"V295"},{"$f":"'File 2'!T342","v":"V295"},{"$f":"'File 3'!T342","v":"V295"},{"$f":"'File 4'!T342","v":"V295"},{"$f":"'File 5'!T342","v":"V295"},{"$f":"'File 6'!T342","v":"V295"},{"$f":"'File 7'!T342","v":"V295"},{"$f":"'File 8'!T342","v":"V295"},{"$f":"'File 9'!T342","v":"V295"},{"$f":"'File 10'!T342","v":"V295"},{"$f":"'File 11'!T342","v":"V295"},{"$f":"'File 12'!T342","v":"V295"},{"$f":"'File 13'!T342","v":"V295"},{"$f":"'File 14'!T342","v":"V295"},{"$f":"'File 15'!T342","v":"V295"},{"$f":"'File 16'!T342","v":"V295"},{"$f":"'File 17'!T342","v":"V295"},{"$f":"'File 18'!T342","v":"V295"},{"$f":"'File 19'!T342","v":"V295"},{"$f":"'File 20'!T342","v":"V295"}]
["Indicator 13 Item 7"]
[{"$f":"HYPERLINK(\"http://sdlegislature.gov/Rules/DisplayRule.aspx?Rule=24:05:25:16.01\",\"Student Invitation/Participation\n(24:05:25:16.01)\")","v":"Student Invitation/Participation\n(24:05:25:16.01)"},{"$f":"'File 1'!T$349","v":"V300"},{"$f":"'File 2'!T349","v":"V300"},{"$f":"'File 3'!T349","v":"V300"},{"$f":"'File 4'!T349","v":"V300"},{"$f":"'File 5'!T349","v":"V300"},{"$f":"'File 6'!T349","v":"V300"},{"$f":"'File 7'!T349","v":"V300"},{"$f":"'File 8'!T349","v":"V300"},{"$f":"'File 9'!T349","v":"V300"},{"$f":"'File 10'!T349","v":"V300"},{"$f":"'File 11'!T349","v":"V300"},{"$f":"'File 12'!T349","v":"V300"},{"$f":"'File 13'!T349","v":"V300"},{"$f":"'File 14'!T349","v":"V300"},{"$f":"'File 15'!T349","v":"V300"},{"$f":"'File 16'!T349","v":"V300"},{"$f":"'File 17'!T349","v":"V300"},{"$f":"'File 18'!T349","v":"V300"},{"$f":"'File 19'!T349","v":"V300"},{"$f":"'File 20'!T349","v":"V300"}]
["Indicator 13 Item 8"]
[{"$f":"HYPERLINK(\"http://sdlegislature.gov/Rules/DisplayRule.aspx?Rule=24:05:25:16.01\",\"Consent to Invite Outside Agency\n(24:05:25:16.01)\")","v":"Consent to Invite Outside Agency\n(24:05:25:16.01)"},{"$f":"'File 1'!T$355","v":"V306"},{"$f":"'File 2'!T355","v":"V306"},{"$f":"'File 3'!T355","v":"V306"},{"$f":"'File 4'!T355","v":"V306"},{"$f":"'File 5'!T355","v":"V306"},{"$f":"'File 6'!T355","v":"V306"},{"$f":"'File 7'!T355","v":"V306"},{"$f":"'File 8'!T355","v":"V306"},{"$f":"'File 9'!T355","v":"V306"},{"$f":"'File 10'!T355","v":"V306"},{"$f":"'File 11'!T355","v":"V306"},{"$f":"'File 12'!T355","v":"V306"},{"$f":"'File 13'!T355","v":"V306"},{"$f":"'File 14'!T355","v":"V306"},{"$f":"'File 15'!T355","v":"V306"},{"$f":"'File 16'!T355","v":"V306"},{"$f":"'File 17'!T355","v":"V306"},{"$f":"'File 18'!T355","v":"V306"},{"$f":"'File 19'!T355","v":"V306"},{"$f":"'File 20'!T355","v":"V306"}]
["Other Transition Areas"]
[{"$f":"HYPERLINK(\"http://sdlegislature.gov/Rules/DisplayRule.aspx?Rule=24:05:30:16.01\",\"Transfer of Parental Rights:\n(24:05:30:16.01)\")","v":"Transfer of Parental Rights:\n(24:05:30:16.01)"},{"$f":"'File 1'!T$361","v":"V312"},{"$f":"'File 2'!T361","v":"V312"},{"$f":"'File 3'!T361","v":"V312"},{"$f":"'File 4'!T361","v":"V312"},{"$f":"'File 5'!T361","v":"V312"},{"$f":"'File 6'!T361","v":"V312"},{"$f":"'File 7'!T361","v":"V312"},{"$f":"'File 8'!T361","v":"V312"},{"$f":"'File 9'!T361","v":"V312"},{"$f":"'File 10'!T361","v":"V312"},{"$f":"'File 11'!T361","v":"V312"},{"$f":"'File 12'!T361","v":"V312"},{"$f":"'File 13'!T361","v":"V312"},{"$f":"'File 14'!T361","v":"V312"},{"$f":"'File 15'!T361","v":"V312"},{"$f":"'File 16'!T361","v":"V312"},{"$f":"'File 17'!T361","v":"V312"},{"$f":"'File 18'!T361","v":"V312"},{"$f":"'File 19'!T361","v":"V312"},{"$f":"'File 20'!T361","v":"V312"}]
[{"$f":"HYPERLINK(\"http://sdlegislature.gov/Rules/DisplayRule.aspx?Rule=24:05:27:12\",\"Specific Graduation Requirements:\n(24:05:27:12)\")","v":"Specific Graduation Requirements:\n(24:05:27:12)"}]
[{"$f":"HYPERLINK(\"http://sdlegislature.gov/Rules/DisplayRule.aspx?Rule=24:05:27:12\",\"When Student has Graduated\n(24:05:27:12)\")","v":"When Student has Graduated\n(24:05:27:12)"}]
[{"$f":"HYPERLINK(\"http://sdlegislature.gov/Rules/DisplayRule.aspx?Rule=24:05:27:12\",\"Summary of Performance was provided to the Student/Parent/Guardian\n(24:05:27:12)\")","v":"Summary of Performance was provided to the Student/Parent/Guardian\n(24:05:27:12)"}]
["Related Services","File 1","File 2","File 3","File 4","File 5","File 6","File 7","File 8","File 9","File 10","File 11","File 12","File 13","File 14","File 15","File 16","File 17","File 18","File 19","File 20"]
[{"$f":"HYPERLINK(\"http://sdlegislature.gov/Rules/DisplayRule.aspx?Rule=24:05:27:16\",\"Related Services\n(24:05:27:16)\")","v":"Related Services\n(24:05:27:16)"},{"$f":"'File 1'!T$373","v":"V324"},{"$f":"'File 2'!T373","v":"V324"},{"$f":"'File 3'!T373","v":"V324"},{"$f":"'File 4'!T373","v":"V324"},{"$f":"'File 5'!T373","v":"V324"},{"$f":"'File 6'!T373","v":"V324"},{"$f":"'File 7'!T373","v":"V324"},{"$f":"'File 8'!T373","v":"V324"},{"$f":"'File 9'!T373","v":"V324"},{"$f":"'File 10'!T373","v":"V324"},{"$f":"'File 11'!T373","v":"V324"},{"$f":"'File 12'!T373","v":"V324"},{"$f":"'File 13'!T373","v":"V324"},{"$f":"'File 14'!T373","v":"V324"},{"$f":"'File 15'!T373","v":"V324"},{"$f":"'File 16'!T373","v":"V324"},{"$f":"'File 17'!T373","v":"V324"},{"$f":"'File 18'!T373","v":"V324"},{"$f":"'File 19'!T373","v":"V324"},{"$f":"'File 20'!T373","v":"V324"}]
["Least Restrictive Environment","File 1","File 2","File 3","File 4","File 5","File 6","File 7","File 8","File 9","File 10","File 11","File 12","File 13","File 14","File 15","File 16","File 17","File 18","File 19","File 20"]
[{"$f":"HYPERLINK(\"http://sdlegislature.gov/Rules/DisplayRule.aspx?Rule=24:05:27:01.03\",\"Configuration of Services\n(24:05:27:01.03)\")","v":"Configuration of Services\n(24:05:27:01.03)"},{"$f":"'File 1'!T$383","v":"V334"},{"$f":"'File 2'!T383","v":"V334"},{"$f":"'File 3'!T383","v":"V334"},{"$f":"'File 4'!T383","v":"V334"},{"$f":"'File 5'!T383","v":"V334"},{"$f":"'File 6'!T383","v":"V334"},{"$f":"'File 7'!T383","v":"V334"},{"$f":"'File 8'!T383","v":"V334"},{"$f":"'File 9'!T383","v":"V334"},{"$f":"'File 10'!T383","v":"V334"},{"$f":"'File 11'!T383","v":"V334"},{"$f":"'File 12'!T383","v":"V334"},{"$f":"'File 13'!T383","v":"V334"},{"$f":"'File 14'!T383","v":"V334"},{"$f":"'File 15'!T383","v":"V334"},{"$f":"'File 16'!T383","v":"V334"},{"$f":"'File 17'!T383","v":"V334"},{"$f":"'File 18'!T383","v":"V334"},{"$f":"'File 19'!T383","v":"V334"},{"$f":"'File 20'!T383","v":"V334"}]
[{"$f":"HYPERLINK(\"http://sdlegislature.gov/Rules/DisplayRule.aspx?Rule=24:05:28:02\",\"Continuum of Placement\n(24:05:28:02)\")","v":"Continuum of Placement\n(24:05:28:02)"},{"$f":"'File 1'!T$399","v":"V350"},{"$f":"'File 2'!T399","v":"V350"},{"$f":"'File 3'!T399","v":"V350"},{"$f":"'File 4'!T399","v":"V350"},{"$f":"'File 5'!T399","v":"V350"},{"$f":"'File 6'!T399","v":"V350"},{"$f":"'File 7'!T399","v":"V350"},{"$f":"'File 8'!T399","v":"V350"},{"$f":"'File 9'!T399","v":"V350"},{"$f":"'File 10'!T399","v":"V350"},{"$f":"'File 11'!T399","v":"V350"},{"$f":"'File 12'!T399","v":"V350"},{"$f":"'File 13'!T399","v":"V350"},{"$f":"'File 14'!T399","v":"V350"},{"$f":"'File 15'!T399","v":"V350"},{"$f":"'File 16'!T399","v":"V350"},{"$f":"'File 17'!T399","v":"V350"},{"$f":"'File 18'!T399","v":"V350"},{"$f":"'File 19'!T399","v":"V350"},{"$f":"'File 20'!T399","v":"V350"}]
[{"$f":"HYPERLINK(\"http://sdlegislature.gov/Rules/DisplayRule.aspx?Rule=24:05:28:01\",\"Participation with Non-disabled Peers\n(24:05:28:01)\")","v":"Participation with Non-disabled Peers\n(24:05:28:01)"}]
[{"$f":"HYPERLINK(\"http://sdlegislature.gov/Rules/DisplayRule.aspx?Rule=24:05:28:03\",\"Justification for Placement \n(24:05:28:03)\")","v":"Justification for Placement \n(24:05:28:03)"}]
[{"$f":"HYPERLINK(\"http://sdlegislature.gov/Rules/DisplayRule.aspx?Rule=24:05:25:26\",\"Extended School Year\n(24:05:25:26)\")","v":"Extended School Year\n(24:05:25:26)"},{"$f":"'File 1'!T$407","v":"V358"},{"$f":"'File 2'!T407","v":"V358"},{"$f":"'File 3'!T407","v":"V358"},{"$f":"'File 4'!T407","v":"V358"},{"$f":"'File 5'!T407","v":"V358"},{"$f":"'File 6'!T407","v":"V358"},{"$f":"'File 7'!T407","v":"V358"},{"$f":"'File 8'!T407","v":"V358"},{"$f":"'File 9'!T407","v":"V358"},{"$f":"'File 10'!T407","v":"V358"},{"$f":"'File 11'!T407","v":"V358"},{"$f":"'File 12'!T407","v":"V358"},{"$f":"'File 13'!T407","v":"V358"},{"$f":"'File 14'!T407","v":"V358"},{"$f":"'File 15'!T407","v":"V358"},{"$f":"'File 16'!T407","v":"V358"},{"$f":"'File 17'!T407","v":"V358"},{"$f":"'File 18'!T407","v":"V358"},{"$f":"'File 19'!T407","v":"V358"},{"$f":"'File 20'!T407","v":"V358"}]
[]
["Prior Parental Written Notice","File 1","File 2","File 3","File 4","File 5","File 6","File 7","File 8","File 9","File 10","File 11","File 12","File 13","File 14","File 15","File 16","File 17","File 18","File 19","File 20"]
[{"$f":"HYPERLINK(\"http://sdlegislature.gov/Rules/DisplayRule.aspx?Rule=24:05:30:04\",\"Prior Written Notice Sent to Parent Regarding IEP Implementation\n(24:05:30:04)\")","v":"Prior Written Notice Sent to Parent Regarding IEP Implementation\n(24:05:30:04)"},{"$f":"'File 1'!T$415","v":"V366"},{"$f":"'File 2'!T415","v":"V366"},{"$f":"'File 3'!T415","v":"V366"},{"$f":"'File 4'!T415","v":"V366"},{"$f":"'File 5'!T415","v":"V366"},{"$f":"'File 6'!T415","v":"V366"},{"$f":"'File 7'!T415","v":"V366"},{"$f":"'File 8'!T415","v":"V366"},{"$f":"'File 9'!T415","v":"V366"},{"$f":"'File 10'!T415","v":"V366"},{"$f":"'File 11'!T415","v":"V366"},{"$f":"'File 12'!T415","v":"V366"},{"$f":"'File 13'!T415","v":"V366"},{"$f":"'File 14'!T415","v":"V366"},{"$f":"'File 15'!T415","v":"V366"},{"$f":"'File 16'!T415","v":"V366"},{"$f":"'File 17'!T415","v":"V366"},{"$f":"'File 18'!T415","v":"V366"},{"$f":"'File 19'!T415","v":"V366"},{"$f":"'File 20'!T415","v":"V366"}]
[{"$f":"HYPERLINK(\"http://sdlegislature.gov/Rules/DisplayRule.aspx?Rule=24:05:30:05\",\"Content of PPWN\n(24:05:30:05)\")","v":"Content of PPWN\n(24:05:30:05)"}]
[]
["Amendment to IEP","File 1","File 2","File 3","File 4","File 5","File 6","File 7","File 8","File 9","File 10","File 11","File 12","File 13","File 14","File 15","File 16","File 17","File 18","File 19","File 20"]
["Amendment to IEP",{"$f":"'File 1'!T$431","v":"V381"},{"$f":"'File 2'!T431","v":"V381"},{"$f":"'File 3'!T431","v":"V381"},{"$f":"'File 4'!T431","v":"V381"},{"$f":"'File 5'!T431","v":"V381"},{"$f":"'File 6'!T431","v":"V381"},{"$f":"'File 7'!T431","v":"V381"},{"$f":"'File 8'!T431","v":"V381"},{"$f":"'File 9'!T431","v":"V381"},{"$f":"'File 10'!T431","v":"V381"},{"$f":"'File 11'!T431","v":"V381"},{"$f":"'File 12'!T431","v":"V381"},{"$f":"'File 13'!T431","v":"V381"},{"$f":"'File 14'!T431","v":"V381"},{"$f":"'File 15'!T431","v":"V381"},{"$f":"'File 16'!T431","v":"V381"},{"$f":"'File 17'!T431","v":"V381"},{"$f":"'File 18'!T431","v":"V381"},{"$f":"'File 19'!T431","v":"V381"},{"$f":"'File 20'!T431","v":"V381"}]
[{"$f":"HYPERLINK(\"http://sdlegislature.gov/Rules/DisplayRule.aspx?Rule=24:05:27:08.01\",\"(24:05:27:08.01)\")","v":"(24:05:27:08.01)"}]
[{"$f":"HYPERLINK(\"http://sdlegislature.gov/Rules/DisplayRule.aspx?Rule=24:05:30:04\",\"Prior Notice\n(24:05:30:04)\")","v":"Prior Notice\n(24:05:30:04)"}]
[]
["Additional Items","File 1","File 2","File 3","File 4","File 5","File 6","File 7","File 8","File 9","File 10","File 11","File 12","File 13","File 14","File 15","File 16","File 17","File 18","File 19","File 20"]
["Parent Declined/\nWithdrew Consent for Services ",{"$f":"'File 1'!T$437","v":"V387"},{"$f":"'File 2'!T437","v":"V387"},{"$f":"'File 3'!T437","v":"V387"},{"$f":"'File 4'!T437","v":"V387"},{"$f":"'File 5'!T437","v":"V387"},{"$f":"'File 6'!T437","v":"V387"},{"$f":"'File 7'!T437","v":"V387"},{"$f":"'File 8'!T437","v":"V387"},{"$f":"'File 9'!T437","v":"V387"},{"$f":"'File 10'!T437","v":"V387"},{"$f":"'File 11'!T437","v":"V387"},{"$f":"'File 12'!T437","v":"V387"},{"$f":"'File 13'!T437","v":"V387"},{"$f":"'File 14'!T437","v":"V387"},{"$f":"'File 15'!T437","v":"V387"},{"$f":"'File 16'!T437","v":"V387"},{"$f":"'File 17'!T437","v":"V387"},{"$f":"'File 18'!T437","v":"V387"},{"$f":"'File 19'!T437","v":"V387"},{"$f":"'File 20'!T437","v":"V387"}]
["Surrogate Parent"]
["Transfer Students Provided with  FAPE/Comparable Services "]
["Transfer Students Evaluated for \nSouth Dakota Eligibility"]

{"sheet":"File 1","index":4,"n_rows":444,"n_cols":28,"rows_kept":444,"cut":false,"hidden":false,"merged":[[436,18,437,18],[437,6,437,10],[437,11,437,12],[438,6,438,17],[442,6,442,10],[442,11,442,12],[413,19,413,21],[414,6,414,11],[414,12,414,13],[414,14,418,17],[414,18,418,18],[414,19,418,21],[417,6,418,11],[419,6,419,17],[420,6,420,17],[432,6,433,17],[216,14,216,16],[443,6,443,10],[443,11,443,12],[446,11,447,12],[439,6,440,10],[439,11,440,12],[439,13,439,17],[440,13,440,17],[441,6,441,10],[441,11,441,12],[441,13,443,17],[415,6,416,11],[415,12,416,13],[413,0,413,17],[422,7,422,17],[423,7,423,17],[424,7,424,17],[425,7,425,17],[426,6,426,17],[427,6,427,10],[427,11,427,17],[436,6,436,10],[436,11,436,12],[436,13,437,17],[216,6,216,7],[216,8,216,10],[205,0,206,5],[207,0,209,5],[216,11,216,13],[231,7,231,10],[209,6,209,13],[210,0,210,17],[211,0,213,5],[211,6,213,16],[214,0,215,5],[214,6,215,16],[216,0,233,5],[225,12,225,13],[225,15,225,16],[226,7,226,10],[227,6,227,10],[228,6,228,7],[228,8,228,10],[228,11,228,13],[228,14,228,16],[230,7,230,10],[230,12,230,13],[230,15,230,16],[196,0,200,5],[196,6,200,17],[196,18,200,18],[201,0,201,21],[202,0,202,17],[202,19,202,21],[203,0,204,5],[188,7,188,9],[188,10,188,12],[189,7,189,9],[189,10,189,12],[186,0,189,5],[186,7,186,9],[186,10,186,12],[192,7,192,9],[193,7,193,9],[193,10,193,12],[194,7,194,9],[190,0,190,5],[190,7,190,9],[190,10,190,12],[191,0,195,5],[191,7,191,9],[191,10,191,12],[152,12,156,15],[154,7,156,10],[145,7,146,10],[145,12,146,15],[149,18,162,18],[149,19,162,21],[150,6,150,15],[150,17,160,17],[158,12,159,15],[151,6,151,15],[152,7,153,10],[157,7,158,10],[157,12,157,15],[210,19,210,21],[211,19,215,21],[214,18,215,18],[196,19,200,21],[203,19,209,21],[205,18,206,18],[207,14,208,17],[207,18,209,18],[209,14,209,17],[211,18,213,18],[205,6,206,17],[207,6,207,10],[207,11,207,13],[208,6,208,10],[208,11,208,13],[203,6,204,17],[203,18,204,18],[190,13,190,16],[191,13,191,16],[192,13,192,16],[193,13,193,16],[194,13,194,16],[176,12,177,17],[184,13,185,16],[186,13,186,16],[184,10,185,12],[194,10,194,12],[180,6,180,17],[182,7,183,16],[187,7,187,9],[187,10,187,12],[187,13,187,16],[188,13,188,16],[192,10,192,12],[172,12,173,17],[172,18,173,18],[172,19,173,21],[177,0,177,2],[177,3,177,5],[177,6,177,8],[177,9,177,11],[178,0,178,5],[178,6,179,17],[179,0,179,2],[179,3,179,5],[176,18,177,18],[176,19,195,21],[178,18,179,18],[180,18,195,18],[176,0,176,5],[176,6,176,8],[176,9,176,11],[174,0,174,21],[175,0,175,17],[175,19,175,21],[180,0,185,5],[184,7,185,9],[189,13,189,16],[216,18,221,18],[216,19,233,21],[222,18,227,18],[228,18,233,18],[218,7,218,10],[218,12,218,13],[220,7,220,10],[221,6,221,10],[222,6,222,7],[222,8,222,10],[222,11,222,13],[222,14,222,16],[231,12,231,13],[231,15,231,16],[232,7,232,10],[233,6,233,10],[218,15,218,16],[219,7,219,10],[219,12,219,13],[219,15,219,16],[224,7,224,10],[224,12,224,13],[224,15,224,16],[225,7,225,10],[117,6,117,13],[117,14,117,17],[118,6,119,17],[120,0,120,21],[118,0,119,5],[130,18,148,18],[130,19,148,21],[133,12,134,15],[135,7,137,10],[135,12,136,15],[137,12,138,15],[138,7,141,10],[139,12,144,15],[142,7,144,10],[121,0,121,17],[121,19,121,21],[122,0,122,17],[122,18,129,18],[122,19,129,21],[123,0,129,5],[123,6,123,17],[124,6,124,17],[125,7,125,11],[126,7,126,11],[165,12,169,17],[167,7,167,11],[168,7,168,11],[110,18,112,18],[110,19,119,21],[113,18,114,18],[115,18,117,18],[118,18,119,18],[104,18,105,18],[106,18,107,18],[169,7,169,11],[162,0,162,17],[163,0,166,5],[163,6,163,17],[163,18,171,18],[163,19,171,21],[164,6,164,17],[167,0,173,5],[165,7,165,11],[166,7,166,11],[170,7,170,13],[171,7,171,11],[172,6,173,10],[172,11,173,11],[98,18,101,18],[98,19,101,21],[99,11,99,13],[106,6,107,17],[84,18,97,18],[84,19,97,21],[86,6,86,8],[86,9,86,12],[87,15,87,17],[100,11,100,13],[101,11,101,13],[102,6,103,17],[102,18,103,18],[94,13,94,14],[94,15,94,17],[95,15,95,17],[96,13,96,14],[96,15,96,17],[99,6,99,10],[100,6,100,10],[102,19,109,21],[108,18,109,18],[89,13,89,14],[89,15,89,17],[91,13,91,14],[91,15,91,17],[92,13,92,14],[92,15,92,17],[97,13,97,14],[97,15,97,17],[98,11,98,13],[98,14,101,17],[93,15,93,17],[93,13,93,14],[110,0,112,5],[110,6,110,10],[111,6,111,10],[113,0,114,5],[115,0,117,5],[115,6,115,12],[116,6,116,12],[98,0,101,5],[98,6,98,10],[101,6,101,10],[102,0,103,5],[104,0,105,5],[106,0,107,5],[108,0,109,5],[104,6,105,17],[108,6,109,17],[110,11,110,13],[110,14,111,17],[111,11,111,13],[112,6,112,13],[112,14,112,17],[113,6,114,17],[115,13,115,15],[116,13,116,15],[90,6,90,8],[90,9,90,12],[78,6,78,8],[78,9,78,12],[80,0,83,5],[80,6,80,8],[80,9,80,12],[81,9,81,12],[84,0,90,5],[83,9,83,12],[96,6,96,8],[96,9,96,12],[91,0,91,5],[91,6,91,8],[91,9,91,12],[92,0,97,5],[92,9,92,12],[93,9,93,12],[94,9,94,12],[93,6,93,8],[94,6,94,8],[92,6,92,8],[97,6,97,8],[97,9,97,12],[74,19,83,21],[76,6,76,8],[76,9,76,12],[76,13,76,14],[76,15,76,17],[77,6,77,8],[77,9,77,12],[77,13,77,14],[77,15,77,17],[82,6,82,8],[82,9,82,12],[82,13,82,14],[82,15,82,17],[83,15,83,17],[78,13,78,14],[78,15,78,17],[80,13,80,14],[80,15,80,17],[81,13,81,14],[81,15,81,17],[83,13,83,14],[74,18,83,18],[81,6,81,8],[83,6,83,8],[150,0,161,5],[159,6,160,6],[159,7,160,10],[161,6,161,15],[89,6,89,8],[89,9,89,12],[90,13,90,14],[90,15,90,17],[95,9,95,12],[147,6,147,15],[148,0,148,17],[149,0,149,17],[128,7,128,11],[128,13,128,17],[131,0,147,5],[131,6,131,15],[131,17,147,17],[132,6,132,15],[133,7,134,10],[95,6,95,8],[127,7,127,11],[127,13,127,17],[129,6,129,17],[130,0,130,17],[84,15,85,17],[84,6,85,8],[86,13,86,14],[86,15,86,17],[87,9,87,12],[87,13,87,14],[88,6,88,8],[88,9,88,12],[84,13,85,14],[88,13,88,14],[88,15,88,17],[84,9,85,12],[87,6,87,8],[125,13,125,17],[126,13,126,17],[66,15,66,17],[66,13,66,14],[67,0,67,5],[67,6,67,8],[67,9,67,12],[67,13,67,14],[67,15,67,17],[68,0,73,5],[79,0,79,5],[79,6,79,8],[79,9,79,12],[79,13,79,14],[79,15,79,17],[72,6,72,8],[72,9,72,12],[74,0,78,5],[74,6,75,8],[74,9,75,12],[74,13,75,14],[74,15,75,17],[68,13,68,14],[68,15,68,17],[72,13,72,14],[72,15,72,17],[60,13,61,14],[60,15,61,17],[62,13,62,14],[62,15,62,17],[63,13,63,14],[63,15,63,17],[64,13,64,14],[64,15,64,17],[65,13,65,14],[65,15,65,17],[65,6,65,8],[66,6,66,8],[60,9,61,12],[54,0,59,5],[54,6,54,9],[54,10,54,12],[55,6,55,9],[55,10,55,12],[45,19,53,21],[54,19,59,21],[58,13,59,17],[56,6,56,9],[56,10,56,12],[57,6,57,9],[57,10,57,12],[58,6,58,9],[58,10,58,12],[59,6,59,9],[59,10,59,12],[21,10,21,13],[21,14,21,17],[27,9,27,11],[27,12,27,17],[52,6,52,17],[53,6,53,17],[45,6,45,17],[46,6,46,17],[47,6,47,17],[48,7,48,17],[49,7,49,17],[50,7,50,17],[51,7,51,17],[22,6,22,9],[22,10,22,13],[25,0,25,21],[26,0,26,17],[26,19,26,21],[22,14,22,17],[23,6,23,9],[23,10,23,13],[23,14,23,17],[45,0,53,5],[41,0,42,5],[17,0,17,21],[18,0,18,17],[19,0,24,5],[19,9,19,11],[19,12,19,17],[20,14,20,17],[24,6,24,17],[8,3,8,6],[8,7,8,9],[9,0,9,21],[8,0,8,2],[10,0,12,5],[10,10,11,10],[10,11,11,13],[10,14,11,17],[10,18,11,18],[10,19,11,21],[18,19,18,21],[19,18,24,18],[19,19,24,21],[20,6,20,9],[20,10,20,13],[19,6,19,8],[21,6,21,9],[10,6,10,9],[11,6,11,9],[12,6,12,21],[13,0,13,21],[14,0,14,17],[14,19,14,21],[15,0,16,5],[15,18,16,18],[15,19,16,21],[15,6,16,17],[6,0,6,2],[6,10,6,13],[7,14,7,18],[8,14,8,18],[8,19,8,21],[4,14,4,18],[4,19,4,21],[5,14,5,18],[5,19,5,21],[6,14,6,18],[6,19,6,21],[7,19,7,21],[6,3,6,6],[6,7,6,9],[7,0,7,2],[7,3,7,6],[7,7,7,9],[7,10,7,13],[8,10,8,13],[3,0,3,21],[4,0,4,2],[4,3,4,6],[4,7,4,9],[4,10,4,13],[5,0,5,2],[5,3,5,6],[5,7,5,9],[5,11,5,13],[0,0,0,3],[0,4,0,5],[0,6,0,8],[0,9,0,11],[0,12,0,14],[0,15,0,17],[0,19,0,21],[1,0,2,13],[1,14,2,17],[1,18,2,18],[1,19,2,21],[385,6,385,16],[41,6,42,17],[43,6,44,17],[27,18,29,18],[27,19,29,21],[30,18,32,18],[30,19,32,21],[35,18,38,18],[35,19,44,21],[39,18,40,18],[73,6,73,8],[73,9,73,12],[73,13,73,14],[73,15,73,17],[68,6,68,8],[68,9,68,12],[69,6,69,8],[69,9,69,12],[69,13,69,14],[69,15,69,17],[70,6,70,8],[70,9,70,12],[70,13,70,14],[70,15,70,17],[405,6,405,16],[406,6,406,16],[391,6,391,16],[392,11,392,12],[392,14,392,16],[393,6,393,16],[394,6,394,8],[394,9,394,16],[395,6,395,16],[396,11,396,12],[396,14,396,16],[41,18,42,18],[45,18,53,18],[54,18,59,18],[60,18,73,18],[60,19,73,21],[36,6,38,17],[37,0,38,5],[39,0,40,5],[39,6,40,17],[43,0,44,5],[71,6,71,8],[71,9,71,12],[71,13,71,14],[71,15,71,17],[62,9,62,12],[63,9,63,12],[64,9,64,12],[65,9,65,12],[66,9,66,12],[60,0,66,5],[60,6,61,8],[62,6,62,8],[63,6,63,8],[64,6,64,8],[27,0,29,5],[30,0,32,5],[31,6,32,7],[35,0,36,5],[35,6,35,9],[33,0,33,21],[34,0,34,17],[34,19,34,21],[35,10,35,12],[35,13,35,17],[27,6,27,8],[28,6,29,17],[30,6,30,17],[31,8,32,17],[406,19,411,21],[419,19,427,21],[430,19,433,21],[436,19,443,21],[372,19,380,21],[377,18,380,18],[382,19,397,21],[390,18,393,18],[394,18,397,18],[398,19,405,21],[400,18,401,18],[402,18,403,18],[404,18,405,18],[398,18,399,18],[406,18,411,18],[419,18,427,18],[432,18,433,18],[439,18,440,18],[441,18,443,18],[434,0,434,21],[435,0,435,17],[435,19,435,21],[439,0,440,5],[441,0,443,5],[381,19,381,21],[382,9,382,16],[383,6,383,16],[384,8,384,9],[388,8,388,9],[392,8,392,9],[396,8,396,9],[382,6,382,8],[384,11,384,12],[384,14,384,16],[386,6,386,8],[386,9,386,16],[387,6,387,16],[388,11,388,12],[388,14,388,16],[389,6,389,16],[390,6,390,8],[390,9,390,16],[382,17,411,17],[397,6,397,16],[398,6,398,16],[399,6,399,16],[400,6,400,16],[408,8,408,10],[341,18,342,18],[343,18,344,18],[354,18,358,18],[360,18,361,18],[372,18,376,18],[428,0,428,21],[429,0,429,17],[429,19,429,21],[430,18,431,18],[430,6,431,17],[431,0,431,2],[431,3,431,5],[341,19,346,21],[345,18,346,18],[353,18,353,21],[354,19,358,21],[359,18,359,21],[360,19,370,21],[362,18,363,18],[382,18,385,18],[386,18,389,18],[371,19,371,21],[406,0,410,5],[414,0,418,5],[419,0,427,5],[430,0,430,5],[432,0,433,5],[436,0,437,5],[438,0,438,5],[359,0,359,5],[360,0,361,5],[362,0,363,5],[364,0,366,5],[372,0,379,5],[382,0,397,5],[398,0,401,5],[402,0,403,5],[404,0,405,5],[367,0,369,5],[380,0,380,17],[381,0,381,17],[412,0,412,21],[408,12,408,15],[409,8,409,10],[411,0,411,16],[401,6,401,16],[402,6,403,16],[404,6,404,16],[353,6,353,16],[354,6,354,10],[354,13,354,16],[355,13,355,16],[356,13,356,16],[341,0,346,5],[347,0,347,5],[348,0,352,5],[353,0,353,5],[354,0,358,5],[334,18,335,18],[317,18,318,18],[317,19,322,21],[319,18,320,18],[321,18,322,18],[323,18,323,21],[324,19,325,21],[326,18,326,21],[327,19,332,21],[329,18,330,18],[331,18,332,18],[327,0,332,5],[327,6,328,6],[329,6,330,6],[329,7,330,16],[331,7,331,16],[332,6,332,16],[306,18,307,18],[306,19,315,21],[308,18,309,18],[309,6,310,6],[310,18,311,18],[314,18,315,18],[319,6,320,6],[319,7,320,16],[321,6,322,6],[321,7,322,16],[324,18,325,18],[327,18,328,18],[314,0,315,5],[314,6,315,16],[316,0,316,5],[316,6,316,16],[317,0,322,5],[317,6,318,6],[317,7,318,16],[323,0,323,5],[323,6,323,16],[364,6,364,12],[364,13,364,16],[365,6,366,16],[364,18,366,18],[367,18,370,18],[375,7,375,8],[375,10,375,11],[367,6,369,16],[370,0,370,17],[371,0,371,17],[359,6,359,16],[360,6,360,12],[360,13,360,16],[361,6,361,12],[361,13,361,16],[362,6,362,12],[362,13,362,16],[363,6,363,12],[363,13,363,16],[340,0,340,5],[340,6,340,16],[376,6,376,11],[376,12,379,16],[377,6,377,11],[378,7,378,8],[379,7,379,8],[372,17,379,17],[378,10,378,11],[379,10,379,11],[373,6,373,11],[374,7,374,8],[374,10,374,11],[372,6,372,11],[372,12,375,16],[340,18,340,21],[341,7,342,16],[343,7,344,16],[345,7,345,16],[346,6,346,16],[357,13,357,16],[358,13,358,16],[350,7,350,10],[351,7,351,10],[347,6,347,16],[347,18,347,21],[348,6,348,10],[348,11,352,16],[348,18,352,18],[348,19,352,21],[349,6,349,10],[352,6,352,10],[355,6,356,10],[357,6,357,10],[357,11,357,12],[358,6,358,10],[358,11,358,12],[341,6,342,6],[343,6,344,6],[282,14,282,16],[283,14,283,16],[336,7,337,16],[338,7,338,16],[333,0,333,5],[334,0,339,5],[334,6,335,6],[334,7,335,16],[334,19,339,21],[336,6,337,6],[336,18,337,18],[338,18,339,18],[339,6,339,16],[333,18,333,21],[333,6,333,16],[324,0,325,5],[324,6,325,16],[326,0,326,5],[326,6,326,16],[327,7,328,16],[309,7,310,16],[311,7,311,16],[305,6,305,16],[306,6,307,16],[257,9,257,12],[258,6,258,8],[292,7,293,16],[281,10,281,13],[282,10,282,13],[283,10,283,13],[289,18,303,18],[289,19,303,21],[300,12,302,12],[300,13,300,16],[302,13,302,15],[283,6,283,9],[284,6,284,9],[286,6,288,11],[264,18,288,18],[264,19,288,21],[255,17,298,17],[284,14,284,16],[272,14,272,16],[273,14,273,16],[279,14,279,16],[280,14,280,16],[281,14,281,16],[285,14,285,16],[279,6,279,9],[280,6,280,9],[281,6,281,9],[282,6,282,9],[285,6,285,9],[274,6,274,9],[274,10,274,13],[277,6,277,9],[278,6,278,9],[278,10,278,13],[284,10,284,13],[285,10,285,13],[279,10,279,13],[280,10,280,13],[276,10,276,13],[276,14,276,16],[277,10,277,13],[277,14,277,16],[262,6,262,8],[262,9,262,11],[262,12,262,16],[263,6,263,8],[263,9,263,12],[263,13,263,16],[265,7,265,10],[266,6,266,16],[267,6,268,16],[269,10,271,13],[275,6,275,9],[275,10,275,13],[269,6,271,9],[272,6,272,9],[272,10,272,13],[273,6,273,9],[273,10,273,13],[254,19,254,21],[255,0,263,5],[255,9,256,16],[255,18,263,18],[255,19,263,21],[258,9,258,13],[259,6,259,8],[239,19,253,21],[245,7,248,9],[259,9,259,11],[259,12,259,16],[260,6,260,8],[260,9,260,13],[260,14,260,16],[261,6,261,8],[261,9,261,15],[241,7,241,8],[241,11,241,16],[243,6,244,10],[243,11,243,16],[244,11,244,16],[245,11,245,16],[255,6,256,8],[257,6,257,8],[289,0,302,5],[306,0,307,5],[309,0,313,5],[301,13,301,15],[301,16,302,16],[303,0,303,17],[304,0,304,17],[304,18,305,18],[304,19,305,21],[305,0,305,5],[312,7,312,16],[312,18,313,18],[313,6,313,16],[294,6,295,6],[294,7,295,16],[296,6,297,6],[296,7,297,16],[298,6,298,16],[299,6,299,16],[300,6,302,11],[289,6,289,16],[290,6,290,16],[291,7,291,16],[292,6,293,6],[234,18,238,18],[234,19,238,21],[235,6,235,16],[236,7,236,10],[236,12,236,15],[239,11,239,16],[246,11,246,16],[239,18,253,18],[253,0,253,17],[240,7,240,8],[240,11,240,16],[240,9,242,10],[242,11,242,16],[247,11,247,16],[250,11,250,16],[251,6,252,10],[251,11,251,16],[252,11,252,16],[264,0,288,5],[237,7,237,10],[238,6,238,10],[239,0,252,5],[239,6,239,10],[286,12,288,12],[286,13,286,16],[287,13,287,15],[287,16,288,16],[288,13,288,15],[248,11,248,16],[249,11,249,16],[257,13,257,16],[258,14,258,16],[265,12,265,16],[269,14,271,16],[264,6,264,16],[234,0,238,5],[234,6,234,16],[254,0,254,16],[278,14,278,16],[274,14,274,16],[275,14,275,16],[276,6,276,9]]}
[{"$f":"'Caseload Files'!B2","v":"Teacher Caseload Review"},null,null,null,{"$f":"'Caseload Files'!D11","v":"File 1"},null,"Reviewer:",null,null,{"$f":"'Caseload Files'!F11","v":"Reviewer 1"},null,null,"Staff Reviewed:",null,null,{"$f":"'Caseload Files'!I11","v":"Staff 1"},null,null,"Score","Findings/Notes"]
[{"$f":"'Caseload Files'!B2","v":"Teacher Caseload Review"},null,null,null,null,null,null,null,null,null,null,null,null,null,null,null,null,null,"Rating","Record notes\nand/or findings."]
[]
[]
["Student Name:",null,null,{"$f":"'Caseload Files'!$L$11","v":"Student 1"},null,null,null,"Date of Birth:",null,null,{"$f":"'Caseload Files'!$R$11","v":"2001-01-01"},null,null,null,"Current IEP Meeting Date:"]
["SIMS Number:",null,null,{"$f":"'Caseload Files'!$O$11","v":10123456},null,null,null,"Age/Grade:",null,null,{"$f":"INT(YEARFRAC(K5,TODAY()))","v":20},"/Sophomore",null,null,"Previous IEP Meeting Date:"]
["School District:",null,null,{"$f":"'Caseload Files'!B3","v":"District 00-0"},null,null,null,"Disability Code:",null,null,{"$f":"'Caseload Files'!$W$11","v":"DisCode 1"},null,null,null,"Current Eligibility Determination Date:"]
["School Name:",null,null,{"$f":"'Caseload Files'!E6","v":"School Name"},null,null,null,"Race/Ethnicity:",null,null,{"$f":"'Caseload Files'!T11","v":"Race 1"},null,null,null,"Previous Eligibility Determination Date:"]
["School Year:",null,null,{"$f":"'Caseload Files'!E7","v":"1998-1999"},null,null,null,"Type of Review:",null,null,{"$f":"'Caseload Files'!Z11","v":"Type 1"},null,null,null,"Date of Review:"]
[]
[{"$f":"HYPERLINK(\"http://sdlegislature.gov/Rules/DisplayRule.aspx?Rule=24:05\",\"Subsection Title and \nCorresponding ARSD Links \")","v":"Subsection Title and \nCorresponding ARSD Links "},null,null,null,null,null,"Yellow boxes are prompts",null,null,null,null,"Use checkboxes to help record findings.",null,null,"Voided space and/or clarifying information.",null,null,null,"\"N/A\" may be appropriate for certain sections.","Findings/Notes"]
[null,null,null,null,null,null,"for information."]
[]
[]
[{"$f":"HYPERLINK(\"https://gosynth.com/p/s/aboqwv\",\"Record of Access\")","v":"Record of Access"},null,null,null,null,null,null,null,null,null,null,null,null,null,null,null,null,null,{"$f":"IFERROR(Y17/X17,\"N/A\")","v":"N/A"},"Findings/Notes"]
[{"$f":"HYPERLINK(\"http://sdlegislature.gov/Rules/DisplayRule.aspx?Rule=24:05:29:15\",\"Record of Access\n(24:05:29:15)\")","v":"Record of Access\n(24:05:29:15)"},null,null,null,null,null,null,null,null,null,null,null,null,null,null,null,null,null,"Select",null,null,null,null,null,{"$f":"S16","v":"Select"},{"$f":"S16","v":"Select"}]
[null,null,null,null,null,null,null,null,null,null,null,null,null,null,null,null,null,null,null,null,null,null,null,{"$f":"Y17+Z17","v":0},{"$f":"COUNTIF(Y16,\"Yes\")*3","v":0},{"$f":"COUNTIF(Z16,\"No\")*3","v":0}]
[]
["Referral",null,null,null,null,null,null,null,null,null,null,null,null,null,null,null,null,null,{"$f":"IFERROR(Y21/X21,\"N/A\")","v":"N/A"}]
[{"$f":"HYPERLINK(\"http://sdlegislature.gov/Rules/DisplayRule.aspx?Rule=24:05:24:01\",\"Referral Document\n(initial only)\n(24:05:24:01)\")","v":"Referral Document\n(initial only)\n(24:05:24:01)"},null,null,null,null,null,"Date of referral:",null,null,null,null,null,"The top two spaces are available to type in.",null,null,null,null,null,"Select",null,null,null,null,null,{"$f":"S20","v":"Select"},{"$f":"S20","v":"Select"}]
[null,null,null,null,null,null,"List all areas of referral:",null,null,null,null,null,null,null,null,null,null,null,null,null,null,null,null,{"$f":"Y21+Z21","v":0},{"$f":"COUNTIF(Y20,\"Yes\")*3","v":0},{"$f":"COUNTIF(Z20,\"No\")*3","v":0}]
[]
[]
[]
[null,null,null,null,null,null,"If referral can not be found and is older than three years, N/A is appropriate."]
[]
[{"$f":"HYPERLINK(\"https://gosynth.com/p/s/lihblf\",\"Initial Placement\")","v":"Initial Placement"},null,null,null,null,null,null,null,null,null,null,null,null,null,null,null,null,null,{"$f":"IFERROR(Y33/X33,\"N/A\")","v":"N/A"}]
[{"$f":"HYPERLINK(\"http://sdlegislature.gov/rules/DisplayRule.aspx?Rule=24:05:27:04.01\",\"Consent Signed for Initial Placement \ninto Special Education\n(24:05:27:04.01)\")","v":"Consent Signed for Initial Placement \ninto Special Education\n(24:05:27:04.01)"},null,null,null,null,null,"Date Signed:",null,null,null,null,null,null,null,null,null,null,null,"Select","insert",null,null,null,null,{"$f":"S28","v":"Select"},{"$f":"S28","v":"Select"}]
[null,null,null,null,null,null,"(The Consent Signed for Initial Placement into Special Education form is a separate document.  In the past, it may have been found at the end of the IEP.",null,null,null,null,null,null,null,null,null,null,null,null,null,null,null,null,{"$f":"Y29+Z29","v":0},{"$f":"COUNTIF(Y28,\"Yes\")*3","v":0},{"$f":"COUNTIF(Z28,\"No\")*3","v":0}]
[]
[{"$f":"HYPERLINK(\"https://sdlegislature.gov/Rules/DisplayRule.aspx?Rule=24:05:25:04.02\",\"Determination of Needed \nEvaluation Data\n(24:05:25:04.02)\")","v":"Determination of Needed \nEvaluation Data\n(24:05:25:04.02)"},null,null,null,null,null,"Did the team review existing data before completing the PPWN Consent?",null,null,null,null,null,null,null,null,null,null,null,"Select",null,null,null,null,null,{"$f":"S31","v":"Select"},{"$f":"S31","v":"Select"}]
[null,null,null,null,null,null,"Select",null,"The existing data includes evaluations and information provided by the parents, current classroom-based local or state assessments, and observations by teachers and related services providers.",null,null,null,null,null,null,null,null,null,null,null,null,null,null,{"$f":"Y32+Z32","v":0},{"$f":"COUNTIF(Y31,\"Yes\")*3","v":0},{"$f":"COUNTIF(Z31,\"No\")*3","v":0}]
[null,null,null,null,null,null,null,null,null,null,null,null,null,null,null,null,null,null,null,null,null,null,null,{"$f":"(X32+X29)/2","v":0},{"$f":"(Y32+Y29)/2","v":0}]
[]
["Evaluation",null,null,null,null,null,null,null,null,null,null,null,null,null,null,null,null,null,{"$f":"IFERROR(Y38/X38,\"N/A\")","v":"N/A"},{"$f":"IFERROR(Y58/X58,\"N/A\")","v":"N/A"}]
[{"$f":"HYPERLINK(\"http://sdlegislature.gov/rules/DisplayRule.aspx?Rule=24:05:25:02.01\",\"Initial Evaluation \n(24:05:25:02.01)\")","v":"Initial Evaluation \n(24:05:25:02.01)"},null,null,null,null,null,"PPWN Consent was Sent:",null,null,null,null,null,null,"Use the most recent evaluation. ",null,null,null,null,"Select","V36",null,null,null,null,{"$f":"S36","v":"Select"},{"$f":"S36","v":"Select"}]
[null,null,null,null,null,null,"Consent was acquired for initial evaluation. \n\nIf consent was not given by the parent for reevaluation, evidence of  attempts were made to elicit parent.\")",null,null,null,null,null,null,null,null,null,null,null,null,null,null,null,null,{"$f":"Y37+Z37","v":0},{"$f":"COUNTIF(Y36,\"Yes\")*3","v":0},{"$f":"COUNTIF(Z36,\"No\")*3","v":0}]
[{"$f":"HYPERLINK(\"http://sdlegislature.gov/Rules/DisplayRule.aspx?Rule=24:05:25:06.01\",\"Reevaluation\n(24:05:25:06.01)\")","v":"Reevaluation\n(24:05:25:06.01)"},null,null,null,null,null,null,null,null,null,null,null,null,null,null,null,null,null,null,null,null,null,null,{"$f":"(X37+X41+X43+X45+X47+X56+X62+X76+X86+X100+X104+X106+X108+X110+X112+X115+X117+X120)/18","v":0},{"$f":"(Y37+Y41+Y43+Y45+Y47+Y56+Y62+Y76+Y86+Y100+Y104+Y106+Y108+Y110+Y112+Y115+Y117+Y120)/18","v":0}]
[]
[{"$f":"HYPERLINK(\"http://sdlegislature.gov/Rules/DisplayRule.aspx?Rule=24:05:25:16\",\"Parent Input into Evalaution\n(24:05:25:16)\")","v":"Parent Input into Evalaution\n(24:05:25:16)"},null,null,null,null,null,"Parent input must be documented in the PPWN Consent on input exiting data and \nupcoming evaluation.   (refer to phone logs, progress notes, prior notice)\")",null,null,null,null,null,null,null,null,null,null,null,"Select",null,null,null,null,null,{"$f":"S40","v":"Select"},{"$f":"S40","v":"Select"}]
[null,null,null,null,null,null,null,null,null,null,null,null,null,null,null,null,null,null,null,null,null,null,null,{"$f":"Y41+Z41","v":0},{"$f":"COUNTIF(Y40,\"Yes\")*3","v":0},{"$f":"COUNTIF(Z40,\"No\")*3","v":0}]
[{"$f":"HYPERLINK(\"http://sdlegislature.gov/Rules/DisplayRule.aspx?Rule=24:05:30:06.01\",\"Procedural Safeguards\n(24:05:30:06.01)\")","v":"Procedural Safeguards\n(24:05:30:06.01)"},null,null,null,null,null,{"$f":"HYPERLINK(\"https://gosynth.com/p/s/tdkmfj\",\"[INCLUDE LANGUAGE FOR THIS SECTION]\")","v":"[INCLUDE LANGUAGE FOR THIS SECTION]"},null,null,null,null,null,null,null,null,null,null,null,"Select"]
[null,null,null,null,null,null,null,null,null,null,null,null,null,null,null,null,null,null,null,null,null,null,null,{"$f":"Y43+Z43","v":0},{"$f":"COUNTIF(Y42,\"Yes\")*3","v":0},{"$f":"COUNTIF(Z42,\"No\")*3","v":0}]
[{"$f":"HYPERLINK(\"http://sdlegislature.gov/Rules/DisplayRule.aspx?Rule=24:05:25:03\",\"Extension on 25 Day Timeline\n(24:05:25:03)\")","v":"Extension on 25 Day Timeline\n(24:05:25:03)"},null,null,null,null,null,"Documented agreement with parent and district on new extension date.  \nEligibility and IEP developed 30 days after the agreed extension date.\")"]
[null,null,null,null,null,null,null,null,null,null,null,null,null,null,null,null,null,null,null,null,null,null,null,{"$f":"Y45+Z45","v":0},{"$f":"COUNTIF(Y44,\"Yes\")*3","v":0},{"$f":"COUNTIF(Z44,\"No\")*3","v":0}]
[{"$f":"HYPERLINK(\"http://sdlegislature.gov/Rules/DisplayRule.aspx?Rule=24:05:30:05\",\"Content of Prior Written Notice/\nConsent for Evaluation\n (24:05:30:05)\")","v":"Content of Prior Written Notice/\nConsent for Evaluation\n (24:05:30:05)"},null,null,null,null,null,"Check the following:",null,null,null,null,null,null,null,null,null,null,null,"Select","V46"]
[null,null,null,null,null,null,"PPWN must be individualized to the student, IEP team discussions and situation.",null,null,null,null,null,null,null,null,null,null,null,null,null,null,null,null,{"$f":"Y47+Z47","v":0},{"$f":"COUNTIF(Y46,\"Yes\")*3","v":0},{"$f":"COUNTIF(Z46,\"No\")*3","v":0}]
[]
[null,null,null,null,null,null,null,"Explanation of why the district proposed or refused to take the action"]
[null,null,null,null,null,null,null,"Description of other options considered and why they were rejected "]
[null,null,null,null,null,null,null,"Description of evidence used for the proposed or refused action"]
[null,null,null,null,null,null,null,"Description of other factors that are relevant to proposal or refusal"]
[]
[null,null,null,null,null,null,"All components should be completed and have a clear description."]
[{"$f":"HYPERLINK(\"http://sdlegislature.gov/Rules/DisplayRule.aspx?Rule=24:05:30:05\",\"Timeline of Prior Written Notice/\nConsent for Evaluation\n(24:05:25:03)\")","v":"Timeline of Prior Written Notice/\nConsent for Evaluation\n(24:05:25:03)"},null,null,null,null,null,{"$f":"HYPERLINK(\"https://gosynth.com/p/s/xylthm\",\"Date sent:\")","v":"Date sent:"},null,null,null,"2020-01-18",null,null,null,null,null,null,null,"Select","V54",null,null,null,null,{"$f":"S55","v":"Select"},{"$f":"S55","v":"Select"}]
[null,null,null,null,null,null,"Date signed:",null,null,null,"2020-01-19",null,null,null,null,null,null,null,null,null,null,null,null,{"$f":"Y56+Z56","v":0},{"$f":"COUNTIF(Y55,\"Yes\")*3","v":0},{"$f":"COUNTIF(Z55,\"No\")*3","v":0}]
[null,null,null,null,null,null,"Date received:",null,null,null,"2020-01-20"]
[null,null,null,null,null,null,"25 school days:",null,null,null,{"$f":"WORKDAY(K57,25)","v":"2020-02-24"}]
[null,null,null,null,null,null,"30 calendar days:"]
[null,null,null,null,null,null,"Extension on 25 day:"]
[{"$f":"HYPERLINK(\"http://sdlegislature.gov/Rules/DisplayRule.aspx?Rule=24:05:25:04.02\",\"Evaluations to be Completed by the District per Parental Prior Written/Consent for Evaluation\n(24:05:25:04.02)\")","v":"Evaluations to be Completed by the District per Parental Prior Written/Consent for Evaluation\n(24:05:25:04.02)"},null,null,null,null,null,"List areas:",null,null,"Test administered:",null,null,null,"Test date:",null,"Evaluator:",null,null,"Select","V60",null,null,null,null,{"$f":"S61","v":"Select"},{"$f":"S61","v":"Select"}]
[null,null,null,null,null,null,null,null,null,null,null,null,null,null,null,null,null,null,null,null,null,null,null,{"$f":"Y62+Z62","v":0},{"$f":"COUNTIF(Y61,\"Yes\")*3","v":0},{"$f":"COUNTIF(Z61,\"No\")*3","v":0}]
[]
[]
[]
[]
[]
["For more evaluations requested click the [+]"]
[]
[]
[]
[]
[]
[]
[{"$f":"HYPERLINK(\"http://sdlegislature.gov/Rules/DisplayRule.aspx?Rule=24:05:25:04.02\",\"Existing Evaluation Data\nto be Pulled Forward\n(24:05:25:04.02)\")","v":"Existing Evaluation Data\nto be Pulled Forward\n(24:05:25:04.02)"},null,null,null,null,null,"List areas:",null,null,"Test administered:",null,null,null,"Test date:",null,"Evaluator:",null,null,"Select","V74",null,null,null,null,{"$f":"S75","v":"Select"},{"$f":"S75","v":"Select"}]
[null,null,null,null,null,null,null,null,null,null,null,null,null,null,null,null,null,null,null,null,null,null,null,{"$f":"Y76+Z76","v":0},{"$f":"COUNTIF(Y75,\"Yes\")*3","v":0},{"$f":"COUNTIF(Z75,\"No\")*3","v":0}]
[]
[]
[]
["For more existing data requested click the [+]"]
[]
[]
[]
[]
[{"$f":"HYPERLINK(\"http://sdlegislature.gov/Rules/DisplayRule.aspx?Rule=24:05:25:04.02\",\"Skills Based Assessment and Report\n(24:05:25:04.02)\")","v":"Skills Based Assessment and Report\n(24:05:25:04.02)"},null,null,null,null,null,"List areas:",null,null,"Test administered:",null,null,null,"Test date:",null,"Evaluator:",null,null,"Select","V84",null,null,null,null,{"$f":"S85","v":"Select"},{"$f":"S85","v":"Select"}]
[null,null,null,null,null,null,null,null,null,null,null,null,null,null,null,null,null,null,null,null,null,null,null,{"$f":"Y86+Z86","v":0},{"$f":"COUNTIF(Y85,\"Yes\")*3","v":0},{"$f":"COUNTIF(Z85,\"No\")*3","v":0}]
[]
[null,null,null,null,null,null,null,null,null,null,null,null,null,null,null,null,null,null,null,null,null,null,null,{"$f":"(X86+X100+X104+X106+X108+X110+X112+X115+X117+X120)/10","v":0},{"$f":"(Y86+Y100+Y104+Y106+Y108+Y110+Y112+Y115+Y117+Y120)/10","v":0}]
[]
[]
[]
["For more skills based requested click the [+]"]
[]
[]
[]
[]
[]
[]
[{"$f":"HYPERLINK(\"http://sdlegislature.gov/Rules/DisplayRule.aspx?Rule=24:05:25:03\",\"Consent Received\n(24:05:25:03)\")","v":"Consent Received\n(24:05:25:03)"},null,null,null,null,null,"Consent received date:",null,null,null,null,{"$f":"K57","v":"2020-01-20"},null,null,"Mark \"No\" if dates are outside of \"consent received\" and/or \"25 school days\".",null,null,null,"Select","V98",null,null,null,null,{"$f":"S99","v":"Select"},{"$f":"S99","v":"Select"}]
[null,null,null,null,null,null,"Earliest testing date:",null,null,null,null,{"$f":"MIN(N63:O74,N87:O98)","v":"00:00:00"},null,null,null,null,null,null,null,null,null,null,null,{"$f":"Y100+Z100","v":0},{"$f":"COUNTIF(Y99,\"Yes\")*3","v":0},{"$f":"COUNTIF(Z99,\"No\")*3","v":0}]
[null,null,null,null,null,null,"Latest testing date:",null,null,null,null,{"$f":"MAX(N63:O74,N87:O98)","v":"00:00:00"}]
[null,null,null,null,null,null,"Within 25 School Days:",null,null,null,null,{"$f":"IF(ISBLANK(K60),K58,K60)","v":"2020-02-24"}]
[{"$f":"HYPERLINK(\"http://sdlegislature.gov/Rules/DisplayRule.aspx?Rule=24:05:25:20\",\"All Evaluations Administered \n(24:05:25:20)\")","v":"All Evaluations Administered \n(24:05:25:20)"},null,null,null,null,null,"All evaluations marked on the PWWN/Consent for Evaluation form must be administered.",null,null,null,null,null,null,null,null,null,null,null,"Select","V102"]
[null,null,null,null,null,null,null,null,null,null,null,null,null,null,null,null,null,null,null,null,null,null,null,{"$f":"Y104+Z104","v":0},null,{"$f":"COUNTIF(Z103,\"No\")*3","v":0}]
[{"$f":"HYPERLINK(\"http://sdlegislature.gov/Rules/DisplayRule.aspx?Rule=24:05:25:06.01\",\"Consent was Acquired\n(24:05:25:06.01)\")","v":"Consent was Acquired\n(24:05:25:06.01)"},null,null,null,null,null,"All evaluations administered must be requested on the PWWN/Consent for Evaluation \nform.\")",null,null,null,null,null,null,null,null,null,null,null,"Select",null,null,null,null,null,{"$f":"S105","v":"Select"},{"$f":"S105","v":"Select"}]
[null,null,null,null,null,null,null,null,null,null,null,null,null,null,null,null,null,null,null,null,null,null,null,{"$f":"Y106+Z106","v":0},{"$f":"COUNTIF(Y105,\"Yes\")*3","v":0}]
[{"$f":"HYPERLINK(\"http://sdlegislature.gov/Rules/DisplayRule.aspx?Rule=24:05:25:04\",\"Variety of Sources \n(24:05:25:04)\")","v":"Variety of Sources \n(24:05:25:04)"},null,null,null,null,null,"Appropriate means to provide evaluations for accurate data were used. ",null,null,null,null,null,null,null,null,null,null,null,"Select",null,null,null,null,null,null,{"$f":"S107","v":"Select"}]
[null,null,null,null,null,null,null,null,null,null,null,null,null,null,null,null,null,null,null,null,null,null,null,{"$f":"Y108+Z108","v":0},{"$f":"COUNTIF(Y107,\"Yes\")*3","v":0}]
[{"$f":"HYPERLINK(\"http://sdlegislature.gov/Rules/DisplayRule.aspx?Rule=24:05:25:04\",\"Met Requirements for the Disability\n(24:05:25:04) \")","v":"Met Requirements for the Disability\n(24:05:25:04) "},null,null,null,null,null,"Comprehensive Evaluations in all areas required for the disability. ",null,null,null,null,null,null,null,null,null,null,null,"Select",null,null,null,null,null,null,{"$f":"S109","v":"Select"}]
[null,null,null,null,null,null,null,null,null,null,null,null,null,null,null,null,null,null,null,null,null,null,null,{"$f":"Y110+Z110","v":0}]
[{"$f":"HYPERLINK(\"http://sdlegislature.gov/Rules/DisplayRule.aspx?Rule=24:05:25:03\",\"Eligibility within 30 Calendar Days \n(24:05:25:03)\")","v":"Eligibility within 30 Calendar Days \n(24:05:25:03)"},null,null,null,null,null,{"$f":"HYPERLINK(\"https://gosynth.com/p/s/mkcdef\",\"Day 26 was on:\")","v":"Day 26 was on:"},null,null,null,null,{"$f":"WORKDAY(L102,1)","v":"2020-02-25"},null,null,null,null,null,null,"Select","V110",null,null,null,null,null,{"$f":"S111","v":"Select"}]
[null,null,null,null,null,null,"Eligibility Determination Date:",null,null,null,null,{"$f":"T7","v":"00:00:00"},null,null,null,null,null,null,null,null,null,null,null,{"$f":"Y112+Z112","v":0},{"$f":"COUNTIF(Y111,\"Yes\")*3","v":0},{"$f":"COUNTIF(Z111,\"No\")*3","v":0}]
[null,null,null,null,null,null,"Eligibility meeting date should have been by:",null,null,null,null,null,null,null,{"$f":"K59","v":"00:00:00"}]
[{"$f":"HYPERLINK(\"http://sdlegislature.gov/Rules/DisplayRule.aspx?Rule=24:05:25:04.03\",\"Student Eligible for Special Education \n(24:05:25:04.03)\")","v":"Student Eligible for Special Education \n(24:05:25:04.03)"},null,null,null,null,null,null,null,null,null,null,null,null,null,null,null,null,null,"Select",null,null,null,null,null,{"$f":"S114","v":"Select"},{"$f":"S114","v":"Select"}]
[null,null,null,null,null,null,null,null,null,null,null,null,null,null,null,null,null,null,null,null,null,null,null,{"$f":"Y115+Z115","v":0}]
[{"$f":"HYPERLINK(\"http://sdlegislature.gov/Rules/DisplayRule.aspx?Rule=24:05:25:06\",\"Three Year Re-Evaluation\n(24:05:25:06)\")","v":"Three Year Re-Evaluation\n(24:05:25:06)"},null,null,null,null,null,{"$f":"HYPERLINK(\"https://gosynth.com/p/s/mkcdef\",\"Current Eligibility Determination Date:\")","v":"Current Eligibility Determination Date:"},null,null,null,null,null,null,{"$f":"L112","v":"00:00:00"},null,null,null,null,"Select",null,null,null,null,null,{"$f":"S116","v":"Select"},{"$f":"S116","v":"Select"}]
[null,null,null,null,null,null,"Previous Eligibility Determination Date:",null,null,null,null,null,null,{"$f":"T8","v":"00:00:00"},null,null,null,null,null,null,null,null,null,{"$f":"Y117+Z117","v":0},{"$f":"COUNTIF(Y116,\"Yes\")*3","v":0},{"$f":"COUNTIF(Z116,\"No\")*3","v":0}]
[]
[{"$f":"HYPERLINK(\"https://gosynth.com/p/s/mkcdef\",\"Evaluated to Dismiss from Services  \")","v":"Evaluated to Dismiss from Services  "},null,null,null,null,null,null,null,null,null,null,null,null,null,null,null,null,null,"Select",null,null,null,null,null,{"$f":"S119","v":"Select"},{"$f":"S119","v":"Select"}]
[null,null,null,null,null,null,null,null,null,null,null,null,null,null,null,null,null,null,null,null,null,null,null,{"$f":"Y120+Z120","v":0},{"$f":"COUNTIF(Y119,\"Yes\")*3","v":0},{"$f":"COUNTIF(Z119,\"No\")*3","v":0}]
[]
["Eligibility Document for Specific Learning Disability",null,null,null,null,null,null,null,null,null,null,null,null,null,null,null,null,null,{"$f":"IFERROR(Y126/X126,\"N/A\")","v":"N/A"}]
["If student is not eligible for Specific Learning Disability, skip this section.  Click on the [+] button if section is not visible. ",null,null,null,null,null,null,null,null,null,null,null,null,null,null,null,null,null,"Select","V122",null,null,null,null,{"$f":"S123","v":"Select"},{"$f":"S123","v":"Select"}]
[{"$f":"HYPERLINK(\"http://sdlegislature.gov/Rules/DisplayRule.aspx?Rule=24:05:24.01:19\",\"Specific Learning Disabilities\n(24:05:24.01:19)\")","v":"Specific Learning Disabilities\n(24:05:24.01:19)"},null,null,null,null,null,"Check the following:",null,null,null,null,null,null,null,null,null,null,null,null,null,null,null,null,{"$f":"Y124+Z124","v":0},{"$f":"COUNTIF(Y123,\"Yes\")*3","v":0},{"$f":"COUNTIF(Z123,\"No\")*3","v":0}]
[]
[null,null,null,null,null,null,null,"Reading Comprehension",null,null,null,null,null,"Math Calculation",null,null,null,null,null,null,null,null,null,{"$f":"(X124+X132+X151+X165+X174)/5","v":0},{"$f":"(Y124+Y132+Y151+Y165+Y174)/5","v":0}]
[null,null,null,null,null,null,null,"Basic Reading Skills",null,null,null,null,null,"Math Problem Solving"]
[null,null,null,null,null,null,null,"Reading Fluency",null,null,null,null,null,"Listening Comprehension"]
[null,null,null,null,null,null,null,"Written Expression",null,null,null,null,null,"Oral Expression"]
[]
["For Initial Determination of Eligibility Only",null,null,null,null,null,null,null,null,null,null,null,null,null,null,null,null,null,"Select","V130",null,null,null,null,{"$f":"S131","v":"Select"},{"$f":"S131","v":"Select"}]
[{"$f":"HYPERLINK(\"http://sdlegislature.gov/Rules/DisplayRule.aspx?Rule=24:05:24.01:19\",\"Initial Eligibility\n(24:05:24.01:19)\")","v":"Initial Eligibility\n(24:05:24.01:19)"},null,null,null,null,null,"Written report must include:",null,null,null,null,null,null,null,null,null,null,null,null,null,null,null,null,{"$f":"Y132+Z132","v":0},{"$f":"COUNTIF(Y131,\"Yes\")*3","v":0},{"$f":"COUNTIF(Z131,\"No\")*3","v":0}]
[]
[null,null,null,null,null,null,null,"Student achieves adequately",null,null,null,null,"Lack of appropriate instruction"]
[]
[null,null,null,null,null,null,null,"Student exhibits pattern of strengths & weaknesses",null,null,null,null,"Observation of the student"]
[]
[null,null,null,null,null,null,null,null,null,null,null,null,"Relevant medical findings (if any)"]
[null,null,null,null,null,null,null,"Student was provided appropriate instruction in regular education settings by qualified personnel"]
[null,null,null,null,null,null,null,null,null,null,null,null,"Achievement level problem is/is not primarily the result of another factor (e.g. emotional disturbance, cognitive impairment, etc.)"]
[]
[]
[null,null,null,null,null,null,null,"Repeated assessment of achievement reflecting student progress"]
[]
[]
[null,null,null,null,null,null,null,"Attendance record",null,null,null,null,"Adverse effect on educational performance"]
[]
[]
["Click on the [+] button to expand or the [-] button to collapse."]
["For Reevaluation of Eligibility Only",null,null,null,null,null,null,null,null,null,null,null,null,null,null,null,null,null,"Select","V149",null,null,null,null,{"$f":"S150","v":"Select"},{"$f":"S150","v":"Select"}]
[{"$f":"HYPERLINK(\"http://sdlegislature.gov/Rules/DisplayRule.aspx?Rule=24:05:24.01:19\",\"Reevaluation of Eligibility\n(24:05:24.01:19)\")","v":"Reevaluation of Eligibility\n(24:05:24.01:19)"},null,null,null,null,null,"Written report must include:",null,null,null,null,null,null,null,null,null,null,null,null,null,null,null,null,{"$f":"Y151+Z151","v":0},{"$f":"COUNTIF(Y150,\"Yes\")*3","v":0},{"$f":"COUNTIF(Z150,\"No\")*3","v":0}]
[]
[null,null,null,null,null,null,null,"Student achieves adequately",null,null,null,null,"Achievement level problem is/is not primarily the result of another factor (e.g. emotional disturbance, cognitive impairment, etc.)"]
[]
[null,null,null,null,null,null,null,"Student exhibits pattern of strengths & weaknesses"]
[]
[]
[null,null,null,null,null,null,null,"Observation of the student"]
[null,null,null,null,null,null,null,null,null,null,null,null,"Adverse effect on educational performance"]
[null,null,null,null,null,null,null,"Relevant medical findings (if any)"]
[]
[]
["Click on the [+] button to expand or the [-] button to collapse."]
[{"$f":"HYPERLINK(\"http://sdlegislature.gov/Rules/DisplayRule.aspx?Rule=24:05:25:08\",\"Team Member Signatures \n(24:05:25:08)\")","v":"Team Member Signatures \n(24:05:25:08)"},null,null,null,null,null,"Check the following:",null,null,null,null,null,null,null,null,null,null,null,"Select","V163",null,null,null,null,{"$f":"S164","v":"Select"},{"$f":"S164","v":"Select"}]
[null,null,null,null,null,null,null,null,null,null,null,null,null,null,null,null,null,null,null,null,null,null,null,{"$f":"Y165+Z165","v":0},{"$f":"COUNTIF(Y164,\"Yes\")*3","v":0},{"$f":"COUNTIF(Z164,\"No\")*3","v":0}]
[null,null,null,null,null,null,null,"Parent",null,null,null,null,"Each group member shall certify in writing whether the report reflects the group member's conclusion. If it does not reflect the group member's conclusion, the group member must submit the conclusion in a separate statement."]
[null,null,null,null,null,null,null,"General Education Teacher"]
[{"$f":"HYPERLINK(\"http://sdlegislature.gov/Rules/DisplayRule.aspx?Rule=24:05:25:13\",\"Group Members to Certify \nReport in Writing \n(24:05:25:13)\")","v":"Group Members to Certify \nReport in Writing \n(24:05:25:13)"},null,null,null,null,null,null,"Special Education Teacher"]
[null,null,null,null,null,null,null,"Qualified interpreter of results"]
[null,null,null,null,null,null,null,"LEA Representative"]
[null,null,null,null,null,null,null,"If disagreed, written input was provided"]
[]
[null,null,null,null,null,null,"Check PWWN for eligibility decisions.                         ",null,null,null,null,"Skip to","PPWN.",null,null,null,null,null,"Select",null,null,null,null,null,{"$f":"S173","v":"Select"},{"$f":"S173","v":"Select"}]
[null,null,null,null,null,null,null,null,null,null,null,null,null,null,null,null,null,null,null,null,null,null,null,{"$f":"Y174+Z174","v":0},{"$f":"COUNTIF(Y173,\"Yes\")*3","v":0},{"$f":"COUNTIF(Z173,\"No\")*3","v":0}]
[]
["Meeting Notice",null,null,null,null,null,null,null,null,null,null,null,null,null,null,null,null,null,{"$f":"IFERROR(Y184/X184,\"N/A\")","v":"N/A"}]
["Meeting Notice",null,null,null,null,null,"Date sent:",null,null,null,null,null,"From this point on use the current IEP's documentation.",null,null,null,null,null,"Select","V174",null,null,null,null,{"$f":"S177","v":"Select"},{"$f":"S177","v":"Select"}]
[{"$f":"HYPERLINK(\"http://sdlegislature.gov/Rules/DisplayRule.aspx?Rule=24:05:30:02.01\",\"(24:05:30:02.01)\")","v":"(24:05:30:02.01)"},null,null,{"$f":"HYPERLINK(\"http://sdlegislature.gov/Rules/DisplayRule.aspx?Rule=24:05:25:16\",\"(24:05:25:16)\")","v":"(24:05:25:16)"},null,null,"Meeting date:",null,null,{"$f":"T5","v":"00:00:00"},null,null,null,null,null,null,null,null,null,null,null,null,null,{"$f":"Y178+Z178","v":0}]
["Procedural Safeguards",null,null,null,null,null,"Must be given to parents annually.",null,null,null,null,null,null,null,null,null,null,null,"Select",null,null,null,null,null,{"$f":"S179","v":"Select"},{"$f":"S179","v":"Select"}]
[{"$f":"HYPERLINK(\"http://sdlegislature.gov/Rules/DisplayRule.aspx?Rule=24:05:30:06.01\",\"(24:05:30:06.01)\")","v":"(24:05:30:06.01)"},null,null,{"$f":"HYPERLINK(\"http://sdlegislature.gov/Rules/DisplayRule.aspx?Rule=24:05:30:06.02\",\"(24:05:30:06.02)\")","v":"(24:05:30:06.02)"},null,null,null,null,null,null,null,null,null,null,null,null,null,null,null,null,null,null,null,{"$f":"Y180+Z180","v":0}]
["IEP Team",null,null,null,null,null,"Complete the following:",null,null,null,null,null,null,null,null,null,null,null,"Select",null,null,null,null,null,{"$f":"S181","v":"Select"},{"$f":"S181","v":"Select"}]
[null,null,null,null,null,null,null,null,null,null,null,null,null,null,null,null,null,null,null,null,null,null,null,{"$f":"Y182+Z182","v":0},{"$f":"COUNTIF(Y181,\"Yes\")*3","v":0},{"$f":"COUNTIF(Z181,\"No\")*3","v":0}]
[null,null,null,null,null,null,null,"The documentation of people attending the IEP meeting on front page of the IEP does not imply agreement, it is for participation purposes only."]
[null,null,null,null,null,null,null,null,null,null,null,null,null,null,null,null,null,null,null,null,null,null,null,{"$f":"(X178+X180+X182+X198)/4","v":0},{"$f":"(Y178+Y180+Y182+Y198)/4","v":0}]
[null,null,null,null,null,null,null,"Identified on the meeting notice:",null,null,"Attended the meeting:",null,null,"Did not attend\nthe meeting:"]
[]
[{"$f":"HYPERLINK(\"http://sdlegislature.gov/Rules/DisplayRule.aspx?Rule=24:05:25:16\",\"(24:05:25:16)\")","v":"(24:05:25:16)"},null,null,null,null,null,null,"Parent/Guardian"]
[null,null,null,null,null,null,null,"Student"]
[null,null,null,null,null,null,null,"Gen. Ed. Teacher"]
[null,null,null,null,null,null,null,"Sp. Ed. Teacher"]
["Parent Participation",null,null,null,null,null,null,"Eval Interpreter"]
[{"$f":"HYPERLINK(\"http://sdlegislature.gov/Rules/DisplayRule.aspx?Rule=24:05:25:16\",\"(24:05:25:16)\")","v":"(24:05:25:16)"},null,null,null,null,null,null,"LEA Representative"]
[null,null,null,null,null,null,null,"List Others"]
[null,null,null,null,null,null,null,"List Others"]
[null,null,null,null,null,null,null,"List Others"]
[]
["IEP Team Attendance \n (24:05:27:01.05)",null,null,null,null,null,"A member of the IEP team may be excused from attending, in whole or in part, an IEP team meeting that involves a modification to or discussion of the member's area of the curriculum or related services, if:\n   (1) The parent and school district consent in writing to the excusal; and\n   (2) The member submits, in writing to the parent and the IEP team, input into the development of the IEP before the meeting.",null,null,null,null,null,null,null,null,null,null,null,"Select","V194",null,null,null,null,{"$f":"S197","v":"Select"},{"$f":"S197","v":"Select"}]
[null,null,null,null,null,null,null,null,null,null,null,null,null,null,null,null,null,null,null,null,null,null,null,{"$f":"Y198+Z198","v":0},{"$f":"COUNTIF(Y197,\"Yes\")*3","v":0},{"$f":"COUNTIF(Z197,\"No\")*3","v":0}]
[]
[]
[]
[]
["Individual Education Plan (Use the most recent IEP",null,null,null,null,null,null,null,null,null,null,null,null,null,null,null,null,null,{"$f":"IFERROR(Y210/X210,\"N/A\")","v":"N/A"}]
[{"$f":"HYPERLINK(\"http://sdlegislature.gov/Rules/DisplayRule.aspx?Rule=24:05:25:04.03\",\"Evaluation Reports Given to Parents \n(24:05:25:04.03)\")","v":"Evaluation Reports Given to Parents \n(24:05:25:04.03)"},null,null,null,null,null,"Evidence the parent received a copy of the reports (e.g.  initials on the front page IEP or other evidence). ",null,null,null,null,null,null,null,null,null,null,null,"Select","V201",null,null,null,null,{"$f":"S204","v":"Select"},{"$f":"S204","v":"Select"}]
[null,null,null,null,null,null,null,null,null,null,null,null,null,null,null,null,null,null,null,null,null,null,null,{"$f":"Y205+Z205","v":0},{"$f":"COUNTIF(Y204,\"Yes\")*3","v":0}]
[{"$f":"HYPERLINK(\"http://sdlegislature.gov/Rules/DisplayRule.aspx?Rule=24:05:25:19\",\"Copy of IEP Given to Parents \n(24:05:25:19)\")","v":"Copy of IEP Given to Parents \n(24:05:25:19)"},null,null,null,null,null,"Evidence copy of the IEP was given to parents (e.g.  initials on the front page, addressed in PPWN, or other evidence).",null,null,null,null,null,null,null,null,null,null,null,"Select",null,null,null,null,null,null,{"$f":"S206","v":"Select"}]
[null,null,null,null,null,null,null,null,null,null,null,null,null,null,null,null,null,null,null,null,null,null,null,{"$f":"Y207+Z207","v":0}]
[{"$f":"HYPERLINK(\"http://sdlegislature.gov/Rules/DisplayRule.aspx?Rule=24:05:27:08\",\"Met Annually\n(24:05:27:08)\")","v":"Met Annually\n(24:05:27:08)"},null,null,null,null,null,"Current IEP Meeting Date:",null,null,null,null,{"$f":"T5","v":"00:00:00"},null,null,null,null,null,null,"Select",null,null,null,null,null,{"$f":"S208","v":"Select"},{"$f":"S208","v":"Select"}]
[null,null,null,null,null,null,"Previous IEP Meeting Date:",null,null,null,null,{"$f":"T6","v":"00:00:00"},null,null,null,null,null,null,null,null,null,null,null,{"$f":"Y209+Z209","v":0},{"$f":"COUNTIF(Y208,\"Yes\")*3","v":0},{"$f":"COUNTIF(Z208,\"No\")*3","v":0}]
[null,null,null,null,null,null,null,null,null,null,null,null,null,null,null,null,null,null,null,null,null,null,null,{"$f":"(X205+X207+X209)/3","v":0},{"$f":"(Y205+Y207+Y209)/3","v":0}]
["Present Levels of Academic Achievement & Functional Performance",null,null,null,null,null,null,null,null,null,null,null,null,null,null,null,null,null,{"$f":"IFERROR(Y243/X243,\"N/A\")","v":"N/A"}]
[{"$f":"HYPERLINK(\"http://sdlegislature.gov/Rules/DisplayRule.aspx?Rule=24:05:27:01.03\",\"Progress/Involvement in \nGeneral Education Curriculum\n(24:05:27:01.03)\")","v":"Progress/Involvement in \nGeneral Education Curriculum\n(24:05:27:01.03)"},null,null,null,null,null,"A statement of the student's present levels of academic achievement and functional performance, including:\n   (a)  How the student's disability affects the student's involvement and progress in the general education curriculum (i.e., the same curriculum as for nondisabled students); or\n   (b)  For preschool student, as appropriate, how the disability affects the student's participation in appropriate activities;\nis found in the document.",null,null,null,null,null,null,null,null,null,null,null,"Select","V209",null,null,null,null,{"$f":"S212","v":"Select"},{"$f":"S212","v":"Select"}]
[null,null,null,null,null,null,null,null,null,null,null,null,null,null,null,null,null,null,null,null,null,null,null,{"$f":"Y213+Z213","v":0},{"$f":"COUNTIF(Y212,\"Yes\")*3","v":0},{"$f":"COUNTIF(Z212,\"No\")*3","v":0}]
[]
[{"$f":"HYPERLINK(\"https://sdlegislature.gov/Rules/DisplayRule.aspx?Rule=24:05:25:16\",\"Parent Participation\n(24:05:25:16)\")","v":"Parent Participation\n(24:05:25:16)"},null,null,null,null,null,"The purpose of this area for parent to provide IEP team information about how the child’s disability is impacted at home. Parents can also provide input on types of strategies and supports they provide at home.",null,null,null,null,null,null,null,null,null,null,null,"Select",null,null,null,null,null,{"$f":"S215","v":"Select"},{"$f":"S215","v":"Select"}]
[null,null,null,null,null,null,null,null,null,null,null,null,null,null,null,null,null,null,null,null,null,null,null,{"$f":"Y216+Z216","v":0}]
[{"$f":"HYPERLINK(\"http://sdlegislature.gov/Rules/DisplayRule.aspx?Rule=24:05:27:01.03\",\"Present Levels of \nAcademic Achievement \n& Functional Performance\nLinked to Annual Goals\n(24:05:27:01.03)\")","v":"Present Levels of \nAcademic Achievement \n& Functional Performance\nLinked to Annual Goals\n(24:05:27:01.03)"},null,null,null,null,null,"Skill Area:",null,null,null,null,"Measurable Goal:",null,null,null,null,null,null,"Select","V214",null,null,null,null,{"$f":"S217","v":"Select"},{"$f":"S217","v":"Select"}]
[null,null,null,null,null,null,null,null,null,null,null,null,null,null,null,null,null,null,null,null,null,null,null,{"$f":"Y218+Z218","v":0},{"$f":"COUNTIF(Y217,\"Yes\")*3","v":0},{"$f":"COUNTIF(Z217,\"No\")*3","v":0}]
[null,null,null,null,null,null,null,"Strengths",null,null,null,null,"Condition",null,null,"How well"]
[null,null,null,null,null,null,null,"Needs",null,null,null,null,"Performance",null,null,"How often"]
[null,null,null,null,null,null,null,"Link to evaluation"]
[]
[null,null,null,null,null,null,"Skill Area:",null,null,null,null,"Measurable Goal:",null,null,null,null,null,null,"Select",null,null,null,null,null,{"$f":"S223","v":"Select"},{"$f":"S223","v":"Select"}]
[null,null,null,null,null,null,null,null,null,null,null,null,null,null,null,null,null,null,null,null,null,null,null,{"$f":"Y224+Z224","v":0},{"$f":"COUNTIF(Y223,\"Yes\")*3","v":0},{"$f":"COUNTIF(Z223,\"No\")*3","v":0}]
[null,null,null,null,null,null,null,"Strengths",null,null,null,null,"Condition",null,null,"How well"]
[null,null,null,null,null,null,null,"Needs",null,null,null,null,"Performance",null,null,"How often"]
[null,null,null,null,null,null,null,"Link to evaluation"]
[]
[null,null,null,null,null,null,"Skill Area:",null,null,null,null,"Measurable Goal:",null,null,null,null,null,null,"Select",null,null,null,null,null,{"$f":"S229","v":"Select"},{"$f":"S229","v":"Select"}]
[null,null,null,null,null,null,null,null,null,null,null,null,null,null,null,null,null,null,null,null,null,null,null,{"$f":"Y230+Z230","v":0},{"$f":"COUNTIF(Y229,\"Yes\")*3","v":0},{"$f":"COUNTIF(Z229,\"No\")*3","v":0}]
[null,null,null,null,null,null,null,"Strengths",null,null,null,null,"Condition",null,null,"How well"]
[null,null,null,null,null,null,null,"Needs",null,null,null,null,"Performance",null,null,"How often"]
[null,null,null,null,null,null,null,"Link to evaluation"]
[]
[{"$f":"HYPERLINK(\"http://sdlegislature.gov/Rules/DisplayRule.aspx?Rule=24:05:27:01.03\",\"How Progress will be Measured\n(24:05:27:01.03)\")","v":"How Progress will be Measured\n(24:05:27:01.03)"},null,null,null,null,null,{"$f":"HYPERLINK(\"https://gosynth.com/p/s/psaxcx\",\"         Check the following:\")","v":"         Check the following:"},null,null,null,null,null,null,null,null,null,null,null,"Select","V232",null,null,null,null,{"$f":"S235","v":"Select"},{"$f":"S235","v":"Select"}]
[null,null,null,null,null,null,null,null,null,null,null,null,null,null,null,null,null,null,null,null,null,null,null,{"$f":"Y236+Z236","v":0},{"$f":"COUNTIF(Y235,\"Yes\")*3","v":0},{"$f":"COUNTIF(Z235,\"No\")*3","v":0}]
[null,null,null,null,null,null,null,"Reporting frequency",null,null,null,null,"Extent of progress"]
[null,null,null,null,null,null,null,"Reporting method"]
[]
[{"$f":"HYPERLINK(\"http://sdlegislature.gov/Rules/DisplayRule.aspx?Rule=24:05:27:01.03\",\"Accommodations/Modifications\n(24:05:27:01.03)\")","v":"Accommodations/Modifications\n(24:05:27:01.03)"},null,null,null,null,null,{"$f":"HYPERLINK(\"https://gosynth.com/p/s/rtpvrq\",\"         Check the following:\")","v":"         Check the following:"},null,null,null,null,"List Instructional Accommodations:",null,null,null,null,null,null,"Select","V237",null,null,null,null,{"$f":"S240","v":"Select"},{"$f":"S240","v":"Select"}]
[null,null,null,null,null,null,null,"Frequency",null,null,null,null,null,null,null,null,null,null,null,null,null,null,null,{"$f":"Y241+Z241","v":0},{"$f":"COUNTIF(Y240,\"Yes\")*3","v":0},{"$f":"COUNTIF(Z240,\"No\")*3","v":0}]
[null,null,null,null,null,null,null,"Duration"]
[null,null,null,null,null,null,null,"Location",null,null,null,null,null,null,null,null,null,null,null,null,null,null,null,{"$f":"(X241+X236+X230+X224+X218+X216+X213)/7","v":0},{"$f":"(Y241+Y236+Y230+Y224+Y218+Y216+Y213)/7","v":0}]
[]
[]
[null,null,null,null,null,null,null,"Are the accommodations appropriate for the skill areas affected by the disability?"]
[]
[]
[]
[null,null,null,null,null,null,null,null,"Yes"]
[null,null,null,null,null,null,null,null,"No"]
[]
[]
[]
["Special Factors",null,null,null,null,null,null,null,null,null,null,null,null,null,null,null,null,null,{"$f":"IFERROR(Y294/X294,\"N/A\")","v":"N/A"}]
[{"$f":"HYPERLINK(\"http://sdlegislature.gov/Rules/DisplayRule.aspx?Rule=24:05:27:01.02\",\"Considerations\n(24:05:27:01.02)\")","v":"Considerations\n(24:05:27:01.02)"},null,null,null,null,null,"Select for each:",null,null,"Determine if data supports the selection for each special factor; if not addressed, check \"N\"  for score.",null,null,null,null,null,null,null,null,"Select","V243",null,null,null,null,{"$f":"S256","v":"Select"},{"$f":"S256","v":"Select"}]
[null,null,null,null,null,null,null,null,null,null,null,null,null,null,null,null,null,null,null,null,null,null,null,{"$f":"Y257+Z257","v":0},{"$f":"COUNTIF(Y256,\"Yes\")*3","v":0},{"$f":"COUNTIF(Z256,\"No\")*3","v":0}]
[null,null,null,null,null,null,null,null,null,"Limited English proficient"]
[null,null,null,null,null,null,null,null,null,"Special communication needs"]
[null,null,null,null,null,null,null,null,null,"Requires Braille"]
[null,null,null,null,null,null,null,null,null,"Behavior impedes learning"]
[null,null,null,null,null,null,null,null,null,"Requires assistive technology & services"]
[null,null,null,null,null,null,null,null,null,"Physical education"]
[null,null,null,null,null,null,null,null,null,"Hearing aid maintenance"]
[{"$f":"HYPERLINK(\"http://sdlegislature.gov/Rules/DisplayRule.aspx?Rule=24:05:27:01.03\",\"State/District Assessments\n(24:05:27:01.03)\")","v":"State/District Assessments\n(24:05:27:01.03)"},null,null,null,null,null,"  Students will be taking state and district-wide assessments",null,null,null,null,null,null,null,null,null,null,null,"Select","V263",null,null,null,null,{"$f":"S265","v":"Select"},{"$f":"S265","v":"Select"}]
[null,null,null,null,null,null,null,"With accommodations",null,null,null,null,"Without accommodations",null,null,null,null,null,null,null,null,null,null,{"$f":"Y266+Z266","v":0},{"$f":"COUNTIF(Y265,\"Yes\")*3","v":0},{"$f":"COUNTIF(Z265,\"No\")*3","v":0}]
[null,null,null,null,null,null,"Testing accommodations must reflect instructional accommodations."]
[null,null,null,null,null,null,"Do the accommodations for the state/district assessment(s) \nmatch the instructional accommodations?"]
[]
[null,null,null,null,null,null,"Instructional \nAccommodations",null,null,null,"State/District\nAssessment\nAccommodations",null,null,null,"Select\nyes or no:"]
[]
[]
[null,null,null,null,null,null,{"$f":"L241","v":0},null,null,null,null,null,null,null,"- Select -"]
[null,null,null,null,null,null,0,null,null,null,null,null,null,null,"- Select -"]
[null,null,null,null,null,null,0,null,null,null,null,null,null,null,"- Select -"]
[null,null,null,null,null,null,0,null,null,null,null,null,null,null,"- Select -"]
[null,null,null,null,null,null,0]
[null,null,null,null,null,null,0,null,null,null,null,null,null,null,"- Select -"]
[null,null,null,null,null,null,0,null,null,null,null,null,null,null,"- Select -"]
[null,null,null,null,null,null,0]
[null,null,null,null,null,null,0]
[null,null,null,null,null,null,0,null,null,null,null,null,null,null,"- Select -"]
[null,null,null,null,null,null,0,null,null,null,null,null,null,null,"- Select -"]
[null,null,null,null,null,null,0,null,null,null,null,null,null,null,"- Select -"]
[null,null,null,null,null,null,0,null,null,null,null,null,null,null,"- Select -"]
[null,null,null,null,null,null,0,null,null,null,null,null,null,null,"- Select -"]
[null,null,null,null,null,null,"Were the accommodations for\n the state assessment identified \non the IEP provided according to \nthe assessment data sheet?"]
[null,null,null,null,null,null,null,null,null,null,null,null,null,"- Select -"]
[]
[{"$f":"HYPERLINK(\"http://sdlegislature.gov/Rules/DisplayRule.aspx?Rule=24:05:27:01.03\",\"Alternate Assessments\n(24:05:27:01.03)\")","v":"Alternate Assessments\n(24:05:27:01.03)"},null,null,null,null,null,"  The following must be met:",null,null,null,null,null,null,null,null,null,null,null,"Select","V257",null,null,null,null,{"$f":"S290","v":"Select"},{"$f":"S290","v":"Select"}]
[null,null,null,null,null,null,null,null,null,null,null,null,null,null,null,null,null,null,null,null,null,null,null,{"$f":"Y291+Z291","v":0},{"$f":"COUNTIF(Y290,\"Yes\")*3","v":0},{"$f":"COUNTIF(Z290,\"No\")*3","v":0}]
[null,null,null,null,null,null,null,"Student meets the significant cognitive disability criteria"]
[null,null,null,null,null,null,null,"Explanation for why student cannot participate in the regular assessment"]
[null,null,null,null,null,null,null,null,null,null,null,null,null,null,null,null,null,null,null,null,null,null,null,{"$f":"(X291+X266+X257)/3","v":0},{"$f":"(Y291+Y266+Y257)/3","v":0}]
[null,null,null,null,null,null,null,"Explanation for why the alternate assessment selected is appropriate"]
[]
[null,null,null,null,null,null,null,"The alternate assessment is for students working in the alternate achievement standards.  Annual goals and short term objectives are required.                                                                         \n                                                                        "]
[]
[]
[null,null,null,null,null,null,"Does the PPWN explain why IEP team decided alternate assessment for the student?"]
[null,null,null,null,null,null,"Does the student taking the\n alternate assessment meet\n the criteria, has it been \ndocumented on the IEP?"]
[null,null,null,null,null,null,null,null,null,null,null,null,null,"- Select -"]
[]
[]
["Transition",null,null,null,null,null,null,null,null,null,null,null,null,null,null,null,null,null,{"$f":"IFERROR(Y306/X306,\"N/A\")","v":"N/A"}]
["Indicator 13 Item 1",null,null,null,null,null,null,null,null,null,null,null,null,null,null,null,null,null,null,null,null,null,null,{"$f":"(X308+X310+X312+X314+X316+X319+X321+X323+X326+X329+X331+X333+X336+X338+X340+X343+X345+X347+X350+X356+X362+X364+X366+X369)/24","v":0},{"$f":"(Y308+Y310+Y312+Y314+Y316+Y319+Y321+Y323+Y326+Y329+Y331+Y333+Y336+Y338+Y340+Y343+Y345+Y347+Y350+Y356+Y362+Y364+Y366+Y369)/24","v":0}]
[{"$f":"HYPERLINK(\"http://sdlegislature.gov/Rules/DisplayRule.aspx?Rule=24:05:27:01.03\",\"Transition IEP*\n(24:05:27:01.03)\")","v":"Transition IEP*\n(24:05:27:01.03)"},null,null,null,null,null,"\"Transition IEP must be in effect for all students on their 16 birthday or for younger students if it is addressed in the IEP.   \n*This is not on the Indicator 13 checklist, but it is a compliance requirement. ",null,null,null,null,null,null,null,null,null,null,null,"Select","V269",null,null,null,null,{"$f":"S307","v":"Select"},{"$f":"S307","v":"Select"}]
[null,null,null,null,null,null,null,null,null,null,null,null,null,null,null,null,null,null,null,null,null,null,null,{"$f":"Y308+Z308","v":0}]
[null,null,null,null,null,null,null,null,null,null,null,null,null,null,null,null,null,null,"Select",null,null,null,null,null,null,{"$f":"S309","v":"Select"}]
[{"$f":"HYPERLINK(\"http://sdlegislature.gov/Rules/DisplayRule.aspx?Rule=24:05:27:01.03\",\"Transition Assessments\n(24:05:27:01.03)\")","v":"Transition Assessments\n(24:05:27:01.03)"},null,null,null,null,null,null,"Employment",null,null,null,null,null,null,null,null,null,null,null,null,null,null,null,{"$f":"Y310+Z310","v":0},{"$f":"COUNTIF(Y309,\"Yes\")*3","v":0}]
[null,null,null,null,null,null,null,null,null,null,null,null,null,null,null,null,null,null,"Select",null,null,null,null,null,null,{"$f":"S311","v":"Select"}]
[null,null,null,null,null,null,null,"Education/Training",null,null,null,null,null,null,null,null,null,null,null,null,null,null,null,{"$f":"Y312+Z312","v":0},{"$f":"COUNTIF(Y311,\"Yes\")*3","v":0}]
[null,null,null,null,null,null,null,"Independent Living",null,null,null,null,null,null,null,null,null,null,"Select",null,null,null,null,null,null,{"$f":"S313","v":"Select"}]
[null,null,null,null,null,null,"The transition assessment must be completed prior to the age of 16 and updated annually.  Evidence of transition strengths/ needs are document on the PLAAFPs.  ",null,null,null,null,null,null,null,null,null,null,null,null,null,null,null,null,{"$f":"Y314+Z314","v":0},{"$f":"COUNTIF(Y313,\"Yes\")*3","v":0}]
["Transition Evaluation Report*\n",null,null,null,null,null,"A transition evaluation report is located in the file.\n\n*This is not on the Indicator 13 checklist, but it is a compliance requirement. \")",null,null,null,null,null,null,null,null,null,null,null,"Select",null,null,null,null,null,null,{"$f":"S315","v":"Select"}]
[null,null,null,null,null,null,null,null,null,null,null,null,null,null,null,null,null,null,null,null,null,null,null,{"$f":"Y316+Z316","v":0},{"$f":"COUNTIF(Y315,\"Yes\")*3","v":0},{"$f":"COUNTIF(Z315,\"No\")*3","v":0}]
["Indicator 13 Item "]
[{"$f":"HYPERLINK(\"http://sdlegislature.gov/Rules/DisplayRule.aspx?Rule=24:05:27:01.03\",\"Age-Appropriate Measurable \nPost-Secondary Goals \n(24:05:27:01.03)\")","v":"Age-Appropriate Measurable \nPost-Secondary Goals \n(24:05:27:01.03)"},null,null,null,null,null,null,"Employment",null,null,null,null,null,null,null,null,null,null,"Select","V278",null,null,null,null,{"$f":"S318","v":"Select"},{"$f":"S318","v":"Select"}]
[null,null,null,null,null,null,null,null,null,null,null,null,null,null,null,null,null,null,null,null,null,null,null,{"$f":"Y319+Z319","v":0}]
[null,null,null,null,null,null,null,"Education/Training",null,null,null,null,null,null,null,null,null,null,"Select",null,null,null,null,null,{"$f":"S320","v":"Select"},{"$f":"S320","v":"Select"}]
[null,null,null,null,null,null,null,null,null,null,null,null,null,null,null,null,null,null,null,null,null,null,null,{"$f":"Y321+Z321","v":0}]
[null,null,null,null,null,null,null,"Independent Living",null,null,null,null,null,null,null,null,null,null,"Select",null,null,null,null,null,{"$f":"S322","v":"Select"},{"$f":"S322","v":"Select"}]
[null,null,null,null,null,null,null,null,null,null,null,null,null,null,null,null,null,null,null,null,null,null,null,{"$f":"Y323+Z323","v":0},{"$f":"COUNTIF(Y322,\"Yes\")*3","v":0},{"$f":"COUNTIF(Z322,\"No\")*3","v":0}]
[{"$f":"HYPERLINK(\"https://gosynth.com/p/s/itwkve\",\"Indicator 13 Item 3\")","v":"Indicator 13 Item 3"}]
["MPSGs Updated Annually",null,null,null,null,null,null,null,null,null,null,null,null,null,null,null,null,null,"Select","V282",null,null,null,null,{"$f":"S325","v":"Select"},{"$f":"S325","v":"Select"}]
[null,null,null,null,null,null,null,null,null,null,null,null,null,null,null,null,null,null,null,null,null,null,null,{"$f":"Y326+Z326","v":0},{"$f":"COUNTIF(Y325,\"Yes\")*3","v":0},{"$f":"COUNTIF(Z325,\"No\")*3","v":0}]
["Indicator 13 Item 4"]
[{"$f":"HYPERLINK(\"http://sdlegislature.gov/Rules/DisplayRule.aspx?Rule=24:05:27:01.03\",\"Course of Study Aligns to \nPost-Secondary Goals\n(24:05:27:01.03)\")","v":"Course of Study Aligns to \nPost-Secondary Goals\n(24:05:27:01.03)"},null,null,null,null,null,null,"Employment",null,null,null,null,null,null,null,null,null,null,"Select","V285",null,null,null,null,{"$f":"S328","v":"Select"},{"$f":"S328","v":"Select"}]
[null,null,null,null,null,null,null,null,null,null,null,null,null,null,null,null,null,null,null,null,null,null,null,{"$f":"Y329+Z329","v":0}]
[null,null,null,null,null,null,null,"Education/Training",null,null,null,null,null,null,null,null,null,null,"Select",null,null,null,null,null,{"$f":"S330","v":"Select"},{"$f":"S330","v":"Select"}]
[null,null,null,null,null,null,null,null,null,null,null,null,null,null,null,null,null,null,null,null,null,null,null,{"$f":"Y331+Z331","v":0}]
[null,null,null,null,null,null,null,"Independent Living",null,null,null,null,null,null,null,null,null,null,"Select",null,null,null,null,null,{"$f":"S332","v":"Select"},{"$f":"S332","v":"Select"}]
[null,null,null,null,null,null,"Completed by age 16, or younger if transition has been addressed in the IEP, and updated annually through graduation or ‘age out’.",null,null,null,null,null,null,null,null,null,null,null,null,null,null,null,null,{"$f":"Y333+Z333","v":0},{"$f":"COUNTIF(Y332,\"Yes\")*3","v":0},{"$f":"COUNTIF(Z332,\"No\")*3","v":0}]
[{"$f":"HYPERLINK(\"https://gosynth.com/p/s/itwkve\",\"Indicator 13 Item 5\")","v":"Indicator 13 Item 5"}]
[{"$f":"HYPERLINK(\"http://sdlegislature.gov/Rules/DisplayRule.aspx?Rule=24:05:27:13.02\",\"Transition Services/Activities\n(24:05:27:13.02)\")","v":"Transition Services/Activities\n(24:05:27:13.02)"},null,null,null,null,null,null,"Employment",null,null,null,null,null,null,null,null,null,null,"Select","V290",null,null,null,null,{"$f":"S335","v":"Select"},{"$f":"S335","v":"Select"}]
[null,null,null,null,null,null,null,null,null,null,null,null,null,null,null,null,null,null,null,null,null,null,null,{"$f":"Y336+Z336","v":0}]
[null,null,null,null,null,null,null,"Education/Training",null,null,null,null,null,null,null,null,null,null,"Select",null,null,null,null,null,{"$f":"S337","v":"Select"},{"$f":"S337","v":"Select"}]
[null,null,null,null,null,null,null,null,null,null,null,null,null,null,null,null,null,null,null,null,null,null,null,{"$f":"Y338+Z338","v":0}]
[null,null,null,null,null,null,null,"Independent Living",null,null,null,null,null,null,null,null,null,null,"Select",null,null,null,null,null,{"$f":"S339","v":"Select"},{"$f":"S339","v":"Select"}]
[null,null,null,null,null,null,"Services/activities will reasonably enable the student to meet post-secondary goals and have at least one activity per MPSG addressed.",null,null,null,null,null,null,null,null,null,null,null,null,null,null,null,null,{"$f":"Y340+Z340","v":0},{"$f":"COUNTIF(Y339,\"Yes\")*3","v":0},{"$f":"COUNTIF(Z339,\"No\")*3","v":0}]
[{"$f":"HYPERLINK(\"https://gosynth.com/p/s/itwkve\",\"Indicator 13 Item 6\")","v":"Indicator 13 Item 6"}]
["Annual Goal Related to Student’s Transition Service needs in\n",null,null,null,null,null,null,"Employment",null,null,null,null,null,null,null,null,null,null,"Select","V295",null,null,null,null,{"$f":"S342","v":"Select"},{"$f":"S342","v":"Select"}]
[null,null,null,null,null,null,null,null,null,null,null,null,null,null,null,null,null,null,null,null,null,null,null,{"$f":"Y343+Z343","v":0},{"$f":"COUNTIF(Y342,\"Yes\")*3","v":0}]
[null,null,null,null,null,null,null,"Education/Training",null,null,null,null,null,null,null,null,null,null,"Select",null,null,null,null,null,null,{"$f":"S344","v":"Select"}]
[null,null,null,null,null,null,null,null,null,null,null,null,null,null,null,null,null,null,null,null,null,null,null,{"$f":"Y345+Z345","v":0},{"$f":"COUNTIF(Y344,\"Yes\")*3","v":0}]
[null,null,null,null,null,null,null,"Independent Living",null,null,null,null,null,null,null,null,null,null,"Select",null,null,null,null,null,null,{"$f":"S346","v":"Select"}]
[null,null,null,null,null,null,{"$f":"HYPERLINK(\"https://gosynth.com/p/s/itwkve\",\"Annual goals are linked to the MPSGs.\")","v":"Annual goals are linked to the MPSGs."},null,null,null,null,null,null,null,null,null,null,null,null,null,null,null,null,{"$f":"Y347+Z347","v":0},{"$f":"COUNTIF(Y346,\"Yes\")*3","v":0},{"$f":"COUNTIF(Z346,\"No\")*3","v":0}]
["Indicator 13 Item 7"]
[{"$f":"HYPERLINK(\"http://sdlegislature.gov/Rules/DisplayRule.aspx?Rule=24:05:25:16.01\",\"Student Invitation/Participation\n(24:05:25:16.01)\")","v":"Student Invitation/Participation\n(24:05:25:16.01)"},null,null,null,null,null,"How the student invited?",null,null,null,null,{"$f":"HYPERLINK(\"https://gosynth.com/p/s/pisllo\",\"If student was not in attendance at the meeting, the IEP should show evidence that student's preferences and interests were taken into account. *\")","v":"If student was not in attendance at the meeting, the IEP should show evidence that student's preferences and interests were taken into account. *"},null,null,null,null,null,null,"Select","V300",null,null,null,null,{"$f":"S349","v":"Select"},{"$f":"S349","v":"Select"}]
[null,null,null,null,null,null,null,null,null,null,null,null,null,null,null,null,null,null,null,null,null,null,null,{"$f":"Y350+Z350","v":0},{"$f":"COUNTIF(Y349,\"Yes\")*3","v":0},{"$f":"COUNTIF(Z349,\"No\")*3","v":0}]
[null,null,null,null,null,null,null,"Meeting notice"]
[null,null,null,null,null,null,null,"Individual student invite"]
[]
["Indicator 13 Item 8"]
[{"$f":"HYPERLINK(\"http://sdlegislature.gov/Rules/DisplayRule.aspx?Rule=24:05:25:16.01\",\"Consent to Invite Outside Agency\n(24:05:25:16.01)\")","v":"Consent to Invite Outside Agency\n(24:05:25:16.01)"},null,null,null,null,null,{"$f":"HYPERLINK(\"https://gosynth.com/p/s/pisllo\",\" Written Consent to invite:\")","v":" Written Consent to invite:"},null,null,null,null,null,null,"List of agencies invited:",null,null,null,null,"Select","V306",null,null,null,null,{"$f":"S355","v":"Select"},{"$f":"S355","v":"Select"}]
[null,null,null,null,null,null,"Invited on Meeting Notice:",null,null,null,null,null,"Yes",null,null,null,null,null,null,null,null,null,null,{"$f":"Y356+Z356","v":0},{"$f":"COUNTIF(Y355,\"Yes\")*3","v":0},{"$f":"COUNTIF(Z355,\"No\")*3","v":0}]
[null,null,null,null,null,null,null,null,null,null,null,null,"No"]
[null,null,null,null,null,null,"Meeting Notice Date:",null,null,null,null,{"$f":"J177","v":"00:00:00"}]
[null,null,null,null,null,null,"Date of Current IEP Meeting:",null,null,null,null,{"$f":"T5","v":"00:00:00"}]
["Other Transition Areas "]
[{"$f":"HYPERLINK(\"http://sdlegislature.gov/Rules/DisplayRule.aspx?Rule=24:05:30:16.01\",\"Transfer of Parental Rights:\n(24:05:30:16.01)\")","v":"Transfer of Parental Rights:\n(24:05:30:16.01)"},null,null,null,null,null,"Turned 17 on:",null,null,null,null,null,null,null,null,null,null,null,"Select","V312",null,null,null,null,{"$f":"S361","v":"Select"},{"$f":"S361","v":"Select"}]
[null,null,null,null,null,null,"Rights reviewed on:",null,null,null,null,null,null,null,null,null,null,null,null,null,null,null,null,{"$f":"Y362+Z362","v":0}]
[{"$f":"HYPERLINK(\"http://sdlegislature.gov/Rules/DisplayRule.aspx?Rule=24:05:27:12\",\"Specific Graduation Requirements:\n(24:05:27:12)\")","v":"Specific Graduation Requirements:\n(24:05:27:12)"},null,null,null,null,null,"Graduation requirements addressed on:",null,null,null,null,null,null,null,null,null,null,null,"Select",null,null,null,null,null,null,{"$f":"S363","v":"Select"}]
[null,null,null,null,null,null,"Student is projected to graduate:",null,null,null,null,null,null,null,null,null,null,null,null,null,null,null,null,{"$f":"Y364+Z364","v":0},{"$f":"COUNTIF(Y363,\"Yes\")*3","v":0}]
[{"$f":"HYPERLINK(\"http://sdlegislature.gov/Rules/DisplayRule.aspx?Rule=24:05:27:12\",\"When Student has Graduated\n(24:05:27:12)\")","v":"When Student has Graduated\n(24:05:27:12)"},null,null,null,null,null,"Written prior notice was sent:",null,null,null,null,null,null,null,null,null,null,null,"Select",null,null,null,null,null,null,{"$f":"S365","v":"Select"}]
[null,null,null,null,null,null,"When a student graduates, it is a change in placement. It must have a written\n prior notice sent.  If student has \"\"aged-out\"\", a PPWN is required.  ",null,null,null,null,null,null,null,null,null,null,null,null,null,null,null,null,{"$f":"Y366+Z366","v":0},{"$f":"COUNTIF(Y365,\"Yes\")*3","v":0},{"$f":"COUNTIF(Z365,\"No\")*3","v":0}]
[]
[{"$f":"HYPERLINK(\"http://sdlegislature.gov/Rules/DisplayRule.aspx?Rule=24:05:27:12\",\"Summary of Performance was provided to the Student/Parent/Guardian\n(24:05:27:12)\")","v":"Summary of Performance was provided to the Student/Parent/Guardian\n(24:05:27:12)"},null,null,null,null,null,"Summary of Performance (SOP) is required for students who graduated and\n aged out. A copy of the SOP should remain in the file.",null,null,null,null,null,null,null,null,null,null,null,"Select",null,null,null,null,null,{"$f":"S368","v":"Select"},{"$f":"S368","v":"Select"}]
[null,null,null,null,null,null,null,null,null,null,null,null,null,null,null,null,null,null,null,null,null,null,null,{"$f":"Y369+Z369","v":0},{"$f":"COUNTIF(Y368,\"Yes\")*3","v":0},{"$f":"COUNTIF(Z368,\"No\")*3","v":0}]
[]
["Click on the [+] button to expand or the [-] button to collapse."]
["Related Services",null,null,null,null,null,null,null,null,null,null,null,null,null,null,null,null,null,{"$f":"IFERROR(Y375/X375,\"N/A\")","v":"N/A"}]
[{"$f":"HYPERLINK(\"http://sdlegislature.gov/Rules/DisplayRule.aspx?Rule=24:05:27:16\",\"Related Services\n(24:05:27)\")","v":"Related Services\n(24:05:27)"},null,null,null,null,null,"Service Provided:",null,null,null,null,null,"If student will receive services in a different location, then must break it out to calculate the Least Restrictive Environment.",null,null,null,null,null,"Select","V324",null,null,null,null,{"$f":"S373","v":"Select"},{"$f":"S373","v":"Select"}]
[null,null,null,null,null,null,null,null,null,null,null,null,null,null,null,null,null,null,null,null,null,null,null,{"$f":"Y374+Z374","v":0},{"$f":"COUNTIF(Y373,\"Yes\")*3","v":0},{"$f":"COUNTIF(Z373,\"No\")*3","v":0}]
[null,null,null,null,null,null,null,"Frequency",null,null,"Location",null,null,null,null,null,null,null,null,null,null,null,null,{"$f":"(X374+X379)/2","v":0},{"$f":"(Y374+Y379)/2","v":0}]
[null,null,null,null,null,null,null,"Duration",null,null,"Other"]
[null,null,null,null,null,null,"Service Provided:",null,null,null,null,null,"At a minimum, all areas student qualifies and has an annual goal must have service time documented. If not addressed, then PPWN must explain reason."]
[null,null,null,null,null,null,null,null,null,null,null,null,null,null,null,null,null,null,"Select",null,null,null,null,null,{"$f":"S378","v":"Select"},{"$f":"S378","v":"Select"}]
[null,null,null,null,null,null,null,"Frequency",null,null,"Location",null,null,null,null,null,null,null,null,null,null,null,null,{"$f":"Y379+Z379","v":0},{"$f":"COUNTIF(Y378,\"Yes\")*3","v":0},{"$f":"COUNTIF(Z378,\"No\")*3","v":0}]
[null,null,null,null,null,null,null,"Duration",null,null,"Other"]
[]
["Least Restrictive Environment ",null,null,null,null,null,null,null,null,null,null,null,null,null,null,null,null,null,{"$f":"IFERROR(Y382/X382,\"N/A\")","v":"N/A"},null,null,null,null,{"$f":"(X384+X388+X392+X396+X400+X402+X404+X406+X408)/9","v":0},{"$f":"(Y384+Y388+Y392+Y396+Y400+Y402+Y404+Y406+Y408)/9","v":0}]
[{"$f":"HYPERLINK(\"https://sdlegislature.gov/Rules/DisplayRule.aspx?Rule=24:05:28\",\"Least Restrictive Enviornment \n(Chapter 24:05:28)\")","v":"Least Restrictive Enviornment \n(Chapter 24:05:28)"},null,null,null,null,null,{"$f":"HYPERLINK(\"https://gosynth.com/p/s/llxjsq\",\"Skill area:\")","v":"Skill area:"},null,null,null,null,null,null,null,null,null,null,null,"Select","V334",null,null,null,null,{"$f":"S383","v":"Select"},{"$f":"S383","v":"Select"}]
[null,null,null,null,null,null,null,null,null,null,null,null,null,null,null,null,null,null,null,null,null,null,null,{"$f":"Y384+Z384","v":0},{"$f":"COUNTIF(Y383,\"Yes\")*3","v":0},{"$f":"COUNTIF(Z383,\"No\")*3","v":0}]
[null,null,null,null,null,null,null,null,"Frequency",null,null,"Duration",null,null,"Location"]
[]
[null,null,null,null,null,null,"Skill area:",null,null,null,null,null,null,null,null,null,null,null,"Select",null,null,null,null,null,{"$f":"S387","v":"Select"},{"$f":"S387","v":"Select"}]
[null,null,null,null,null,null,null,null,null,null,null,null,null,null,null,null,null,null,null,null,null,null,null,{"$f":"Y388+Z388","v":0},{"$f":"COUNTIF(Y387,\"Yes\")*3","v":0},{"$f":"COUNTIF(Z387,\"No\")*3","v":0}]
[null,null,null,null,null,null,null,null,"Frequency",null,null,"Duration",null,null,"Location"]
[]
[null,null,null,null,null,null,"Skill area:",null,null,null,null,null,null,null,null,null,null,null,"Select",null,null,null,null,null,{"$f":"S391","v":"Select"},{"$f":"S391","v":"Select"}]
[null,null,null,null,null,null,null,null,null,null,null,null,null,null,null,null,null,null,null,null,null,null,null,{"$f":"Y392+Z392","v":0},{"$f":"COUNTIF(Y391,\"Yes\")*3","v":0},{"$f":"COUNTIF(Z391,\"No\")*3","v":0}]
[null,null,null,null,null,null,null,null,"Frequency",null,null,"Duration",null,null,"Location"]
[]
[null,null,null,null,null,null,"Skill area:",null,null,null,null,null,null,null,null,null,null,null,"Select",null,null,null,null,null,{"$f":"S395","v":"Select"},{"$f":"S395","v":"Select"}]
[null,null,null,null,null,null,null,null,null,null,null,null,null,null,null,null,null,null,null,null,null,null,null,{"$f":"Y396+Z396","v":0},{"$f":"COUNTIF(Y395,\"Yes\")*3","v":0},{"$f":"COUNTIF(Z395,\"No\")*3","v":0}]
[null,null,null,null,null,null,null,null,"Frequency",null,null,"Duration",null,null,"Location"]
[]
[{"$f":"HYPERLINK(\"http://sdlegislature.gov/Rules/DisplayRule.aspx?Rule=24:05:28:02\",\"Continuum of Placement\n(24:05:28:02)\")","v":"Continuum of Placement\n(24:05:28:02)"},null,null,null,null,null,"Select:",null,null,null,null,null,null,null,null,null,null,null,"Select","V350",null,null,null,null,{"$f":"S399","v":"Select"},{"$f":"S399","v":"Select"}]
[null,null,null,null,null,null,null,null,null,null,null,null,null,null,null,null,null,null,null,null,null,null,null,{"$f":"Y400+Z400","v":0}]
[null,null,null,null,null,null,"Select for Early Childhood (Ages 3-5):",null,null,null,null,null,null,null,null,null,null,null,"Select"]
[null,null,null,null,null,null,null,null,null,null,null,null,null,null,null,null,null,null,null,null,null,null,null,{"$f":"Y402+Z402","v":0}]
[{"$f":"HYPERLINK(\"http://sdlegislature.gov/Rules/DisplayRule.aspx?Rule=24:05:27:01.03\",\"Participation with Non-disabled Peers\n(24:05:27:01.03)\")","v":"Participation with Non-disabled Peers\n(24:05:27:01.03)"},null,null,null,null,null,"Document opportunities to participate with non-disabled peers",null,null,null,null,null,null,null,null,null,null,null,"Select"]
[null,null,null,null,null,null,null,null,null,null,null,null,null,null,null,null,null,null,null,null,null,null,null,{"$f":"Y404+Z404","v":0}]
[{"$f":"HYPERLINK(\"http://sdlegislature.gov/Rules/DisplayRule.aspx?Rule=24:05:28:03\",\"Justification for Placement \n(24:05:28:03)\")","v":"Justification for Placement \n(24:05:28:03)"},null,null,null,null,null,{"$f":"HYPERLINK(\"https://gosynth.com/p/s/rjxcoc\",\"                  Select from the following:\")","v":"                  Select from the following:"},null,null,null,null,null,null,null,null,null,null,null,"Select"]
[null,null,null,null,null,null,null,null,null,null,null,null,null,null,null,null,null,null,null,null,null,null,null,{"$f":"Y406+Z406","v":0},{"$f":"COUNTIF(Y405,\"Yes\")*3","v":0},{"$f":"COUNTIF(Z405,\"No\")*3","v":0}]
[{"$f":"HYPERLINK(\"http://sdlegislature.gov/Rules/DisplayRule.aspx?Rule=24:05:25:26\",\"Extended School Year\n(24:05:25:26)\")","v":"Extended School Year\n(24:05:25:26)"},null,null,null,null,null,"Check the following:",null,null,null,null,null,null,null,null,null,null,null,"Select","V358"]
[null,null,null,null,null,null,null,null,null,null,null,null,null,null,null,null,null,null,null,null,null,null,null,{"$f":"Y408+Z408","v":0},{"$f":"COUNTIF(Y407,\"Yes\")*3","v":0},{"$f":"COUNTIF(Z407,\"No\")*3","v":0}]
[null,null,null,null,null,null,null,null,"Determination",null,null,null,"Beginning/end dates"]
[null,null,null,null,null,null,null,null,"Goals",null,null,null,"Amount of service"]
[]
[]
[]
["Prior Parental Written Notice",null,null,null,null,null,null,null,null,null,null,null,null,null,null,null,null,null,{"$f":"IFERROR(Y414/X414,\"N/A\")","v":"N/A"},null,null,null,null,{"$f":"(X416+X421)/2","v":0},{"$f":"(Y416+Y421)/2","v":0}]
[{"$f":"HYPERLINK(\"http://sdlegislature.gov/Rules/DisplayRule.aspx?Rule=24:05:30:04\",\"Prior Written Notice Sent to Parent Regarding IEP Implementation\n(24:05:30:04)\")","v":"Prior Written Notice Sent to Parent Regarding IEP Implementation\n(24:05:30:04)"},null,null,null,null,null,"Date the district sent the PPWN:",null,null,null,null,null,null,null,"The implementation date documented on the PPWN must be reflected on IEP.\n\nThe five-day notice requirement may be waived by the parents.",null,null,null,"Select","V366",null,null,null,null,{"$f":"S415","v":"Select"},{"$f":"S415","v":"Select"}]
[null,null,null,null,null,null,"District proposed at least 5 calendar days to begin implementation:",null,null,null,null,null,{"$f":"M415+5","v":"1900-01-05"},null,null,null,null,null,null,null,null,null,null,{"$f":"Y416+Z416","v":0},{"$f":"COUNTIF(Y415,\"Yes\")*3","v":0},{"$f":"COUNTIF(Z415,\"No\")*3","v":0}]
[]
[null,null,null,null,null,null,"Was the 5 calendar day notice requirement met?",null,null,null,null,null,null,"Yes"]
[null,null,null,null,null,null,null,null,null,null,null,null,null,"No"]
[{"$f":"HYPERLINK(\"http://sdlegislature.gov/Rules/DisplayRule.aspx?Rule=24:05:30:05\",\"Content of PPWN\n(24:05:30:05)\")","v":"Content of PPWN\n(24:05:30:05)"},null,null,null,null,null,"Check the following:",null,null,null,null,null,null,null,null,null,null,null,"Select","V371",null,null,null,null,{"$f":"S420","v":"Select"},{"$f":"S420","v":"Select"}]
[null,null,null,null,null,null,"PPWN must be individualized to the student, IEP team discussions and situation.",null,null,null,null,null,null,null,null,null,null,null,null,null,null,null,null,{"$f":"Y421+Z421","v":0},{"$f":"COUNTIF(Y420,\"Yes\")*3","v":0},{"$f":"COUNTIF(Z420,\"No\")*3","v":0}]
[]
[null,null,null,null,null,null,null,"Explanation of why the district proposed or refused to take the action"]
[null,null,null,null,null,null,null,"Description of other options considered and why they were rejected "]
[null,null,null,null,null,null,null,"Description of evidence used for the proposed or refused action"]
[null,null,null,null,null,null,null,"Description of other factors that are relevant to proposal or refusal"]
[]
[null,null,null,null,null,null,"To skip back to Eligibility section click ",null,null,null,null,"HERE."]
[]
["Amendment to IEP",null,null,null,null,null,null,null,null,null,null,null,null,null,null,null,null,null,{"$f":"IFERROR(Z430/Y430,\"N/A\")","v":"N/A"},null,null,null,null,null,{"$f":"(X432+X434)/2","v":0},{"$f":"(Y432+Y434)/2","v":0}]
["Amendment to IEP",null,null,null,null,null,null,null,null,null,null,null,null,null,null,null,null,null,"Select","V381"]
[{"$f":"HYPERLINK(\"http://sdlegislature.gov/Rules/DisplayRule.aspx?Rule=24:05:27:08.01\",\"(24:05:27:08.01)\")","v":"(24:05:27:08.01)"},null,null,{"$f":"HYPERLINK(\"http://sdlegislature.gov/Rules/DisplayRule.aspx?Rule=24:05:27:08.02\",\"(24:05:27:08.02)\")","v":"(24:05:27:08.02)"}]
[{"$f":"HYPERLINK(\"http://sdlegislature.gov/Rules/DisplayRule.aspx?Rule=24:05:30:04\",\"Prior Notice\n(24:05:30:04)\")","v":"Prior Notice\n(24:05:30:04)"},null,null,null,null,null,"Document if the amendment was made with or without a meeting.",null,null,null,null,null,null,null,null,null,null,null,"Select"]
[null,null,null,null,null,null,null,null,null,null,null,null,null,null,null,null,null,null,null,null,null,null,null,{"$f":"Y434+Z434","v":0}]
[]
["Additional Items",null,null,null,null,null,null,null,null,null,null,null,null,null,null,null,null,null,{"$f":"IFERROR(AB436/AA436,\"N/A\")","v":"N/A"},null,null,null,null,null,null,null,{"$f":"(X437+X439+X441+X443)/4","v":0},{"$f":"(Y437+Y439+Y441+Y443)/4","v":0}]
["Parent Declined/\nWithdrew Consent for Services ",null,null,null,null,null,"Revocation signed:",null,null,null,null,null,null,null,null,null,null,null,"Select","V387",null,null,null,{"$f":"Y437+Z437","v":0}]
[null,null,null,null,null,null,"Date prior notice was sent:"]
["Surrogate Parent",null,null,null,null,null,null,null,null,null,null,null,null,null,null,null,null,null,"Select",null,null,null,null,{"$f":"Y439+Z439","v":0}]
["Transfer Students Provided with  FAPE/Comparable Services ",null,null,null,null,null,"Date prior notice was sent:",null,null,null,null,null,null,{"$f":"HYPERLINK(\"http://sdlegislature.gov/Rules/DisplayRule.aspx?Rule=24:05:27:15.01\",\"In-state (24:05:27:15.01)\")","v":"In-state (24:05:27:15.01)"},null,null,null,null,"Select"]
[null,null,null,null,null,null,null,null,null,null,null,null,null,{"$f":"HYPERLINK(\"http://sdlegislature.gov/Rules/DisplayRule.aspx?Rule=24:05:27:15.02\",\"Out-of-state (24:05:27:15.02)\")","v":"Out-of-state (24:05:27:15.02)"}]
["Transfer Students Evaluated for \nSouth Dakota Eligibility",null,null,null,null,null,"Eligibility determination date:",null,null,null,null,null,null,null,null,null,null,null,"Select"]
[null,null,null,null,null,null,"IEP date:",null,null,null,null,null,null,null,null,null,null,null,null,null,null,null,null,{"$f":"Y443+Z443","v":0}]
[null,null,null,null,null,null,"PPWN Implementing IEP sent:"]

{"sheet":"File 2","index":5,"n_rows":444,"n_cols":28,"rows_kept":444,"cut":false,"hidden":false,"merged":[[436,18,437,18],[437,6,437,10],[437,11,437,12],[438,6,438,17],[442,6,442,10],[442,11,442,12],[413,19,413,21],[414,6,414,11],[414,12,414,13],[414,14,418,17],[414,18,418,18],[414,19,418,21],[417,6,418,11],[419,6,419,17],[420,6,420,17],[216,14,216,16],[443,6,443,10],[443,11,443,12],[446,11,447,12],[439,6,440,10],[439,11,440,12],[439,13,439,17],[440,13,440,17],[441,6,441,10],[441,11,441,12],[441,13,443,17],[415,6,416,11],[415,12,416,13],[413,0,413,17],[422,7,422,17],[423,7,423,17],[424,7,424,17],[425,7,425,17],[426,6,426,17],[427,6,427,10],[427,11,427,17],[436,6,436,10],[436,11,436,12],[436,13,437,17],[216,6,216,7],[216,8,216,10],[205,0,206,5],[207,0,209,5],[216,11,216,13],[231,7,231,10],[209,6,209,13],[210,0,210,17],[211,0,213,5],[211,6,213,16],[214,0,215,5],[214,6,215,16],[216,0,233,5],[225,12,225,13],[225,15,225,16],[226,7,226,10],[227,6,227,10],[228,6,228,7],[228,8,228,10],[228,11,228,13],[228,14,228,16],[230,7,230,10],[230,12,230,13],[230,15,230,16],[196,0,200,5],[196,6,200,17],[196,18,200,18],[201,0,201,21],[202,0,202,17],[202,19,202,21],[203,0,204,5],[188,7,188,9],[188,10,188,12],[189,7,189,9],[189,10,189,12],[186,0,189,5],[186,7,186,9],[186,10,186,12],[192,7,192,9],[193,7,193,9],[193,10,193,12],[194,7,194,9],[190,0,190,5],[190,7,190,9],[190,10,190,12],[191,0,195,5],[191,7,191,9],[191,10,191,12],[152,12,156,15],[154,7,156,10],[145,7,146,10],[145,12,146,15],[149,18,162,18],[149,19,162,21],[150,6,150,15],[150,17,160,17],[158,12,159,15],[151,6,151,15],[152,7,153,10],[157,7,158,10],[157,12,157,15],[210,19,210,21],[211,19,215,21],[214,18,215,18],[196,19,200,21],[203,19,209,21],[205,18,206,18],[207,14,208,17],[207,18,209,18],[209,14,209,17],[211,18,213,18],[205,6,206,17],[207,6,207,10],[207,11,207,13],[208,6,208,10],[208,11,208,13],[203,6,204,17],[203,18,204,18],[190,13,190,16],[191,13,191,16],[192,13,192,16],[193,13,193,16],[194,13,194,16],[176,12,177,17],[184,13,185,16],[186,13,186,16],[184,10,185,12],[194,10,194,12],[180,6,180,17],[182,7,183,16],[187,7,187,9],[187,10,187,12],[187,13,187,16],[188,13,188,16],[192,10,192,12],[172,12,173,17],[172,18,173,18],[172,19,173,21],[177,0,177,2],[177,3,177,5],[177,6,177,8],[177,9,177,11],[178,0,178,5],[178,6,179,17],[179,0,179,2],[179,3,179,5],[176,18,177,18],[176,19,195,21],[178,18,179,18],[180,18,195,18],[176,0,176,5],[176,6,176,8],[176,9,176,11],[174,0,174,21],[175,0,175,17],[175,19,175,21],[180,0,185,5],[184,7,185,9],[189,13,189,16],[216,18,221,18],[216,19,233,21],[222,18,227,18],[228,18,233,18],[218,7,218,10],[218,12,218,13],[220,7,220,10],[221,6,221,10],[222,6,222,7],[222,8,222,10],[222,11,222,13],[222,14,222,16],[231,12,231,13],[231,15,231,16],[232,7,232,10],[233,6,233,10],[218,15,218,16],[219,7,219,10],[219,12,219,13],[219,15,219,16],[224,7,224,10],[224,12,224,13],[224,15,224,16],[225,7,225,10],[117,6,117,13],[117,14,117,17],[118,6,119,17],[120,0,120,21],[118,0,119,5],[130,18,148,18],[130,19,148,21],[133,12,134,15],[135,7,137,10],[135,12,136,15],[137,12,138,15],[138,7,141,10],[139,12,144,15],[142,7,144,10],[121,0,121,17],[121,19,121,21],[122,0,122,17],[122,18,129,18],[122,19,129,21],[123,0,129,5],[123,6,123,17],[124,6,124,17],[125,7,125,11],[126,7,126,11],[165,12,169,17],[167,7,167,11],[168,7,168,11],[110,18,112,18],[110,19,119,21],[113,18,114,18],[115,18,117,18],[118,18,119,18],[104,18,105,18],[106,18,107,18],[169,7,169,11],[162,0,162,17],[163,0,166,5],[163,6,163,17],[163,18,171,18],[163,19,171,21],[164,6,164,17],[167,0,173,5],[165,7,165,11],[166,7,166,11],[170,7,170,13],[171,7,171,11],[172,6,173,10],[172,11,173,11],[98,18,101,18],[98,19,101,21],[99,11,99,13],[106,6,107,17],[84,18,97,18],[84,19,97,21],[86,6,86,8],[86,9,86,12],[87,15,87,17],[100,11,100,13],[101,11,101,13],[102,6,103,17],[102,18,103,18],[94,13,94,14],[94,15,94,17],[95,15,95,17],[96,13,96,14],[96,15,96,17],[99,6,99,10],[100,6,100,10],[102,19,109,21],[108,18,109,18],[89,13,89,14],[89,15,89,17],[91,13,91,14],[91,15,91,17],[92,13,92,14],[92,15,92,17],[97,13,97,14],[97,15,97,17],[98,11,98,13],[98,14,101,17],[93,15,93,17],[93,13,93,14],[110,0,112,5],[110,6,110,10],[111,6,111,10],[113,0,114,5],[115,0,117,5],[115,6,115,12],[116,6,116,12],[98,0,101,5],[98,6,98,10],[101,6,101,10],[102,0,103,5],[104,0,105,5],[106,0,107,5],[108,0,109,5],[104,6,105,17],[108,6,109,17],[110,11,110,13],[110,14,111,17],[111,11,111,13],[112,6,112,13],[112,14,112,17],[113,6,114,17],[115,13,115,15],[116,13,116,15],[90,6,90,8],[90,9,90,12],[78,6,78,8],[78,9,78,12],[80,0,83,5],[80,6,80,8],[80,9,80,12],[81,9,81,12],[84,0,90,5],[83,9,83,12],[96,6,96,8],[96,9,96,12],[91,0,91,5],[91,6,91,8],[91,9,91,12],[92,0,97,5],[92,9,92,12],[93,9,93,12],[94,9,94,12],[93,6,93,8],[94,6,94,8],[92,6,92,8],[97,6,97,8],[97,9,97,12],[74,19,83,21],[76,6,76,8],[76,9,76,12],[76,13,76,14],[76,15,76,17],[77,6,77,8],[77,9,77,12],[77,13,77,14],[77,15,77,17],[82,6,82,8],[82,9,82,12],[82,13,82,14],[82,15,82,17],[83,15,83,17],[78,13,78,14],[78,15,78,17],[80,13,80,14],[80,15,80,17],[81,13,81,14],[81,15,81,17],[83,13,83,14],[74,18,83,18],[81,6,81,8],[83,6,83,8],[150,0,161,5],[159,6,160,6],[159,7,160,10],[161,6,161,15],[89,6,89,8],[89,9,89,12],[90,13,90,14],[90,15,90,17],[95,9,95,12],[147,6,147,15],[148,0,148,17],[149,0,149,17],[128,7,128,11],[128,13,128,17],[131,0,147,5],[131,6,131,15],[131,17,147,17],[132,6,132,15],[133,7,134,10],[95,6,95,8],[127,7,127,11],[127,13,127,17],[129,6,129,17],[130,0,130,17],[84,15,85,17],[84,6,85,8],[86,13,86,14],[86,15,86,17],[87,9,87,12],[87,13,87,14],[88,6,88,8],[88,9,88,12],[84,13,85,14],[88,13,88,14],[88,15,88,17],[84,9,85,12],[87,6,87,8],[125,13,125,17],[126,13,126,17],[66,15,66,17],[66,13,66,14],[67,0,67,5],[67,6,67,8],[67,9,67,12],[67,13,67,14],[67,15,67,17],[68,0,73,5],[79,0,79,5],[79,6,79,8],[79,9,79,12],[79,13,79,14],[79,15,79,17],[72,6,72,8],[72,9,72,12],[74,0,78,5],[74,6,75,8],[74,9,75,12],[74,13,75,14],[74,15,75,17],[68,13,68,14],[73,6,73,8],[60,13,61,14],[60,15,61,17],[62,13,62,14],[62,15,62,17],[63,13,63,14],[63,15,63,17],[64,13,64,14],[64,15,64,17],[65,13,65,14],[65,15,65,17],[54,0,59,5],[54,6,54,9],[54,10,54,12],[55,6,55,9],[55,10,55,12],[45,19,53,21],[54,19,59,21],[58,13,59,17],[56,6,56,9],[56,10,56,12],[57,6,57,9],[57,10,57,12],[58,6,58,9],[58,10,58,12],[59,6,59,9],[59,10,59,12],[62,9,62,12],[63,9,63,12],[64,9,64,12],[65,9,65,12],[66,9,66,12],[60,0,66,5],[60,6,61,8],[62,6,62,8],[63,6,63,8],[64,6,64,8],[65,6,65,8],[66,6,66,8],[60,9,61,12],[21,10,21,13],[21,14,21,17],[27,9,27,11],[27,12,27,17],[52,6,52,17],[53,6,53,17],[45,6,45,17],[46,6,46,17],[47,6,47,17],[48,7,48,17],[49,7,49,17],[50,7,50,17],[51,7,51,17],[39,6,40,17],[22,6,22,9],[22,10,22,13],[25,0,25,21],[26,0,26,17],[26,19,26,21],[22,14,22,17],[23,6,23,9],[23,10,23,13],[23,14,23,17],[45,0,53,5],[17,0,17,21],[18,0,18,17],[19,0,24,5],[19,9,19,11],[19,12,19,17],[20,14,20,17],[24,6,24,17],[8,3,8,6],[8,7,8,9],[9,0,9,21],[8,0,8,2],[10,0,12,5],[10,10,11,10],[10,11,11,13],[10,14,11,17],[10,18,11,18],[10,19,11,21],[18,19,18,21],[19,18,24,18],[19,19,24,21],[20,6,20,9],[20,10,20,13],[19,6,19,8],[21,6,21,9],[10,6,10,9],[11,6,11,9],[12,6,12,21],[13,0,13,21],[14,0,14,17],[14,19,14,21],[15,0,16,5],[15,18,16,18],[15,19,16,21],[15,6,16,17],[6,0,6,2],[6,10,6,13],[7,14,7,18],[8,14,8,18],[8,19,8,21],[4,14,4,18],[4,19,4,21],[5,14,5,18],[5,19,5,21],[6,14,6,18],[6,19,6,21],[7,19,7,21],[6,3,6,6],[6,7,6,9],[7,0,7,2],[7,3,7,6],[7,7,7,9],[7,10,7,13],[8,10,8,13],[3,0,3,21],[4,0,4,2],[4,3,4,6],[4,7,4,9],[4,10,4,13],[5,0,5,2],[5,3,5,6],[5,7,5,9],[5,11,5,13],[0,0,0,3],[0,4,0,5],[0,6,0,8],[0,9,0,11],[0,12,0,14],[0,15,0,17],[0,19,0,21],[1,0,2,13],[1,14,2,17],[1,18,2,18],[1,19,2,21],[73,9,73,12],[73,13,73,14],[73,15,73,17],[68,6,68,8],[68,9,68,12],[69,6,69,8],[69,9,69,12],[69,13,69,14],[69,15,69,17],[70,6,70,8],[70,9,70,12],[70,13,70,14],[70,15,70,17],[71,6,71,8],[71,9,71,12],[71,13,71,14],[71,15,71,17],[68,15,68,17],[72,13,72,14],[72,15,72,17],[41,0,42,5],[41,6,42,17],[43,6,44,17],[27,18,29,18],[27,19,29,21],[30,18,32,18],[30,19,32,21],[35,18,38,18],[35,19,44,21],[39,18,40,18],[43,0,44,5],[27,6,27,8],[28,6,29,17],[30,6,30,17],[31,8,32,17],[408,8,408,10],[408,12,408,15],[409,8,409,10],[411,0,411,16],[412,0,412,21],[27,0,29,5],[30,0,32,5],[31,6,32,7],[35,0,36,5],[35,6,35,9],[33,0,33,21],[34,0,34,17],[34,19,34,21],[35,10,35,12],[35,13,35,17],[41,18,42,18],[43,18,44,18],[45,18,53,18],[54,18,59,18],[60,18,73,18],[60,19,73,21],[36,6,38,17],[37,0,38,5],[39,0,40,5],[397,6,397,16],[398,6,398,16],[399,6,399,16],[400,6,400,16],[401,6,401,16],[402,6,403,16],[404,6,404,16],[405,6,405,16],[406,6,406,16],[391,6,391,16],[392,11,392,12],[392,14,392,16],[393,6,393,16],[394,6,394,8],[394,9,394,16],[395,6,395,16],[396,11,396,12],[396,14,396,16],[385,6,385,16],[386,6,386,8],[386,9,386,16],[387,6,387,16],[388,11,388,12],[388,14,388,16],[389,6,389,16],[390,6,390,8],[390,9,390,16],[382,17,411,17],[406,19,411,21],[419,19,427,21],[430,19,433,21],[436,19,443,21],[372,19,380,21],[377,18,380,18],[382,19,397,21],[390,18,393,18],[394,18,397,18],[398,19,405,21],[400,18,401,18],[380,0,380,17],[381,0,381,17],[381,19,381,21],[382,9,382,16],[383,6,383,16],[384,8,384,9],[388,8,388,9],[392,8,392,9],[396,8,396,9],[382,6,382,8],[384,11,384,12],[384,14,384,16],[402,18,403,18],[404,18,405,18],[398,18,399,18],[406,18,411,18],[419,18,427,18],[432,18,433,18],[439,18,440,18],[441,18,443,18],[341,18,342,18],[343,18,344,18],[354,18,358,18],[360,18,361,18],[372,18,376,18],[428,0,428,21],[429,0,429,17],[429,19,429,21],[430,18,431,18],[430,6,431,17],[431,0,431,2],[431,3,431,5],[432,6,433,17],[434,0,434,21],[435,0,435,17],[435,19,435,21],[341,19,346,21],[345,18,346,18],[353,18,353,21],[354,19,358,21],[359,18,359,21],[360,19,370,21],[362,18,363,18],[382,18,385,18],[386,18,389,18],[371,19,371,21],[439,0,440,5],[441,0,443,5],[406,0,410,5],[414,0,418,5],[419,0,427,5],[430,0,430,5],[432,0,433,5],[436,0,437,5],[438,0,438,5],[359,0,359,5],[360,0,361,5],[362,0,363,5],[364,0,366,5],[372,0,379,5],[382,0,397,5],[398,0,401,5],[402,0,403,5],[404,0,405,5],[367,0,369,5],[353,6,353,16],[354,6,354,10],[354,13,354,16],[355,13,355,16],[356,13,356,16],[341,0,346,5],[347,0,347,5],[348,0,352,5],[353,0,353,5],[354,0,358,5],[334,18,335,18],[317,18,318,18],[317,19,322,21],[319,18,320,18],[321,18,322,18],[323,18,323,21],[324,19,325,21],[326,18,326,21],[327,19,332,21],[329,18,330,18],[331,18,332,18],[327,0,332,5],[327,6,328,6],[329,6,330,6],[329,7,330,16],[331,7,331,16],[332,6,332,16],[306,18,307,18],[306,19,315,21],[308,18,309,18],[309,6,310,6],[310,18,311,18],[314,18,315,18],[319,6,320,6],[319,7,320,16],[321,6,322,6],[321,7,322,16],[324,18,325,18],[327,18,328,18],[314,0,315,5],[314,6,315,16],[316,0,316,5],[316,6,316,16],[317,0,322,5],[317,6,318,6],[317,7,318,16],[323,0,323,5],[323,6,323,16],[364,6,364,12],[364,13,364,16],[365,6,366,16],[364,18,366,18],[367,18,370,18],[375,7,375,8],[375,10,375,11],[367,6,369,16],[370,0,370,17],[371,0,371,17],[359,6,359,16],[360,6,360,12],[360,13,360,16],[361,6,361,12],[361,13,361,16],[362,6,362,12],[362,13,362,16],[363,6,363,12],[363,13,363,16],[340,0,340,5],[340,6,340,16],[376,6,376,11],[376,12,379,16],[377,6,377,11],[378,7,378,8],[379,7,379,8],[372,17,379,17],[378,10,378,11],[379,10,379,11],[373,6,373,11],[374,7,374,8],[374,10,374,11],[372,6,372,11],[372,12,375,16],[340,18,340,21],[341,7,342,16],[343,7,344,16],[345,7,345,16],[346,6,346,16],[357,13,357,16],[358,13,358,16],[350,7,350,10],[351,7,351,10],[347,6,347,16],[347,18,347,21],[348,6,348,10],[348,11,352,16],[348,18,352,18],[348,19,352,21],[349,6,349,10],[352,6,352,10],[355,6,356,10],[357,6,357,10],[357,11,357,12],[358,6,358,10],[358,11,358,12],[341,6,342,6],[343,6,344,6],[282,14,282,16],[283,14,283,16],[336,7,337,16],[338,7,338,16],[333,0,333,5],[334,0,339,5],[334,6,335,6],[334,7,335,16],[334,19,339,21],[336,6,337,6],[336,18,337,18],[338,18,339,18],[339,6,339,16],[333,18,333,21],[333,6,333,16],[324,0,325,5],[324,6,325,16],[326,0,326,5],[326,6,326,16],[327,7,328,16],[309,7,310,16],[311,7,311,16],[305,6,305,16],[306,6,307,16],[257,9,257,12],[258,6,258,8],[292,7,293,16],[281,10,281,13],[282,10,282,13],[283,10,283,13],[289,18,303,18],[289,19,303,21],[300,12,302,12],[300,13,300,16],[302,13,302,15],[283,6,283,9],[284,6,284,9],[286,6,288,11],[264,18,288,18],[264,19,288,21],[255,17,298,17],[284,14,284,16],[272,14,272,16],[273,14,273,16],[279,14,279,16],[280,14,280,16],[281,14,281,16],[285,14,285,16],[279,6,279,9],[280,6,280,9],[281,6,281,9],[282,6,282,9],[285,6,285,9],[274,6,274,9],[274,10,274,13],[277,6,277,9],[278,6,278,9],[278,10,278,13],[284,10,284,13],[285,10,285,13],[279,10,279,13],[280,10,280,13],[276,10,276,13],[276,14,276,16],[277,10,277,13],[277,14,277,16],[262,6,262,8],[262,9,262,11],[262,12,262,16],[263,6,263,8],[263,9,263,12],[263,13,263,16],[265,7,265,10],[266,6,266,16],[267,6,268,16],[269,10,271,13],[275,6,275,9],[275,10,275,13],[269,6,271,9],[272,6,272,9],[272,10,272,13],[273,6,273,9],[273,10,273,13],[254,19,254,21],[255,0,263,5],[255,9,256,16],[255,18,263,18],[255,19,263,21],[258,9,258,13],[259,6,259,8],[239,19,253,21],[245,7,248,9],[259,9,259,11],[259,12,259,16],[260,6,260,8],[260,9,260,13],[260,14,260,16],[261,6,261,8],[261,9,261,15],[241,7,241,8],[241,11,241,16],[243,6,244,10],[243,11,243,16],[244,11,244,16],[245,11,245,16],[255,6,256,8],[257,6,257,8],[289,0,302,5],[306,0,307,5],[309,0,313,5],[301,13,301,15],[301,16,302,16],[303,0,303,17],[304,0,304,17],[304,18,305,18],[304,19,305,21],[305,0,305,5],[312,7,312,16],[312,18,313,18],[313,6,313,16],[294,6,295,6],[294,7,295,16],[296,6,297,6],[296,7,297,16],[298,6,298,16],[299,6,299,16],[300,6,302,11],[289,6,289,16],[290,6,290,16],[291,7,291,16],[292,6,293,6],[234,18,238,18],[234,19,238,21],[235,6,235,16],[236,7,236,10],[236,12,236,15],[239,11,239,16],[246,11,246,16],[239,18,253,18],[253,0,253,17],[240,7,240,8],[240,11,240,16],[240,9,242,10],[242,11,242,16],[247,11,247,16],[250,11,250,16],[251,6,252,10],[251,11,251,16],[252,11,252,16],[264,0,288,5],[237,7,237,10],[238,6,238,10],[239,0,252,5],[239,6,239,10],[286,12,288,12],[286,13,286,16],[287,13,287,15],[287,16,288,16],[288,13,288,15],[248,11,248,16],[249,11,249,16],[257,13,257,16],[258,14,258,16],[265,12,265,16],[269,14,271,16],[264,6,264,16],[234,0,238,5],[234,6,234,16],[254,0,254,16],[278,14,278,16],[274,14,274,16],[275,14,275,16],[276,6,276,9]]}
[{"$f":"'Caseload Files'!B2","v":"Teacher Caseload Review"},null,null,null,{"$f":"'Caseload Files'!D12","v":"File 2"},null,"Reviewer:",null,null,{"$f":"'Caseload Files'!F12","v":"Reviewer 2"},null,null,"Staff Reviewed:",null,null,{"$f":"'Caseload Files'!I12","v":"Staff 2"},null,null,"Score","Findings/Notes"]
[{"$f":"'Caseload Files'!B2","v":"Teacher Caseload Review"},null,null,null,null,null,null,null,null,null,null,null,null,null,null,null,null,null,"Rating","Record notes\nand/or findings."]
[]
[]
["Student Name:",null,null,{"$f":"'Caseload Files'!$L$12","v":"Student 2"},null,null,null,"Date of Birth:",null,null,{"$f":"'Caseload Files'!$R$12","v":"2002-02-02"},null,null,null,"Current IEP Meeting Date:"]
["SIMS Numer:",null,null,{"$f":"'Caseload Files'!$O$12","v":20123456},null,null,null,"Age/Grade:",null,null,{"$f":"INT(YEARFRAC(K5,TODAY()))","v":19},"/Sophomore",null,null,"Previous IEP Meeting Date:"]
["School District:",null,null,{"$f":"'Caseload Files'!B3","v":"District 00-0"},null,null,null,"Disability Code:",null,null,{"$f":"'Caseload Files'!$W$12","v":"DisCode 2"},null,null,null,"Current Eligibility Determination Date:"]
["School Name:",null,null,{"$f":"'Caseload Files'!E6","v":"School Name"},null,null,null,"Race/Ethnicity:",null,null,{"$f":"'Caseload Files'!T12","v":"Race 2"},null,null,null,"Previous Eligibility Determination Date:"]
["School Year:",null,null,{"$f":"'Caseload Files'!E7","v":"1998-1999"},null,null,null,"Type of Review:",null,null,{"$f":"'Caseload Files'!Z12","v":"Type 2"},null,null,null,"Date of Review:"]
[]
[{"$f":"HYPERLINK(\"http://sdlegislature.gov/Rules/DisplayRule.aspx?Rule=24:05\",\"Subsection Title and \nCorresponding ARSD Links \")","v":"Subsection Title and \nCorresponding ARSD Links "},null,null,null,null,null,"Yellow boxes are prompts",null,null,null,null,"Use checkboxes to help record findings.",null,null,"Voided space and/or clarifying information.",null,null,null,"\"N/A\" may be appropriate for certain sections.","Findings/Notes"]
[null,null,null,null,null,null,"for information."]
[]
[]
[{"$f":"HYPERLINK(\"https://gosynth.com/p/s/aboqwv\",\"Record of Access\")","v":"Record of Access"},null,null,null,null,null,null,null,null,null,null,null,null,null,null,null,null,null,{"$f":"IFERROR(Y17/X17,\"N/A\")","v":"N/A"},"Findings/Notes"]
[{"$f":"HYPERLINK(\"http://sdlegislature.gov/Rules/DisplayRule.aspx?Rule=24:05:29:15\",\"Record of Access\n(24:05:29:15)\")","v":"Record of Access\n(24:05:29:15)"},null,null,null,null,null,null,null,null,null,null,null,null,null,null,null,null,null,"Select","V16",null,null,null,null,{"$f":"S16","v":"Select"},{"$f":"S16","v":"Select"}]
[null,null,null,null,null,null,null,null,null,null,null,null,null,null,null,null,null,null,null,null,null,null,null,{"$f":"Y17+Z17","v":0},{"$f":"COUNTIF(Y16,\"Yes\")*3","v":0},{"$f":"COUNTIF(Z16,\"No\")*3","v":0}]
[]
[{"$f":"HYPERLINK(\"https://gosynth.com/p/s/grdmsy\",\"Referral\")","v":"Referral"},null,null,null,null,null,null,null,null,null,null,null,null,null,null,null,null,null,{"$f":"IFERROR(Y21/X21,\"N/A\")","v":"N/A"}]
[{"$f":"HYPERLINK(\"http://sdlegislature.gov/Rules/DisplayRule.aspx?Rule=24:05:24:01\",\"Referral Document\n(initial only)\n(24:05:24:01)\")","v":"Referral Document\n(initial only)\n(24:05:24:01)"},null,null,null,null,null,"Date of referral:",null,null,null,null,null,"The top two spaces are available to type in.",null,null,null,null,null,"Select","V20",null,null,null,null,{"$f":"S20","v":"Select"},{"$f":"S20","v":"Select"}]
[null,null,null,null,null,null,"List all areas of referral:",null,null,null,null,null,null,null,null,null,null,null,null,null,null,null,null,{"$f":"Y21+Z21","v":0},{"$f":"COUNTIF(Y20,\"Yes\")*3","v":0},{"$f":"COUNTIF(Z20,\"No\")*3","v":0}]
[]
[]
[]
[null,null,null,null,null,null,"If referral can not be found and is older than three years, N/A is appropriate."]
[]
[{"$f":"HYPERLINK(\"https://gosynth.com/p/s/lihblf\",\"Initial Placement\")","v":"Initial Placement"},null,null,null,null,null,null,null,null,null,null,null,null,null,null,null,null,null,{"$f":"IFERROR(Y33/X33,\"N/A\")","v":"N/A"}]
[{"$f":"HYPERLINK(\"http://sdlegislature.gov/rules/DisplayRule.aspx?Rule=24:05:27:04.01\",\"Consent Signed for Initial Placement \ninto Special Education\n(24:05:27:04.01)\")","v":"Consent Signed for Initial Placement \ninto Special Education\n(24:05:27:04.01)"},null,null,null,null,null,"Date Signed:",null,null,null,null,null,null,null,null,null,null,null,"Select","V28",null,null,null,null,{"$f":"S28","v":"Select"},{"$f":"S28","v":"Select"}]
[null,null,null,null,null,null,"(The Consent Signed for Initial Placement into Special Education form is a separate document.  In the past, it may have been found at the end of the IEP.",null,null,null,null,null,null,null,null,null,null,null,null,null,null,null,null,{"$f":"Y29+Z29","v":0},{"$f":"COUNTIF(Y28,\"Yes\")*3","v":0},{"$f":"COUNTIF(Z28,\"No\")*3","v":0}]
[]
[{"$f":"HYPERLINK(\"https://sdlegislature.gov/Rules/DisplayRule.aspx?Rule=24:05:25:04.02\",\"Determination of Needed \nEvaluation Data\n(24:05:25:04.02)\")","v":"Determination of Needed \nEvaluation Data\n(24:05:25:04.02)"},null,null,null,null,null,"Did the team review existing data before completing the PPWN Consent?",null,null,null,null,null,null,null,null,null,null,null,"Select","V31",null,null,null,null,{"$f":"S31","v":"Select"},{"$f":"S31","v":"Select"}]
[null,null,null,null,null,null,"Select",null,"The existing data includes evaluations and information provided by the parents, current classroom-based local or state assessments, and observations by teachers and related services providers.",null,null,null,null,null,null,null,null,null,null,null,null,null,null,{"$f":"Y32+Z32","v":0},{"$f":"COUNTIF(Y31,\"Yes\")*3","v":0},{"$f":"COUNTIF(Z31,\"No\")*3","v":0}]
[null,null,null,null,null,null,null,null,null,null,null,null,null,null,null,null,null,null,null,null,null,null,null,{"$f":"(X32+X29)/2","v":0},{"$f":"(Y32+Y29)/2","v":0}]
[]
[{"$f":"HYPERLINK(\"https://gosynth.com/p/s/qxevgy\",\"Evaluation\")","v":"Evaluation"},null,null,null,null,null,null,null,null,null,null,null,null,null,null,null,null,null,{"$f":"IFERROR(Y38/X38,\"N/A\")","v":"N/A"},{"$f":"IFERROR(Y58/X58,\"N/A\")","v":"N/A"}]
[{"$f":"HYPERLINK(\"http://sdlegislature.gov/rules/DisplayRule.aspx?Rule=24:05:25:02.01\",\"Initial Evaluation \n(24:05:25:02.01)\")","v":"Initial Evaluation \n(24:05:25:02.01)"},null,null,null,null,null,"PPWN Consent was Sent:",null,null,null,null,null,null,"Use the most recent evaluation. ",null,null,null,null,"Select","V36",null,null,null,null,{"$f":"S36","v":"Select"},{"$f":"S36","v":"Select"}]
[null,null,null,null,null,null,{"$f":"HYPERLINK(\"https://gosynth.com/p/s/qxevgy\",\"Consent was acquired for initial evaluation. \n\nIf consent was not given by the parent for reevaluation, evidence of  attempts were made to elicit parent.\")","v":"Consent was acquired for initial evaluation. \n\nIf consent was not given by the parent for reevaluation, evidence of  attempts were made to elicit parent."},null,null,null,null,null,null,null,null,null,null,null,null,null,null,null,null,{"$f":"Y37+Z37","v":0},{"$f":"COUNTIF(Y36,\"Yes\")*3","v":0},{"$f":"COUNTIF(Z36,\"No\")*3","v":0}]
[{"$f":"HYPERLINK(\"http://sdlegislature.gov/Rules/DisplayRule.aspx?Rule=24:05:25:06.01\",\"Reevaluation\n(24:05:25:06.01)\")","v":"Reevaluation\n(24:05:25:06.01)"},null,null,null,null,null,null,null,null,null,null,null,null,null,null,null,null,null,null,null,null,null,null,{"$f":"(X37+X41+X43+X45+X47+X56+X62+X76+X86+X100+X104+X106+X108+X110+X112+X115+X117+X120)/18","v":0},{"$f":"(Y37+Y41+Y43+Y45+Y47+Y56+Y62+Y76+Y86+Y100+Y104+Y106+Y108+Y110+Y112+Y115+Y117+Y120)/18","v":0}]
[]
[{"$f":"HYPERLINK(\"http://sdlegislature.gov/Rules/DisplayRule.aspx?Rule=24:05:25:16\",\"Parent Input into Evalaution\n(24:05:25:16)\")","v":"Parent Input into Evalaution\n(24:05:25:16)"},null,null,null,null,null,{"$f":"HYPERLINK(\"https://gosynth.com/p/s/ycomsx\",\"Parent input must be documented in the PPWN Consent on input exiting data and \nupcoming evaluation.   (refer to phone logs, progress notes, prior notice)\")","v":"Parent input must be documented in the PPWN Consent on input exiting data and \nupcoming evaluation.   (refer to phone logs, progress notes, prior notice)"},null,null,null,null,null,null,null,null,null,null,null,"Select",null,null,null,null,null,{"$f":"S40","v":"Select"},{"$f":"S40","v":"Select"}]
[null,null,null,null,null,null,null,null,null,null,null,null,null,null,null,null,null,null,null,null,null,null,null,{"$f":"Y41+Z41","v":0},{"$f":"COUNTIF(Y40,\"Yes\")*3","v":0},{"$f":"COUNTIF(Z40,\"No\")*3","v":0}]
[{"$f":"HYPERLINK(\"http://sdlegislature.gov/Rules/DisplayRule.aspx?Rule=24:05:30:06.01\",\"Procedural Safeguards\n(24:05:30:06.01)\")","v":"Procedural Safeguards\n(24:05:30:06.01)"},null,null,null,null,null,{"$f":"HYPERLINK(\"https://gosynth.com/p/s/tdkmfj\",\"[INCLUDE LANGUAGE FOR THIS SECTION]\")","v":"[INCLUDE LANGUAGE FOR THIS SECTION]"},null,null,null,null,null,null,null,null,null,null,null,"Select",null,null,null,null,null,{"$f":"S42","v":"Select"},{"$f":"S42","v":"Select"}]
[null,null,null,null,null,null,null,null,null,null,null,null,null,null,null,null,null,null,null,null,null,null,null,{"$f":"Y43+Z43","v":0},{"$f":"COUNTIF(Y42,\"Yes\")*3","v":0},{"$f":"COUNTIF(Z42,\"No\")*3","v":0}]
[{"$f":"HYPERLINK(\"http://sdlegislature.gov/Rules/DisplayRule.aspx?Rule=24:05:25:03\",\"Extension on 25 Day Timeline\n(24:05:25:03)\")","v":"Extension on 25 Day Timeline\n(24:05:25:03)"},null,null,null,null,null,{"$f":"HYPERLINK(\"https://gosynth.com/p/s/wcheia\",\"Documented agreement with parent and district on new extension date.  \nEligibility and IEP developed 30 days after the agreed extension date.\")","v":"Documented agreement with parent and district on new extension date.  \nEligibility and IEP developed 30 days after the agreed extension date."},null,null,null,null,null,null,null,null,null,null,null,"Select",null,null,null,null,null,{"$f":"S44","v":"Select"},{"$f":"S44","v":"Select"}]
[null,null,null,null,null,null,null,null,null,null,null,null,null,null,null,null,null,null,null,null,null,null,null,{"$f":"Y45+Z45","v":0},{"$f":"COUNTIF(Y44,\"Yes\")*3","v":0},{"$f":"COUNTIF(Z44,\"No\")*3","v":0}]
[{"$f":"HYPERLINK(\"http://sdlegislature.gov/Rules/DisplayRule.aspx?Rule=24:05:30:05\",\"Content of Prior Written Notice/\nConsent for Evaluation\n (24:05:30:05)\")","v":"Content of Prior Written Notice/\nConsent for Evaluation\n (24:05:30:05)"},null,null,null,null,null,{"$f":"HYPERLINK(\"https://gosynth.com/p/s/xymlpn\",\"Check the following:\")","v":"Check the following:"},null,null,null,null,null,null,null,null,null,null,null,"Select","V46",null,null,null,null,{"$f":"S46","v":"Select"},{"$f":"S46","v":"Select"}]
[null,null,null,null,null,null,"PPWN must be individualized to the student, IEP team discussions and situation.",null,null,null,null,null,null,null,null,null,null,null,null,null,null,null,null,{"$f":"Y47+Z47","v":0},{"$f":"COUNTIF(Y46,\"Yes\")*3","v":0},{"$f":"COUNTIF(Z46,\"No\")*3","v":0}]
[]
[null,null,null,null,null,null,null,"Explanation of why the district proposed or refused to take the action"]
[null,null,null,null,null,null,null,"Description of other options considered and why they were rejected "]
[null,null,null,null,null,null,null,"Description of evidence used for the proposed or refused action"]
[null,null,null,null,null,null,null,"Description of other factors that are relevant to proposal or refusal"]
[]
[null,null,null,null,null,null,"All components should be completed and have a clear description."]
[{"$f":"HYPERLINK(\"http://sdlegislature.gov/Rules/DisplayRule.aspx?Rule=24:05:30:05\",\"Timeline of Prior Written Notice/\nConsent for Evaluation\n(24:05:25:03)\")","v":"Timeline of Prior Written Notice/\nConsent for Evaluation\n(24:05:25:03)"},null,null,null,null,null,{"$f":"HYPERLINK(\"https://gosynth.com/p/s/xylthm\",\"Date sent:\")","v":"Date sent:"},null,null,null,"2020-01-18",null,null,null,null,null,null,null,"Select","V54",null,null,null,null,{"$f":"S55","v":"Select"},{"$f":"S55","v":"Select"}]
[null,null,null,null,null,null,"Date signed:",null,null,null,"2020-01-19",null,null,null,null,null,null,null,null,null,null,null,null,{"$f":"Y56+Z56","v":0},{"$f":"COUNTIF(Y55,\"Yes\")*3","v":0},{"$f":"COUNTIF(Z55,\"No\")*3","v":0}]
[null,null,null,null,null,null,"Date received:",null,null,null,"2020-01-20"]
[null,null,null,null,null,null,"25 school days:",null,null,null,{"$f":"WORKDAY(K57,25)","v":"2020-02-24"}]
[null,null,null,null,null,null,"30 calendar days:"]
[null,null,null,null,null,null,"Extension on 25 day:"]
[{"$f":"HYPERLINK(\"http://sdlegislature.gov/Rules/DisplayRule.aspx?Rule=24:05:25:04.02\",\"Evaluations to be Completed by the District per Parental Prior Written/Consent for Evaluation\n(24:05:25:04.02)\")","v":"Evaluations to be Completed by the District per Parental Prior Written/Consent for Evaluation\n(24:05:25:04.02)"},null,null,null,null,null,{"$f":"HYPERLINK(\"https://gosynth.com/p/s/zgdeev\",\"List areas:\")","v":"List areas:"},null,null,"Test administered:",null,null,null,"Test date:",null,"Evaluator:",null,null,"Select","V60",null,null,null,null,{"$f":"S61","v":"Select"},{"$f":"S61","v":"Select"}]
[null,null,null,null,null,null,null,null,null,null,null,null,null,null,null,null,null,null,null,null,null,null,null,{"$f":"Y62+Z62","v":0},{"$f":"COUNTIF(Y61,\"Yes\")*3","v":0},{"$f":"COUNTIF(Z61,\"No\")*3","v":0}]
[]
[]
[]
[]
[]
["For more evaluations requested click the [+]"]
[]
[]
[]
[]
[]
[]
[{"$f":"HYPERLINK(\"http://sdlegislature.gov/Rules/DisplayRule.aspx?Rule=24:05:25:04.02\",\"Existing Evaluation Data\nto be Pulled Forward\n(24:05:25:04.02)\")","v":"Existing Evaluation Data\nto be Pulled Forward\n(24:05:25:04.02)"},null,null,null,null,null,{"$f":"HYPERLINK(\"https://gosynth.com/p/s/pfohnr\",\"List areas:\")","v":"List areas:"},null,null,"Test administered:",null,null,null,"Test date:",null,"Evaluator:",null,null,"Select","V74",null,null,null,null,{"$f":"S75","v":"Select"},{"$f":"S75","v":"Select"}]
[null,null,null,null,null,null,null,null,null,null,null,null,null,null,null,null,null,null,null,null,null,null,null,{"$f":"Y76+Z76","v":0},{"$f":"COUNTIF(Y75,\"Yes\")*3","v":0},{"$f":"COUNTIF(Z75,\"No\")*3","v":0}]
[]
[]
[]
["For more existing data requested click the [+]"]
[]
[]
[]
[]
[{"$f":"HYPERLINK(\"http://sdlegislature.gov/Rules/DisplayRule.aspx?Rule=24:05:25:04.02\",\"Skills Based Assessment and Report\n(24:05:25:04.02)\")","v":"Skills Based Assessment and Report\n(24:05:25:04.02)"},null,null,null,null,null,{"$f":"HYPERLINK(\"https://gosynth.com/p/s/tbqnts\",\"List areas:\")","v":"List areas:"},null,null,"Test administered:",null,null,null,"Test date:",null,"Evaluator:",null,null,"Select","V84",null,null,null,null,{"$f":"S85","v":"Select"},{"$f":"S85","v":"Select"}]
[null,null,null,null,null,null,null,null,null,null,null,null,null,null,null,null,null,null,null,null,null,null,null,{"$f":"Y86+Z86","v":0},{"$f":"COUNTIF(Y85,\"Yes\")*3","v":0},{"$f":"COUNTIF(Z85,\"No\")*3","v":0}]
[]
[null,null,null,null,null,null,null,null,null,null,null,null,null,null,null,null,null,null,null,null,null,null,null,{"$f":"(X86+X100+X104+X106+X108+X110+X112+X115+X117+X120)/10","v":0},{"$f":"(Y86+Y100+Y104+Y106+Y108+Y110+Y112+Y115+Y117+Y120)/10","v":0}]
[]
[]
[]
["For more skills based requested click the [+]"]
[]
[]
[]
[]
[]
[]
[{"$f":"HYPERLINK(\"http://sdlegislature.gov/Rules/DisplayRule.aspx?Rule=24:05:25:03\",\"Consent Received\n(24:05:25:03)\")","v":"Consent Received\n(24:05:25:03)"},null,null,null,null,null,{"$f":"HYPERLINK(\"https://gosynth.com/p/s/ctcnlr\",\"Consent received date:\")","v":"Consent received date:"},null,null,null,null,{"$f":"K57","v":"2020-01-20"},null,null,"Mark \"No\" if dates are outside of \"consent received\" and/or \"25 school days\".",null,null,null,"Select","V98",null,null,null,null,{"$f":"S99","v":"Select"},{"$f":"S99","v":"Select"}]
[null,null,null,null,null,null,"Earliest testing date:",null,null,null,null,{"$f":"MIN(N63:O74,N87:O98)","v":"00:00:00"},null,null,null,null,null,null,null,null,null,null,null,{"$f":"Y100+Z100","v":0},{"$f":"COUNTIF(Y99,\"Yes\")*3","v":0},{"$f":"COUNTIF(Z99,\"No\")*3","v":0}]
[null,null,null,null,null,null,"Latest testing date:",null,null,null,null,{"$f":"MAX(N63:O74,N87:O98)","v":"00:00:00"}]
[null,null,null,null,null,null,"Within 25 School Days:",null,null,null,null,{"$f":"IF(ISBLANK(K60),K58,K60)","v":"2020-02-24"}]
[{"$f":"HYPERLINK(\"http://sdlegislature.gov/Rules/DisplayRule.aspx?Rule=24:05:25:20\",\"All Evaluations Administered \n(24:05:25:20)\")","v":"All Evaluations Administered \n(24:05:25:20)"},null,null,null,null,null,{"$f":"HYPERLINK(\"https://gosynth.com/p/s/mkcdef\",\"All evaluations marked on the PWWN/Consent for Evaluation form must be administered.\")","v":"All evaluations marked on the PWWN/Consent for Evaluation form must be administered."},null,null,null,null,null,null,null,null,null,null,null,"Select","V102",null,null,null,null,{"$f":"S103","v":"Select"},{"$f":"S103","v":"Select"}]
[null,null,null,null,null,null,null,null,null,null,null,null,null,null,null,null,null,null,null,null,null,null,null,{"$f":"Y104+Z104","v":0},{"$f":"COUNTIF(Y103,\"Yes\")*3","v":0},{"$f":"COUNTIF(Z103,\"No\")*3","v":0}]
[{"$f":"HYPERLINK(\"http://sdlegislature.gov/Rules/DisplayRule.aspx?Rule=24:05:25:06.01\",\"Consent was Acquired\n(24:05:25:06.01)\")","v":"Consent was Acquired\n(24:05:25:06.01)"},null,null,null,null,null,{"$f":"HYPERLINK(\"https://gosynth.com/p/s/mkcdef\",\"All evaluations administered must be requested on the PWWN/Consent for Evaluation \nform.\")","v":"All evaluations administered must be requested on the PWWN/Consent for Evaluation \nform."},null,null,null,null,null,null,null,null,null,null,null,"Select",null,null,null,null,null,{"$f":"S105","v":"Select"},{"$f":"S105","v":"Select"}]
[null,null,null,null,null,null,null,null,null,null,null,null,null,null,null,null,null,null,null,null,null,null,null,{"$f":"Y106+Z106","v":0},{"$f":"COUNTIF(Y105,\"Yes\")*3","v":0},{"$f":"COUNTIF(Z105,\"No\")*3","v":0}]
[{"$f":"HYPERLINK(\"http://sdlegislature.gov/Rules/DisplayRule.aspx?Rule=24:05:25:04\",\"Variety of Sources \n(24:05:25:04)\")","v":"Variety of Sources \n(24:05:25:04)"},null,null,null,null,null,{"$f":"HYPERLINK(\"https://gosynth.com/p/s/mkcdef\",\"Appropritate means to provide evaluations for accurate data were used. \")","v":"Appropritate means to provide evaluations for accurate data were used. "},null,null,null,null,null,null,null,null,null,null,null,"Select",null,null,null,null,null,{"$f":"S107","v":"Select"},{"$f":"S107","v":"Select"}]
[null,null,null,null,null,null,null,null,null,null,null,null,null,null,null,null,null,null,null,null,null,null,null,{"$f":"Y108+Z108","v":0},{"$f":"COUNTIF(Y107,\"Yes\")*3","v":0},{"$f":"COUNTIF(Z107,\"No\")*3","v":0}]
[{"$f":"HYPERLINK(\"http://sdlegislature.gov/Rules/DisplayRule.aspx?Rule=24:05:25:04\",\"Met Requirements for the Disability\n(24:05:25:04) \")","v":"Met Requirements for the Disability\n(24:05:25:04) "},null,null,null,null,null,{"$f":"HYPERLINK(\"https://gosynth.com/p/s/mkcdef\",\"Comprehensive Evaluations in all areas required for the disability. \")","v":"Comprehensive Evaluations in all areas required for the disability. "},null,null,null,null,null,null,null,null,null,null,null,"Select",null,null,null,null,null,{"$f":"S109","v":"Select"},{"$f":"S109","v":"Select"}]
[null,null,null,null,null,null,null,null,null,null,null,null,null,null,null,null,null,null,null,null,null,null,null,{"$f":"Y110+Z110","v":0},{"$f":"COUNTIF(Y109,\"Yes\")*3","v":0},{"$f":"COUNTIF(Z109,\"No\")*3","v":0}]
[{"$f":"HYPERLINK(\"http://sdlegislature.gov/Rules/DisplayRule.aspx?Rule=24:05:25:03\",\"Eligibility within 30 Calendar Days \n(24:05:25:03)\")","v":"Eligibility within 30 Calendar Days \n(24:05:25:03)"},null,null,null,null,null,{"$f":"HYPERLINK(\"https://gosynth.com/p/s/mkcdef\",\"Day 26 was on:\")","v":"Day 26 was on:"},null,null,null,null,{"$f":"WORKDAY(L102,1)","v":"2020-02-25"},null,null,null,null,null,null,"Select","V110",null,null,null,null,{"$f":"S111","v":"Select"},{"$f":"S111","v":"Select"}]
[null,null,null,null,null,null,"Eligibility Determination Date:",null,null,null,null,{"$f":"T7","v":"00:00:00"},null,null,null,null,null,null,null,null,null,null,null,{"$f":"Y112+Z112","v":0},{"$f":"COUNTIF(Y111,\"Yes\")*3","v":0},{"$f":"COUNTIF(Z111,\"No\")*3","v":0}]
[null,null,null,null,null,null,"Eligibility meeting date should have been by:",null,null,null,null,null,null,null,{"$f":"K59","v":"00:00:00"}]
[{"$f":"HYPERLINK(\"http://sdlegislature.gov/Rules/DisplayRule.aspx?Rule=24:05:25:04.03\",\"Student Eligible for Special Education \n(24:05:25:04.03)\")","v":"Student Eligible for Special Education \n(24:05:25:04.03)"},null,null,null,null,null,null,null,null,null,null,null,null,null,null,null,null,null,"Select",null,null,null,null,null,{"$f":"S114","v":"Select"},{"$f":"S114","v":"Select"}]
[null,null,null,null,null,null,null,null,null,null,null,null,null,null,null,null,null,null,null,null,null,null,null,{"$f":"Y115+Z115","v":0},{"$f":"COUNTIF(Y114,\"Yes\")*3","v":0},{"$f":"COUNTIF(Z114,\"No\")*3","v":0}]
[{"$f":"HYPERLINK(\"http://sdlegislature.gov/Rules/DisplayRule.aspx?Rule=24:05:25:06\",\"Three Year Re-Evaluation\n(24:05:25:06)\")","v":"Three Year Re-Evaluation\n(24:05:25:06)"},null,null,null,null,null,{"$f":"HYPERLINK(\"https://gosynth.com/p/s/mkcdef\",\"Current Eligibility Determination Date:\")","v":"Current Eligibility Determination Date:"},null,null,null,null,null,null,{"$f":"L112","v":"00:00:00"},null,null,null,null,"Select",null,null,null,null,null,{"$f":"S116","v":"Select"},{"$f":"S116","v":"Select"}]
[null,null,null,null,null,null,"Previous Eligibility Determination Date:",null,null,null,null,null,null,{"$f":"T8","v":"00:00:00"},null,null,null,null,null,null,null,null,null,{"$f":"Y117+Z117","v":0},{"$f":"COUNTIF(Y116,\"Yes\")*3","v":0},{"$f":"COUNTIF(Z116,\"No\")*3","v":0}]
[]
[{"$f":"HYPERLINK(\"https://gosynth.com/p/s/mkcdef\",\"Evaluated to Dismiss from Services  \")","v":"Evaluated to Dismiss from Services  "},null,null,null,null,null,null,null,null,null,null,null,null,null,null,null,null,null,"Select",null,null,null,null,null,{"$f":"S119","v":"Select"},{"$f":"S119","v":"Select"}]
[null,null,null,null,null,null,null,null,null,null,null,null,null,null,null,null,null,null,null,null,null,null,null,{"$f":"Y120+Z120","v":0},{"$f":"COUNTIF(Y119,\"Yes\")*3","v":0},{"$f":"COUNTIF(Z119,\"No\")*3","v":0}]
[]
[{"$f":"HYPERLINK(\"https://gosynth.com/p/s/giwoma\",\"Eligibility Document for Specific Learning Disability\")","v":"Eligibility Document for Specific Learning Disability"},null,null,null,null,null,null,null,null,null,null,null,null,null,null,null,null,null,{"$f":"IFERROR(Y126/X126,\"N/A\")","v":"N/A"}]
["If student is not eligible for Specific Learning Disability, skip this section.  Click on the [+] button if section is not visible. ",null,null,null,null,null,null,null,null,null,null,null,null,null,null,null,null,null,"Select","V122",null,null,null,null,{"$f":"S123","v":"Select"},{"$f":"S123","v":"Select"}]
[{"$f":"HYPERLINK(\"http://sdlegislature.gov/Rules/DisplayRule.aspx?Rule=24:05:24.01:19\",\"Specific Learning Disabilities\n(24:05:24.01:19)\")","v":"Specific Learning Disabilities\n(24:05:24.01:19)"},null,null,null,null,null,"Check the following:",null,null,null,null,null,null,null,null,null,null,null,null,null,null,null,null,{"$f":"Y124+Z124","v":0},{"$f":"COUNTIF(Y123,\"Yes\")*3","v":0},{"$f":"COUNTIF(Z123,\"No\")*3","v":0}]
[]
[null,null,null,null,null,null,null,"Reading Comprehension",null,null,null,null,null,"Math Calculation",null,null,null,null,null,null,null,null,null,{"$f":"(X124+X132+X151+X165+X174)/5","v":0},{"$f":"(Y124+Y132+Y151+Y165+Y174)/5","v":0}]
[null,null,null,null,null,null,null,"Basic Reading Skills",null,null,null,null,null,"Math Problem Solving"]
[null,null,null,null,null,null,null,"Reading Fluency",null,null,null,null,null,"Listening Comprehension"]
[null,null,null,null,null,null,null,"Written Expression",null,null,null,null,null,"Oral Expression"]
[]
["For Initial Determination of Eligibility Only",null,null,null,null,null,null,null,null,null,null,null,null,null,null,null,null,null,"Select","V130",null,null,null,null,{"$f":"S131","v":"Select"},{"$f":"S131","v":"Select"}]
[{"$f":"HYPERLINK(\"http://sdlegislature.gov/Rules/DisplayRule.aspx?Rule=24:05:24.01:19\",\"Initial Eligibility\n(24:05:24.01:19)\")","v":"Initial Eligibility\n(24:05:24.01:19)"},null,null,null,null,null,"Written report must include:",null,null,null,null,null,null,null,null,null,null,null,null,null,null,null,null,{"$f":"Y132+Z132","v":0},{"$f":"COUNTIF(Y131,\"Yes\")*3","v":0},{"$f":"COUNTIF(Z131,\"No\")*3","v":0}]
[]
[null,null,null,null,null,null,null,"Student achieves adequately",null,null,null,null,"Lack of appropriate instruction"]
[]
[null,null,null,null,null,null,null,"Student exhibits pattern of strengths & weaknesses",null,null,null,null,"Observation of the student"]
[]
[null,null,null,null,null,null,null,null,null,null,null,null,"Relevant medical findings (if any)"]
[null,null,null,null,null,null,null,"Student was provided appropriate instruction in regular education settings by qualified personnel"]
[null,null,null,null,null,null,null,null,null,null,null,null,"Achievement level problem is/is not primarily the result of another factor (e.g. emotional disturbance, cognitive impairment, etc.)"]
[]
[]
[null,null,null,null,null,null,null,"Repeated assessment of achievement reflecting student progress"]
[]
[]
[null,null,null,null,null,null,null,"Attendance record",null,null,null,null,"Adverse effect on educational performance"]
[]
[]
["Click on the [+] button to expand or the [-] button to collapse."]
["For Reevaluation of Eligibility Only",null,null,null,null,null,null,null,null,null,null,null,null,null,null,null,null,null,"Select","V149",null,null,null,null,{"$f":"S150","v":"Select"},{"$f":"S150","v":"Select"}]
[{"$f":"HYPERLINK(\"http://sdlegislature.gov/Rules/DisplayRule.aspx?Rule=24:05:24.01:19\",\"Reevaluation of Eligibility\n(24:05:24.01:19)\")","v":"Reevaluation of Eligibility\n(24:05:24.01:19)"},null,null,null,null,null,"Written report must include:",null,null,null,null,null,null,null,null,null,null,null,null,null,null,null,null,{"$f":"Y151+Z151","v":0},{"$f":"COUNTIF(Y150,\"Yes\")*3","v":0},{"$f":"COUNTIF(Z150,\"No\")*3","v":0}]
[]
[null,null,null,null,null,null,null,"Student achieves adequately",null,null,null,null,"Achievement level problem is/is not primarily the result of another factor (e.g. emotional disturbance, cognitive impairment, etc.)"]
[]
[null,null,null,null,null,null,null,"Student exhibits pattern of strengths & weaknesses"]
[]
[]
[null,null,null,null,null,null,null,"Observation of the student"]
[null,null,null,null,null,null,null,null,null,null,null,null,"Adverse effect on educational performance"]
[null,null,null,null,null,null,null,"Relevant medical findings (if any)"]
[]
[]
["Click on the [+] button to expand or the [-] button to collapse."]
[{"$f":"HYPERLINK(\"http://sdlegislature.gov/Rules/DisplayRule.aspx?Rule=24:05:25:08\",\"Team Member Signatures \n(24:05:25:08)\")","v":"Team Member Signatures \n(24:05:25:08)"},null,null,null,null,null,"Check the following:",null,null,null,null,null,null,null,null,null,null,null,"Select","V163",null,null,null,null,{"$f":"S164","v":"Select"},{"$f":"S164","v":"Select"}]
[null,null,null,null,null,null,null,null,null,null,null,null,null,null,null,null,null,null,null,null,null,null,null,{"$f":"Y165+Z165","v":0},{"$f":"COUNTIF(Y164,\"Yes\")*3","v":0},{"$f":"COUNTIF(Z164,\"No\")*3","v":0}]
[null,null,null,null,null,null,null,"Parent",null,null,null,null,"Each group member shall certify in writing whether the report reflects the group member's conclusion. If it does not reflect the group member's conclusion, the group member must submit the conclusion in a separate statement."]
[null,null,null,null,null,null,null,"General Education Teacher"]
[{"$f":"HYPERLINK(\"http://sdlegislature.gov/Rules/DisplayRule.aspx?Rule=24:05:25:13\",\"Group Members to Certify \nReport in Writing \n(24:05:25:13)\")","v":"Group Members to Certify \nReport in Writing \n(24:05:25:13)"},null,null,null,null,null,null,"Special Education Teacher"]
[null,null,null,null,null,null,null,"Qualified interpreter of results"]
[null,null,null,null,null,null,null,"LEA Representative"]
[null,null,null,null,null,null,null,"If disagreed, written input was provided"]
[]
[null,null,null,null,null,null,"Check PWWN for eligibility decisions.                         ",null,null,null,null,"Skip to","PPWN.",null,null,null,null,null,"Select",null,null,null,null,null,{"$f":"S173","v":"Select"},{"$f":"S173","v":"Select"}]
[null,null,null,null,null,null,null,null,null,null,null,null,null,null,null,null,null,null,null,null,null,null,null,{"$f":"Y174+Z174","v":0},{"$f":"COUNTIF(Y173,\"Yes\")*3","v":0},{"$f":"COUNTIF(Z173,\"No\")*3","v":0}]
[]
[{"$f":"HYPERLINK(\"https://gosynth.com/p/s/mzphio\",\"Meeting Notice\")","v":"Meeting Notice"},null,null,null,null,null,null,null,null,null,null,null,null,null,null,null,null,null,{"$f":"IFERROR(Y184/X184,\"N/A\")","v":"N/A"}]
["Meeting Notice",null,null,null,null,null,"Date sent:",null,null,null,null,null,"From this point on use the current IEP's documentation.",null,null,null,null,null,"Select","V174",null,null,null,null,{"$f":"S177","v":"Select"},{"$f":"S177","v":"Select"}]
[{"$f":"HYPERLINK(\"http://sdlegislature.gov/Rules/DisplayRule.aspx?Rule=24:05:30:02.01\",\"(24:05:30:02.01)\")","v":"(24:05:30:02.01)"},null,null,{"$f":"HYPERLINK(\"http://sdlegislature.gov/Rules/DisplayRule.aspx?Rule=24:05:25:16\",\"(24:05:25:16)\")","v":"(24:05:25:16)"},null,null,"Meeting date:",null,null,{"$f":"T5","v":"00:00:00"},null,null,null,null,null,null,null,null,null,null,null,null,null,{"$f":"Y178+Z178","v":0},{"$f":"COUNTIF(Y177,\"Yes\")*3","v":0},{"$f":"COUNTIF(Z177,\"No\")*3","v":0}]
["Procedural Safeguards",null,null,null,null,null,"Must be given to parents annually.",null,null,null,null,null,null,null,null,null,null,null,"Select",null,null,null,null,null,{"$f":"S179","v":"Select"},{"$f":"S179","v":"Select"}]
[{"$f":"HYPERLINK(\"http://sdlegislature.gov/Rules/DisplayRule.aspx?Rule=24:05:30:06.01\",\"(24:05:30:06.01)\")","v":"(24:05:30:06.01)"},null,null,{"$f":"HYPERLINK(\"http://sdlegislature.gov/Rules/DisplayRule.aspx?Rule=24:05:30:06.02\",\"(24:05:30:06.02)\")","v":"(24:05:30:06.02)"},null,null,null,null,null,null,null,null,null,null,null,null,null,null,null,null,null,null,null,{"$f":"Y180+Z180","v":0},{"$f":"COUNTIF(Y179,\"Yes\")*3","v":0},{"$f":"COUNTIF(Z179,\"No\")*3","v":0}]
["IEP Team",null,null,null,null,null,"Complete the following:",null,null,null,null,null,null,null,null,null,null,null,"Select",null,null,null,null,null,{"$f":"S181","v":"Select"},{"$f":"S181","v":"Select"}]
[null,null,null,null,null,null,null,null,null,null,null,null,null,null,null,null,null,null,null,null,null,null,null,{"$f":"Y182+Z182","v":0},{"$f":"COUNTIF(Y181,\"Yes\")*3","v":0},{"$f":"COUNTIF(Z181,\"No\")*3","v":0}]
[null,null,null,null,null,null,null,"The documentation of people attending the IEP meeting on front page of the IEP does not imply agreement, it is for participation purposes only."]
[null,null,null,null,null,null,null,null,null,null,null,null,null,null,null,null,null,null,null,null,null,null,null,{"$f":"(X178+X180+X182+X198)/4","v":0},{"$f":"(Y178+Y180+Y182+Y198)/4","v":0}]
[null,null,null,null,null,null,null,"Identified on the meeting notice:",null,null,"Attended the meeting:",null,null,"Did not attend\nthe meeting:"]
[]
[{"$f":"HYPERLINK(\"http://sdlegislature.gov/Rules/DisplayRule.aspx?Rule=24:05:25:16\",\"(24:05:25:16)\")","v":"(24:05:25:16)"},null,null,null,null,null,null,"Parent/Guardian"]
[null,null,null,null,null,null,null,"Student"]
[null,null,null,null,null,null,null,"Gen. Ed. Teacher"]
[null,null,null,null,null,null,null,"Sp. Ed. Teacher"]
["Parent Participation",null,null,null,null,null,null,"Eval Interpreter"]
[{"$f":"HYPERLINK(\"http://sdlegislature.gov/Rules/DisplayRule.aspx?Rule=24:05:25:16\",\"(24:05:25:16)\")","v":"(24:05:25:16)"},null,null,null,null,null,null,"LEA Representative"]
[null,null,null,null,null,null,null,"List Others"]
[null,null,null,null,null,null,null,"List Others"]
[null,null,null,null,null,null,null,"List Others"]
[]
["IEP Team Attendance \n (24:05:27:01.05)",null,null,null,null,null,"A member of the IEP team may be excused from attending, in whole or in part, an IEP team meeting that involves a modification to or discussion of the member's area of the curriculum or related services, if:\n   (1) The parent and school district consent in writing to the excusal; and\n   (2) The member submits, in writing to the parent and the IEP team, input into the development of the IEP before the meeting.",null,null,null,null,null,null,null,null,null,null,null,"Select","V194",null,null,null,null,{"$f":"S197","v":"Select"},{"$f":"S197","v":"Select"}]
[null,null,null,null,null,null,null,null,null,null,null,null,null,null,null,null,null,null,null,null,null,null,null,{"$f":"Y198+Z198","v":0},{"$f":"COUNTIF(Y197,\"Yes\")*3","v":0},{"$f":"COUNTIF(Z197,\"No\")*3","v":0}]
[]
[]
[]
[]
[{"$f":"HYPERLINK(\"https://gosynth.com/p/s/jshfqs\",\"          Individual Education Plan (Use the most recent IEP.)\n\")","v":"          Individual Education Plan (Use the most recent IEP.)\n"},null,null,null,null,null,null,null,null,null,null,null,null,null,null,null,null,null,{"$f":"IFERROR(Y210/X210,\"N/A\")","v":"N/A"}]
[{"$f":"HYPERLINK(\"http://sdlegislature.gov/Rules/DisplayRule.aspx?Rule=24:05:25:04.03\",\"Evaluation Reports Given to Parents \n(24:05:25:04.03)\")","v":"Evaluation Reports Given to Parents \n(24:05:25:04.03)"},null,null,null,null,null,"Evidence the parent received a copy of the reports (e.g.  initials on the front page IEP or other evidence). ",null,null,null,null,null,null,null,null,null,null,null,"Select","V201",null,null,null,null,{"$f":"S204","v":"Select"},{"$f":"S204","v":"Select"}]
[null,null,null,null,null,null,null,null,null,null,null,null,null,null,null,null,null,null,null,null,null,null,null,{"$f":"Y205+Z205","v":0},{"$f":"COUNTIF(Y204,\"Yes\")*3","v":0},{"$f":"COUNTIF(Z204,\"No\")*3","v":0}]
[{"$f":"HYPERLINK(\"http://sdlegislature.gov/Rules/DisplayRule.aspx?Rule=24:05:25:19\",\"Copy of IEP Given to Parents \n(24:05:25:19)\")","v":"Copy of IEP Given to Parents \n(24:05:25:19)"},null,null,null,null,null,"Evidence copy of the IEP was given to parents (e.g.  initials on the front page, addressed in PPWN, or other evidence).",null,null,null,null,null,null,null,null,null,null,null,"Select",null,null,null,null,null,{"$f":"S206","v":"Select"},{"$f":"S206","v":"Select"}]
[null,null,null,null,null,null,null,null,null,null,null,null,null,null,null,null,null,null,null,null,null,null,null,{"$f":"Y207+Z207","v":0},{"$f":"COUNTIF(Y206,\"Yes\")*3","v":0},{"$f":"COUNTIF(Z206,\"No\")*3","v":0}]
[{"$f":"HYPERLINK(\"http://sdlegislature.gov/Rules/DisplayRule.aspx?Rule=24:05:27:08\",\"Met Annually\n(24:05:27:08)\")","v":"Met Annually\n(24:05:27:08)"},null,null,null,null,null,"Current IEP Meeting Date:",null,null,null,null,{"$f":"T5","v":"00:00:00"},null,null,null,null,null,null,"Select",null,null,null,null,null,{"$f":"S208","v":"Select"},{"$f":"S208","v":"Select"}]
[null,null,null,null,null,null,"Previous IEP Meeting Date:",null,null,null,null,{"$f":"T6","v":"00:00:00"},null,null,null,null,null,null,null,null,null,null,null,{"$f":"Y209+Z209","v":0},{"$f":"COUNTIF(Y208,\"Yes\")*3","v":0},{"$f":"COUNTIF(Z208,\"No\")*3","v":0}]
[null,null,null,null,null,null,null,null,null,null,null,null,null,null,null,null,null,null,null,null,null,null,null,{"$f":"(X205+X207+X209)/3","v":0},{"$f":"(Y205+Y207+Y209)/3","v":0}]
[{"$f":"HYPERLINK(\"https://gosynth.com/p/s/eypdgf\",\"Present Levels of Academic Achievement & Functional Performance\")","v":"Present Levels of Academic Achievement & Functional Performance"},null,null,null,null,null,null,null,null,null,null,null,null,null,null,null,null,null,{"$f":"IFERROR(Y243/X243,\"N/A\")","v":"N/A"}]
[{"$f":"HYPERLINK(\"http://sdlegislature.gov/Rules/DisplayRule.aspx?Rule=24:05:27:01.03\",\"Progress/Involvement in \nGeneral Education Curriculum\n(24:05:27:01.03)\")","v":"Progress/Involvement in \nGeneral Education Curriculum\n(24:05:27:01.03)"},null,null,null,null,null,"A statement of the student's present levels of academic achievement and functional performance, including:\n   (a)  How the student's disability affects the student's involvement and progress in the general education curriculum (i.e., the same curriculum as for nondisabled students); or\n   (b)  For preschool student, as appropriate, how the disability affects the student's participation in appropriate activities;\nis found in the document.",null,null,null,null,null,null,null,null,null,null,null,"Select","V209",null,null,null,null,{"$f":"S212","v":"Select"},{"$f":"S212","v":"Select"}]
[null,null,null,null,null,null,null,null,null,null,null,null,null,null,null,null,null,null,null,null,null,null,null,{"$f":"Y213+Z213","v":0},{"$f":"COUNTIF(Y212,\"Yes\")*3","v":0},{"$f":"COUNTIF(Z212,\"No\")*3","v":0}]
[]
[{"$f":"HYPERLINK(\"https://sdlegislature.gov/Rules/DisplayRule.aspx?Rule=24:05:25:16\",\"Parent Participation\n(24:05:25:16)\")","v":"Parent Participation\n(24:05:25:16)"},null,null,null,null,null,"The purpose of this area for parent to provide IEP team information about how the child’s disability is impacted at home. Parents can also provide input on types of strategies and supports they provide at home.",null,null,null,null,null,null,null,null,null,null,null,"Select",null,null,null,null,null,{"$f":"S215","v":"Select"},{"$f":"S215","v":"Select"}]
[null,null,null,null,null,null,null,null,null,null,null,null,null,null,null,null,null,null,null,null,null,null,null,{"$f":"Y216+Z216","v":0},{"$f":"COUNTIF(Y215,\"Yes\")*3","v":0},{"$f":"COUNTIF(Z215,\"No\")*3","v":0}]
[{"$f":"HYPERLINK(\"http://sdlegislature.gov/Rules/DisplayRule.aspx?Rule=24:05:27:01.03\",\"Present Levels of \nAcademic Achievement \n& Functional Performance\nLinked to Annual Goals\n(24:05:27:01.03)\")","v":"Present Levels of \nAcademic Achievement \n& Functional Performance\nLinked to Annual Goals\n(24:05:27:01.03)"},null,null,null,null,null,"Skill Area:",null,null,null,null,"Measuarable Goal:",null,null,null,null,null,null,"Select","V214",null,null,null,null,{"$f":"S217","v":"Select"},{"$f":"S217","v":"Select"}]
[null,null,null,null,null,null,null,null,null,null,null,null,null,null,null,null,null,null,null,null,null,null,null,{"$f":"Y218+Z218","v":0},{"$f":"COUNTIF(Y217,\"Yes\")*3","v":0},{"$f":"COUNTIF(Z217,\"No\")*3","v":0}]
[null,null,null,null,null,null,null,"Strengths",null,null,null,null,"Condition",null,null,"How well"]
[null,null,null,null,null,null,null,"Needs",null,null,null,null,"Performance",null,null,"How often"]
[null,null,null,null,null,null,null,"Link to evaluation"]
[]
[null,null,null,null,null,null,"Skill Area:",null,null,null,null,"Measuarable Goal:",null,null,null,null,null,null,"Select",null,null,null,null,null,{"$f":"S223","v":"Select"},{"$f":"S223","v":"Select"}]
[null,null,null,null,null,null,null,null,null,null,null,null,null,null,null,null,null,null,null,null,null,null,null,{"$f":"Y224+Z224","v":0},{"$f":"COUNTIF(Y223,\"Yes\")*3","v":0},{"$f":"COUNTIF(Z223,\"No\")*3","v":0}]
[null,null,null,null,null,null,null,"Strengths",null,null,null,null,"Condition",null,null,"How well"]
[null,null,null,null,null,null,null,"Needs",null,null,null,null,"Performance",null,null,"How often"]
[null,null,null,null,null,null,null,"Link to evaluation"]
[]
[null,null,null,null,null,null,"Skill Area:",null,null,null,null,"Measuarable Goal:",null,null,null,null,null,null,"Select",null,null,null,null,null,{"$f":"S229","v":"Select"},{"$f":"S229","v":"Select"}]
[null,null,null,null,null,null,null,null,null,null,null,null,null,null,null,null,null,null,null,null,null,null,null,{"$f":"Y230+Z230","v":0},{"$f":"COUNTIF(Y229,\"Yes\")*3","v":0},{"$f":"COUNTIF(Z229,\"No\")*3","v":0}]
[null,null,null,null,null,null,null,"Strengths",null,null,null,null,"Condition",null,null,"How well"]
[null,null,null,null,null,null,null,"Needs",null,null,null,null,"Performance",null,null,"How often"]
[null,null,null,null,null,null,null,"Link to evaluation"]
[]
[{"$f":"HYPERLINK(\"http://sdlegislature.gov/Rules/DisplayRule.aspx?Rule=24:05:27:01.03\",\"How Progress will be Measured\n(24:05:27:01.03)\")","v":"How Progress will be Measured\n(24:05:27:01.03)"},null,null,null,null,null,{"$f":"HYPERLINK(\"https://gosynth.com/p/s/psaxcx\",\"         Check the following:\")","v":"         Check the following:"},null,null,null,null,null,null,null,null,null,null,null,"Select","V232",null,null,null,null,{"$f":"S235","v":"Select"},{"$f":"S235","v":"Select"}]
[null,null,null,null,null,null,null,null,null,null,null,null,null,null,null,null,null,null,null,null,null,null,null,{"$f":"Y236+Z236","v":0},{"$f":"COUNTIF(Y235,\"Yes\")*3","v":0},{"$f":"COUNTIF(Z235,\"No\")*3","v":0}]
[null,null,null,null,null,null,null,"Reporting frequency",null,null,null,null,"Extent of progress"]
[null,null,null,null,null,null,null,"Reporting method"]
[]
[{"$f":"HYPERLINK(\"http://sdlegislature.gov/Rules/DisplayRule.aspx?Rule=24:05:27:01.03\",\"Accommodations/Modifications\n(24:05:27:01.03)\")","v":"Accommodations/Modifications\n(24:05:27:01.03)"},null,null,null,null,null,{"$f":"HYPERLINK(\"https://gosynth.com/p/s/rtpvrq\",\"         Check the following:\")","v":"         Check the following:"},null,null,null,null,"List Instructional Accommodations:",null,null,null,null,null,null,"Select","V237",null,null,null,null,{"$f":"S240","v":"Select"},{"$f":"S240","v":"Select"}]
[null,null,null,null,null,null,null,"Frequency",null,null,null,null,null,null,null,null,null,null,null,null,null,null,null,{"$f":"Y241+Z241","v":0},{"$f":"COUNTIF(Y240,\"Yes\")*3","v":0},{"$f":"COUNTIF(Z240,\"No\")*3","v":0}]
[null,null,null,null,null,null,null,"Duration"]
[null,null,null,null,null,null,null,"Location",null,null,null,null,null,null,null,null,null,null,null,null,null,null,null,{"$f":"(X241+X236+X230+X224+X218+X216+X213)/7","v":0},{"$f":"(Y241+Y236+Y230+Y224+Y218+Y216+Y213)/7","v":0}]
[]
[]
[null,null,null,null,null,null,null,"Are the accommodations appropriate for the skill areas affected by the diability?"]
[]
[]
[]
[null,null,null,null,null,null,null,null,"Yes"]
[null,null,null,null,null,null,null,null,"No"]
[]
[]
[]
[{"$f":"HYPERLINK(\"https://gosynth.com/p/s/ygpazf\",\"Special Factors\")","v":"Special Factors"},null,null,null,null,null,null,null,null,null,null,null,null,null,null,null,null,null,{"$f":"IFERROR(Y294/X294,\"N/A\")","v":"N/A"}]
[{"$f":"HYPERLINK(\"http://sdlegislature.gov/Rules/DisplayRule.aspx?Rule=24:05:27:01.02\",\"Considerations\n(24:05:27:01.02)\")","v":"Considerations\n(24:05:27:01.02)"},null,null,null,null,null,"Select for each:",null,null,"Determine if data supports the selection for each special factor; if not addressed, check \"N\"  for score.",null,null,null,null,null,null,null,null,"Select","V243",null,null,null,null,{"$f":"S256","v":"Select"},{"$f":"S256","v":"Select"}]
[null,null,null,null,null,null,null,null,null,null,null,null,null,null,null,null,null,null,null,null,null,null,null,{"$f":"Y257+Z257","v":0},{"$f":"COUNTIF(Y256,\"Yes\")*3","v":0},{"$f":"COUNTIF(Z256,\"No\")*3","v":0}]
[null,null,null,null,null,null,null,null,null,"Limited English proficient"]
[null,null,null,null,null,null,null,null,null,"Special communication needs"]
[null,null,null,null,null,null,null,null,null,"Requires Braille"]
[null,null,null,null,null,null,null,null,null,"Behavior impedes learning"]
[null,null,null,null,null,null,null,null,null,"Requires assistive technology & services"]
[null,null,null,null,null,null,null,null,null,"Physical education"]
[null,null,null,null,null,null,null,null,null,"Hearing aid maintenance"]
[{"$f":"HYPERLINK(\"http://sdlegislature.gov/Rules/DisplayRule.aspx?Rule=24:05:27:01.03\",\"State/District Assessments\n(24:05:27:01.03)\")","v":"State/District Assessments\n(24:05:27:01.03)"},null,null,null,null,null,{"$f":"HYPERLINK(\"https://gosynth.com/p/s/jdbbir\",\"             Students will be taking state and district-wide assessments:\")","v":"             Students will be taking state and district-wide assessments:"},null,null,null,null,null,null,null,null,null,null,null,"Select","V263",null,null,null,null,{"$f":"S265","v":"Select"},{"$f":"S265","v":"Select"}]
[null,null,null,null,null,null,null,"With accommodations",null,null,null,null,"Without accommodations",null,null,null,null,null,null,null,null,null,null,{"$f":"Y266+Z266","v":0},{"$f":"COUNTIF(Y265,\"Yes\")*3","v":0},{"$f":"COUNTIF(Z265,\"No\")*3","v":0}]
[null,null,null,null,null,null,"Testing accommodations must reflect instructional accommodations."]
[null,null,null,null,null,null,"Do the accommodations for the state/district assesment(s) \nmatch the instructional accommodations?"]
[]
[null,null,null,null,null,null,"Instructional \nAccommodations",null,null,null,"State/District\nAssessment\nAccommodations",null,null,null,"Select\nyes or no:"]
[]
[]
[null,null,null,null,null,null,{"$f":"L241","v":0},null,null,null,null,null,null,null,"- Select -"]
[null,null,null,null,null,null,0,null,null,null,null,null,null,null,"- Select -"]
[null,null,null,null,null,null,0,null,null,null,null,null,null,null,"- Select -"]
[null,null,null,null,null,null,0,null,null,null,null,null,null,null,"- Select -"]
[null,null,null,null,null,null,0]
[null,null,null,null,null,null,0,null,null,null,null,null,null,null,"- Select -"]
[null,null,null,null,null,null,0,null,null,null,null,null,null,null,"- Select -"]
[null,null,null,null,null,null,0]
[null,null,null,null,null,null,0]
[null,null,null,null,null,null,0,null,null,null,null,null,null,null,"- Select -"]
[null,null,null,null,null,null,0,null,null,null,null,null,null,null,"- Select -"]
[null,null,null,null,null,null,0,null,null,null,null,null,null,null,"- Select -"]
[null,null,null,null,null,null,0,null,null,null,null,null,null,null,"- Select -"]
[null,null,null,null,null,null,0,null,null,null,null,null,null,null,"- Select -"]
[null,null,null,null,null,null,"Were the accommodations for\n the state assessment identified \non the IEP provided according to \nthe assessment data sheet?"]
[null,null,null,null,null,null,null,null,null,null,null,null,null,"- Select -"]
[]
[{"$f":"HYPERLINK(\"http://sdlegislature.gov/Rules/DisplayRule.aspx?Rule=24:05:27:01.03\",\"Alternate Assessments\n(24:05:27:01.03)\")","v":"Alternate Assessments\n(24:05:27:01.03)"},null,null,null,null,null,{"$f":"HYPERLINK(\"https://gosynth.com/p/s/bjlejx\",\"                  The following must be met:\")","v":"                  The following must be met:"},null,null,null,null,null,null,null,null,null,null,null,"Select","V257",null,null,null,null,{"$f":"S290","v":"Select"},{"$f":"S290","v":"Select"}]
[null,null,null,null,null,null,null,null,null,null,null,null,null,null,null,null,null,null,null,null,null,null,null,{"$f":"Y291+Z291","v":0},{"$f":"COUNTIF(Y290,\"Yes\")*3","v":0},{"$f":"COUNTIF(Z290,\"No\")*3","v":0}]
[null,null,null,null,null,null,null,"Student meets the significant cognitive disability criteria"]
[null,null,null,null,null,null,null,"Explanation for why student cannot participate in the regular assessment"]
[null,null,null,null,null,null,null,null,null,null,null,null,null,null,null,null,null,null,null,null,null,null,null,{"$f":"(X291+X266+X257)/3","v":0},{"$f":"(Y291+Y266+Y257)/3","v":0}]
[null,null,null,null,null,null,null,"Explanation for why the alternate assessment selected is appropriate"]
[]
[null,null,null,null,null,null,null,"The alternate assessment is for students working in the alternate achievement standards.  Annual goals and short term objectives are required.                                                                         \n                                                                        "]
[]
[]
[null,null,null,null,null,null,"Does the PPWN explain why IEP team decided alternate assessment for the student?"]
[null,null,null,null,null,null,"Does the student taking the\n alternate assessment meet\n the criteria, has it been \ndocumented on the IEP?"]
[null,null,null,null,null,null,null,null,null,null,null,null,null,"- Select -"]
[]
[]
[{"$f":"HYPERLINK(\"https://gosynth.com/p/s/itwkve\",\"Transition\")","v":"Transition"},null,null,null,null,null,null,null,null,null,null,null,null,null,null,null,null,null,{"$f":"IFERROR(Y306/X306,\"N/A\")","v":"N/A"}]
["Indicator 13 Item 1",null,null,null,null,null,null,null,null,null,null,null,null,null,null,null,null,null,null,null,null,null,null,{"$f":"(X308+X310+X312+X314+X316+X319+X321+X323+X326+X329+X331+X333+X336+X338+X340+X343+X345+X347+X350+X356+X362+X364+X366+X369)/24","v":0},{"$f":"(Y308+Y310+Y312+Y314+Y316+Y319+Y321+Y323+Y326+Y329+Y331+Y333+Y336+Y338+Y340+Y343+Y345+Y347+Y350+Y356+Y362+Y364+Y366+Y369)/24","v":0}]
[{"$f":"HYPERLINK(\"http://sdlegislature.gov/Rules/DisplayRule.aspx?Rule=24:05:27:01.03\",\"Transition IEP*\n(24:05:27:01.03)\")","v":"Transition IEP*\n(24:05:27:01.03)"},null,null,null,null,null,{"$f":"HYPERLINK(\"https://gosynth.com/p/s/itwkve\",\"Transition IEP must be in effect for all students on their 16 birthday or for younger students if it is addressed in the IEP.   \n*This is not on the Indicator 13 checklist, but it is a compliance requirement. \")","v":"Transition IEP must be in effect for all students on their 16 birthday or for younger students if it is addressed in the IEP.   \n*This is not on the Indicator 13 checklist, but it is a compliance requirement. "},null,null,null,null,null,null,null,null,null,null,null,"Select","V269",null,null,null,null,{"$f":"S307","v":"Select"},{"$f":"S307","v":"Select"}]
[null,null,null,null,null,null,null,null,null,null,null,null,null,null,null,null,null,null,null,null,null,null,null,{"$f":"Y308+Z308","v":0},{"$f":"COUNTIF(Y307,\"Yes\")*3","v":0},{"$f":"COUNTIF(Z307,\"No\")*3","v":0}]
[null,null,null,null,null,null,null,null,null,null,null,null,null,null,null,null,null,null,"Select",null,null,null,null,null,{"$f":"S309","v":"Select"},{"$f":"S309","v":"Select"}]
[{"$f":"HYPERLINK(\"http://sdlegislature.gov/Rules/DisplayRule.aspx?Rule=24:05:27:01.03\",\"Transition Assessments\n(24:05:27:01.03)\")","v":"Transition Assessments\n(24:05:27:01.03)"},null,null,null,null,null,null,"Employment",null,null,null,null,null,null,null,null,null,null,null,null,null,null,null,{"$f":"Y310+Z310","v":0},{"$f":"COUNTIF(Y309,\"Yes\")*3","v":0},{"$f":"COUNTIF(Z309,\"No\")*3","v":0}]
[null,null,null,null,null,null,null,null,null,null,null,null,null,null,null,null,null,null,"Select",null,null,null,null,null,{"$f":"S311","v":"Select"},{"$f":"S311","v":"Select"}]
[null,null,null,null,null,null,null,"Education/Training",null,null,null,null,null,null,null,null,null,null,null,null,null,null,null,{"$f":"Y312+Z312","v":0},{"$f":"COUNTIF(Y311,\"Yes\")*3","v":0},{"$f":"COUNTIF(Z311,\"No\")*3","v":0}]
[null,null,null,null,null,null,null,"Independent Living",null,null,null,null,null,null,null,null,null,null,"Select",null,null,null,null,null,{"$f":"S313","v":"Select"},{"$f":"S313","v":"Select"}]
[null,null,null,null,null,null,{"$f":"HYPERLINK(\"https://gosynth.com/p/s/itwkve\",\"The transition assessment must be completed prior to the age of 16 and updated annually.  Evidence of transition strengths/ needs are document on the PLAAFPs.  \")","v":"The transition assessment must be completed prior to the age of 16 and updated annually.  Evidence of transition strengths/ needs are document on the PLAAFPs.  "},null,null,null,null,null,null,null,null,null,null,null,null,null,null,null,null,{"$f":"Y314+Z314","v":0},{"$f":"COUNTIF(Y313,\"Yes\")*3","v":0},{"$f":"COUNTIF(Z313,\"No\")*3","v":0}]
["Transition Evaluation Report*\n",null,null,null,null,null,{"$f":"HYPERLINK(\"https://gosynth.com/p/s/itwkve\",\"A transition evaluation report is located in the file.\n\n*This is not on the Indicator 13 checklist, but it is a compliance requirement. \")","v":"A transition evaluation report is located in the file.\n\n*This is not on the Indicator 13 checklist, but it is a compliance requirement. "},null,null,null,null,null,null,null,null,null,null,null,"Select",null,null,null,null,null,{"$f":"S315","v":"Select"},{"$f":"S315","v":"Select"}]
[null,null,null,null,null,null,null,null,null,null,null,null,null,null,null,null,null,null,null,null,null,null,null,{"$f":"Y316+Z316","v":0},{"$f":"COUNTIF(Y315,\"Yes\")*3","v":0},{"$f":"COUNTIF(Z315,\"No\")*3","v":0}]
[{"$f":"HYPERLINK(\"https://gosynth.com/p/s/itwkve\",\"Indicator 13 Item 2\")","v":"Indicator 13 Item 2"}]
[{"$f":"HYPERLINK(\"http://sdlegislature.gov/Rules/DisplayRule.aspx?Rule=24:05:27:01.03\",\"Age-Appropriate Measurable \nPost-Secondary Goals \n(24:05:27:01.03)\")","v":"Age-Appropriate Measurable \nPost-Secondary Goals \n(24:05:27:01.03)"},null,null,null,null,null,null,"Employment",null,null,null,null,null,null,null,null,null,null,"Select","V278",null,null,null,null,{"$f":"S318","v":"Select"},{"$f":"S318","v":"Select"}]
[null,null,null,null,null,null,null,null,null,null,null,null,null,null,null,null,null,null,null,null,null,null,null,{"$f":"Y319+Z319","v":0},{"$f":"COUNTIF(Y318,\"Yes\")*3","v":0},{"$f":"COUNTIF(Z318,\"No\")*3","v":0}]
[null,null,null,null,null,null,null,"Education/Training",null,null,null,null,null,null,null,null,null,null,"Select",null,null,null,null,null,{"$f":"S320","v":"Select"},{"$f":"S320","v":"Select"}]
[null,null,null,null,null,null,null,null,null,null,null,null,null,null,null,null,null,null,null,null,null,null,null,{"$f":"Y321+Z321","v":0},{"$f":"COUNTIF(Y320,\"Yes\")*3","v":0},{"$f":"COUNTIF(Z320,\"No\")*3","v":0}]
[null,null,null,null,null,null,null,"Independent Living",null,null,null,null,null,null,null,null,null,null,"Select",null,null,null,null,null,{"$f":"S322","v":"Select"},{"$f":"S322","v":"Select"}]
[null,null,null,null,null,null,null,null,null,null,null,null,null,null,null,null,null,null,null,null,null,null,null,{"$f":"Y323+Z323","v":0},{"$f":"COUNTIF(Y322,\"Yes\")*3","v":0},{"$f":"COUNTIF(Z322,\"No\")*3","v":0}]
[{"$f":"HYPERLINK(\"https://gosynth.com/p/s/itwkve\",\"Indicator 13 Item 3\")","v":"Indicator 13 Item 3"}]
["MPSGs Updated Annually",null,null,null,null,null,null,null,null,null,null,null,null,null,null,null,null,null,"Select","V282",null,null,null,null,{"$f":"S325","v":"Select"},{"$f":"S325","v":"Select"}]
[null,null,null,null,null,null,null,null,null,null,null,null,null,null,null,null,null,null,null,null,null,null,null,{"$f":"Y326+Z326","v":0},{"$f":"COUNTIF(Y325,\"Yes\")*3","v":0},{"$f":"COUNTIF(Z325,\"No\")*3","v":0}]
["Indicator 13 Item 4"]
[{"$f":"HYPERLINK(\"http://sdlegislature.gov/Rules/DisplayRule.aspx?Rule=24:05:27:01.03\",\"Course of Study Aligns to \nPost-Secondary Goals\n(24:05:27:01.03)\")","v":"Course of Study Aligns to \nPost-Secondary Goals\n(24:05:27:01.03)"},null,null,null,null,null,null,"Employment",null,null,null,null,null,null,null,null,null,null,"Select","V285",null,null,null,null,{"$f":"S328","v":"Select"},{"$f":"S328","v":"Select"}]
[null,null,null,null,null,null,null,null,null,null,null,null,null,null,null,null,null,null,null,null,null,null,null,{"$f":"Y329+Z329","v":0},{"$f":"COUNTIF(Y328,\"Yes\")*3","v":0},{"$f":"COUNTIF(Z328,\"No\")*3","v":0}]
[null,null,null,null,null,null,null,"Education/Training",null,null,null,null,null,null,null,null,null,null,"Select",null,null,null,null,null,{"$f":"S330","v":"Select"},{"$f":"S330","v":"Select"}]
[null,null,null,null,null,null,null,null,null,null,null,null,null,null,null,null,null,null,null,null,null,null,null,{"$f":"Y331+Z331","v":0},{"$f":"COUNTIF(Y330,\"Yes\")*3","v":0},{"$f":"COUNTIF(Z330,\"No\")*3","v":0}]
[null,null,null,null,null,null,null,"Independent Living",null,null,null,null,null,null,null,null,null,null,"Select",null,null,null,null,null,{"$f":"S332","v":"Select"},{"$f":"S332","v":"Select"}]
[null,null,null,null,null,null,"Completed by age 16, or younger if transition has been addressed in the IEP, and updated annually through graduation or ‘age out’.",null,null,null,null,null,null,null,null,null,null,null,null,null,null,null,null,{"$f":"Y333+Z333","v":0},{"$f":"COUNTIF(Y332,\"Yes\")*3","v":0},{"$f":"COUNTIF(Z332,\"No\")*3","v":0}]
[{"$f":"HYPERLINK(\"https://gosynth.com/p/s/itwkve\",\"Indicator 13 Item 5\")","v":"Indicator 13 Item 5"}]
[{"$f":"HYPERLINK(\"http://sdlegislature.gov/Rules/DisplayRule.aspx?Rule=24:05:27:13.02\",\"Transition Services/Activities\n(24:05:27:13.02)\")","v":"Transition Services/Activities\n(24:05:27:13.02)"},null,null,null,null,null,null,"Employment",null,null,null,null,null,null,null,null,null,null,"Select","V290",null,null,null,null,{"$f":"S335","v":"Select"},{"$f":"S335","v":"Select"}]
[null,null,null,null,null,null,null,null,null,null,null,null,null,null,null,null,null,null,null,null,null,null,null,{"$f":"Y336+Z336","v":0},{"$f":"COUNTIF(Y335,\"Yes\")*3","v":0},{"$f":"COUNTIF(Z335,\"No\")*3","v":0}]
[null,null,null,null,null,null,null,"Education/Training",null,null,null,null,null,null,null,null,null,null,"Select",null,null,null,null,null,{"$f":"S337","v":"Select"},{"$f":"S337","v":"Select"}]
[null,null,null,null,null,null,null,null,null,null,null,null,null,null,null,null,null,null,null,null,null,null,null,{"$f":"Y338+Z338","v":0},{"$f":"COUNTIF(Y337,\"Yes\")*3","v":0},{"$f":"COUNTIF(Z337,\"No\")*3","v":0}]
[null,null,null,null,null,null,null,"Independent Living",null,null,null,null,null,null,null,null,null,null,"Select",null,null,null,null,null,{"$f":"S339","v":"Select"},{"$f":"S339","v":"Select"}]
[null,null,null,null,null,null,"Services/activities will reasonably enable the student to meet post-secondary goals and have at least one activity per MPSG addressed.",null,null,null,null,null,null,null,null,null,null,null,null,null,null,null,null,{"$f":"Y340+Z340","v":0},{"$f":"COUNTIF(Y339,\"Yes\")*3","v":0},{"$f":"COUNTIF(Z339,\"No\")*3","v":0}]
[{"$f":"HYPERLINK(\"https://gosynth.com/p/s/itwkve\",\"Indicator 13 Item 6\")","v":"Indicator 13 Item 6"}]
[{"$f":"HYPERLINK(\"http://sdlegislature.gov/Rules/DisplayRule.aspx?Rule=24:05:27:13.02\",\"Annual Goal Related to Student’s Transition Service needs in\n(24:05:27:13.02)\")","v":"Annual Goal Related to Student’s Transition Service needs in\n(24:05:27:13.02)"},null,null,null,null,null,null,"Employment",null,null,null,null,null,null,null,null,null,null,"Select","V295",null,null,null,null,{"$f":"S342","v":"Select"},{"$f":"S342","v":"Select"}]
[null,null,null,null,null,null,null,null,null,null,null,null,null,null,null,null,null,null,null,null,null,null,null,{"$f":"Y343+Z343","v":0},{"$f":"COUNTIF(Y342,\"Yes\")*3","v":0},{"$f":"COUNTIF(Z342,\"No\")*3","v":0}]
[null,null,null,null,null,null,null,"Education/Training",null,null,null,null,null,null,null,null,null,null,"Select",null,null,null,null,null,{"$f":"S344","v":"Select"},{"$f":"S344","v":"Select"}]
[null,null,null,null,null,null,null,null,null,null,null,null,null,null,null,null,null,null,null,null,null,null,null,{"$f":"Y345+Z345","v":0},{"$f":"COUNTIF(Y344,\"Yes\")*3","v":0},{"$f":"COUNTIF(Z344,\"No\")*3","v":0}]
[null,null,null,null,null,null,null,"Independent Living",null,null,null,null,null,null,null,null,null,null,"Select",null,null,null,null,null,{"$f":"S346","v":"Select"},{"$f":"S346","v":"Select"}]
[null,null,null,null,null,null,{"$f":"HYPERLINK(\"https://gosynth.com/p/s/itwkve\",\"Annual goals are linked to the MPSGs.\")","v":"Annual goals are linked to the MPSGs."},null,null,null,null,null,null,null,null,null,null,null,null,null,null,null,null,{"$f":"Y347+Z347","v":0},{"$f":"COUNTIF(Y346,\"Yes\")*3","v":0},{"$f":"COUNTIF(Z346,\"No\")*3","v":0}]
[{"$f":"HYPERLINK(\"https://gosynth.com/p/s/pisllo\",\"Indicator 13 Item 7\")","v":"Indicator 13 Item 7"}]
[{"$f":"HYPERLINK(\"http://sdlegislature.gov/Rules/DisplayRule.aspx?Rule=24:05:25:16.01\",\"Student Invitation/Participation\n(24:05:25:16.01)\")","v":"Student Invitation/Participation\n(24:05:25:16.01)"},null,null,null,null,null,"How the student invited?",null,null,null,null,{"$f":"HYPERLINK(\"https://gosynth.com/p/s/pisllo\",\"If student was not in attendance at the meeting, the IEP should show evidence that student's preferences and interests were taken into account. *\")","v":"If student was not in attendance at the meeting, the IEP should show evidence that student's preferences and interests were taken into account. *"},null,null,null,null,null,null,"Select","V300",null,null,null,null,{"$f":"S349","v":"Select"},{"$f":"S349","v":"Select"}]
[null,null,null,null,null,null,null,null,null,null,null,null,null,null,null,null,null,null,null,null,null,null,null,{"$f":"Y350+Z350","v":0},{"$f":"COUNTIF(Y349,\"Yes\")*3","v":0},{"$f":"COUNTIF(Z349,\"No\")*3","v":0}]
[null,null,null,null,null,null,null,"Meeting notice"]
[null,null,null,null,null,null,null,"Individual student invite"]
[]
[{"$f":"HYPERLINK(\"https://gosynth.com/p/s/pisllo\",\"Indicator 13 Item 8\")","v":"Indicator 13 Item 8"}]
[{"$f":"HYPERLINK(\"http://sdlegislature.gov/Rules/DisplayRule.aspx?Rule=24:05:25:16.01\",\"Consent to Invite Outside Agency\n(24:05:25:16.01)\")","v":"Consent to Invite Outside Agency\n(24:05:25:16.01)"},null,null,null,null,null,{"$f":"HYPERLINK(\"https://gosynth.com/p/s/pisllo\",\" Written Consent to invite:\")","v":" Written Consent to invite:"},null,null,null,null,null,null,"List of agencies invited:",null,null,null,null,"Select","V306",null,null,null,null,{"$f":"S355","v":"Select"},{"$f":"S355","v":"Select"}]
[null,null,null,null,null,null,"Invited on Meeting Notice:",null,null,null,null,null,"Yes",null,null,null,null,null,null,null,null,null,null,{"$f":"Y356+Z356","v":0},{"$f":"COUNTIF(Y355,\"Yes\")*3","v":0},{"$f":"COUNTIF(Z355,\"No\")*3","v":0}]
[null,null,null,null,null,null,null,null,null,null,null,null,"No"]
[null,null,null,null,null,null,"Meeting Notice Date:",null,null,null,null,{"$f":"J177","v":"00:00:00"}]
[null,null,null,null,null,null,"Date of Current IEP Meeting:",null,null,null,null,{"$f":"T5","v":"00:00:00"}]
[{"$f":"HYPERLINK(\"https://gosynth.com/p/s/pisllo\",\"Other Transition Areas *\")","v":"Other Transition Areas *"}]
[{"$f":"HYPERLINK(\"http://sdlegislature.gov/Rules/DisplayRule.aspx?Rule=24:05:30:16.01\",\"Transfer of Parental Rights:\n(24:05:30:16.01)\")","v":"Transfer of Parental Rights:\n(24:05:30:16.01)"},null,null,null,null,null,"Turned 17 on:",null,null,null,null,null,null,null,null,null,null,null,"Select","V312",null,null,null,null,{"$f":"S361","v":"Select"},{"$f":"S361","v":"Select"}]
[null,null,null,null,null,null,"Rights reviewed on:",null,null,null,null,null,null,null,null,null,null,null,null,null,null,null,null,{"$f":"Y362+Z362","v":0},{"$f":"COUNTIF(Y361,\"Yes\")*3","v":0},{"$f":"COUNTIF(Z361,\"No\")*3","v":0}]
[{"$f":"HYPERLINK(\"http://sdlegislature.gov/Rules/DisplayRule.aspx?Rule=24:05:27:12\",\"Specific Graduation Requirements:\n(24:05:27:12)\")","v":"Specific Graduation Requirements:\n(24:05:27:12)"},null,null,null,null,null,"Graduation requirements addressed on:",null,null,null,null,null,null,null,null,null,null,null,"Select",null,null,null,null,null,{"$f":"S363","v":"Select"},{"$f":"S363","v":"Select"}]
[null,null,null,null,null,null,"Student is projected to graduate:",null,null,null,null,null,null,null,null,null,null,null,null,null,null,null,null,{"$f":"Y364+Z364","v":0},{"$f":"COUNTIF(Y363,\"Yes\")*3","v":0},{"$f":"COUNTIF(Z363,\"No\")*3","v":0}]
[{"$f":"HYPERLINK(\"http://sdlegislature.gov/Rules/DisplayRule.aspx?Rule=24:05:27:12\",\"When Student has Graduated\n(24:05:27:12)\")","v":"When Student has Graduated\n(24:05:27:12)"},null,null,null,null,null,"Written prior notice was sent:",null,null,null,null,null,null,null,null,null,null,null,"Select",null,null,null,null,null,{"$f":"S365","v":"Select"},{"$f":"S365","v":"Select"}]
[null,null,null,null,null,null,{"$f":"HYPERLINK(\"https://gosynth.com/p/s/pisllo\",\"When a student graduates, it is a change in placement. It must have a written\n prior notice sent.  If student has \"\"aged-out\"\", a PPWN is required.  \")","v":"When a student graduates, it is a change in placement. It must have a written\n prior notice sent.  If student has \"aged-out\", a PPWN is required.  "},null,null,null,null,null,null,null,null,null,null,null,null,null,null,null,null,{"$f":"Y366+Z366","v":0},{"$f":"COUNTIF(Y365,\"Yes\")*3","v":0},{"$f":"COUNTIF(Z365,\"No\")*3","v":0}]
[]
[{"$f":"HYPERLINK(\"http://sdlegislature.gov/Rules/DisplayRule.aspx?Rule=24:05:27:12\",\"Summary of Performance was provided to the Student/Parent/Guardian\n(24:05:27:12)\")","v":"Summary of Performance was provided to the Student/Parent/Guardian\n(24:05:27:12)"},null,null,null,null,null,{"$f":"HYPERLINK(\"https://gosynth.com/p/s/pisllo\",\"Summary of Performance (SOP) is required for students who graduated and\n aged out. A copy of the SOP should remain in the file.\")","v":"Summary of Performance (SOP) is required for students who graduated and\n aged out. A copy of the SOP should remain in the file."},null,null,null,null,null,null,null,null,null,null,null,"Select",null,null,null,null,null,{"$f":"S368","v":"Select"},{"$f":"S368","v":"Select"}]
[null,null,null,null,null,null,null,null,null,null,null,null,null,null,null,null,null,null,null,null,null,null,null,{"$f":"Y369+Z369","v":0},{"$f":"COUNTIF(Y368,\"Yes\")*3","v":0},{"$f":"COUNTIF(Z368,\"No\")*3","v":0}]
[]
["Click on the [+] button to expand or the [-] button to collapse."]
[{"$f":"HYPERLINK(\"https://gosynth.com/p/s/kldkzb\",\"Related Services\")","v":"Related Services"},null,null,null,null,null,null,null,null,null,null,null,null,null,null,null,null,null,{"$f":"IFERROR(Y375/X375,\"N/A\")","v":"N/A"}]
[{"$f":"HYPERLINK(\"http://sdlegislature.gov/Rules/DisplayRule.aspx?Rule=24:05:27:16\",\"Related Services\n(24:05:27)\")","v":"Related Services\n(24:05:27)"},null,null,null,null,null,"Service Provided:",null,null,null,null,null,"If student will receive services in a different location, then must break it out to calculate the Least Restrictive Environment.",null,null,null,null,null,"Select","V324",null,null,null,null,{"$f":"S373","v":"Select"},{"$f":"S373","v":"Select"}]
[null,null,null,null,null,null,null,null,null,null,null,null,null,null,null,null,null,null,null,null,null,null,null,{"$f":"Y374+Z374","v":0},{"$f":"COUNTIF(Y373,\"Yes\")*3","v":0},{"$f":"COUNTIF(Z373,\"No\")*3","v":0}]
[null,null,null,null,null,null,null,"Frequency",null,null,"Location",null,null,null,null,null,null,null,null,null,null,null,null,{"$f":"(X374+X379)/2","v":0},{"$f":"(Y374+Y379)/2","v":0}]
[null,null,null,null,null,null,null,"Duration",null,null,"Other"]
[null,null,null,null,null,null,"Service Provided:",null,null,null,null,null,"At a minimum, all areas student qualifies and has an annual goal must have service time documented. If not addressed, then PPWN must explain reason."]
[null,null,null,null,null,null,null,null,null,null,null,null,null,null,null,null,null,null,"Select",null,null,null,null,null,{"$f":"S378","v":"Select"},{"$f":"S378","v":"Select"}]
[null,null,null,null,null,null,null,"Frequency",null,null,"Location",null,null,null,null,null,null,null,null,null,null,null,null,{"$f":"Y379+Z379","v":0},{"$f":"COUNTIF(Y378,\"Yes\")*3","v":0},{"$f":"COUNTIF(Z378,\"No\")*3","v":0}]
[null,null,null,null,null,null,null,"Duration",null,null,"Other"]
[]
["Least Restrictive Environment ",null,null,null,null,null,null,null,null,null,null,null,null,null,null,null,null,null,{"$f":"IFERROR(Y382/X382,\"N/A\")","v":"N/A"},null,null,null,null,{"$f":"(X384+X388+X392+X396+X400+X402+X404+X406+X408)/9","v":0},{"$f":"(Y384+Y388+Y392+Y396+Y400+Y402+Y404+Y406+Y408)/9","v":0}]
[{"$f":"HYPERLINK(\"https://sdlegislature.gov/Rules/DisplayRule.aspx?Rule=24:05:28\",\"Least Restrictive Enviornment \n(Chapter 24:05:28)\")","v":"Least Restrictive Enviornment \n(Chapter 24:05:28)"},null,null,null,null,null,{"$f":"HYPERLINK(\"https://gosynth.com/p/s/llxjsq\",\"Skill area:\")","v":"Skill area:"},null,null,null,null,null,null,null,null,null,null,null,"Select","V334",null,null,null,null,{"$f":"S383","v":"Select"},{"$f":"S383","v":"Select"}]
[null,null,null,null,null,null,null,null,null,null,null,null,null,null,null,null,null,null,null,null,null,null,null,{"$f":"Y384+Z384","v":0},{"$f":"COUNTIF(Y383,\"Yes\")*3","v":0},{"$f":"COUNTIF(Z383,\"No\")*3","v":0}]
[null,null,null,null,null,null,null,null,"Frequency",null,null,"Duration",null,null,"Location"]
[]
[null,null,null,null,null,null,"Skill area:",null,null,null,null,null,null,null,null,null,null,null,"Select",null,null,null,null,null,{"$f":"S387","v":"Select"},{"$f":"S387","v":"Select"}]
[null,null,null,null,null,null,null,null,null,null,null,null,null,null,null,null,null,null,null,null,null,null,null,{"$f":"Y388+Z388","v":0},{"$f":"COUNTIF(Y387,\"Yes\")*3","v":0},{"$f":"COUNTIF(Z387,\"No\")*3","v":0}]
[null,null,null,null,null,null,null,null,"Frequency",null,null,"Duration",null,null,"Location"]
[]
[null,null,null,null,null,null,"Skill area:",null,null,null,null,null,null,null,null,null,null,null,"Select",null,null,null,null,null,{"$f":"S391","v":"Select"},{"$f":"S391","v":"Select"}]
[null,null,null,null,null,null,null,null,null,null,null,null,null,null,null,null,null,null,null,null,null,null,null,{"$f":"Y392+Z392","v":0},{"$f":"COUNTIF(Y391,\"Yes\")*3","v":0},{"$f":"COUNTIF(Z391,\"No\")*3","v":0}]
[null,null,null,null,null,null,null,null,"Frequency",null,null,"Duration",null,null,"Location"]
[]
[null,null,null,null,null,null,"Skill area:",null,null,null,null,null,null,null,null,null,null,null,"Select",null,null,null,null,null,{"$f":"S395","v":"Select"},{"$f":"S395","v":"Select"}]
[null,null,null,null,null,null,null,null,null,null,null,null,null,null,null,null,null,null,null,null,null,null,null,{"$f":"Y396+Z396","v":0},{"$f":"COUNTIF(Y395,\"Yes\")*3","v":0},{"$f":"COUNTIF(Z395,\"No\")*3","v":0}]
[null,null,null,null,null,null,null,null,"Frequency",null,null,"Duration",null,null,"Location"]
[]
[{"$f":"HYPERLINK(\"http://sdlegislature.gov/Rules/DisplayRule.aspx?Rule=24:05:28:02\",\"Continuum of Placement\n(24:05:28:02)\")","v":"Continuum of Placement\n(24:05:28:02)"},null,null,null,null,null,"Select:",null,null,null,null,null,null,null,null,null,null,null,"Select","V350",null,null,null,null,{"$f":"S399","v":"Select"},{"$f":"S399","v":"Select"}]
[null,null,null,null,null,null,null,null,null,null,null,null,null,null,null,null,null,null,null,null,null,null,null,{"$f":"Y400+Z400","v":0},{"$f":"COUNTIF(Y399,\"Yes\")*3","v":0},{"$f":"COUNTIF(Z399,\"No\")*3","v":0}]
[null,null,null,null,null,null,"Select for Early Childhood (Ages 3-5):",null,null,null,null,null,null,null,null,null,null,null,"Select",null,null,null,null,null,{"$f":"S401","v":"Select"},{"$f":"S401","v":"Select"}]
[null,null,null,null,null,null,null,null,null,null,null,null,null,null,null,null,null,null,null,null,null,null,null,{"$f":"Y402+Z402","v":0},{"$f":"COUNTIF(Y401,\"Yes\")*3","v":0},{"$f":"COUNTIF(Z401,\"No\")*3","v":0}]
[{"$f":"HYPERLINK(\"http://sdlegislature.gov/Rules/DisplayRule.aspx?Rule=24:05:27:01.03\",\"Participation with Non-disabled Peers\n(24:05:27:01.03)\")","v":"Participation with Non-disabled Peers\n(24:05:27:01.03)"},null,null,null,null,null,{"$f":"HYPERLINK(\"https://gosynth.com/p/s/wjqcuh\",\"Document opportunities to participate with non-disabled peers.\")","v":"Document opportunities to participate with non-disabled peers."},null,null,null,null,null,null,null,null,null,null,null,"Select",null,null,null,null,null,{"$f":"S403","v":"Select"},{"$f":"S403","v":"Select"}]
[null,null,null,null,null,null,null,null,null,null,null,null,null,null,null,null,null,null,null,null,null,null,null,{"$f":"Y404+Z404","v":0},{"$f":"COUNTIF(Y403,\"Yes\")*3","v":0},{"$f":"COUNTIF(Z403,\"No\")*3","v":0}]
[{"$f":"HYPERLINK(\"http://sdlegislature.gov/Rules/DisplayRule.aspx?Rule=24:05:28:03\",\"Justification for Placement \n(24:05:28:03)\")","v":"Justification for Placement \n(24:05:28:03)"},null,null,null,null,null,{"$f":"HYPERLINK(\"https://gosynth.com/p/s/rjxcoc\",\"                  Select from the following:\")","v":"                  Select from the following:"},null,null,null,null,null,null,null,null,null,null,null,"Select",null,null,null,null,null,{"$f":"S405","v":"Select"},{"$f":"S405","v":"Select"}]
[null,null,null,null,null,null,null,null,null,null,null,null,null,null,null,null,null,null,null,null,null,null,null,{"$f":"Y406+Z406","v":0},{"$f":"COUNTIF(Y405,\"Yes\")*3","v":0},{"$f":"COUNTIF(Z405,\"No\")*3","v":0}]
[{"$f":"HYPERLINK(\"http://sdlegislature.gov/Rules/DisplayRule.aspx?Rule=24:05:25:26\",\"Extended School Year\n(24:05:25:26)\")","v":"Extended School Year\n(24:05:25:26)"},null,null,null,null,null,{"$f":"HYPERLINK(\"https://gosynth.com/p/s/bbepxx\",\"                  Check the following:\")","v":"                  Check the following:"},null,null,null,null,null,null,null,null,null,null,null,"Select","V358",null,null,null,null,{"$f":"S407","v":"Select"},{"$f":"S407","v":"Select"}]
[null,null,null,null,null,null,null,null,null,null,null,null,null,null,null,null,null,null,null,null,null,null,null,{"$f":"Y408+Z408","v":0},{"$f":"COUNTIF(Y407,\"Yes\")*3","v":0},{"$f":"COUNTIF(Z407,\"No\")*3","v":0}]
[null,null,null,null,null,null,null,null,"Determination",null,null,null,"Beginning/end dates"]
[null,null,null,null,null,null,null,null,"Goals",null,null,null,"Amount of service"]
[]
[]
[]
[{"$f":"HYPERLINK(\"https://gosynth.com/p/s/acbbuk\",\"Prior Parental Written Notice\")","v":"Prior Parental Written Notice"},null,null,null,null,null,null,null,null,null,null,null,null,null,null,null,null,null,{"$f":"IFERROR(Y414/X414,\"N/A\")","v":"N/A"},null,null,null,null,{"$f":"(X416+X421)/2","v":0},{"$f":"(Y416+Y421)/2","v":0}]
[{"$f":"HYPERLINK(\"http://sdlegislature.gov/Rules/DisplayRule.aspx?Rule=24:05:30:04\",\"Prior Written Notice Sent to Parent Regarding IEP Implementation\n(24:05:30:04)\")","v":"Prior Written Notice Sent to Parent Regarding IEP Implementation\n(24:05:30:04)"},null,null,null,null,null,"Date the district sent the PPWN:",null,null,null,null,null,null,null,"The implementation date documented on the PPWN must be reflected on IEP.\n\nThe five-day notice requirement may be waived by the parents.",null,null,null,"Select","V366",null,null,null,null,{"$f":"S415","v":"Select"},{"$f":"S415","v":"Select"}]
[null,null,null,null,null,null,"District proposed at least 5 calendar days to begin implementation:",null,null,null,null,null,{"$f":"M415+5","v":"1900-01-05"},null,null,null,null,null,null,null,null,null,null,{"$f":"Y416+Z416","v":0},{"$f":"COUNTIF(Y415,\"Yes\")*3","v":0},{"$f":"COUNTIF(Z415,\"No\")*3","v":0}]
[]
[null,null,null,null,null,null,"Was the 5 calendar day notice requirement met?",null,null,null,null,null,null,"Yes"]
[null,null,null,null,null,null,null,null,null,null,null,null,null,"No"]
[{"$f":"HYPERLINK(\"http://sdlegislature.gov/Rules/DisplayRule.aspx?Rule=24:05:30:05\",\"Content of PPWN\n(24:05:30:05)\")","v":"Content of PPWN\n(24:05:30:05)"},null,null,null,null,null,"Check the following:",null,null,null,null,null,null,null,null,null,null,null,"Select","V371",null,null,null,null,{"$f":"S420","v":"Select"},{"$f":"S420","v":"Select"}]
[null,null,null,null,null,null,"PPWN must be individualized to the student, IEP team discussions and situation.",null,null,null,null,null,null,null,null,null,null,null,null,null,null,null,null,{"$f":"Y421+Z421","v":0},{"$f":"COUNTIF(Y420,\"Yes\")*3","v":0},{"$f":"COUNTIF(Z420,\"No\")*3","v":0}]
[]
[null,null,null,null,null,null,null,"Explanation of why the district proposed or refused to take the action"]
[null,null,null,null,null,null,null,"Description of other options considered and why they were rejected "]
[null,null,null,null,null,null,null,"Description of evidence used for the proposed or refused action"]
[null,null,null,null,null,null,null,"Description of other factors that are relevant to proposal or refusal"]
[]
[null,null,null,null,null,null,"To skip back to Eligibility section click ",null,null,null,null,"HERE."]
[]
[{"$f":"HYPERLINK(\"https://gosynth.com/p/s/iwvzyu\",\"Amendment to IEP\")","v":"Amendment to IEP"},null,null,null,null,null,null,null,null,null,null,null,null,null,null,null,null,null,{"$f":"IFERROR(Z430/Y430,\"N/A\")","v":"N/A"},null,null,null,null,null,{"$f":"(X432+X434)/2","v":0},{"$f":"(Y432+Y434)/2","v":0}]
["Amendment to IEP",null,null,null,null,null,null,null,null,null,null,null,null,null,null,null,null,null,"Select","V381",null,null,null,null,{"$f":"S431","v":"Select"},{"$f":"S431","v":"Select"}]
[{"$f":"HYPERLINK(\"http://sdlegislature.gov/Rules/DisplayRule.aspx?Rule=24:05:27:08.01\",\"(24:05:27:08.01)\")","v":"(24:05:27:08.01)"},null,null,{"$f":"HYPERLINK(\"http://sdlegislature.gov/Rules/DisplayRule.aspx?Rule=24:05:27:08.02\",\"(24:05:27:08.02)\")","v":"(24:05:27:08.02)"},null,null,null,null,null,null,null,null,null,null,null,null,null,null,null,null,null,null,null,{"$f":"Y432+Z432","v":0},{"$f":"COUNTIF(Y431,\"Yes\")*3","v":0},{"$f":"COUNTIF(Z431,\"No\")*3","v":0}]
[{"$f":"HYPERLINK(\"http://sdlegislature.gov/Rules/DisplayRule.aspx?Rule=24:05:30:04\",\"Prior Notice\n(24:05:30:04)\")","v":"Prior Notice\n(24:05:30:04)"},null,null,null,null,null,"Document if the amendment was made with or without a meeting.",null,null,null,null,null,null,null,null,null,null,null,"Select",null,null,null,null,null,{"$f":"S433","v":"Select"},{"$f":"S433","v":"Select"}]
[null,null,null,null,null,null,null,null,null,null,null,null,null,null,null,null,null,null,null,null,null,null,null,{"$f":"Y434+Z434","v":0},{"$f":"COUNTIF(Y433,\"Yes\")*3","v":0},{"$f":"COUNTIF(Z433,\"No\")*3","v":0}]
[]
[{"$f":"HYPERLINK(\"https://gosynth.com/p/s/jdtswp\",\"Additional Items\")","v":"Additional Items"},null,null,null,null,null,null,null,null,null,null,null,null,null,null,null,null,null,{"$f":"IFERROR(AB436/AA436,\"N/A\")","v":"N/A"},null,null,null,null,null,{"$f":"S437","v":"Select"},{"$f":"S437","v":"Select"},{"$f":"(X437+X439+X441+X443)/4","v":0},{"$f":"(Y437+Y439+Y441+Y443)/4","v":0}]
["Parent Declined/\nWithdrew Consent for Services ",null,null,null,null,null,"Revocation signed:",null,null,null,null,null,null,{"$f":"HYPERLINK(\"http://sdlegislature.gov/Rules/DisplayRule.aspx?Rule=24:05:27:04.02\",\"(24:05:27:04.02)\")","v":"(24:05:27:04.02)"},null,null,null,null,"Select","V387",null,null,null,{"$f":"Y437+Z437","v":0},{"$f":"COUNTIF(Y436,\"Yes\")*3","v":0},{"$f":"COUNTIF(Z436,\"No\")*3","v":0}]
[null,null,null,null,null,null,"Date prior notice was sent:",null,null,null,null,null,null,null,null,null,null,null,null,null,null,null,null,null,{"$f":"S439","v":"Select"},{"$f":"S439","v":"Select"}]
["Surrogate Parent",null,null,null,null,null,null,null,null,null,null,null,null,null,null,null,null,null,"Select",null,null,null,null,{"$f":"Y439+Z439","v":0},{"$f":"COUNTIF(Y438,\"Yes\")*3","v":0},{"$f":"COUNTIF(Z438,\"No\")*3","v":0}]
["Transfer Students Provided with  FAPE/Comparable Services ",null,null,null,null,null,"Date prior notice was sent:",null,null,null,null,null,null,{"$f":"HYPERLINK(\"http://sdlegislature.gov/Rules/DisplayRule.aspx?Rule=24:05:27:15.01\",\"In-state (24:05:27:15.01)\")","v":"In-state (24:05:27:15.01)"},null,null,null,null,"Select",null,null,null,null,null,{"$f":"S440","v":"Select"},{"$f":"S440","v":"Select"}]
[null,null,null,null,null,null,null,null,null,null,null,null,null,{"$f":"HYPERLINK(\"http://sdlegislature.gov/Rules/DisplayRule.aspx?Rule=24:05:27:15.02\",\"Out-of-state (24:05:27:15.02)\")","v":"Out-of-state (24:05:27:15.02)"},null,null,null,null,null,null,null,null,null,{"$f":"Y441+Z441","v":0},{"$f":"COUNTIF(Y440,\"Yes\")*3","v":0},{"$f":"COUNTIF(Z440,\"No\")*3","v":0}]
["Transfer Students Evaluated for \nSouth Dakota Eligibility",null,null,null,null,null,"Eligibility determination date:",null,null,null,null,null,null,null,null,null,null,null,"Select",null,null,null,null,null,{"$f":"S442","v":"Select"},{"$f":"S442","v":"Select"}]
[null,null,null,null,null,null,"IEP date:",null,null,null,null,null,null,null,null,null,null,null,null,null,null,null,null,{"$f":"Y443+Z443","v":0},{"$f":"COUNTIF(Y442,\"Yes\")*3","v":0},{"$f":"COUNTIF(Z442,\"No\")*3","v":0}]
[null,null,null,null,null,null,"PPWN Implementing IEP sent:"]

{"sheet":"File 3","index":6,"n_rows":444,"n_cols":28,"rows_kept":444,"cut":false,"hidden":false,"merged":[[436,18,437,18],[437,6,437,10],[437,11,437,12],[438,6,438,17],[442,6,442,10],[442,11,442,12],[413,19,413,21],[414,6,414,11],[414,12,414,13],[414,14,418,17],[414,18,418,18],[414,19,418,21],[417,6,418,11],[419,6,419,17],[420,6,420,17],[216,14,216,16],[443,6,443,10],[443,11,443,12],[446,11,447,12],[439,6,440,10],[439,11,440,12],[439,13,439,17],[440,13,440,17],[441,6,441,10],[441,11,441,12],[441,13,443,17],[415,6,416,11],[415,12,416,13],[413,0,413,17],[422,7,422,17],[423,7,423,17],[424,7,424,17],[425,7,425,17],[426,6,426,17],[427,6,427,10],[427,11,427,17],[436,6,436,10],[436,11,436,12],[436,13,437,17],[216,6,216,7],[216,8,216,10],[205,0,206,5],[207,0,209,5],[216,11,216,13],[231,7,231,10],[209,6,209,13],[210,0,210,17],[211,0,213,5],[211,6,213,16],[214,0,215,5],[214,6,215,16],[216,0,233,5],[225,12,225,13],[225,15,225,16],[226,7,226,10],[227,6,227,10],[228,6,228,7],[228,8,228,10],[228,11,228,13],[228,14,228,16],[230,7,230,10],[230,12,230,13],[230,15,230,16],[196,0,200,5],[196,6,200,17],[196,18,200,18],[201,0,201,21],[202,0,202,17],[202,19,202,21],[203,0,204,5],[188,7,188,9],[188,10,188,12],[189,7,189,9],[189,10,189,12],[186,0,189,5],[186,7,186,9],[186,10,186,12],[192,7,192,9],[193,7,193,9],[193,10,193,12],[194,7,194,9],[190,0,190,5],[190,7,190,9],[190,10,190,12],[191,0,195,5],[191,7,191,9],[191,10,191,12],[152,12,156,15],[154,7,156,10],[145,7,146,10],[145,12,146,15],[149,18,162,18],[149,19,162,21],[150,6,150,15],[150,17,160,17],[158,12,159,15],[151,6,151,15],[152,7,153,10],[157,7,158,10],[157,12,157,15],[210,19,210,21],[211,19,215,21],[214,18,215,18],[196,19,200,21],[203,19,209,21],[205,18,206,18],[207,14,208,17],[207,18,209,18],[209,14,209,17],[211,18,213,18],[205,6,206,17],[207,6,207,10],[207,11,207,13],[208,6,208,10],[208,11,208,13],[203,6,204,17],[203,18,204,18],[190,13,190,16],[191,13,191,16],[192,13,192,16],[193,13,193,16],[194,13,194,16],[176,12,177,17],[184,13,185,16],[186,13,186,16],[184,10,185,12],[194,10,194,12],[180,6,180,17],[182,7,183,16],[187,7,187,9],[187,10,187,12],[187,13,187,16],[188,13,188,16],[192,10,192,12],[172,12,173,17],[172,18,173,18],[172,19,173,21],[177,0,177,2],[177,3,177,5],[177,6,177,8],[177,9,177,11],[178,0,178,5],[178,6,179,17],[179,0,179,2],[179,3,179,5],[176,18,177,18],[176,19,195,21],[178,18,179,18],[180,18,195,18],[176,0,176,5],[176,6,176,8],[176,9,176,11],[174,0,174,21],[175,0,175,17],[175,19,175,21],[180,0,185,5],[184,7,185,9],[189,13,189,16],[216,18,221,18],[216,19,233,21],[222,18,227,18],[228,18,233,18],[218,7,218,10],[218,12,218,13],[220,7,220,10],[221,6,221,10],[222,6,222,7],[222,8,222,10],[222,11,222,13],[222,14,222,16],[231,12,231,13],[231,15,231,16],[232,7,232,10],[233,6,233,10],[218,15,218,16],[219,7,219,10],[219,12,219,13],[219,15,219,16],[224,7,224,10],[224,12,224,13],[224,15,224,16],[225,7,225,10],[117,6,117,13],[117,14,117,17],[118,6,119,17],[120,0,120,21],[118,0,119,5],[130,18,148,18],[130,19,148,21],[133,12,134,15],[135,7,137,10],[135,12,136,15],[137,12,138,15],[138,7,141,10],[139,12,144,15],[142,7,144,10],[121,0,121,17],[121,19,121,21],[122,0,122,17],[122,18,129,18],[122,19,129,21],[123,0,129,5],[123,6,123,17],[124,6,124,17],[125,7,125,11],[126,7,126,11],[165,12,169,17],[167,7,167,11],[168,7,168,11],[110,18,112,18],[110,19,119,21],[113,18,114,18],[115,18,117,18],[118,18,119,18],[104,18,105,18],[106,18,107,18],[169,7,169,11],[162,0,162,17],[163,0,166,5],[163,6,163,17],[163,18,171,18],[163,19,171,21],[164,6,164,17],[167,0,173,5],[165,7,165,11],[166,7,166,11],[170,7,170,13],[171,7,171,11],[172,6,173,10],[172,11,173,11],[98,18,101,18],[98,19,101,21],[99,11,99,13],[106,6,107,17],[84,18,97,18],[84,19,97,21],[86,6,86,8],[86,9,86,12],[87,15,87,17],[100,11,100,13],[101,11,101,13],[102,6,103,17],[102,18,103,18],[94,13,94,14],[94,15,94,17],[95,15,95,17],[96,13,96,14],[96,15,96,17],[99,6,99,10],[100,6,100,10],[102,19,109,21],[108,18,109,18],[89,13,89,14],[89,15,89,17],[91,13,91,14],[91,15,91,17],[92,13,92,14],[92,15,92,17],[97,13,97,14],[97,15,97,17],[98,11,98,13],[98,14,101,17],[93,15,93,17],[93,13,93,14],[110,0,112,5],[110,6,110,10],[111,6,111,10],[113,0,114,5],[115,0,117,5],[115,6,115,12],[116,6,116,12],[98,0,101,5],[98,6,98,10],[101,6,101,10],[102,0,103,5],[104,0,105,5],[106,0,107,5],[108,0,109,5],[104,6,105,17],[108,6,109,17],[110,11,110,13],[110,14,111,17],[111,11,111,13],[112,6,112,13],[112,14,112,17],[113,6,114,17],[115,13,115,15],[116,13,116,15],[90,6,90,8],[90,9,90,12],[78,6,78,8],[78,9,78,12],[80,0,83,5],[80,6,80,8],[80,9,80,12],[81,9,81,12],[84,0,90,5],[83,9,83,12],[96,6,96,8],[96,9,96,12],[91,0,91,5],[91,6,91,8],[91,9,91,12],[92,0,97,5],[92,9,92,12],[93,9,93,12],[94,9,94,12],[93,6,93,8],[94,6,94,8],[92,6,92,8],[97,6,97,8],[97,9,97,12],[74,19,83,21],[76,6,76,8],[76,9,76,12],[76,13,76,14],[76,15,76,17],[77,6,77,8],[77,9,77,12],[77,13,77,14],[77,15,77,17],[82,6,82,8],[82,9,82,12],[82,13,82,14],[82,15,82,17],[83,15,83,17],[78,13,78,14],[78,15,78,17],[80,13,80,14],[80,15,80,17],[81,13,81,14],[81,15,81,17],[83,13,83,14],[74,18,83,18],[81,6,81,8],[83,6,83,8],[150,0,161,5],[159,6,160,6],[159,7,160,10],[161,6,161,15],[89,6,89,8],[89,9,89,12],[90,13,90,14],[90,15,90,17],[95,9,95,12],[147,6,147,15],[148,0,148,17],[149,0,149,17],[128,7,128,11],[128,13,128,17],[131,0,147,5],[131,6,131,15],[131,17,147,17],[132,6,132,15],[133,7,134,10],[95,6,95,8],[127,7,127,11],[127,13,127,17],[129,6,129,17],[130,0,130,17],[84,15,85,17],[84,6,85,8],[86,13,86,14],[86,15,86,17],[87,9,87,12],[87,13,87,14],[88,6,88,8],[88,9,88,12],[84,13,85,14],[88,13,88,14],[88,15,88,17],[84,9,85,12],[87,6,87,8],[125,13,125,17],[126,13,126,17],[66,15,66,17],[66,13,66,14],[67,0,67,5],[67,6,67,8],[67,9,67,12],[67,13,67,14],[67,15,67,17],[68,0,73,5],[79,0,79,5],[79,6,79,8],[79,9,79,12],[79,13,79,14],[79,15,79,17],[72,6,72,8],[72,9,72,12],[74,0,78,5],[74,6,75,8],[74,9,75,12],[74,13,75,14],[74,15,75,17],[68,13,68,14],[73,6,73,8],[60,13,61,14],[60,15,61,17],[62,13,62,14],[62,15,62,17],[63,13,63,14],[63,15,63,17],[64,13,64,14],[64,15,64,17],[65,13,65,14],[65,15,65,17],[54,0,59,5],[54,6,54,9],[54,10,54,12],[55,6,55,9],[55,10,55,12],[45,19,53,21],[54,19,59,21],[58,13,59,17],[56,6,56,9],[56,10,56,12],[57,6,57,9],[57,10,57,12],[58,6,58,9],[58,10,58,12],[59,6,59,9],[59,10,59,12],[62,9,62,12],[63,9,63,12],[64,9,64,12],[65,9,65,12],[66,9,66,12],[60,0,66,5],[60,6,61,8],[62,6,62,8],[63,6,63,8],[64,6,64,8],[65,6,65,8],[66,6,66,8],[60,9,61,12],[21,10,21,13],[21,14,21,17],[27,9,27,11],[27,12,27,17],[52,6,52,17],[53,6,53,17],[45,6,45,17],[46,6,46,17],[47,6,47,17],[48,7,48,17],[49,7,49,17],[50,7,50,17],[51,7,51,17],[39,6,40,17],[22,6,22,9],[22,10,22,13],[25,0,25,21],[26,0,26,17],[26,19,26,21],[22,14,22,17],[23,6,23,9],[23,10,23,13],[23,14,23,17],[45,0,53,5],[17,0,17,21],[18,0,18,17],[19,0,24,5],[19,9,19,11],[19,12,19,17],[20,14,20,17],[24,6,24,17],[8,3,8,6],[8,7,8,9],[9,0,9,21],[8,0,8,2],[10,0,12,5],[10,10,11,10],[10,11,11,13],[10,14,11,17],[10,18,11,18],[10,19,11,21],[18,19,18,21],[19,18,24,18],[19,19,24,21],[20,6,20,9],[20,10,20,13],[19,6,19,8],[21,6,21,9],[10,6,10,9],[11,6,11,9],[12,6,12,21],[13,0,13,21],[14,0,14,17],[14,19,14,21],[15,0,16,5],[15,18,16,18],[15,19,16,21],[15,6,16,17],[6,0,6,2],[6,10,6,13],[7,14,7,18],[8,14,8,18],[8,19,8,21],[4,14,4,18],[4,19,4,21],[5,14,5,18],[5,19,5,21],[6,14,6,18],[6,19,6,21],[7,19,7,21],[6,3,6,6],[6,7,6,9],[7,0,7,2],[7,3,7,6],[7,7,7,9],[7,10,7,13],[8,10,8,13],[3,0,3,21],[4,0,4,2],[4,3,4,6],[4,7,4,9],[4,10,4,13],[5,0,5,2],[5,3,5,6],[5,7,5,9],[5,11,5,13],[0,0,0,3],[0,4,0,5],[0,6,0,8],[0,9,0,11],[0,12,0,14],[0,15,0,17],[0,19,0,21],[1,0,2,13],[1,14,2,17],[1,18,2,18],[1,19,2,21],[73,9,73,12],[73,13,73,14],[73,15,73,17],[68,6,68,8],[68,9,68,12],[69,6,69,8],[69,9,69,12],[69,13,69,14],[69,15,69,17],[70,6,70,8],[70,9,70,12],[70,13,70,14],[70,15,70,17],[71,6,71,8],[71,9,71,12],[71,13,71,14],[71,15,71,17],[68,15,68,17],[72,13,72,14],[72,15,72,17],[41,0,42,5],[41,6,42,17],[43,6,44,17],[27,18,29,18],[27,19,29,21],[30,18,32,18],[30,19,32,21],[35,18,38,18],[35,19,44,21],[39,18,40,18],[43,0,44,5],[27,6,27,8],[28,6,29,17],[30,6,30,17],[31,8,32,17],[408,8,408,10],[408,12,408,15],[409,8,409,10],[411,0,411,16],[412,0,412,21],[27,0,29,5],[30,0,32,5],[31,6,32,7],[35,0,36,5],[35,6,35,9],[33,0,33,21],[34,0,34,17],[34,19,34,21],[35,10,35,12],[35,13,35,17],[41,18,42,18],[43,18,44,18],[45,18,53,18],[54,18,59,18],[60,18,73,18],[60,19,73,21],[36,6,38,17],[37,0,38,5],[39,0,40,5],[397,6,397,16],[398,6,398,16],[399,6,399,16],[400,6,400,16],[401,6,401,16],[402,6,403,16],[404,6,404,16],[405,6,405,16],[406,6,406,16],[391,6,391,16],[392,11,392,12],[392,14,392,16],[393,6,393,16],[394,6,394,8],[394,9,394,16],[395,6,395,16],[396,11,396,12],[396,14,396,16],[385,6,385,16],[386,6,386,8],[386,9,386,16],[387,6,387,16],[388,11,388,12],[388,14,388,16],[389,6,389,16],[390,6,390,8],[390,9,390,16],[382,17,411,17],[406,19,411,21],[419,19,427,21],[430,19,433,21],[436,19,443,21],[372,19,380,21],[377,18,380,18],[382,19,397,21],[390,18,393,18],[394,18,397,18],[398,19,405,21],[400,18,401,18],[380,0,380,17],[381,0,381,17],[381,19,381,21],[382,9,382,16],[383,6,383,16],[384,8,384,9],[388,8,388,9],[392,8,392,9],[396,8,396,9],[382,6,382,8],[384,11,384,12],[384,14,384,16],[402,18,403,18],[404,18,405,18],[398,18,399,18],[406,18,411,18],[419,18,427,18],[432,18,433,18],[439,18,440,18],[441,18,443,18],[341,18,342,18],[343,18,344,18],[354,18,358,18],[360,18,361,18],[372,18,376,18],[428,0,428,21],[429,0,429,17],[429,19,429,21],[430,18,431,18],[430,6,431,17],[431,0,431,2],[431,3,431,5],[432,6,433,17],[434,0,434,21],[435,0,435,17],[435,19,435,21],[341,19,346,21],[345,18,346,18],[353,18,353,21],[354,19,358,21],[359,18,359,21],[360,19,370,21],[362,18,363,18],[382,18,385,18],[386,18,389,18],[371,19,371,21],[439,0,440,5],[441,0,443,5],[406,0,410,5],[414,0,418,5],[419,0,427,5],[430,0,430,5],[432,0,433,5],[436,0,437,5],[438,0,438,5],[359,0,359,5],[360,0,361,5],[362,0,363,5],[364,0,366,5],[372,0,379,5],[382,0,397,5],[398,0,401,5],[402,0,403,5],[404,0,405,5],[367,0,369,5],[353,6,353,16],[354,6,354,10],[354,13,354,16],[355,13,355,16],[356,13,356,16],[341,0,346,5],[347,0,347,5],[348,0,352,5],[353,0,353,5],[354,0,358,5],[334,18,335,18],[317,18,318,18],[317,19,322,21],[319,18,320,18],[321,18,322,18],[323,18,323,21],[324,19,325,21],[326,18,326,21],[327,19,332,21],[329,18,330,18],[331,18,332,18],[327,0,332,5],[327,6,328,6],[329,6,330,6],[329,7,330,16],[331,7,331,16],[332,6,332,16],[306,18,307,18],[306,19,315,21],[308,18,309,18],[309,6,310,6],[310,18,311,18],[314,18,315,18],[319,6,320,6],[319,7,320,16],[321,6,322,6],[321,7,322,16],[324,18,325,18],[327,18,328,18],[314,0,315,5],[314,6,315,16],[316,0,316,5],[316,6,316,16],[317,0,322,5],[317,6,318,6],[317,7,318,16],[323,0,323,5],[323,6,323,16],[364,6,364,12],[364,13,364,16],[365,6,366,16],[364,18,366,18],[367,18,370,18],[375,7,375,8],[375,10,375,11],[367,6,369,16],[370,0,370,17],[371,0,371,17],[359,6,359,16],[360,6,360,12],[360,13,360,16],[361,6,361,12],[361,13,361,16],[362,6,362,12],[362,13,362,16],[363,6,363,12],[363,13,363,16],[340,0,340,5],[340,6,340,16],[376,6,376,11],[376,12,379,16],[377,6,377,11],[378,7,378,8],[379,7,379,8],[372,17,379,17],[378,10,378,11],[379,10,379,11],[373,6,373,11],[374,7,374,8],[374,10,374,11],[372,6,372,11],[372,12,375,16],[340,18,340,21],[341,7,342,16],[343,7,344,16],[345,7,345,16],[346,6,346,16],[357,13,357,16],[358,13,358,16],[350,7,350,10],[351,7,351,10],[347,6,347,16],[347,18,347,21],[348,6,348,10],[348,11,352,16],[348,18,352,18],[348,19,352,21],[349,6,349,10],[352,6,352,10],[355,6,356,10],[357,6,357,10],[357,11,357,12],[358,6,358,10],[358,11,358,12],[341,6,342,6],[343,6,344,6],[282,14,282,16],[283,14,283,16],[336,7,337,16],[338,7,338,16],[333,0,333,5],[334,0,339,5],[334,6,335,6],[334,7,335,16],[334,19,339,21],[336,6,337,6],[336,18,337,18],[338,18,339,18],[339,6,339,16],[333,18,333,21],[333,6,333,16],[324,0,325,5],[324,6,325,16],[326,0,326,5],[326,6,326,16],[327,7,328,16],[309,7,310,16],[311,7,311,16],[305,6,305,16],[306,6,307,16],[257,9,257,12],[258,6,258,8],[292,7,293,16],[281,10,281,13],[282,10,282,13],[283,10,283,13],[289,18,303,18],[289,19,303,21],[300,12,302,12],[300,13,300,16],[302,13,302,15],[283,6,283,9],[284,6,284,9],[286,6,288,11],[264,18,288,18],[264,19,288,21],[255,17,298,17],[284,14,284,16],[272,14,272,16],[273,14,273,16],[279,14,279,16],[280,14,280,16],[281,14,281,16],[285,14,285,16],[279,6,279,9],[280,6,280,9],[281,6,281,9],[282,6,282,9],[285,6,285,9],[274,6,274,9],[274,10,274,13],[277,6,277,9],[278,6,278,9],[278,10,278,13],[284,10,284,13],[285,10,285,13],[279,10,279,13],[280,10,280,13],[276,10,276,13],[276,14,276,16],[277,10,277,13],[277,14,277,16],[262,6,262,8],[262,9,262,11],[262,12,262,16],[263,6,263,8],[263,9,263,12],[263,13,263,16],[265,7,265,10],[266,6,266,16],[267,6,268,16],[269,10,271,13],[275,6,275,9],[275,10,275,13],[269,6,271,9],[272,6,272,9],[272,10,272,13],[273,6,273,9],[273,10,273,13],[254,19,254,21],[255,0,263,5],[255,9,256,16],[255,18,263,18],[255,19,263,21],[258,9,258,13],[259,6,259,8],[239,19,253,21],[245,7,248,9],[259,9,259,11],[259,12,259,16],[260,6,260,8],[260,9,260,13],[260,14,260,16],[261,6,261,8],[261,9,261,15],[241,7,241,8],[241,11,241,16],[243,6,244,10],[243,11,243,16],[244,11,244,16],[245,11,245,16],[255,6,256,8],[257,6,257,8],[289,0,302,5],[306,0,307,5],[309,0,313,5],[301,13,301,15],[301,16,302,16],[303,0,303,17],[304,0,304,17],[304,18,305,18],[304,19,305,21],[305,0,305,5],[312,7,312,16],[312,18,313,18],[313,6,313,16],[294,6,295,6],[294,7,295,16],[296,6,297,6],[296,7,297,16],[298,6,298,16],[299,6,299,16],[300,6,302,11],[289,6,289,16],[290,6,290,16],[291,7,291,16],[292,6,293,6],[234,18,238,18],[234,19,238,21],[235,6,235,16],[236,7,236,10],[236,12,236,15],[239,11,239,16],[246,11,246,16],[239,18,253,18],[253,0,253,17],[240,7,240,8],[240,11,240,16],[240,9,242,10],[242,11,242,16],[247,11,247,16],[250,11,250,16],[251,6,252,10],[251,11,251,16],[252,11,252,16],[264,0,288,5],[237,7,237,10],[238,6,238,10],[239,0,252,5],[239,6,239,10],[286,12,288,12],[286,13,286,16],[287,13,287,15],[287,16,288,16],[288,13,288,15],[248,11,248,16],[249,11,249,16],[257,13,257,16],[258,14,258,16],[265,12,265,16],[269,14,271,16],[264,6,264,16],[234,0,238,5],[234,6,234,16],[254,0,254,16],[278,14,278,16],[274,14,274,16],[275,14,275,16],[276,6,276,9]]}
[{"$f":"'Caseload Files'!B2","v":"Teacher Caseload Review"},null,null,null,{"$f":"'Caseload Files'!D13","v":"File 3"},null,"Reviewer:",null,null,{"$f":"'Caseload Files'!F13","v":"Reviewer 3"},null,null,"Staff Reviewed:",null,null,{"$f":"'Caseload Files'!I13","v":"Staff 3"},null,null,"Score","Findings/Notes"]
[{"$f":"'Caseload Files'!B2","v":"Teacher Caseload Review"},null,null,null,null,null,null,null,null,null,null,null,null,null,null,null,null,null,"Rating","Record notes\nand/or findings."]
[]
[]
["Student Name:",null,null,{"$f":"'Caseload Files'!$L$13","v":"Student 3"},null,null,null,"Date of Birth:",null,null,{"$f":"'Caseload Files'!$R$13","v":"2003-03-03"},null,null,null,"Current IEP Meeting Date:"]
["SIMS Numer:",null,null,{"$f":"'Caseload Files'!$O$13","v":30123456},null,null,null,"Age/Grade:",null,null,{"$f":"INT(YEARFRAC(K5,TODAY()))","v":18},"/Sophomore",null,null,"Previous IEP Meeting Date:"]
["School District:",null,null,{"$f":"'Caseload Files'!B3","v":"District 00-0"},null,null,null,"Disability Code:",null,null,{"$f":"'Caseload Files'!$W$13","v":"DisCode 3"},null,null,null,"Current Eligibility Determination Date:"]
["School Name:",null,null,{"$f":"'Caseload Files'!E6","v":"School Name"},null,null,null,"Race/Ethnicity:",null,null,{"$f":"'Caseload Files'!T13","v":"Race 3"},null,null,null,"Previous Eligibility Determination Date:"]
["School Year:",null,null,{"$f":"'Caseload Files'!E7","v":"1998-1999"},null,null,null,"Type of Review:",null,null,{"$f":"'Caseload Files'!Z13","v":"Type 3"},null,null,null,"Date of Review:"]
[]
[{"$f":"HYPERLINK(\"http://sdlegislature.gov/Rules/DisplayRule.aspx?Rule=24:05\",\"Subsection Title and \nCorresponding ARSD Links \")","v":"Subsection Title and \nCorresponding ARSD Links "},null,null,null,null,null,"Yellow boxes are prompts",null,null,null,null,"Use checkboxes to help record findings.",null,null,"Voided space and/or clarifying information.",null,null,null,"\"N/A\" may be appropriate for certain sections.","Findings/Notes"]
[null,null,null,null,null,null,"for information."]
[]
[]
[{"$f":"HYPERLINK(\"https://gosynth.com/p/s/aboqwv\",\"Record of Access\")","v":"Record of Access"},null,null,null,null,null,null,null,null,null,null,null,null,null,null,null,null,null,{"$f":"IFERROR(Y17/X17,\"N/A\")","v":"N/A"},"Findings/Notes"]
[{"$f":"HYPERLINK(\"http://sdlegislature.gov/Rules/DisplayRule.aspx?Rule=24:05:29:15\",\"Record of Access\n(24:05:29:15)\")","v":"Record of Access\n(24:05:29:15)"},null,null,null,null,null,null,null,null,null,null,null,null,null,null,null,null,null,"Select","V16",null,null,null,null,{"$f":"S16","v":"Select"},{"$f":"S16","v":"Select"}]
[null,null,null,null,null,null,null,null,null,null,null,null,null,null,null,null,null,null,null,null,null,null,null,{"$f":"Y17+Z17","v":0},{"$f":"COUNTIF(Y16,\"Yes\")*3","v":0},{"$f":"COUNTIF(Z16,\"No\")*3","v":0}]
[]
[{"$f":"HYPERLINK(\"https://gosynth.com/p/s/grdmsy\",\"Referral\")","v":"Referral"},null,null,null,null,null,null,null,null,null,null,null,null,null,null,null,null,null,{"$f":"IFERROR(Y21/X21,\"N/A\")","v":"N/A"}]
[{"$f":"HYPERLINK(\"http://sdlegislature.gov/Rules/DisplayRule.aspx?Rule=24:05:24:01\",\"Referral Document\n(initial only)\n(24:05:24:01)\")","v":"Referral Document\n(initial only)\n(24:05:24:01)"},null,null,null,null,null,"Date of referral:",null,null,null,null,null,"The top two spaces are available to type in.",null,null,null,null,null,"Select","V20",null,null,null,null,{"$f":"S20","v":"Select"},{"$f":"S20","v":"Select"}]
[null,null,null,null,null,null,"List all areas of referral:",null,null,null,null,null,null,null,null,null,null,null,null,null,null,null,null,{"$f":"Y21+Z21","v":0},{"$f":"COUNTIF(Y20,\"Yes\")*3","v":0},{"$f":"COUNTIF(Z20,\"No\")*3","v":0}]
[]
[]
[]
[null,null,null,null,null,null,"If referral can not be found and is older than three years, N/A is appropriate."]
[]
[{"$f":"HYPERLINK(\"https://gosynth.com/p/s/lihblf\",\"Initial Placement\")","v":"Initial Placement"},null,null,null,null,null,null,null,null,null,null,null,null,null,null,null,null,null,{"$f":"IFERROR(Y33/X33,\"N/A\")","v":"N/A"}]
[{"$f":"HYPERLINK(\"http://sdlegislature.gov/rules/DisplayRule.aspx?Rule=24:05:27:04.01\",\"Consent Signed for Initial Placement \ninto Special Education\n(24:05:27:04.01)\")","v":"Consent Signed for Initial Placement \ninto Special Education\n(24:05:27:04.01)"},null,null,null,null,null,"Date Signed:",null,null,null,null,null,null,null,null,null,null,null,"Select","V28",null,null,null,null,{"$f":"S28","v":"Select"},{"$f":"S28","v":"Select"}]
[null,null,null,null,null,null,"(The Consent Signed for Initial Placement into Special Education form is a separate document.  In the past, it may have been found at the end of the IEP.",null,null,null,null,null,null,null,null,null,null,null,null,null,null,null,null,{"$f":"Y29+Z29","v":0},{"$f":"COUNTIF(Y28,\"Yes\")*3","v":0},{"$f":"COUNTIF(Z28,\"No\")*3","v":0}]
[]
[{"$f":"HYPERLINK(\"https://sdlegislature.gov/Rules/DisplayRule.aspx?Rule=24:05:25:04.02\",\"Determination of Needed \nEvaluation Data\n(24:05:25:04.02)\")","v":"Determination of Needed \nEvaluation Data\n(24:05:25:04.02)"},null,null,null,null,null,"Did the team review existing data before completing the PPWN Consent?",null,null,null,null,null,null,null,null,null,null,null,"Select","V31",null,null,null,null,{"$f":"S31","v":"Select"},{"$f":"S31","v":"Select"}]
[null,null,null,null,null,null,"Select",null,"The existing data includes evaluations and information provided by the parents, current classroom-based local or state assessments, and observations by teachers and related services providers.",null,null,null,null,null,null,null,null,null,null,null,null,null,null,{"$f":"Y32+Z32","v":0},{"$f":"COUNTIF(Y31,\"Yes\")*3","v":0},{"$f":"COUNTIF(Z31,\"No\")*3","v":0}]
[null,null,null,null,null,null,null,null,null,null,null,null,null,null,null,null,null,null,null,null,null,null,null,{"$f":"(X32+X29)/2","v":0},{"$f":"(Y32+Y29)/2","v":0}]
[]
[{"$f":"HYPERLINK(\"https://gosynth.com/p/s/qxevgy\",\"Evaluation\")","v":"Evaluation"},null,null,null,null,null,null,null,null,null,null,null,null,null,null,null,null,null,{"$f":"IFERROR(Y38/X38,\"N/A\")","v":"N/A"},{"$f":"IFERROR(Y58/X58,\"N/A\")","v":"N/A"}]
[{"$f":"HYPERLINK(\"http://sdlegislature.gov/rules/DisplayRule.aspx?Rule=24:05:25:02.01\",\"Initial Evaluation \n(24:05:25:02.01)\")","v":"Initial Evaluation \n(24:05:25:02.01)"},null,null,null,null,null,"PPWN Consent was Sent:",null,null,null,null,null,null,"Use the most recent evaluation. ",null,null,null,null,"Select","V36",null,null,null,null,{"$f":"S36","v":"Select"},{"$f":"S36","v":"Select"}]
[null,null,null,null,null,null,{"$f":"HYPERLINK(\"https://gosynth.com/p/s/qxevgy\",\"Consent was acquired for initial evaluation. \n\nIf consent was not given by the parent for reevaluation, evidence of  attempts were made to elicit parent.\")","v":"Consent was acquired for initial evaluation. \n\nIf consent was not given by the parent for reevaluation, evidence of  attempts were made to elicit parent."},null,null,null,null,null,null,null,null,null,null,null,null,null,null,null,null,{"$f":"Y37+Z37","v":0},{"$f":"COUNTIF(Y36,\"Yes\")*3","v":0},{"$f":"COUNTIF(Z36,\"No\")*3","v":0}]
[{"$f":"HYPERLINK(\"http://sdlegislature.gov/Rules/DisplayRule.aspx?Rule=24:05:25:06.01\",\"Reevaluation\n(24:05:25:06.01)\")","v":"Reevaluation\n(24:05:25:06.01)"},null,null,null,null,null,null,null,null,null,null,null,null,null,null,null,null,null,null,null,null,null,null,{"$f":"(X37+X41+X43+X45+X47+X56+X62+X76+X86+X100+X104+X106+X108+X110+X112+X115+X117+X120)/18","v":0},{"$f":"(Y37+Y41+Y43+Y45+Y47+Y56+Y62+Y76+Y86+Y100+Y104+Y106+Y108+Y110+Y112+Y115+Y117+Y120)/18","v":0}]
[]
[{"$f":"HYPERLINK(\"http://sdlegislature.gov/Rules/DisplayRule.aspx?Rule=24:05:25:16\",\"Parent Input into Evalaution\n(24:05:25:16)\")","v":"Parent Input into Evalaution\n(24:05:25:16)"},null,null,null,null,null,{"$f":"HYPERLINK(\"https://gosynth.com/p/s/ycomsx\",\"Parent input must be documented in the PPWN Consent on input exiting data and \nupcoming evaluation.   (refer to phone logs, progress notes, prior notice)\")","v":"Parent input must be documented in the PPWN Consent on input exiting data and \nupcoming evaluation.   (refer to phone logs, progress notes, prior notice)"},null,null,null,null,null,null,null,null,null,null,null,"Select",null,null,null,null,null,{"$f":"S40","v":"Select"},{"$f":"S40","v":"Select"}]
[null,null,null,null,null,null,null,null,null,null,null,null,null,null,null,null,null,null,null,null,null,null,null,{"$f":"Y41+Z41","v":0},{"$f":"COUNTIF(Y40,\"Yes\")*3","v":0},{"$f":"COUNTIF(Z40,\"No\")*3","v":0}]
[{"$f":"HYPERLINK(\"http://sdlegislature.gov/Rules/DisplayRule.aspx?Rule=24:05:30:06.01\",\"Procedural Safeguards\n(24:05:30:06.01)\")","v":"Procedural Safeguards\n(24:05:30:06.01)"},null,null,null,null,null,{"$f":"HYPERLINK(\"https://gosynth.com/p/s/tdkmfj\",\"[INCLUDE LANGUAGE FOR THIS SECTION]\")","v":"[INCLUDE LANGUAGE FOR THIS SECTION]"},null,null,null,null,null,null,null,null,null,null,null,"Select",null,null,null,null,null,{"$f":"S42","v":"Select"},{"$f":"S42","v":"Select"}]
[null,null,null,null,null,null,null,null,null,null,null,null,null,null,null,null,null,null,null,null,null,null,null,{"$f":"Y43+Z43","v":0},{"$f":"COUNTIF(Y42,\"Yes\")*3","v":0},{"$f":"COUNTIF(Z42,\"No\")*3","v":0}]
[{"$f":"HYPERLINK(\"http://sdlegislature.gov/Rules/DisplayRule.aspx?Rule=24:05:25:03\",\"Extension on 25 Day Timeline\n(24:05:25:03)\")","v":"Extension on 25 Day Timeline\n(24:05:25:03)"},null,null,null,null,null,{"$f":"HYPERLINK(\"https://gosynth.com/p/s/wcheia\",\"Documented agreement with parent and district on new extension date.  \nEligibility and IEP developed 30 days after the agreed extension date.\")","v":"Documented agreement with parent and district on new extension date.  \nEligibility and IEP developed 30 days after the agreed extension date."},null,null,null,null,null,null,null,null,null,null,null,"Select",null,null,null,null,null,{"$f":"S44","v":"Select"},{"$f":"S44","v":"Select"}]
[null,null,null,null,null,null,null,null,null,null,null,null,null,null,null,null,null,null,null,null,null,null,null,{"$f":"Y45+Z45","v":0},{"$f":"COUNTIF(Y44,\"Yes\")*3","v":0},{"$f":"COUNTIF(Z44,\"No\")*3","v":0}]
[{"$f":"HYPERLINK(\"http://sdlegislature.gov/Rules/DisplayRule.aspx?Rule=24:05:30:05\",\"Content of Prior Written Notice/\nConsent for Evaluation\n (24:05:30:05)\")","v":"Content of Prior Written Notice/\nConsent for Evaluation\n (24:05:30:05)"},null,null,null,null,null,{"$f":"HYPERLINK(\"https://gosynth.com/p/s/xymlpn\",\"Check the following:\")","v":"Check the following:"},null,null,null,null,null,null,null,null,null,null,null,"Select","V46",null,null,null,null,{"$f":"S46","v":"Select"},{"$f":"S46","v":"Select"}]
[null,null,null,null,null,null,"PPWN must be individualized to the student, IEP team discussions and situation.",null,null,null,null,null,null,null,null,null,null,null,null,null,null,null,null,{"$f":"Y47+Z47","v":0},{"$f":"COUNTIF(Y46,\"Yes\")*3","v":0},{"$f":"COUNTIF(Z46,\"No\")*3","v":0}]
[]
[null,null,null,null,null,null,null,"Explanation of why the district proposed or refused to take the action"]
[null,null,null,null,null,null,null,"Description of other options considered and why they were rejected "]
[null,null,null,null,null,null,null,"Description of evidence used for the proposed or refused action"]
[null,null,null,null,null,null,null,"Description of other factors that are relevant to proposal or refusal"]
[]
[null,null,null,null,null,null,"All components should be completed and have a clear description."]
[{"$f":"HYPERLINK(\"http://sdlegislature.gov/Rules/DisplayRule.aspx?Rule=24:05:30:05\",\"Timeline of Prior Written Notice/\nConsent for Evaluation\n(24:05:25:03)\")","v":"Timeline of Prior Written Notice/\nConsent for Evaluation\n(24:05:25:03)"},null,null,null,null,null,{"$f":"HYPERLINK(\"https://gosynth.com/p/s/xylthm\",\"Date sent:\")","v":"Date sent:"},null,null,null,"2020-01-18",null,null,null,null,null,null,null,"Select","V54",null,null,null,null,{"$f":"S55","v":"Select"},{"$f":"S55","v":"Select"}]
[null,null,null,null,null,null,"Date signed:",null,null,null,"2020-01-19",null,null,null,null,null,null,null,null,null,null,null,null,{"$f":"Y56+Z56","v":0},{"$f":"COUNTIF(Y55,\"Yes\")*3","v":0},{"$f":"COUNTIF(Z55,\"No\")*3","v":0}]
[null,null,null,null,null,null,"Date received:",null,null,null,"2020-01-20"]
[null,null,null,null,null,null,"25 school days:",null,null,null,{"$f":"WORKDAY(K57,25)","v":"2020-02-24"}]
[null,null,null,null,null,null,"30 calendar days:"]
[null,null,null,null,null,null,"Extension on 25 day:"]
[{"$f":"HYPERLINK(\"http://sdlegislature.gov/Rules/DisplayRule.aspx?Rule=24:05:25:04.02\",\"Evaluations to be Completed by the District per Parental Prior Written/Consent for Evaluation\n(24:05:25:04.02)\")","v":"Evaluations to be Completed by the District per Parental Prior Written/Consent for Evaluation\n(24:05:25:04.02)"},null,null,null,null,null,{"$f":"HYPERLINK(\"https://gosynth.com/p/s/zgdeev\",\"List areas:\")","v":"List areas:"},null,null,"Test administered:",null,null,null,"Test date:",null,"Evaluator:",null,null,"Select","V60",null,null,null,null,{"$f":"S61","v":"Select"},{"$f":"S61","v":"Select"}]
[null,null,null,null,null,null,null,null,null,null,null,null,null,null,null,null,null,null,null,null,null,null,null,{"$f":"Y62+Z62","v":0},{"$f":"COUNTIF(Y61,\"Yes\")*3","v":0},{"$f":"COUNTIF(Z61,\"No\")*3","v":0}]
[]
[]
[]
[]
[]
["For more evaluations requested click the [+]"]
[]
[]
[]
[]
[]
[]
[{"$f":"HYPERLINK(\"http://sdlegislature.gov/Rules/DisplayRule.aspx?Rule=24:05:25:04.02\",\"Existing Evaluation Data\nto be Pulled Forward\n(24:05:25:04.02)\")","v":"Existing Evaluation Data\nto be Pulled Forward\n(24:05:25:04.02)"},null,null,null,null,null,{"$f":"HYPERLINK(\"https://gosynth.com/p/s/pfohnr\",\"List areas:\")","v":"List areas:"},null,null,"Test administered:",null,null,null,"Test date:",null,"Evaluator:",null,null,"Select","V74",null,null,null,null,{"$f":"S75","v":"Select"},{"$f":"S75","v":"Select"}]
[null,null,null,null,null,null,null,null,null,null,null,null,null,null,null,null,null,null,null,null,null,null,null,{"$f":"Y76+Z76","v":0},{"$f":"COUNTIF(Y75,\"Yes\")*3","v":0},{"$f":"COUNTIF(Z75,\"No\")*3","v":0}]
[]
[]
[]
["For more existing data requested click the [+]"]
[]
[]
[]
[]
[{"$f":"HYPERLINK(\"http://sdlegislature.gov/Rules/DisplayRule.aspx?Rule=24:05:25:04.02\",\"Skills Based Assessment and Report\n(24:05:25:04.02)\")","v":"Skills Based Assessment and Report\n(24:05:25:04.02)"},null,null,null,null,null,{"$f":"HYPERLINK(\"https://gosynth.com/p/s/tbqnts\",\"List areas:\")","v":"List areas:"},null,null,"Test administered:",null,null,null,"Test date:",null,"Evaluator:",null,null,"Select","V84",null,null,null,null,{"$f":"S85","v":"Select"},{"$f":"S85","v":"Select"}]
[null,null,null,null,null,null,null,null,null,null,null,null,null,null,null,null,null,null,null,null,null,null,null,{"$f":"Y86+Z86","v":0},{"$f":"COUNTIF(Y85,\"Yes\")*3","v":0},{"$f":"COUNTIF(Z85,\"No\")*3","v":0}]
[]
[null,null,null,null,null,null,null,null,null,null,null,null,null,null,null,null,null,null,null,null,null,null,null,{"$f":"(X86+X100+X104+X106+X108+X110+X112+X115+X117+X120)/10","v":0},{"$f":"(Y86+Y100+Y104+Y106+Y108+Y110+Y112+Y115+Y117+Y120)/10","v":0}]
[]
[]
[]
["For more skills based requested click the [+]"]
[]
[]
[]
[]
[]
[]
[{"$f":"HYPERLINK(\"http://sdlegislature.gov/Rules/DisplayRule.aspx?Rule=24:05:25:03\",\"Consent Received\n(24:05:25:03)\")","v":"Consent Received\n(24:05:25:03)"},null,null,null,null,null,{"$f":"HYPERLINK(\"https://gosynth.com/p/s/ctcnlr\",\"Consent received date:\")","v":"Consent received date:"},null,null,null,null,{"$f":"K57","v":"2020-01-20"},null,null,"Mark \"No\" if dates are outside of \"consent received\" and/or \"25 school days\".",null,null,null,"Select","V98",null,null,null,null,{"$f":"S99","v":"Select"},{"$f":"S99","v":"Select"}]
[null,null,null,null,null,null,"Earliest testing date:",null,null,null,null,{"$f":"MIN(N63:O74,N87:O98)","v":"00:00:00"},null,null,null,null,null,null,null,null,null,null,null,{"$f":"Y100+Z100","v":0},{"$f":"COUNTIF(Y99,\"Yes\")*3","v":0},{"$f":"COUNTIF(Z99,\"No\")*3","v":0}]
[null,null,null,null,null,null,"Latest testing date:",null,null,null,null,{"$f":"MAX(N63:O74,N87:O98)","v":"00:00:00"}]
[null,null,null,null,null,null,"Within 25 School Days:",null,null,null,null,{"$f":"IF(ISBLANK(K60),K58,K60)","v":"2020-02-24"}]
[{"$f":"HYPERLINK(\"http://sdlegislature.gov/Rules/DisplayRule.aspx?Rule=24:05:25:20\",\"All Evaluations Administered \n(24:05:25:20)\")","v":"All Evaluations Administered \n(24:05:25:20)"},null,null,null,null,null,{"$f":"HYPERLINK(\"https://gosynth.com/p/s/mkcdef\",\"All evaluations marked on the PWWN/Consent for Evaluation form must be administered.\")","v":"All evaluations marked on the PWWN/Consent for Evaluation form must be administered."},null,null,null,null,null,null,null,null,null,null,null,"Select","V102",null,null,null,null,{"$f":"S103","v":"Select"},{"$f":"S103","v":"Select"}]
[null,null,null,null,null,null,null,null,null,null,null,null,null,null,null,null,null,null,null,null,null,null,null,{"$f":"Y104+Z104","v":0},{"$f":"COUNTIF(Y103,\"Yes\")*3","v":0},{"$f":"COUNTIF(Z103,\"No\")*3","v":0}]
[{"$f":"HYPERLINK(\"http://sdlegislature.gov/Rules/DisplayRule.aspx?Rule=24:05:25:06.01\",\"Consent was Acquired\n(24:05:25:06.01)\")","v":"Consent was Acquired\n(24:05:25:06.01)"},null,null,null,null,null,{"$f":"HYPERLINK(\"https://gosynth.com/p/s/mkcdef\",\"All evaluations administered must be requested on the PWWN/Consent for Evaluation \nform.\")","v":"All evaluations administered must be requested on the PWWN/Consent for Evaluation \nform."},null,null,null,null,null,null,null,null,null,null,null,"Select",null,null,null,null,null,{"$f":"S105","v":"Select"},{"$f":"S105","v":"Select"}]
[null,null,null,null,null,null,null,null,null,null,null,null,null,null,null,null,null,null,null,null,null,null,null,{"$f":"Y106+Z106","v":0},{"$f":"COUNTIF(Y105,\"Yes\")*3","v":0},{"$f":"COUNTIF(Z105,\"No\")*3","v":0}]
[{"$f":"HYPERLINK(\"http://sdlegislature.gov/Rules/DisplayRule.aspx?Rule=24:05:25:04\",\"Variety of Sources \n(24:05:25:04)\")","v":"Variety of Sources \n(24:05:25:04)"},null,null,null,null,null,{"$f":"HYPERLINK(\"https://gosynth.com/p/s/mkcdef\",\"Appropritate means to provide evaluations for accurate data were used. \")","v":"Appropritate means to provide evaluations for accurate data were used. "},null,null,null,null,null,null,null,null,null,null,null,"Select",null,null,null,null,null,{"$f":"S107","v":"Select"},{"$f":"S107","v":"Select"}]
[null,null,null,null,null,null,null,null,null,null,null,null,null,null,null,null,null,null,null,null,null,null,null,{"$f":"Y108+Z108","v":0},{"$f":"COUNTIF(Y107,\"Yes\")*3","v":0},{"$f":"COUNTIF(Z107,\"No\")*3","v":0}]
[{"$f":"HYPERLINK(\"http://sdlegislature.gov/Rules/DisplayRule.aspx?Rule=24:05:25:04\",\"Met Requirements for the Disability\n(24:05:25:04) \")","v":"Met Requirements for the Disability\n(24:05:25:04) "},null,null,null,null,null,{"$f":"HYPERLINK(\"https://gosynth.com/p/s/mkcdef\",\"Comprehensive Evaluations in all areas required for the disability. \")","v":"Comprehensive Evaluations in all areas required for the disability. "},null,null,null,null,null,null,null,null,null,null,null,"Select",null,null,null,null,null,{"$f":"S109","v":"Select"},{"$f":"S109","v":"Select"}]
[null,null,null,null,null,null,null,null,null,null,null,null,null,null,null,null,null,null,null,null,null,null,null,{"$f":"Y110+Z110","v":0},{"$f":"COUNTIF(Y109,\"Yes\")*3","v":0},{"$f":"COUNTIF(Z109,\"No\")*3","v":0}]
[{"$f":"HYPERLINK(\"http://sdlegislature.gov/Rules/DisplayRule.aspx?Rule=24:05:25:03\",\"Eligibility within 30 Calendar Days \n(24:05:25:03)\")","v":"Eligibility within 30 Calendar Days \n(24:05:25:03)"},null,null,null,null,null,{"$f":"HYPERLINK(\"https://gosynth.com/p/s/mkcdef\",\"Day 26 was on:\")","v":"Day 26 was on:"},null,null,null,null,{"$f":"WORKDAY(L102,1)","v":"2020-02-25"},null,null,null,null,null,null,"Select","V110",null,null,null,null,{"$f":"S111","v":"Select"},{"$f":"S111","v":"Select"}]
[null,null,null,null,null,null,"Eligibility Determination Date:",null,null,null,null,{"$f":"T7","v":"00:00:00"},null,null,null,null,null,null,null,null,null,null,null,{"$f":"Y112+Z112","v":0},{"$f":"COUNTIF(Y111,\"Yes\")*3","v":0},{"$f":"COUNTIF(Z111,\"No\")*3","v":0}]
[null,null,null,null,null,null,"Eligibility meeting date should have been by:",null,null,null,null,null,null,null,{"$f":"K59","v":"00:00:00"}]
[{"$f":"HYPERLINK(\"http://sdlegislature.gov/Rules/DisplayRule.aspx?Rule=24:05:25:04.03\",\"Student Eligible for Special Education \n(24:05:25:04.03)\")","v":"Student Eligible for Special Education \n(24:05:25:04.03)"},null,null,null,null,null,null,null,null,null,null,null,null,null,null,null,null,null,"Select",null,null,null,null,null,{"$f":"S114","v":"Select"},{"$f":"S114","v":"Select"}]
[null,null,null,null,null,null,null,null,null,null,null,null,null,null,null,null,null,null,null,null,null,null,null,{"$f":"Y115+Z115","v":0},{"$f":"COUNTIF(Y114,\"Yes\")*3","v":0},{"$f":"COUNTIF(Z114,\"No\")*3","v":0}]
[{"$f":"HYPERLINK(\"http://sdlegislature.gov/Rules/DisplayRule.aspx?Rule=24:05:25:06\",\"Three Year Re-Evaluation\n(24:05:25:06)\")","v":"Three Year Re-Evaluation\n(24:05:25:06)"},null,null,null,null,null,{"$f":"HYPERLINK(\"https://gosynth.com/p/s/mkcdef\",\"Current Eligibility Determination Date:\")","v":"Current Eligibility Determination Date:"},null,null,null,null,null,null,{"$f":"L112","v":"00:00:00"},null,null,null,null,"Select",null,null,null,null,null,{"$f":"S116","v":"Select"},{"$f":"S116","v":"Select"}]
[null,null,null,null,null,null,"Previous Eligibility Determination Date:",null,null,null,null,null,null,{"$f":"T8","v":"00:00:00"},null,null,null,null,null,null,null,null,null,{"$f":"Y117+Z117","v":0},{"$f":"COUNTIF(Y116,\"Yes\")*3","v":0},{"$f":"COUNTIF(Z116,\"No\")*3","v":0}]
[]
[{"$f":"HYPERLINK(\"https://gosynth.com/p/s/mkcdef\",\"Evaluated to Dismiss from Services  \")","v":"Evaluated to Dismiss from Services  "},null,null,null,null,null,null,null,null,null,null,null,null,null,null,null,null,null,"Select",null,null,null,null,null,{"$f":"S119","v":"Select"},{"$f":"S119","v":"Select"}]
[null,null,null,null,null,null,null,null,null,null,null,null,null,null,null,null,null,null,null,null,null,null,null,{"$f":"Y120+Z120","v":0},{"$f":"COUNTIF(Y119,\"Yes\")*3","v":0},{"$f":"COUNTIF(Z119,\"No\")*3","v":0}]
[]
[{"$f":"HYPERLINK(\"https://gosynth.com/p/s/giwoma\",\"Eligibility Document for Specific Learning Disability\")","v":"Eligibility Document for Specific Learning Disability"},null,null,null,null,null,null,null,null,null,null,null,null,null,null,null,null,null,{"$f":"IFERROR(Y126/X126,\"N/A\")","v":"N/A"}]
["If student is not eligible for Specific Learning Disability, skip this section.  Click on the [+] button if section is not visible. ",null,null,null,null,null,null,null,null,null,null,null,null,null,null,null,null,null,"Select","V122",null,null,null,null,{"$f":"S123","v":"Select"},{"$f":"S123","v":"Select"}]
[{"$f":"HYPERLINK(\"http://sdlegislature.gov/Rules/DisplayRule.aspx?Rule=24:05:24.01:19\",\"Specific Learning Disabilities\n(24:05:24.01:19)\")","v":"Specific Learning Disabilities\n(24:05:24.01:19)"},null,null,null,null,null,"Check the following:",null,null,null,null,null,null,null,null,null,null,null,null,null,null,null,null,{"$f":"Y124+Z124","v":0},{"$f":"COUNTIF(Y123,\"Yes\")*3","v":0},{"$f":"COUNTIF(Z123,\"No\")*3","v":0}]
[]
[null,null,null,null,null,null,null,"Reading Comprehension",null,null,null,null,null,"Math Calculation",null,null,null,null,null,null,null,null,null,{"$f":"(X124+X132+X151+X165+X174)/5","v":0},{"$f":"(Y124+Y132+Y151+Y165+Y174)/5","v":0}]
[null,null,null,null,null,null,null,"Basic Reading Skills",null,null,null,null,null,"Math Problem Solving"]
[null,null,null,null,null,null,null,"Reading Fluency",null,null,null,null,null,"Listening Comprehension"]
[null,null,null,null,null,null,null,"Written Expression",null,null,null,null,null,"Oral Expression"]
[]
["For Initial Determination of Eligibility Only",null,null,null,null,null,null,null,null,null,null,null,null,null,null,null,null,null,"Select","V130",null,null,null,null,{"$f":"S131","v":"Select"},{"$f":"S131","v":"Select"}]
[{"$f":"HYPERLINK(\"http://sdlegislature.gov/Rules/DisplayRule.aspx?Rule=24:05:24.01:19\",\"Initial Eligibility\n(24:05:24.01:19)\")","v":"Initial Eligibility\n(24:05:24.01:19)"},null,null,null,null,null,"Written report must include:",null,null,null,null,null,null,null,null,null,null,null,null,null,null,null,null,{"$f":"Y132+Z132","v":0},{"$f":"COUNTIF(Y131,\"Yes\")*3","v":0},{"$f":"COUNTIF(Z131,\"No\")*3","v":0}]
[]
[null,null,null,null,null,null,null,"Student achieves adequately",null,null,null,null,"Lack of appropriate instruction"]
[]
[null,null,null,null,null,null,null,"Student exhibits pattern of strengths & weaknesses",null,null,null,null,"Observation of the student"]
[]
[null,null,null,null,null,null,null,null,null,null,null,null,"Relevant medical findings (if any)"]
[null,null,null,null,null,null,null,"Student was provided appropriate instruction in regular education settings by qualified personnel"]
[null,null,null,null,null,null,null,null,null,null,null,null,"Achievement level problem is/is not primarily the result of another factor (e.g. emotional disturbance, cognitive impairment, etc.)"]
[]
[]
[null,null,null,null,null,null,null,"Repeated assessment of achievement reflecting student progress"]
[]
[]
[null,null,null,null,null,null,null,"Attendance record",null,null,null,null,"Adverse effect on educational performance"]
[]
[]
["Click on the [+] button to expand or the [-] button to collapse."]
["For Reevaluation of Eligibility Only",null,null,null,null,null,null,null,null,null,null,null,null,null,null,null,null,null,"Select","V149",null,null,null,null,{"$f":"S150","v":"Select"},{"$f":"S150","v":"Select"}]
[{"$f":"HYPERLINK(\"http://sdlegislature.gov/Rules/DisplayRule.aspx?Rule=24:05:24.01:19\",\"Reevaluation of Eligibility\n(24:05:24.01:19)\")","v":"Reevaluation of Eligibility\n(24:05:24.01:19)"},null,null,null,null,null,"Written report must include:",null,null,null,null,null,null,null,null,null,null,null,null,null,null,null,null,{"$f":"Y151+Z151","v":0},{"$f":"COUNTIF(Y150,\"Yes\")*3","v":0},{"$f":"COUNTIF(Z150,\"No\")*3","v":0}]
[]
[null,null,null,null,null,null,null,"Student achieves adequately",null,null,null,null,"Achievement level problem is/is not primarily the result of another factor (e.g. emotional disturbance, cognitive impairment, etc.)"]
[]
[null,null,null,null,null,null,null,"Student exhibits pattern of strengths & weaknesses"]
[]
[]
[null,null,null,null,null,null,null,"Observation of the student"]
[null,null,null,null,null,null,null,null,null,null,null,null,"Adverse effect on educational performance"]
[null,null,null,null,null,null,null,"Relevant medical findings (if any)"]
[]
[]
["Click on the [+] button to expand or the [-] button to collapse."]
[{"$f":"HYPERLINK(\"http://sdlegislature.gov/Rules/DisplayRule.aspx?Rule=24:05:25:08\",\"Team Member Signatures \n(24:05:25:08)\")","v":"Team Member Signatures \n(24:05:25:08)"},null,null,null,null,null,"Check the following:",null,null,null,null,null,null,null,null,null,null,null,"Select","V163",null,null,null,null,{"$f":"S164","v":"Select"},{"$f":"S164","v":"Select"}]
[null,null,null,null,null,null,null,null,null,null,null,null,null,null,null,null,null,null,null,null,null,null,null,{"$f":"Y165+Z165","v":0},{"$f":"COUNTIF(Y164,\"Yes\")*3","v":0},{"$f":"COUNTIF(Z164,\"No\")*3","v":0}]
[null,null,null,null,null,null,null,"Parent",null,null,null,null,"Each group member shall certify in writing whether the report reflects the group member's conclusion. If it does not reflect the group member's conclusion, the group member must submit the conclusion in a separate statement."]
[null,null,null,null,null,null,null,"General Education Teacher"]
[{"$f":"HYPERLINK(\"http://sdlegislature.gov/Rules/DisplayRule.aspx?Rule=24:05:25:13\",\"Group Members to Certify \nReport in Writing \n(24:05:25:13)\")","v":"Group Members to Certify \nReport in Writing \n(24:05:25:13)"},null,null,null,null,null,null,"Special Education Teacher"]
[null,null,null,null,null,null,null,"Qualified interpreter of results"]
[null,null,null,null,null,null,null,"LEA Representative"]
[null,null,null,null,null,null,null,"If disagreed, written input was provided"]
[]
[null,null,null,null,null,null,"Check PWWN for eligibility decisions.                         ",null,null,null,null,"Skip to","PPWN.",null,null,null,null,null,"Select",null,null,null,null,null,{"$f":"S173","v":"Select"},{"$f":"S173","v":"Select"}]
[null,null,null,null,null,null,null,null,null,null,null,null,null,null,null,null,null,null,null,null,null,null,null,{"$f":"Y174+Z174","v":0},{"$f":"COUNTIF(Y173,\"Yes\")*3","v":0},{"$f":"COUNTIF(Z173,\"No\")*3","v":0}]
[]
[{"$f":"HYPERLINK(\"https://gosynth.com/p/s/mzphio\",\"Meeting Notice\")","v":"Meeting Notice"},null,null,null,null,null,null,null,null,null,null,null,null,null,null,null,null,null,{"$f":"IFERROR(Y184/X184,\"N/A\")","v":"N/A"}]
["Meeting Notice",null,null,null,null,null,"Date sent:",null,null,null,null,null,"From this point on use the current IEP's documentation.",null,null,null,null,null,"Select","V174",null,null,null,null,{"$f":"S177","v":"Select"},{"$f":"S177","v":"Select"}]
[{"$f":"HYPERLINK(\"http://sdlegislature.gov/Rules/DisplayRule.aspx?Rule=24:05:30:02.01\",\"(24:05:30:02.01)\")","v":"(24:05:30:02.01)"},null,null,{"$f":"HYPERLINK(\"http://sdlegislature.gov/Rules/DisplayRule.aspx?Rule=24:05:25:16\",\"(24:05:25:16)\")","v":"(24:05:25:16)"},null,null,"Meeting date:",null,null,{"$f":"T5","v":"00:00:00"},null,null,null,null,null,null,null,null,null,null,null,null,null,{"$f":"Y178+Z178","v":0},{"$f":"COUNTIF(Y177,\"Yes\")*3","v":0},{"$f":"COUNTIF(Z177,\"No\")*3","v":0}]
["Procedural Safeguards",null,null,null,null,null,"Must be given to parents annually.",null,null,null,null,null,null,null,null,null,null,null,"Select",null,null,null,null,null,{"$f":"S179","v":"Select"},{"$f":"S179","v":"Select"}]
[{"$f":"HYPERLINK(\"http://sdlegislature.gov/Rules/DisplayRule.aspx?Rule=24:05:30:06.01\",\"(24:05:30:06.01)\")","v":"(24:05:30:06.01)"},null,null,{"$f":"HYPERLINK(\"http://sdlegislature.gov/Rules/DisplayRule.aspx?Rule=24:05:30:06.02\",\"(24:05:30:06.02)\")","v":"(24:05:30:06.02)"},null,null,null,null,null,null,null,null,null,null,null,null,null,null,null,null,null,null,null,{"$f":"Y180+Z180","v":0},{"$f":"COUNTIF(Y179,\"Yes\")*3","v":0},{"$f":"COUNTIF(Z179,\"No\")*3","v":0}]
["IEP Team",null,null,null,null,null,"Complete the following:",null,null,null,null,null,null,null,null,null,null,null,"Select",null,null,null,null,null,{"$f":"S181","v":"Select"},{"$f":"S181","v":"Select"}]
[null,null,null,null,null,null,null,null,null,null,null,null,null,null,null,null,null,null,null,null,null,null,null,{"$f":"Y182+Z182","v":0},{"$f":"COUNTIF(Y181,\"Yes\")*3","v":0},{"$f":"COUNTIF(Z181,\"No\")*3","v":0}]
[null,null,null,null,null,null,null,"The documentation of people attending the IEP meeting on front page of the IEP does not imply agreement, it is for participation purposes only."]
[null,null,null,null,null,null,null,null,null,null,null,null,null,null,null,null,null,null,null,null,null,null,null,{"$f":"(X178+X180+X182+X198)/4","v":0},{"$f":"(Y178+Y180+Y182+Y198)/4","v":0}]
[null,null,null,null,null,null,null,"Identified on the meeting notice:",null,null,"Attended the meeting:",null,null,"Did not attend\nthe meeting:"]
[]
[{"$f":"HYPERLINK(\"http://sdlegislature.gov/Rules/DisplayRule.aspx?Rule=24:05:25:16\",\"(24:05:25:16)\")","v":"(24:05:25:16)"},null,null,null,null,null,null,"Parent/Guardian"]
[null,null,null,null,null,null,null,"Student"]
[null,null,null,null,null,null,null,"Gen. Ed. Teacher"]
[null,null,null,null,null,null,null,"Sp. Ed. Teacher"]
["Parent Participation",null,null,null,null,null,null,"Eval Interpreter"]
[{"$f":"HYPERLINK(\"http://sdlegislature.gov/Rules/DisplayRule.aspx?Rule=24:05:25:16\",\"(24:05:25:16)\")","v":"(24:05:25:16)"},null,null,null,null,null,null,"LEA Representative"]
[null,null,null,null,null,null,null,"List Others"]
[null,null,null,null,null,null,null,"List Others"]
[null,null,null,null,null,null,null,"List Others"]
[]
["IEP Team Attendance \n (24:05:27:01.05)",null,null,null,null,null,"A member of the IEP team may be excused from attending, in whole or in part, an IEP team meeting that involves a modification to or discussion of the member's area of the curriculum or related services, if:\n   (1) The parent and school district consent in writing to the excusal; and\n   (2) The member submits, in writing to the parent and the IEP team, input into the development of the IEP before the meeting.",null,null,null,null,null,null,null,null,null,null,null,"Select","V194",null,null,null,null,{"$f":"S197","v":"Select"},{"$f":"S197","v":"Select"}]
[null,null,null,null,null,null,null,null,null,null,null,null,null,null,null,null,null,null,null,null,null,null,null,{"$f":"Y198+Z198","v":0},{"$f":"COUNTIF(Y197,\"Yes\")*3","v":0},{"$f":"COUNTIF(Z197,\"No\")*3","v":0}]
[]
[]
[]
[]
[{"$f":"HYPERLINK(\"https://gosynth.com/p/s/jshfqs\",\"          Individual Education Plan (Use the most recent IEP.)\n\")","v":"          Individual Education Plan (Use the most recent IEP.)\n"},null,null,null,null,null,null,null,null,null,null,null,null,null,null,null,null,null,{"$f":"IFERROR(Y210/X210,\"N/A\")","v":"N/A"}]
[{"$f":"HYPERLINK(\"http://sdlegislature.gov/Rules/DisplayRule.aspx?Rule=24:05:25:04.03\",\"Evaluation Reports Given to Parents \n(24:05:25:04.03)\")","v":"Evaluation Reports Given to Parents \n(24:05:25:04.03)"},null,null,null,null,null,"Evidence the parent received a copy of the reports (e.g.  initials on the front page IEP or other evidence). ",null,null,null,null,null,null,null,null,null,null,null,"Select","V201",null,null,null,null,{"$f":"S204","v":"Select"},{"$f":"S204","v":"Select"}]
[null,null,null,null,null,null,null,null,null,null,null,null,null,null,null,null,null,null,null,null,null,null,null,{"$f":"Y205+Z205","v":0},{"$f":"COUNTIF(Y204,\"Yes\")*3","v":0},{"$f":"COUNTIF(Z204,\"No\")*3","v":0}]
[{"$f":"HYPERLINK(\"http://sdlegislature.gov/Rules/DisplayRule.aspx?Rule=24:05:25:19\",\"Copy of IEP Given to Parents \n(24:05:25:19)\")","v":"Copy of IEP Given to Parents \n(24:05:25:19)"},null,null,null,null,null,"Evidence copy of the IEP was given to parents (e.g.  initials on the front page, addressed in PPWN, or other evidence).",null,null,null,null,null,null,null,null,null,null,null,"Select",null,null,null,null,null,{"$f":"S206","v":"Select"},{"$f":"S206","v":"Select"}]
[null,null,null,null,null,null,null,null,null,null,null,null,null,null,null,null,null,null,null,null,null,null,null,{"$f":"Y207+Z207","v":0},{"$f":"COUNTIF(Y206,\"Yes\")*3","v":0},{"$f":"COUNTIF(Z206,\"No\")*3","v":0}]
[{"$f":"HYPERLINK(\"http://sdlegislature.gov/Rules/DisplayRule.aspx?Rule=24:05:27:08\",\"Met Annually\n(24:05:27:08)\")","v":"Met Annually\n(24:05:27:08)"},null,null,null,null,null,"Current IEP Meeting Date:",null,null,null,null,{"$f":"T5","v":"00:00:00"},null,null,null,null,null,null,"Select",null,null,null,null,null,{"$f":"S208","v":"Select"},{"$f":"S208","v":"Select"}]
[null,null,null,null,null,null,"Previous IEP Meeting Date:",null,null,null,null,{"$f":"T6","v":"00:00:00"},null,null,null,null,null,null,null,null,null,null,null,{"$f":"Y209+Z209","v":0},{"$f":"COUNTIF(Y208,\"Yes\")*3","v":0},{"$f":"COUNTIF(Z208,\"No\")*3","v":0}]
[null,null,null,null,null,null,null,null,null,null,null,null,null,null,null,null,null,null,null,null,null,null,null,{"$f":"(X205+X207+X209)/3","v":0},{"$f":"(Y205+Y207+Y209)/3","v":0}]
[{"$f":"HYPERLINK(\"https://gosynth.com/p/s/eypdgf\",\"Present Levels of Academic Achievement & Functional Performance\")","v":"Present Levels of Academic Achievement & Functional Performance"},null,null,null,null,null,null,null,null,null,null,null,null,null,null,null,null,null,{"$f":"IFERROR(Y243/X243,\"N/A\")","v":"N/A"}]
[{"$f":"HYPERLINK(\"http://sdlegislature.gov/Rules/DisplayRule.aspx?Rule=24:05:27:01.03\",\"Progress/Involvement in \nGeneral Education Curriculum\n(24:05:27:01.03)\")","v":"Progress/Involvement in \nGeneral Education Curriculum\n(24:05:27:01.03)"},null,null,null,null,null,"A statement of the student's present levels of academic achievement and functional performance, including:\n   (a)  How the student's disability affects the student's involvement and progress in the general education curriculum (i.e., the same curriculum as for nondisabled students); or\n   (b)  For preschool student, as appropriate, how the disability affects the student's participation in appropriate activities;\nis found in the document.",null,null,null,null,null,null,null,null,null,null,null,"Select","V209",null,null,null,null,{"$f":"S212","v":"Select"},{"$f":"S212","v":"Select"}]
[null,null,null,null,null,null,null,null,null,null,null,null,null,null,null,null,null,null,null,null,null,null,null,{"$f":"Y213+Z213","v":0},{"$f":"COUNTIF(Y212,\"Yes\")*3","v":0},{"$f":"COUNTIF(Z212,\"No\")*3","v":0}]
[]
[{"$f":"HYPERLINK(\"https://sdlegislature.gov/Rules/DisplayRule.aspx?Rule=24:05:25:16\",\"Parent Participation\n(24:05:25:16)\")","v":"Parent Participation\n(24:05:25:16)"},null,null,null,null,null,"The purpose of this area for parent to provide IEP team information about how the child’s disability is impacted at home. Parents can also provide input on types of strategies and supports they provide at home.",null,null,null,null,null,null,null,null,null,null,null,"Select",null,null,null,null,null,{"$f":"S215","v":"Select"},{"$f":"S215","v":"Select"}]
[null,null,null,null,null,null,null,null,null,null,null,null,null,null,null,null,null,null,null,null,null,null,null,{"$f":"Y216+Z216","v":0},{"$f":"COUNTIF(Y215,\"Yes\")*3","v":0},{"$f":"COUNTIF(Z215,\"No\")*3","v":0}]
[{"$f":"HYPERLINK(\"http://sdlegislature.gov/Rules/DisplayRule.aspx?Rule=24:05:27:01.03\",\"Present Levels of \nAcademic Achievement \n& Functional Performance\nLinked to Annual Goals\n(24:05:27:01.03)\")","v":"Present Levels of \nAcademic Achievement \n& Functional Performance\nLinked to Annual Goals\n(24:05:27:01.03)"},null,null,null,null,null,"Skill Area:",null,null,null,null,"Measuarable Goal:",null,null,null,null,null,null,"Select","V214",null,null,null,null,{"$f":"S217","v":"Select"},{"$f":"S217","v":"Select"}]
[null,null,null,null,null,null,null,null,null,null,null,null,null,null,null,null,null,null,null,null,null,null,null,{"$f":"Y218+Z218","v":0},{"$f":"COUNTIF(Y217,\"Yes\")*3","v":0},{"$f":"COUNTIF(Z217,\"No\")*3","v":0}]
[null,null,null,null,null,null,null,"Strengths",null,null,null,null,"Condition",null,null,"How well"]
[null,null,null,null,null,null,null,"Needs",null,null,null,null,"Performance",null,null,"How often"]
[null,null,null,null,null,null,null,"Link to evaluation"]
[]
[null,null,null,null,null,null,"Skill Area:",null,null,null,null,"Measuarable Goal:",null,null,null,null,null,null,"Select",null,null,null,null,null,{"$f":"S223","v":"Select"},{"$f":"S223","v":"Select"}]
[null,null,null,null,null,null,null,null,null,null,null,null,null,null,null,null,null,null,null,null,null,null,null,{"$f":"Y224+Z224","v":0},{"$f":"COUNTIF(Y223,\"Yes\")*3","v":0},{"$f":"COUNTIF(Z223,\"No\")*3","v":0}]
[null,null,null,null,null,null,null,"Strengths",null,null,null,null,"Condition",null,null,"How well"]
[null,null,null,null,null,null,null,"Needs",null,null,null,null,"Performance",null,null,"How often"]
[null,null,null,null,null,null,null,"Link to evaluation"]
[]
[null,null,null,null,null,null,"Skill Area:",null,null,null,null,"Measuarable Goal:",null,null,null,null,null,null,"Select",null,null,null,null,null,{"$f":"S229","v":"Select"},{"$f":"S229","v":"Select"}]
[null,null,null,null,null,null,null,null,null,null,null,null,null,null,null,null,null,null,null,null,null,null,null,{"$f":"Y230+Z230","v":0},{"$f":"COUNTIF(Y229,\"Yes\")*3","v":0},{"$f":"COUNTIF(Z229,\"No\")*3","v":0}]
[null,null,null,null,null,null,null,"Strengths",null,null,null,null,"Condition",null,null,"How well"]
[null,null,null,null,null,null,null,"Needs",null,null,null,null,"Performance",null,null,"How often"]
[null,null,null,null,null,null,null,"Link to evaluation"]
[]
[{"$f":"HYPERLINK(\"http://sdlegislature.gov/Rules/DisplayRule.aspx?Rule=24:05:27:01.03\",\"How Progress will be Measured\n(24:05:27:01.03)\")","v":"How Progress will be Measured\n(24:05:27:01.03)"},null,null,null,null,null,{"$f":"HYPERLINK(\"https://gosynth.com/p/s/psaxcx\",\"         Check the following:\")","v":"         Check the following:"},null,null,null,null,null,null,null,null,null,null,null,"Select","V232",null,null,null,null,{"$f":"S235","v":"Select"},{"$f":"S235","v":"Select"}]
[null,null,null,null,null,null,null,null,null,null,null,null,null,null,null,null,null,null,null,null,null,null,null,{"$f":"Y236+Z236","v":0},{"$f":"COUNTIF(Y235,\"Yes\")*3","v":0},{"$f":"COUNTIF(Z235,\"No\")*3","v":0}]
[null,null,null,null,null,null,null,"Reporting frequency",null,null,null,null,"Extent of progress"]
[null,null,null,null,null,null,null,"Reporting method"]
[]
[{"$f":"HYPERLINK(\"http://sdlegislature.gov/Rules/DisplayRule.aspx?Rule=24:05:27:01.03\",\"Accommodations/Modifications\n(24:05:27:01.03)\")","v":"Accommodations/Modifications\n(24:05:27:01.03)"},null,null,null,null,null,{"$f":"HYPERLINK(\"https://gosynth.com/p/s/rtpvrq\",\"         Check the following:\")","v":"         Check the following:"},null,null,null,null,"List Instructional Accommodations:",null,null,null,null,null,null,"Select","V237",null,null,null,null,{"$f":"S240","v":"Select"},{"$f":"S240","v":"Select"}]
[null,null,null,null,null,null,null,"Frequency",null,null,null,null,null,null,null,null,null,null,null,null,null,null,null,{"$f":"Y241+Z241","v":0},{"$f":"COUNTIF(Y240,\"Yes\")*3","v":0},{"$f":"COUNTIF(Z240,\"No\")*3","v":0}]
[null,null,null,null,null,null,null,"Duration"]
[null,null,null,null,null,null,null,"Location",null,null,null,null,null,null,null,null,null,null,null,null,null,null,null,{"$f":"(X241+X236+X230+X224+X218+X216+X213)/7","v":0},{"$f":"(Y241+Y236+Y230+Y224+Y218+Y216+Y213)/7","v":0}]
[]
[]
[null,null,null,null,null,null,null,"Are the accommodations appropriate for the skill areas affected by the diability?"]
[]
[]
[]
[null,null,null,null,null,null,null,null,"Yes"]
[null,null,null,null,null,null,null,null,"No"]
[]
[]
[]
[{"$f":"HYPERLINK(\"https://gosynth.com/p/s/ygpazf\",\"Special Factors\")","v":"Special Factors"},null,null,null,null,null,null,null,null,null,null,null,null,null,null,null,null,null,{"$f":"IFERROR(Y294/X294,\"N/A\")","v":"N/A"}]
[{"$f":"HYPERLINK(\"http://sdlegislature.gov/Rules/DisplayRule.aspx?Rule=24:05:27:01.02\",\"Considerations\n(24:05:27:01.02)\")","v":"Considerations\n(24:05:27:01.02)"},null,null,null,null,null,"Select for each:",null,null,"Determine if data supports the selection for each special factor; if not addressed, check \"N\"  for score.",null,null,null,null,null,null,null,null,"Select","V243",null,null,null,null,{"$f":"S256","v":"Select"},{"$f":"S256","v":"Select"}]
[null,null,null,null,null,null,null,null,null,null,null,null,null,null,null,null,null,null,null,null,null,null,null,{"$f":"Y257+Z257","v":0},{"$f":"COUNTIF(Y256,\"Yes\")*3","v":0},{"$f":"COUNTIF(Z256,\"No\")*3","v":0}]
[null,null,null,null,null,null,null,null,null,"Limited English proficient"]
[null,null,null,null,null,null,null,null,null,"Special communication needs"]
[null,null,null,null,null,null,null,null,null,"Requires Braille"]
[null,null,null,null,null,null,null,null,null,"Behavior impedes learning"]
[null,null,null,null,null,null,null,null,null,"Requires assistive technology & services"]
[null,null,null,null,null,null,null,null,null,"Physical education"]
[null,null,null,null,null,null,null,null,null,"Hearing aid maintenance"]
[{"$f":"HYPERLINK(\"http://sdlegislature.gov/Rules/DisplayRule.aspx?Rule=24:05:27:01.03\",\"State/District Assessments\n(24:05:27:01.03)\")","v":"State/District Assessments\n(24:05:27:01.03)"},null,null,null,null,null,{"$f":"HYPERLINK(\"https://gosynth.com/p/s/jdbbir\",\"             Students will be taking state and district-wide assessments:\")","v":"             Students will be taking state and district-wide assessments:"},null,null,null,null,null,null,null,null,null,null,null,"Select","V263",null,null,null,null,{"$f":"S265","v":"Select"},{"$f":"S265","v":"Select"}]
[null,null,null,null,null,null,null,"With accommodations",null,null,null,null,"Without accommodations",null,null,null,null,null,null,null,null,null,null,{"$f":"Y266+Z266","v":0},{"$f":"COUNTIF(Y265,\"Yes\")*3","v":0},{"$f":"COUNTIF(Z265,\"No\")*3","v":0}]
[null,null,null,null,null,null,"Testing accommodations must reflect instructional accommodations."]
[null,null,null,null,null,null,"Do the accommodations for the state/district assesment(s) \nmatch the instructional accommodations?"]
[]
[null,null,null,null,null,null,"Instructional \nAccommodations",null,null,null,"State/District\nAssessment\nAccommodations",null,null,null,"Select\nyes or no:"]
[]
[]
[null,null,null,null,null,null,{"$f":"L241","v":0},null,null,null,null,null,null,null,"- Select -"]
[null,null,null,null,null,null,0,null,null,null,null,null,null,null,"- Select -"]
[null,null,null,null,null,null,0,null,null,null,null,null,null,null,"- Select -"]
[null,null,null,null,null,null,0,null,null,null,null,null,null,null,"- Select -"]
[null,null,null,null,null,null,0]
[null,null,null,null,null,null,0,null,null,null,null,null,null,null,"- Select -"]
[null,null,null,null,null,null,0,null,null,null,null,null,null,null,"- Select -"]
[null,null,null,null,null,null,0]
[null,null,null,null,null,null,0]
[null,null,null,null,null,null,0,null,null,null,null,null,null,null,"- Select -"]
[null,null,null,null,null,null,0,null,null,null,null,null,null,null,"- Select -"]
[null,null,null,null,null,null,0,null,null,null,null,null,null,null,"- Select -"]
[null,null,null,null,null,null,0,null,null,null,null,null,null,null,"- Select -"]
[null,null,null,null,null,null,0,null,null,null,null,null,null,null,"- Select -"]
[null,null,null,null,null,null,"Were the accommodations for\n the state assessment identified \non the IEP provided according to \nthe assessment data sheet?"]
[null,null,null,null,null,null,null,null,null,null,null,null,null,"- Select -"]
[]
[{"$f":"HYPERLINK(\"http://sdlegislature.gov/Rules/DisplayRule.aspx?Rule=24:05:27:01.03\",\"Alternate Assessments\n(24:05:27:01.03)\")","v":"Alternate Assessments\n(24:05:27:01.03)"},null,null,null,null,null,{"$f":"HYPERLINK(\"https://gosynth.com/p/s/bjlejx\",\"                  The following must be met:\")","v":"                  The following must be met:"},null,null,null,null,null,null,null,null,null,null,null,"Select","V257",null,null,null,null,{"$f":"S290","v":"Select"},{"$f":"S290","v":"Select"}]
[null,null,null,null,null,null,null,null,null,null,null,null,null,null,null,null,null,null,null,null,null,null,null,{"$f":"Y291+Z291","v":0},{"$f":"COUNTIF(Y290,\"Yes\")*3","v":0},{"$f":"COUNTIF(Z290,\"No\")*3","v":0}]
[null,null,null,null,null,null,null,"Student meets the significant cognitive disability criteria"]
[null,null,null,null,null,null,null,"Explanation for why student cannot participate in the regular assessment"]
[null,null,null,null,null,null,null,null,null,null,null,null,null,null,null,null,null,null,null,null,null,null,null,{"$f":"(X291+X266+X257)/3","v":0},{"$f":"(Y291+Y266+Y257)/3","v":0}]
[null,null,null,null,null,null,null,"Explanation for why the alternate assessment selected is appropriate"]
[]
[null,null,null,null,null,null,null,"The alternate assessment is for students working in the alternate achievement standards.  Annual goals and short term objectives are required.                                                                         \n                                                                        "]
[]
[]
[null,null,null,null,null,null,"Does the PPWN explain why IEP team decided alternate assessment for the student?"]
[null,null,null,null,null,null,"Does the student taking the\n alternate assessment meet\n the criteria, has it been \ndocumented on the IEP?"]
[null,null,null,null,null,null,null,null,null,null,null,null,null,"- Select -"]
[]
[]
[{"$f":"HYPERLINK(\"https://gosynth.com/p/s/itwkve\",\"Transition\")","v":"Transition"},null,null,null,null,null,null,null,null,null,null,null,null,null,null,null,null,null,{"$f":"IFERROR(Y306/X306,\"N/A\")","v":"N/A"}]
["Indicator 13 Item 1",null,null,null,null,null,null,null,null,null,null,null,null,null,null,null,null,null,null,null,null,null,null,{"$f":"(X308+X310+X312+X314+X316+X319+X321+X323+X326+X329+X331+X333+X336+X338+X340+X343+X345+X347+X350+X356+X362+X364+X366+X369)/24","v":0},{"$f":"(Y308+Y310+Y312+Y314+Y316+Y319+Y321+Y323+Y326+Y329+Y331+Y333+Y336+Y338+Y340+Y343+Y345+Y347+Y350+Y356+Y362+Y364+Y366+Y369)/24","v":0}]
[{"$f":"HYPERLINK(\"http://sdlegislature.gov/Rules/DisplayRule.aspx?Rule=24:05:27:01.03\",\"Transition IEP*\n(24:05:27:01.03)\")","v":"Transition IEP*\n(24:05:27:01.03)"},null,null,null,null,null,{"$f":"HYPERLINK(\"https://gosynth.com/p/s/itwkve\",\"Transition IEP must be in effect for all students on their 16 birthday or for younger students if it is addressed in the IEP.   \n*This is not on the Indicator 13 checklist, but it is a compliance requirement. \")","v":"Transition IEP must be in effect for all students on their 16 birthday or for younger students if it is addressed in the IEP.   \n*This is not on the Indicator 13 checklist, but it is a compliance requirement. "},null,null,null,null,null,null,null,null,null,null,null,"Select","V269",null,null,null,null,{"$f":"S307","v":"Select"},{"$f":"S307","v":"Select"}]
[null,null,null,null,null,null,null,null,null,null,null,null,null,null,null,null,null,null,null,null,null,null,null,{"$f":"Y308+Z308","v":0},{"$f":"COUNTIF(Y307,\"Yes\")*3","v":0},{"$f":"COUNTIF(Z307,\"No\")*3","v":0}]
[null,null,null,null,null,null,null,null,null,null,null,null,null,null,null,null,null,null,"Select",null,null,null,null,null,{"$f":"S309","v":"Select"},{"$f":"S309","v":"Select"}]
[{"$f":"HYPERLINK(\"http://sdlegislature.gov/Rules/DisplayRule.aspx?Rule=24:05:27:01.03\",\"Transition Assessments\n(24:05:27:01.03)\")","v":"Transition Assessments\n(24:05:27:01.03)"},null,null,null,null,null,null,"Employment",null,null,null,null,null,null,null,null,null,null,null,null,null,null,null,{"$f":"Y310+Z310","v":0},{"$f":"COUNTIF(Y309,\"Yes\")*3","v":0},{"$f":"COUNTIF(Z309,\"No\")*3","v":0}]
[null,null,null,null,null,null,null,null,null,null,null,null,null,null,null,null,null,null,"Select",null,null,null,null,null,{"$f":"S311","v":"Select"},{"$f":"S311","v":"Select"}]
[null,null,null,null,null,null,null,"Education/Training",null,null,null,null,null,null,null,null,null,null,null,null,null,null,null,{"$f":"Y312+Z312","v":0},{"$f":"COUNTIF(Y311,\"Yes\")*3","v":0},{"$f":"COUNTIF(Z311,\"No\")*3","v":0}]
[null,null,null,null,null,null,null,"Independent Living",null,null,null,null,null,null,null,null,null,null,"Select",null,null,null,null,null,{"$f":"S313","v":"Select"},{"$f":"S313","v":"Select"}]
[null,null,null,null,null,null,{"$f":"HYPERLINK(\"https://gosynth.com/p/s/itwkve\",\"The transition assessment must be completed prior to the age of 16 and updated annually.  Evidence of transition strengths/ needs are document on the PLAAFPs.  \")","v":"The transition assessment must be completed prior to the age of 16 and updated annually.  Evidence of transition strengths/ needs are document on the PLAAFPs.  "},null,null,null,null,null,null,null,null,null,null,null,null,null,null,null,null,{"$f":"Y314+Z314","v":0},{"$f":"COUNTIF(Y313,\"Yes\")*3","v":0},{"$f":"COUNTIF(Z313,\"No\")*3","v":0}]
["Transition Evaluation Report*\n",null,null,null,null,null,{"$f":"HYPERLINK(\"https://gosynth.com/p/s/itwkve\",\"A transition evaluation report is located in the file.\n\n*This is not on the Indicator 13 checklist, but it is a compliance requirement. \")","v":"A transition evaluation report is located in the file.\n\n*This is not on the Indicator 13 checklist, but it is a compliance requirement. "},null,null,null,null,null,null,null,null,null,null,null,"Select",null,null,null,null,null,{"$f":"S315","v":"Select"},{"$f":"S315","v":"Select"}]
[null,null,null,null,null,null,null,null,null,null,null,null,null,null,null,null,null,null,null,null,null,null,null,{"$f":"Y316+Z316","v":0},{"$f":"COUNTIF(Y315,\"Yes\")*3","v":0},{"$f":"COUNTIF(Z315,\"No\")*3","v":0}]
[{"$f":"HYPERLINK(\"https://gosynth.com/p/s/itwkve\",\"Indicator 13 Item 2\")","v":"Indicator 13 Item 2"}]
[{"$f":"HYPERLINK(\"http://sdlegislature.gov/Rules/DisplayRule.aspx?Rule=24:05:27:01.03\",\"Age-Appropriate Measurable \nPost-Secondary Goals \n(24:05:27:01.03)\")","v":"Age-Appropriate Measurable \nPost-Secondary Goals \n(24:05:27:01.03)"},null,null,null,null,null,null,"Employment",null,null,null,null,null,null,null,null,null,null,"Select","V278",null,null,null,null,{"$f":"S318","v":"Select"},{"$f":"S318","v":"Select"}]
[null,null,null,null,null,null,null,null,null,null,null,null,null,null,null,null,null,null,null,null,null,null,null,{"$f":"Y319+Z319","v":0},{"$f":"COUNTIF(Y318,\"Yes\")*3","v":0},{"$f":"COUNTIF(Z318,\"No\")*3","v":0}]
[null,null,null,null,null,null,null,"Education/Training",null,null,null,null,null,null,null,null,null,null,"Select",null,null,null,null,null,{"$f":"S320","v":"Select"},{"$f":"S320","v":"Select"}]
[null,null,null,null,null,null,null,null,null,null,null,null,null,null,null,null,null,null,null,null,null,null,null,{"$f":"Y321+Z321","v":0},{"$f":"COUNTIF(Y320,\"Yes\")*3","v":0},{"$f":"COUNTIF(Z320,\"No\")*3","v":0}]
[null,null,null,null,null,null,null,"Independent Living",null,null,null,null,null,null,null,null,null,null,"Select",null,null,null,null,null,{"$f":"S322","v":"Select"},{"$f":"S322","v":"Select"}]
[null,null,null,null,null,null,null,null,null,null,null,null,null,null,null,null,null,null,null,null,null,null,null,{"$f":"Y323+Z323","v":0},{"$f":"COUNTIF(Y322,\"Yes\")*3","v":0},{"$f":"COUNTIF(Z322,\"No\")*3","v":0}]
[{"$f":"HYPERLINK(\"https://gosynth.com/p/s/itwkve\",\"Indicator 13 Item 3\")","v":"Indicator 13 Item 3"}]
["MPSGs Updated Annually",null,null,null,null,null,null,null,null,null,null,null,null,null,null,null,null,null,"Select","V282",null,null,null,null,{"$f":"S325","v":"Select"},{"$f":"S325","v":"Select"}]
[null,null,null,null,null,null,null,null,null,null,null,null,null,null,null,null,null,null,null,null,null,null,null,{"$f":"Y326+Z326","v":0},{"$f":"COUNTIF(Y325,\"Yes\")*3","v":0},{"$f":"COUNTIF(Z325,\"No\")*3","v":0}]
["Indicator 13 Item 4"]
[{"$f":"HYPERLINK(\"http://sdlegislature.gov/Rules/DisplayRule.aspx?Rule=24:05:27:01.03\",\"Course of Study Aligns to \nPost-Secondary Goals\n(24:05:27:01.03)\")","v":"Course of Study Aligns to \nPost-Secondary Goals\n(24:05:27:01.03)"},null,null,null,null,null,null,"Employment",null,null,null,null,null,null,null,null,null,null,"Select","V285",null,null,null,null,{"$f":"S328","v":"Select"},{"$f":"S328","v":"Select"}]
[null,null,null,null,null,null,null,null,null,null,null,null,null,null,null,null,null,null,null,null,null,null,null,{"$f":"Y329+Z329","v":0},{"$f":"COUNTIF(Y328,\"Yes\")*3","v":0},{"$f":"COUNTIF(Z328,\"No\")*3","v":0}]
[null,null,null,null,null,null,null,"Education/Training",null,null,null,null,null,null,null,null,null,null,"Select",null,null,null,null,null,{"$f":"S330","v":"Select"},{"$f":"S330","v":"Select"}]
[null,null,null,null,null,null,null,null,null,null,null,null,null,null,null,null,null,null,null,null,null,null,null,{"$f":"Y331+Z331","v":0},{"$f":"COUNTIF(Y330,\"Yes\")*3","v":0},{"$f":"COUNTIF(Z330,\"No\")*3","v":0}]
[null,null,null,null,null,null,null,"Independent Living",null,null,null,null,null,null,null,null,null,null,"Select",null,null,null,null,null,{"$f":"S332","v":"Select"},{"$f":"S332","v":"Select"}]
[null,null,null,null,null,null,"Completed by age 16, or younger if transition has been addressed in the IEP, and updated annually through graduation or ‘age out’.",null,null,null,null,null,null,null,null,null,null,null,null,null,null,null,null,{"$f":"Y333+Z333","v":0},{"$f":"COUNTIF(Y332,\"Yes\")*3","v":0},{"$f":"COUNTIF(Z332,\"No\")*3","v":0}]
[{"$f":"HYPERLINK(\"https://gosynth.com/p/s/itwkve\",\"Indicator 13 Item 5\")","v":"Indicator 13 Item 5"}]
[{"$f":"HYPERLINK(\"http://sdlegislature.gov/Rules/DisplayRule.aspx?Rule=24:05:27:13.02\",\"Transition Services/Activities\n(24:05:27:13.02)\")","v":"Transition Services/Activities\n(24:05:27:13.02)"},null,null,null,null,null,null,"Employment",null,null,null,null,null,null,null,null,null,null,"Select","V290",null,null,null,null,{"$f":"S335","v":"Select"},{"$f":"S335","v":"Select"}]
[null,null,null,null,null,null,null,null,null,null,null,null,null,null,null,null,null,null,null,null,null,null,null,{"$f":"Y336+Z336","v":0},{"$f":"COUNTIF(Y335,\"Yes\")*3","v":0},{"$f":"COUNTIF(Z335,\"No\")*3","v":0}]
[null,null,null,null,null,null,null,"Education/Training",null,null,null,null,null,null,null,null,null,null,"Select",null,null,null,null,null,{"$f":"S337","v":"Select"},{"$f":"S337","v":"Select"}]
[null,null,null,null,null,null,null,null,null,null,null,null,null,null,null,null,null,null,null,null,null,null,null,{"$f":"Y338+Z338","v":0},{"$f":"COUNTIF(Y337,\"Yes\")*3","v":0},{"$f":"COUNTIF(Z337,\"No\")*3","v":0}]
[null,null,null,null,null,null,null,"Independent Living",null,null,null,null,null,null,null,null,null,null,"Select",null,null,null,null,null,{"$f":"S339","v":"Select"},{"$f":"S339","v":"Select"}]
[null,null,null,null,null,null,"Services/activities will reasonably enable the student to meet post-secondary goals and have at least one activity per MPSG addressed.",null,null,null,null,null,null,null,null,null,null,null,null,null,null,null,null,{"$f":"Y340+Z340","v":0},{"$f":"COUNTIF(Y339,\"Yes\")*3","v":0},{"$f":"COUNTIF(Z339,\"No\")*3","v":0}]
[{"$f":"HYPERLINK(\"https://gosynth.com/p/s/itwkve\",\"Indicator 13 Item 6\")","v":"Indicator 13 Item 6"}]
[{"$f":"HYPERLINK(\"http://sdlegislature.gov/Rules/DisplayRule.aspx?Rule=24:05:27:13.02\",\"Annual Goal Related to Student’s Transition Service needs in\n(24:05:27:13.02)\")","v":"Annual Goal Related to Student’s Transition Service needs in\n(24:05:27:13.02)"},null,null,null,null,null,null,"Employment",null,null,null,null,null,null,null,null,null,null,"Select","V295",null,null,null,null,{"$f":"S342","v":"Select"},{"$f":"S342","v":"Select"}]
[null,null,null,null,null,null,null,null,null,null,null,null,null,null,null,null,null,null,null,null,null,null,null,{"$f":"Y343+Z343","v":0},{"$f":"COUNTIF(Y342,\"Yes\")*3","v":0},{"$f":"COUNTIF(Z342,\"No\")*3","v":0}]
[null,null,null,null,null,null,null,"Education/Training",null,null,null,null,null,null,null,null,null,null,"Select",null,null,null,null,null,{"$f":"S344","v":"Select"},{"$f":"S344","v":"Select"}]
[null,null,null,null,null,null,null,null,null,null,null,null,null,null,null,null,null,null,null,null,null,null,null,{"$f":"Y345+Z345","v":0},{"$f":"COUNTIF(Y344,\"Yes\")*3","v":0},{"$f":"COUNTIF(Z344,\"No\")*3","v":0}]
[null,null,null,null,null,null,null,"Independent Living",null,null,null,null,null,null,null,null,null,null,"Select",null,null,null,null,null,{"$f":"S346","v":"Select"},{"$f":"S346","v":"Select"}]
[null,null,null,null,null,null,{"$f":"HYPERLINK(\"https://gosynth.com/p/s/itwkve\",\"Annual goals are linked to the MPSGs.\")","v":"Annual goals are linked to the MPSGs."},null,null,null,null,null,null,null,null,null,null,null,null,null,null,null,null,{"$f":"Y347+Z347","v":0},{"$f":"COUNTIF(Y346,\"Yes\")*3","v":0},{"$f":"COUNTIF(Z346,\"No\")*3","v":0}]
[{"$f":"HYPERLINK(\"https://gosynth.com/p/s/pisllo\",\"Indicator 13 Item 7\")","v":"Indicator 13 Item 7"}]
[{"$f":"HYPERLINK(\"http://sdlegislature.gov/Rules/DisplayRule.aspx?Rule=24:05:25:16.01\",\"Student Invitation/Participation\n(24:05:25:16.01)\")","v":"Student Invitation/Participation\n(24:05:25:16.01)"},null,null,null,null,null,"How the student invited?",null,null,null,null,{"$f":"HYPERLINK(\"https://gosynth.com/p/s/pisllo\",\"If student was not in attendance at the meeting, the IEP should show evidence that student's preferences and interests were taken into account. *\")","v":"If student was not in attendance at the meeting, the IEP should show evidence that student's preferences and interests were taken into account. *"},null,null,null,null,null,null,"Select","V300",null,null,null,null,{"$f":"S349","v":"Select"},{"$f":"S349","v":"Select"}]
[null,null,null,null,null,null,null,null,null,null,null,null,null,null,null,null,null,null,null,null,null,null,null,{"$f":"Y350+Z350","v":0},{"$f":"COUNTIF(Y349,\"Yes\")*3","v":0},{"$f":"COUNTIF(Z349,\"No\")*3","v":0}]
[null,null,null,null,null,null,null,"Meeting notice"]
[null,null,null,null,null,null,null,"Individual student invite"]
[]
[{"$f":"HYPERLINK(\"https://gosynth.com/p/s/pisllo\",\"Indicator 13 Item 8\")","v":"Indicator 13 Item 8"}]
[{"$f":"HYPERLINK(\"http://sdlegislature.gov/Rules/DisplayRule.aspx?Rule=24:05:25:16.01\",\"Consent to Invite Outside Agency\n(24:05:25:16.01)\")","v":"Consent to Invite Outside Agency\n(24:05:25:16.01)"},null,null,null,null,null,{"$f":"HYPERLINK(\"https://gosynth.com/p/s/pisllo\",\" Written Consent to invite:\")","v":" Written Consent to invite:"},null,null,null,null,null,null,"List of agencies invited:",null,null,null,null,"Select","V306",null,null,null,null,{"$f":"S355","v":"Select"},{"$f":"S355","v":"Select"}]
[null,null,null,null,null,null,"Invited on Meeting Notice:",null,null,null,null,null,"Yes",null,null,null,null,null,null,null,null,null,null,{"$f":"Y356+Z356","v":0},{"$f":"COUNTIF(Y355,\"Yes\")*3","v":0},{"$f":"COUNTIF(Z355,\"No\")*3","v":0}]
[null,null,null,null,null,null,null,null,null,null,null,null,"No"]
[null,null,null,null,null,null,"Meeting Notice Date:",null,null,null,null,{"$f":"J177","v":"00:00:00"}]
[null,null,null,null,null,null,"Date of Current IEP Meeting:",null,null,null,null,{"$f":"T5","v":"00:00:00"}]
[{"$f":"HYPERLINK(\"https://gosynth.com/p/s/pisllo\",\"Other Transition Areas *\")","v":"Other Transition Areas *"}]
[{"$f":"HYPERLINK(\"http://sdlegislature.gov/Rules/DisplayRule.aspx?Rule=24:05:30:16.01\",\"Transfer of Parental Rights:\n(24:05:30:16.01)\")","v":"Transfer of Parental Rights:\n(24:05:30:16.01)"},null,null,null,null,null,"Turned 17 on:",null,null,null,null,null,null,null,null,null,null,null,"Select","V312",null,null,null,null,{"$f":"S361","v":"Select"},{"$f":"S361","v":"Select"}]
[null,null,null,null,null,null,"Rights reviewed on:",null,null,null,null,null,null,null,null,null,null,null,null,null,null,null,null,{"$f":"Y362+Z362","v":0},{"$f":"COUNTIF(Y361,\"Yes\")*3","v":0},{"$f":"COUNTIF(Z361,\"No\")*3","v":0}]
[{"$f":"HYPERLINK(\"http://sdlegislature.gov/Rules/DisplayRule.aspx?Rule=24:05:27:12\",\"Specific Graduation Requirements:\n(24:05:27:12)\")","v":"Specific Graduation Requirements:\n(24:05:27:12)"},null,null,null,null,null,"Graduation requirements addressed on:",null,null,null,null,null,null,null,null,null,null,null,"Select",null,null,null,null,null,{"$f":"S363","v":"Select"},{"$f":"S363","v":"Select"}]
[null,null,null,null,null,null,"Student is projected to graduate:",null,null,null,null,null,null,null,null,null,null,null,null,null,null,null,null,{"$f":"Y364+Z364","v":0},{"$f":"COUNTIF(Y363,\"Yes\")*3","v":0},{"$f":"COUNTIF(Z363,\"No\")*3","v":0}]
[{"$f":"HYPERLINK(\"http://sdlegislature.gov/Rules/DisplayRule.aspx?Rule=24:05:27:12\",\"When Student has Graduated\n(24:05:27:12)\")","v":"When Student has Graduated\n(24:05:27:12)"},null,null,null,null,null,"Written prior notice was sent:",null,null,null,null,null,null,null,null,null,null,null,"Select",null,null,null,null,null,{"$f":"S365","v":"Select"},{"$f":"S365","v":"Select"}]
[null,null,null,null,null,null,{"$f":"HYPERLINK(\"https://gosynth.com/p/s/pisllo\",\"When a student graduates, it is a change in placement. It must have a written\n prior notice sent.  If student has \"\"aged-out\"\", a PPWN is required.  \")","v":"When a student graduates, it is a change in placement. It must have a written\n prior notice sent.  If student has \"aged-out\", a PPWN is required.  "},null,null,null,null,null,null,null,null,null,null,null,null,null,null,null,null,{"$f":"Y366+Z366","v":0},{"$f":"COUNTIF(Y365,\"Yes\")*3","v":0},{"$f":"COUNTIF(Z365,\"No\")*3","v":0}]
[]
[{"$f":"HYPERLINK(\"http://sdlegislature.gov/Rules/DisplayRule.aspx?Rule=24:05:27:12\",\"Summary of Performance was provided to the Student/Parent/Guardian\n(24:05:27:12)\")","v":"Summary of Performance was provided to the Student/Parent/Guardian\n(24:05:27:12)"},null,null,null,null,null,{"$f":"HYPERLINK(\"https://gosynth.com/p/s/pisllo\",\"Summary of Performance (SOP) is required for students who graduated and\n aged out. A copy of the SOP should remain in the file.\")","v":"Summary of Performance (SOP) is required for students who graduated and\n aged out. A copy of the SOP should remain in the file."},null,null,null,null,null,null,null,null,null,null,null,"Select",null,null,null,null,null,{"$f":"S368","v":"Select"},{"$f":"S368","v":"Select"}]
[null,null,null,null,null,null,null,null,null,null,null,null,null,null,null,null,null,null,null,null,null,null,null,{"$f":"Y369+Z369","v":0},{"$f":"COUNTIF(Y368,\"Yes\")*3","v":0},{"$f":"COUNTIF(Z368,\"No\")*3","v":0}]
[]
["Click on the [+] button to expand or the [-] button to collapse."]
[{"$f":"HYPERLINK(\"https://gosynth.com/p/s/kldkzb\",\"Related Services\")","v":"Related Services"},null,null,null,null,null,null,null,null,null,null,null,null,null,null,null,null,null,{"$f":"IFERROR(Y375/X375,\"N/A\")","v":"N/A"}]
[{"$f":"HYPERLINK(\"http://sdlegislature.gov/Rules/DisplayRule.aspx?Rule=24:05:27:16\",\"Related Services\n(24:05:27)\")","v":"Related Services\n(24:05:27)"},null,null,null,null,null,"Service Provided:",null,null,null,null,null,"If student will receive services in a different location, then must break it out to calculate the Least Restrictive Environment.",null,null,null,null,null,"Select","V324",null,null,null,null,{"$f":"S373","v":"Select"},{"$f":"S373","v":"Select"}]
[null,null,null,null,null,null,null,null,null,null,null,null,null,null,null,null,null,null,null,null,null,null,null,{"$f":"Y374+Z374","v":0},{"$f":"COUNTIF(Y373,\"Yes\")*3","v":0},{"$f":"COUNTIF(Z373,\"No\")*3","v":0}]
[null,null,null,null,null,null,null,"Frequency",null,null,"Location",null,null,null,null,null,null,null,null,null,null,null,null,{"$f":"(X374+X379)/2","v":0},{"$f":"(Y374+Y379)/2","v":0}]
[null,null,null,null,null,null,null,"Duration",null,null,"Other"]
[null,null,null,null,null,null,"Service Provided:",null,null,null,null,null,"At a minimum, all areas student qualifies and has an annual goal must have service time documented. If not addressed, then PPWN must explain reason."]
[null,null,null,null,null,null,null,null,null,null,null,null,null,null,null,null,null,null,"Select",null,null,null,null,null,{"$f":"S378","v":"Select"},{"$f":"S378","v":"Select"}]
[null,null,null,null,null,null,null,"Frequency",null,null,"Location",null,null,null,null,null,null,null,null,null,null,null,null,{"$f":"Y379+Z379","v":0},{"$f":"COUNTIF(Y378,\"Yes\")*3","v":0},{"$f":"COUNTIF(Z378,\"No\")*3","v":0}]
[null,null,null,null,null,null,null,"Duration",null,null,"Other"]
[]
["Least Restrictive Environment ",null,null,null,null,null,null,null,null,null,null,null,null,null,null,null,null,null,{"$f":"IFERROR(Y382/X382,\"N/A\")","v":"N/A"},null,null,null,null,{"$f":"(X384+X388+X392+X396+X400+X402+X404+X406+X408)/9","v":0},{"$f":"(Y384+Y388+Y392+Y396+Y400+Y402+Y404+Y406+Y408)/9","v":0}]
[{"$f":"HYPERLINK(\"https://sdlegislature.gov/Rules/DisplayRule.aspx?Rule=24:05:28\",\"Least Restrictive Enviornment \n(Chapter 24:05:28)\")","v":"Least Restrictive Enviornment \n(Chapter 24:05:28)"},null,null,null,null,null,{"$f":"HYPERLINK(\"https://gosynth.com/p/s/llxjsq\",\"Skill area:\")","v":"Skill area:"},null,null,null,null,null,null,null,null,null,null,null,"Select","V334",null,null,null,null,{"$f":"S383","v":"Select"},{"$f":"S383","v":"Select"}]
[null,null,null,null,null,null,null,null,null,null,null,null,null,null,null,null,null,null,null,null,null,null,null,{"$f":"Y384+Z384","v":0},{"$f":"COUNTIF(Y383,\"Yes\")*3","v":0},{"$f":"COUNTIF(Z383,\"No\")*3","v":0}]
[null,null,null,null,null,null,null,null,"Frequency",null,null,"Duration",null,null,"Location"]
[]
[null,null,null,null,null,null,"Skill area:",null,null,null,null,null,null,null,null,null,null,null,"Select",null,null,null,null,null,{"$f":"S387","v":"Select"},{"$f":"S387","v":"Select"}]
[null,null,null,null,null,null,null,null,null,null,null,null,null,null,null,null,null,null,null,null,null,null,null,{"$f":"Y388+Z388","v":0},{"$f":"COUNTIF(Y387,\"Yes\")*3","v":0},{"$f":"COUNTIF(Z387,\"No\")*3","v":0}]
[null,null,null,null,null,null,null,null,"Frequency",null,null,"Duration",null,null,"Location"]
[]
[null,null,null,null,null,null,"Skill area:",null,null,null,null,null,null,null,null,null,null,null,"Select",null,null,null,null,null,{"$f":"S391","v":"Select"},{"$f":"S391","v":"Select"}]
[null,null,null,null,null,null,null,null,null,null,null,null,null,null,null,null,null,null,null,null,null,null,null,{"$f":"Y392+Z392","v":0},{"$f":"COUNTIF(Y391,\"Yes\")*3","v":0},{"$f":"COUNTIF(Z391,\"No\")*3","v":0}]
[null,null,null,null,null,null,null,null,"Frequency",null,null,"Duration",null,null,"Location"]
[]
[null,null,null,null,null,null,"Skill area:",null,null,null,null,null,null,null,null,null,null,null,"Select",null,null,null,null,null,{"$f":"S395","v":"Select"},{"$f":"S395","v":"Select"}]
[null,null,null,null,null,null,null,null,null,null,null,null,null,null,null,null,null,null,null,null,null,null,null,{"$f":"Y396+Z396","v":0},{"$f":"COUNTIF(Y395,\"Yes\")*3","v":0},{"$f":"COUNTIF(Z395,\"No\")*3","v":0}]
[null,null,null,null,null,null,null,null,"Frequency",null,null,"Duration",null,null,"Location"]
[]
[{"$f":"HYPERLINK(\"http://sdlegislature.gov/Rules/DisplayRule.aspx?Rule=24:05:28:02\",\"Continuum of Placement\n(24:05:28:02)\")","v":"Continuum of Placement\n(24:05:28:02)"},null,null,null,null,null,"Select:",null,null,null,null,null,null,null,null,null,null,null,"Select","V350",null,null,null,null,{"$f":"S399","v":"Select"},{"$f":"S399","v":"Select"}]
[null,null,null,null,null,null,null,null,null,null,null,null,null,null,null,null,null,null,null,null,null,null,null,{"$f":"Y400+Z400","v":0},{"$f":"COUNTIF(Y399,\"Yes\")*3","v":0},{"$f":"COUNTIF(Z399,\"No\")*3","v":0}]
[null,null,null,null,null,null,"Select for Early Childhood (Ages 3-5):",null,null,null,null,null,null,null,null,null,null,null,"Select",null,null,null,null,null,{"$f":"S401","v":"Select"},{"$f":"S401","v":"Select"}]
[null,null,null,null,null,null,null,null,null,null,null,null,null,null,null,null,null,null,null,null,null,null,null,{"$f":"Y402+Z402","v":0},{"$f":"COUNTIF(Y401,\"Yes\")*3","v":0},{"$f":"COUNTIF(Z401,\"No\")*3","v":0}]
[{"$f":"HYPERLINK(\"http://sdlegislature.gov/Rules/DisplayRule.aspx?Rule=24:05:27:01.03\",\"Participation with Non-disabled Peers\n(24:05:27:01.03)\")","v":"Participation with Non-disabled Peers\n(24:05:27:01.03)"},null,null,null,null,null,{"$f":"HYPERLINK(\"https://gosynth.com/p/s/wjqcuh\",\"Document opportunities to participate with non-disabled peers.\")","v":"Document opportunities to participate with non-disabled peers."},null,null,null,null,null,null,null,null,null,null,null,"Select",null,null,null,null,null,{"$f":"S403","v":"Select"},{"$f":"S403","v":"Select"}]
[null,null,null,null,null,null,null,null,null,null,null,null,null,null,null,null,null,null,null,null,null,null,null,{"$f":"Y404+Z404","v":0},{"$f":"COUNTIF(Y403,\"Yes\")*3","v":0},{"$f":"COUNTIF(Z403,\"No\")*3","v":0}]
[{"$f":"HYPERLINK(\"http://sdlegislature.gov/Rules/DisplayRule.aspx?Rule=24:05:28:03\",\"Justification for Placement \n(24:05:28:03)\")","v":"Justification for Placement \n(24:05:28:03)"},null,null,null,null,null,{"$f":"HYPERLINK(\"https://gosynth.com/p/s/rjxcoc\",\"                  Select from the following:\")","v":"                  Select from the following:"},null,null,null,null,null,null,null,null,null,null,null,"Select",null,null,null,null,null,{"$f":"S405","v":"Select"},{"$f":"S405","v":"Select"}]
[null,null,null,null,null,null,null,null,null,null,null,null,null,null,null,null,null,null,null,null,null,null,null,{"$f":"Y406+Z406","v":0},{"$f":"COUNTIF(Y405,\"Yes\")*3","v":0},{"$f":"COUNTIF(Z405,\"No\")*3","v":0}]
[{"$f":"HYPERLINK(\"http://sdlegislature.gov/Rules/DisplayRule.aspx?Rule=24:05:25:26\",\"Extended School Year\n(24:05:25:26)\")","v":"Extended School Year\n(24:05:25:26)"},null,null,null,null,null,{"$f":"HYPERLINK(\"https://gosynth.com/p/s/bbepxx\",\"                  Check the following:\")","v":"                  Check the following:"},null,null,null,null,null,null,null,null,null,null,null,"Select","V358",null,null,null,null,{"$f":"S407","v":"Select"},{"$f":"S407","v":"Select"}]
[null,null,null,null,null,null,null,null,null,null,null,null,null,null,null,null,null,null,null,null,null,null,null,{"$f":"Y408+Z408","v":0},{"$f":"COUNTIF(Y407,\"Yes\")*3","v":0},{"$f":"COUNTIF(Z407,\"No\")*3","v":0}]
[null,null,null,null,null,null,null,null,"Determination",null,null,null,"Beginning/end dates"]
[null,null,null,null,null,null,null,null,"Goals",null,null,null,"Amount of service"]
[]
[]
[]
[{"$f":"HYPERLINK(\"https://gosynth.com/p/s/acbbuk\",\"Prior Parental Written Notice\")","v":"Prior Parental Written Notice"},null,null,null,null,null,null,null,null,null,null,null,null,null,null,null,null,null,{"$f":"IFERROR(Y414/X414,\"N/A\")","v":"N/A"},null,null,null,null,{"$f":"(X416+X421)/2","v":0},{"$f":"(Y416+Y421)/2","v":0}]
[{"$f":"HYPERLINK(\"http://sdlegislature.gov/Rules/DisplayRule.aspx?Rule=24:05:30:04\",\"Prior Written Notice Sent to Parent Regarding IEP Implementation\n(24:05:30:04)\")","v":"Prior Written Notice Sent to Parent Regarding IEP Implementation\n(24:05:30:04)"},null,null,null,null,null,"Date the district sent the PPWN:",null,null,null,null,null,null,null,"The implementation date documented on the PPWN must be reflected on IEP.\n\nThe five-day notice requirement may be waived by the parents.",null,null,null,"Select","V366",null,null,null,null,{"$f":"S415","v":"Select"},{"$f":"S415","v":"Select"}]
[null,null,null,null,null,null,"District proposed at least 5 calendar days to begin implementation:",null,null,null,null,null,{"$f":"M415+5","v":"1900-01-05"},null,null,null,null,null,null,null,null,null,null,{"$f":"Y416+Z416","v":0},{"$f":"COUNTIF(Y415,\"Yes\")*3","v":0},{"$f":"COUNTIF(Z415,\"No\")*3","v":0}]
[]
[null,null,null,null,null,null,"Was the 5 calendar day notice requirement met?",null,null,null,null,null,null,"Yes"]
[null,null,null,null,null,null,null,null,null,null,null,null,null,"No"]
[{"$f":"HYPERLINK(\"http://sdlegislature.gov/Rules/DisplayRule.aspx?Rule=24:05:30:05\",\"Content of PPWN\n(24:05:30:05)\")","v":"Content of PPWN\n(24:05:30:05)"},null,null,null,null,null,"Check the following:",null,null,null,null,null,null,null,null,null,null,null,"Select","V371",null,null,null,null,{"$f":"S420","v":"Select"},{"$f":"S420","v":"Select"}]
[null,null,null,null,null,null,"PPWN must be individualized to the student, IEP team discussions and situation.",null,null,null,null,null,null,null,null,null,null,null,null,null,null,null,null,{"$f":"Y421+Z421","v":0},{"$f":"COUNTIF(Y420,\"Yes\")*3","v":0},{"$f":"COUNTIF(Z420,\"No\")*3","v":0}]
[]
[null,null,null,null,null,null,null,"Explanation of why the district proposed or refused to take the action"]
[null,null,null,null,null,null,null,"Description of other options considered and why they were rejected "]
[null,null,null,null,null,null,null,"Description of evidence used for the proposed or refused action"]
[null,null,null,null,null,null,null,"Description of other factors that are relevant to proposal or refusal"]
[]
[null,null,null,null,null,null,"To skip back to Eligibility section click ",null,null,null,null,"HERE."]
[]
[{"$f":"HYPERLINK(\"https://gosynth.com/p/s/iwvzyu\",\"Amendment to IEP\")","v":"Amendment to IEP"},null,null,null,null,null,null,null,null,null,null,null,null,null,null,null,null,null,{"$f":"IFERROR(Z430/Y430,\"N/A\")","v":"N/A"},null,null,null,null,null,{"$f":"(X432+X434)/2","v":0},{"$f":"(Y432+Y434)/2","v":0}]
["Amendment to IEP",null,null,null,null,null,null,null,null,null,null,null,null,null,null,null,null,null,"Select","V381",null,null,null,null,{"$f":"S431","v":"Select"},{"$f":"S431","v":"Select"}]
[{"$f":"HYPERLINK(\"http://sdlegislature.gov/Rules/DisplayRule.aspx?Rule=24:05:27:08.01\",\"(24:05:27:08.01)\")","v":"(24:05:27:08.01)"},null,null,{"$f":"HYPERLINK(\"http://sdlegislature.gov/Rules/DisplayRule.aspx?Rule=24:05:27:08.02\",\"(24:05:27:08.02)\")","v":"(24:05:27:08.02)"},null,null,null,null,null,null,null,null,null,null,null,null,null,null,null,null,null,null,null,{"$f":"Y432+Z432","v":0},{"$f":"COUNTIF(Y431,\"Yes\")*3","v":0},{"$f":"COUNTIF(Z431,\"No\")*3","v":0}]
[{"$f":"HYPERLINK(\"http://sdlegislature.gov/Rules/DisplayRule.aspx?Rule=24:05:30:04\",\"Prior Notice\n(24:05:30:04)\")","v":"Prior Notice\n(24:05:30:04)"},null,null,null,null,null,"Document if the amendment was made with or without a meeting.",null,null,null,null,null,null,null,null,null,null,null,"Select",null,null,null,null,null,{"$f":"S433","v":"Select"},{"$f":"S433","v":"Select"}]
[null,null,null,null,null,null,null,null,null,null,null,null,null,null,null,null,null,null,null,null,null,null,null,{"$f":"Y434+Z434","v":0},{"$f":"COUNTIF(Y433,\"Yes\")*3","v":0},{"$f":"COUNTIF(Z433,\"No\")*3","v":0}]
[]
[{"$f":"HYPERLINK(\"https://gosynth.com/p/s/jdtswp\",\"Additional Items\")","v":"Additional Items"},null,null,null,null,null,null,null,null,null,null,null,null,null,null,null,null,null,{"$f":"IFERROR(AB436/AA436,\"N/A\")","v":"N/A"},null,null,null,null,null,{"$f":"S437","v":"Select"},{"$f":"S437","v":"Select"},{"$f":"(X437+X439+X441+X443)/4","v":0},{"$f":"(Y437+Y439+Y441+Y443)/4","v":0}]
["Parent Declined/\nWithdrew Consent for Services ",null,null,null,null,null,"Revocation signed:",null,null,null,null,null,null,{"$f":"HYPERLINK(\"http://sdlegislature.gov/Rules/DisplayRule.aspx?Rule=24:05:27:04.02\",\"(24:05:27:04.02)\")","v":"(24:05:27:04.02)"},null,null,null,null,"Select","V387",null,null,null,{"$f":"Y437+Z437","v":0},{"$f":"COUNTIF(Y436,\"Yes\")*3","v":0},{"$f":"COUNTIF(Z436,\"No\")*3","v":0}]
[null,null,null,null,null,null,"Date prior notice was sent:",null,null,null,null,null,null,null,null,null,null,null,null,null,null,null,null,null,{"$f":"S439","v":"Select"},{"$f":"S439","v":"Select"}]
["Surrogate Parent",null,null,null,null,null,null,null,null,null,null,null,null,null,null,null,null,null,"Select",null,null,null,null,{"$f":"Y439+Z439","v":0},{"$f":"COUNTIF(Y438,\"Yes\")*3","v":0},{"$f":"COUNTIF(Z438,\"No\")*3","v":0}]
["Transfer Students Provided with  FAPE/Comparable Services ",null,null,null,null,null,"Date prior notice was sent:",null,null,null,null,null,null,{"$f":"HYPERLINK(\"http://sdlegislature.gov/Rules/DisplayRule.aspx?Rule=24:05:27:15.01\",\"In-state (24:05:27:15.01)\")","v":"In-state (24:05:27:15.01)"},null,null,null,null,"Select",null,null,null,null,null,{"$f":"S440","v":"Select"},{"$f":"S440","v":"Select"}]
[null,null,null,null,null,null,null,null,null,null,null,null,null,{"$f":"HYPERLINK(\"http://sdlegislature.gov/Rules/DisplayRule.aspx?Rule=24:05:27:15.02\",\"Out-of-state (24:05:27:15.02)\")","v":"Out-of-state (24:05:27:15.02)"},null,null,null,null,null,null,null,null,null,{"$f":"Y441+Z441","v":0},{"$f":"COUNTIF(Y440,\"Yes\")*3","v":0},{"$f":"COUNTIF(Z440,\"No\")*3","v":0}]
["Transfer Students Evaluated for \nSouth Dakota Eligibility",null,null,null,null,null,"Eligibility determination date:",null,null,null,null,null,null,null,null,null,null,null,"Select",null,null,null,null,null,{"$f":"S442","v":"Select"},{"$f":"S442","v":"Select"}]
[null,null,null,null,null,null,"IEP date:",null,null,null,null,null,null,null,null,null,null,null,null,null,null,null,null,{"$f":"Y443+Z443","v":0},{"$f":"COUNTIF(Y442,\"Yes\")*3","v":0},{"$f":"COUNTIF(Z442,\"No\")*3","v":0}]
[null,null,null,null,null,null,"PPWN Implementing IEP sent:"]

{"sheet":"File 4","index":7,"n_rows":444,"n_cols":28,"rows_kept":444,"cut":false,"hidden":false,"merged":[[436,18,437,18],[437,6,437,10],[437,11,437,12],[438,6,438,17],[442,6,442,10],[442,11,442,12],[413,19,413,21],[414,6,414,11],[414,12,414,13],[414,14,418,17],[414,18,418,18],[414,19,418,21],[417,6,418,11],[419,6,419,17],[420,6,420,17],[216,14,216,16],[443,6,443,10],[443,11,443,12],[446,11,447,12],[439,6,440,10],[439,11,440,12],[439,13,439,17],[440,13,440,17],[441,6,441,10],[441,11,441,12],[441,13,443,17],[415,6,416,11],[415,12,416,13],[413,0,413,17],[422,7,422,17],[423,7,423,17],[424,7,424,17],[425,7,425,17],[426,6,426,17],[427,6,427,10],[427,11,427,17],[436,6,436,10],[436,11,436,12],[436,13,437,17],[216,6,216,7],[216,8,216,10],[205,0,206,5],[207,0,209,5],[216,11,216,13],[231,7,231,10],[209,6,209,13],[210,0,210,17],[211,0,213,5],[211,6,213,16],[214,0,215,5],[214,6,215,16],[216,0,233,5],[225,12,225,13],[225,15,225,16],[226,7,226,10],[227,6,227,10],[228,6,228,7],[228,8,228,10],[228,11,228,13],[228,14,228,16],[230,7,230,10],[230,12,230,13],[230,15,230,16],[196,0,200,5],[196,6,200,17],[196,18,200,18],[201,0,201,21],[202,0,202,17],[202,19,202,21],[203,0,204,5],[188,7,188,9],[188,10,188,12],[189,7,189,9],[189,10,189,12],[186,0,189,5],[186,7,186,9],[186,10,186,12],[192,7,192,9],[193,7,193,9],[193,10,193,12],[194,7,194,9],[190,0,190,5],[190,7,190,9],[190,10,190,12],[191,0,195,5],[191,7,191,9],[191,10,191,12],[152,12,156,15],[154,7,156,10],[145,7,146,10],[145,12,146,15],[149,18,162,18],[149,19,162,21],[150,6,150,15],[150,17,160,17],[158,12,159,15],[151,6,151,15],[152,7,153,10],[157,7,158,10],[157,12,157,15],[210,19,210,21],[211,19,215,21],[214,18,215,18],[196,19,200,21],[203,19,209,21],[205,18,206,18],[207,14,208,17],[207,18,209,18],[209,14,209,17],[211,18,213,18],[205,6,206,17],[207,6,207,10],[207,11,207,13],[208,6,208,10],[208,11,208,13],[203,6,204,17],[203,18,204,18],[190,13,190,16],[191,13,191,16],[192,13,192,16],[193,13,193,16],[194,13,194,16],[176,12,177,17],[184,13,185,16],[186,13,186,16],[184,10,185,12],[194,10,194,12],[180,6,180,17],[182,7,183,16],[187,7,187,9],[187,10,187,12],[187,13,187,16],[188,13,188,16],[192,10,192,12],[172,12,173,17],[172,18,173,18],[172,19,173,21],[177,0,177,2],[177,3,177,5],[177,6,177,8],[177,9,177,11],[178,0,178,5],[178,6,179,17],[179,0,179,2],[179,3,179,5],[176,18,177,18],[176,19,195,21],[178,18,179,18],[180,18,195,18],[176,0,176,5],[176,6,176,8],[176,9,176,11],[174,0,174,21],[175,0,175,17],[175,19,175,21],[180,0,185,5],[184,7,185,9],[189,13,189,16],[216,18,221,18],[216,19,233,21],[222,18,227,18],[228,18,233,18],[218,7,218,10],[218,12,218,13],[220,7,220,10],[221,6,221,10],[222,6,222,7],[222,8,222,10],[222,11,222,13],[222,14,222,16],[231,12,231,13],[231,15,231,16],[232,7,232,10],[233,6,233,10],[218,15,218,16],[219,7,219,10],[219,12,219,13],[219,15,219,16],[224,7,224,10],[224,12,224,13],[224,15,224,16],[225,7,225,10],[117,6,117,13],[117,14,117,17],[118,6,119,17],[120,0,120,21],[118,0,119,5],[130,18,148,18],[130,19,148,21],[133,12,134,15],[135,7,137,10],[135,12,136,15],[137,12,138,15],[138,7,141,10],[139,12,144,15],[142,7,144,10],[121,0,121,17],[121,19,121,21],[122,0,122,17],[122,18,129,18],[122,19,129,21],[123,0,129,5],[123,6,123,17],[124,6,124,17],[125,7,125,11],[126,7,126,11],[165,12,169,17],[167,7,167,11],[168,7,168,11],[110,18,112,18],[110,19,119,21],[113,18,114,18],[115,18,117,18],[118,18,119,18],[104,18,105,18],[106,18,107,18],[169,7,169,11],[162,0,162,17],[163,0,166,5],[163,6,163,17],[163,18,171,18],[163,19,171,21],[164,6,164,17],[167,0,173,5],[165,7,165,11],[166,7,166,11],[170,7,170,13],[171,7,171,11],[172,6,173,10],[172,11,173,11],[98,18,101,18],[98,19,101,21],[99,11,99,13],[106,6,107,17],[84,18,97,18],[84,19,97,21],[86,6,86,8],[86,9,86,12],[87,15,87,17],[100,11,100,13],[101,11,101,13],[102,6,103,17],[102,18,103,18],[94,13,94,14],[94,15,94,17],[95,15,95,17],[96,13,96,14],[96,15,96,17],[99,6,99,10],[100,6,100,10],[102,19,109,21],[108,18,109,18],[89,13,89,14],[89,15,89,17],[91,13,91,14],[91,15,91,17],[92,13,92,14],[92,15,92,17],[97,13,97,14],[97,15,97,17],[98,11,98,13],[98,14,101,17],[93,15,93,17],[93,13,93,14],[110,0,112,5],[110,6,110,10],[111,6,111,10],[113,0,114,5],[115,0,117,5],[115,6,115,12],[116,6,116,12],[98,0,101,5],[98,6,98,10],[101,6,101,10],[102,0,103,5],[104,0,105,5],[106,0,107,5],[108,0,109,5],[104,6,105,17],[108,6,109,17],[110,11,110,13],[110,14,111,17],[111,11,111,13],[112,6,112,13],[112,14,112,17],[113,6,114,17],[115,13,115,15],[116,13,116,15],[90,6,90,8],[90,9,90,12],[78,6,78,8],[78,9,78,12],[80,0,83,5],[80,6,80,8],[80,9,80,12],[81,9,81,12],[84,0,90,5],[83,9,83,12],[96,6,96,8],[96,9,96,12],[91,0,91,5],[91,6,91,8],[91,9,91,12],[92,0,97,5],[92,9,92,12],[93,9,93,12],[94,9,94,12],[93,6,93,8],[94,6,94,8],[92,6,92,8],[97,6,97,8],[97,9,97,12],[74,19,83,21],[76,6,76,8],[76,9,76,12],[76,13,76,14],[76,15,76,17],[77,6,77,8],[77,9,77,12],[77,13,77,14],[77,15,77,17],[82,6,82,8],[82,9,82,12],[82,13,82,14],[82,15,82,17],[83,15,83,17],[78,13,78,14],[78,15,78,17],[80,13,80,14],[80,15,80,17],[81,13,81,14],[81,15,81,17],[83,13,83,14],[74,18,83,18],[81,6,81,8],[83,6,83,8],[150,0,161,5],[159,6,160,6],[159,7,160,10],[161,6,161,15],[89,6,89,8],[89,9,89,12],[90,13,90,14],[90,15,90,17],[95,9,95,12],[147,6,147,15],[148,0,148,17],[149,0,149,17],[128,7,128,11],[128,13,128,17],[131,0,147,5],[131,6,131,15],[131,17,147,17],[132,6,132,15],[133,7,134,10],[95,6,95,8],[127,7,127,11],[127,13,127,17],[129,6,129,17],[130,0,130,17],[84,15,85,17],[84,6,85,8],[86,13,86,14],[86,15,86,17],[87,9,87,12],[87,13,87,14],[88,6,88,8],[88,9,88,12],[84,13,85,14],[88,13,88,14],[88,15,88,17],[84,9,85,12],[87,6,87,8],[125,13,125,17],[126,13,126,17],[66,15,66,17],[66,13,66,14],[67,0,67,5],[67,6,67,8],[67,9,67,12],[67,13,67,14],[67,15,67,17],[68,0,73,5],[79,0,79,5],[79,6,79,8],[79,9,79,12],[79,13,79,14],[79,15,79,17],[72,6,72,8],[72,9,72,12],[74,0,78,5],[74,6,75,8],[74,9,75,12],[74,13,75,14],[74,15,75,17],[68,13,68,14],[73,6,73,8],[60,13,61,14],[60,15,61,17],[62,13,62,14],[62,15,62,17],[63,13,63,14],[63,15,63,17],[64,13,64,14],[64,15,64,17],[65,13,65,14],[65,15,65,17],[54,0,59,5],[54,6,54,9],[54,10,54,12],[55,6,55,9],[55,10,55,12],[45,19,53,21],[54,19,59,21],[58,13,59,17],[56,6,56,9],[56,10,56,12],[57,6,57,9],[57,10,57,12],[58,6,58,9],[58,10,58,12],[59,6,59,9],[59,10,59,12],[62,9,62,12],[63,9,63,12],[64,9,64,12],[65,9,65,12],[66,9,66,12],[60,0,66,5],[60,6,61,8],[62,6,62,8],[63,6,63,8],[64,6,64,8],[65,6,65,8],[66,6,66,8],[60,9,61,12],[21,10,21,13],[21,14,21,17],[27,9,27,11],[27,12,27,17],[52,6,52,17],[53,6,53,17],[45,6,45,17],[46,6,46,17],[47,6,47,17],[48,7,48,17],[49,7,49,17],[50,7,50,17],[51,7,51,17],[39,6,40,17],[22,6,22,9],[22,10,22,13],[25,0,25,21],[26,0,26,17],[26,19,26,21],[22,14,22,17],[23,6,23,9],[23,10,23,13],[23,14,23,17],[45,0,53,5],[17,0,17,21],[18,0,18,17],[19,0,24,5],[19,9,19,11],[19,12,19,17],[20,14,20,17],[24,6,24,17],[8,3,8,6],[8,7,8,9],[9,0,9,21],[8,0,8,2],[10,0,12,5],[10,10,11,10],[10,11,11,13],[10,14,11,17],[10,18,11,18],[10,19,11,21],[18,19,18,21],[19,18,24,18],[19,19,24,21],[20,6,20,9],[20,10,20,13],[19,6,19,8],[21,6,21,9],[10,6,10,9],[11,6,11,9],[12,6,12,21],[13,0,13,21],[14,0,14,17],[14,19,14,21],[15,0,16,5],[15,18,16,18],[15,19,16,21],[15,6,16,17],[6,0,6,2],[6,10,6,13],[7,14,7,18],[8,14,8,18],[8,19,8,21],[4,14,4,18],[4,19,4,21],[5,14,5,18],[5,19,5,21],[6,14,6,18],[6,19,6,21],[7,19,7,21],[6,3,6,6],[6,7,6,9],[7,0,7,2],[7,3,7,6],[7,7,7,9],[7,10,7,13],[8,10,8,13],[3,0,3,21],[4,0,4,2],[4,3,4,6],[4,7,4,9],[4,10,4,13],[5,0,5,2],[5,3,5,6],[5,7,5,9],[5,11,5,13],[0,0,0,3],[0,4,0,5],[0,6,0,8],[0,9,0,11],[0,12,0,14],[0,15,0,17],[0,19,0,21],[1,0,2,13],[1,14,2,17],[1,18,2,18],[1,19,2,21],[73,9,73,12],[73,13,73,14],[73,15,73,17],[68,6,68,8],[68,9,68,12],[69,6,69,8],[69,9,69,12],[69,13,69,14],[69,15,69,17],[70,6,70,8],[70,9,70,12],[70,13,70,14],[70,15,70,17],[71,6,71,8],[71,9,71,12],[71,13,71,14],[71,15,71,17],[68,15,68,17],[72,13,72,14],[72,15,72,17],[41,0,42,5],[41,6,42,17],[43,6,44,17],[27,18,29,18],[27,19,29,21],[30,18,32,18],[30,19,32,21],[35,18,38,18],[35,19,44,21],[39,18,40,18],[43,0,44,5],[27,6,27,8],[28,6,29,17],[30,6,30,17],[31,8,32,17],[408,8,408,10],[408,12,408,15],[409,8,409,10],[411,0,411,16],[412,0,412,21],[27,0,29,5],[30,0,32,5],[31,6,32,7],[35,0,36,5],[35,6,35,9],[33,0,33,21],[34,0,34,17],[34,19,34,21],[35,10,35,12],[35,13,35,17],[41,18,42,18],[43,18,44,18],[45,18,53,18],[54,18,59,18],[60,18,73,18],[60,19,73,21],[36,6,38,17],[37,0,38,5],[39,0,40,5],[397,6,397,16],[398,6,398,16],[399,6,399,16],[400,6,400,16],[401,6,401,16],[402,6,403,16],[404,6,404,16],[405,6,405,16],[406,6,406,16],[391,6,391,16],[392,11,392,12],[392,14,392,16],[393,6,393,16],[394,6,394,8],[394,9,394,16],[395,6,395,16],[396,11,396,12],[396,14,396,16],[385,6,385,16],[386,6,386,8],[386,9,386,16],[387,6,387,16],[388,11,388,12],[388,14,388,16],[389,6,389,16],[390,6,390,8],[390,9,390,16],[382,17,411,17],[406,19,411,21],[419,19,427,21],[430,19,433,21],[436,19,443,21],[372,19,380,21],[377,18,380,18],[382,19,397,21],[390,18,393,18],[394,18,397,18],[398,19,405,21],[400,18,401,18],[380,0,380,17],[381,0,381,17],[381,19,381,21],[382,9,382,16],[383,6,383,16],[384,8,384,9],[388,8,388,9],[392,8,392,9],[396,8,396,9],[382,6,382,8],[384,11,384,12],[384,14,384,16],[402,18,403,18],[404,18,405,18],[398,18,399,18],[406,18,411,18],[419,18,427,18],[432,18,433,18],[439,18,440,18],[441,18,443,18],[341,18,342,18],[343,18,344,18],[354,18,358,18],[360,18,361,18],[372,18,376,18],[428,0,428,21],[429,0,429,17],[429,19,429,21],[430,18,431,18],[430,6,431,17],[431,0,431,2],[431,3,431,5],[432,6,433,17],[434,0,434,21],[435,0,435,17],[435,19,435,21],[341,19,346,21],[345,18,346,18],[353,18,353,21],[354,19,358,21],[359,18,359,21],[360,19,370,21],[362,18,363,18],[382,18,385,18],[386,18,389,18],[371,19,371,21],[439,0,440,5],[441,0,443,5],[406,0,410,5],[414,0,418,5],[419,0,427,5],[430,0,430,5],[432,0,433,5],[436,0,437,5],[438,0,438,5],[359,0,359,5],[360,0,361,5],[362,0,363,5],[364,0,366,5],[372,0,379,5],[382,0,397,5],[398,0,401,5],[402,0,403,5],[404,0,405,5],[367,0,369,5],[353,6,353,16],[354,6,354,10],[354,13,354,16],[355,13,355,16],[356,13,356,16],[341,0,346,5],[347,0,347,5],[348,0,352,5],[353,0,353,5],[354,0,358,5],[334,18,335,18],[317,18,318,18],[317,19,322,21],[319,18,320,18],[321,18,322,18],[323,18,323,21],[324,19,325,21],[326,18,326,21],[327,19,332,21],[329,18,330,18],[331,18,332,18],[327,0,332,5],[327,6,328,6],[329,6,330,6],[329,7,330,16],[331,7,331,16],[332,6,332,16],[306,18,307,18],[306,19,315,21],[308,18,309,18],[309,6,310,6],[310,18,311,18],[314,18,315,18],[319,6,320,6],[319,7,320,16],[321,6,322,6],[321,7,322,16],[324,18,325,18],[327,18,328,18],[314,0,315,5],[314,6,315,16],[316,0,316,5],[316,6,316,16],[317,0,322,5],[317,6,318,6],[317,7,318,16],[323,0,323,5],[323,6,323,16],[364,6,364,12],[364,13,364,16],[365,6,366,16],[364,18,366,18],[367,18,370,18],[375,7,375,8],[375,10,375,11],[367,6,369,16],[370,0,370,17],[371,0,371,17],[359,6,359,16],[360,6,360,12],[360,13,360,16],[361,6,361,12],[361,13,361,16],[362,6,362,12],[362,13,362,16],[363,6,363,12],[363,13,363,16],[340,0,340,5],[340,6,340,16],[376,6,376,11],[376,12,379,16],[377,6,377,11],[378,7,378,8],[379,7,379,8],[372,17,379,17],[378,10,378,11],[379,10,379,11],[373,6,373,11],[374,7,374,8],[374,10,374,11],[372,6,372,11],[372,12,375,16],[340,18,340,21],[341,7,342,16],[343,7,344,16],[345,7,345,16],[346,6,346,16],[357,13,357,16],[358,13,358,16],[350,7,350,10],[351,7,351,10],[347,6,347,16],[347,18,347,21],[348,6,348,10],[348,11,352,16],[348,18,352,18],[348,19,352,21],[349,6,349,10],[352,6,352,10],[355,6,356,10],[357,6,357,10],[357,11,357,12],[358,6,358,10],[358,11,358,12],[341,6,342,6],[343,6,344,6],[282,14,282,16],[283,14,283,16],[336,7,337,16],[338,7,338,16],[333,0,333,5],[334,0,339,5],[334,6,335,6],[334,7,335,16],[334,19,339,21],[336,6,337,6],[336,18,337,18],[338,18,339,18],[339,6,339,16],[333,18,333,21],[333,6,333,16],[324,0,325,5],[324,6,325,16],[326,0,326,5],[326,6,326,16],[327,7,328,16],[309,7,310,16],[311,7,311,16],[305,6,305,16],[306,6,307,16],[257,9,257,12],[258,6,258,8],[292,7,293,16],[281,10,281,13],[282,10,282,13],[283,10,283,13],[289,18,303,18],[289,19,303,21],[300,12,302,12],[300,13,300,16],[302,13,302,15],[283,6,283,9],[284,6,284,9],[286,6,288,11],[264,18,288,18],[264,19,288,21],[255,17,298,17],[284,14,284,16],[272,14,272,16],[273,14,273,16],[279,14,279,16],[280,14,280,16],[281,14,281,16],[285,14,285,16],[279,6,279,9],[280,6,280,9],[281,6,281,9],[282,6,282,9],[285,6,285,9],[274,6,274,9],[274,10,274,13],[277,6,277,9],[278,6,278,9],[278,10,278,13],[284,10,284,13],[285,10,285,13],[279,10,279,13],[280,10,280,13],[276,10,276,13],[276,14,276,16],[277,10,277,13],[277,14,277,16],[262,6,262,8],[262,9,262,11],[262,12,262,16],[263,6,263,8],[263,9,263,12],[263,13,263,16],[265,7,265,10],[266,6,266,16],[267,6,268,16],[269,10,271,13],[275,6,275,9],[275,10,275,13],[269,6,271,9],[272,6,272,9],[272,10,272,13],[273,6,273,9],[273,10,273,13],[254,19,254,21],[255,0,263,5],[255,9,256,16],[255,18,263,18],[255,19,263,21],[258,9,258,13],[259,6,259,8],[239,19,253,21],[245,7,248,9],[259,9,259,11],[259,12,259,16],[260,6,260,8],[260,9,260,13],[260,14,260,16],[261,6,261,8],[261,9,261,15],[241,7,241,8],[241,11,241,16],[243,6,244,10],[243,11,243,16],[244,11,244,16],[245,11,245,16],[255,6,256,8],[257,6,257,8],[289,0,302,5],[306,0,307,5],[309,0,313,5],[301,13,301,15],[301,16,302,16],[303,0,303,17],[304,0,304,17],[304,18,305,18],[304,19,305,21],[305,0,305,5],[312,7,312,16],[312,18,313,18],[313,6,313,16],[294,6,295,6],[294,7,295,16],[296,6,297,6],[296,7,297,16],[298,6,298,16],[299,6,299,16],[300,6,302,11],[289,6,289,16],[290,6,290,16],[291,7,291,16],[292,6,293,6],[234,18,238,18],[234,19,238,21],[235,6,235,16],[236,7,236,10],[236,12,236,15],[239,11,239,16],[246,11,246,16],[239,18,253,18],[253,0,253,17],[240,7,240,8],[240,11,240,16],[240,9,242,10],[242,11,242,16],[247,11,247,16],[250,11,250,16],[251,6,252,10],[251,11,251,16],[252,11,252,16],[264,0,288,5],[237,7,237,10],[238,6,238,10],[239,0,252,5],[239,6,239,10],[286,12,288,12],[286,13,286,16],[287,13,287,15],[287,16,288,16],[288,13,288,15],[248,11,248,16],[249,11,249,16],[257,13,257,16],[258,14,258,16],[265,12,265,16],[269,14,271,16],[264,6,264,16],[234,0,238,5],[234,6,234,16],[254,0,254,16],[278,14,278,16],[274,14,274,16],[275,14,275,16],[276,6,276,9]]}
[{"$f":"'Caseload Files'!B2","v":"Teacher Caseload Review"},null,null,null,{"$f":"'Caseload Files'!D14","v":"File 4"},null,"Reviewer:",null,null,{"$f":"'Caseload Files'!F14","v":"Reviewer 4"},null,null,"Staff Reviewed:",null,null,{"$f":"'Caseload Files'!I14","v":"Staff 4"},null,null,"Score","Findings/Notes"]
[{"$f":"'Caseload Files'!B2","v":"Teacher Caseload Review"},null,null,null,null,null,null,null,null,null,null,null,null,null,null,null,null,null,"Rating","Record notes\nand/or findings."]
[]
[]
["Student Name:",null,null,{"$f":"'Caseload Files'!$L$14","v":"Student 4"},null,null,null,"Date of Birth:",null,null,{"$f":"'Caseload Files'!$R$14","v":"2004-04-04"},null,null,null,"Current IEP Meeting Date:"]
["SIMS Numer:",null,null,{"$f":"'Caseload Files'!$O$14","v":40123456},null,null,null,"Age/Grade:",null,null,{"$f":"INT(YEARFRAC(K5,TODAY()))","v":17},"/Sophomore",null,null,"Previous IEP Meeting Date:"]
["School District:",null,null,{"$f":"'Caseload Files'!B3","v":"District 00-0"},null,null,null,"Disability Code:",null,null,{"$f":"'Caseload Files'!$W$14","v":"DisCode 4"},null,null,null,"Current Eligibility Determination Date:"]
["School Name:",null,null,{"$f":"'Caseload Files'!E6","v":"School Name"},null,null,null,"Race/Ethnicity:",null,null,{"$f":"'Caseload Files'!T14","v":"Race 4"},null,null,null,"Previous Eligibility Determination Date:"]
["School Year:",null,null,{"$f":"'Caseload Files'!E7","v":"1998-1999"},null,null,null,"Type of Review:",null,null,{"$f":"'Caseload Files'!Z14","v":"Type 4"},null,null,null,"Date of Review:"]
[]
[{"$f":"HYPERLINK(\"http://sdlegislature.gov/Rules/DisplayRule.aspx?Rule=24:05\",\"Subsection Title and \nCorresponding ARSD Links \")","v":"Subsection Title and \nCorresponding ARSD Links "},null,null,null,null,null,"Yellow boxes are prompts",null,null,null,null,"Use checkboxes to help record findings.",null,null,"Voided space and/or clarifying information.",null,null,null,"\"N/A\" may be appropriate for certain sections.","Findings/Notes"]
[null,null,null,null,null,null,"for information."]
[]
[]
[{"$f":"HYPERLINK(\"https://gosynth.com/p/s/aboqwv\",\"Record of Access\")","v":"Record of Access"},null,null,null,null,null,null,null,null,null,null,null,null,null,null,null,null,null,{"$f":"IFERROR(Y17/X17,\"N/A\")","v":"N/A"},"Findings/Notes"]
[{"$f":"HYPERLINK(\"http://sdlegislature.gov/Rules/DisplayRule.aspx?Rule=24:05:29:15\",\"Record of Access\n(24:05:29:15)\")","v":"Record of Access\n(24:05:29:15)"},null,null,null,null,null,null,null,null,null,null,null,null,null,null,null,null,null,"Select","V16",null,null,null,null,{"$f":"S16","v":"Select"},{"$f":"S16","v":"Select"}]
[null,null,null,null,null,null,null,null,null,null,null,null,null,null,null,null,null,null,null,null,null,null,null,{"$f":"Y17+Z17","v":0},{"$f":"COUNTIF(Y16,\"Yes\")*3","v":0},{"$f":"COUNTIF(Z16,\"No\")*3","v":0}]
[]
[{"$f":"HYPERLINK(\"https://gosynth.com/p/s/grdmsy\",\"Referral\")","v":"Referral"},null,null,null,null,null,null,null,null,null,null,null,null,null,null,null,null,null,{"$f":"IFERROR(Y21/X21,\"N/A\")","v":"N/A"}]
[{"$f":"HYPERLINK(\"http://sdlegislature.gov/Rules/DisplayRule.aspx?Rule=24:05:24:01\",\"Referral Document\n(initial only)\n(24:05:24:01)\")","v":"Referral Document\n(initial only)\n(24:05:24:01)"},null,null,null,null,null,"Date of referral:",null,null,null,null,null,"The top two spaces are available to type in.",null,null,null,null,null,"Select","V20",null,null,null,null,{"$f":"S20","v":"Select"},{"$f":"S20","v":"Select"}]
[null,null,null,null,null,null,"List all areas of referral:",null,null,null,null,null,null,null,null,null,null,null,null,null,null,null,null,{"$f":"Y21+Z21","v":0},{"$f":"COUNTIF(Y20,\"Yes\")*3","v":0},{"$f":"COUNTIF(Z20,\"No\")*3","v":0}]
[]
[]
[]
[null,null,null,null,null,null,"If referral can not be found and is older than three years, N/A is appropriate."]
[]
[{"$f":"HYPERLINK(\"https://gosynth.com/p/s/lihblf\",\"Initial Placement\")","v":"Initial Placement"},null,null,null,null,null,null,null,null,null,null,null,null,null,null,null,null,null,{"$f":"IFERROR(Y33/X33,\"N/A\")","v":"N/A"}]
[{"$f":"HYPERLINK(\"http://sdlegislature.gov/rules/DisplayRule.aspx?Rule=24:05:27:04.01\",\"Consent Signed for Initial Placement \ninto Special Education\n(24:05:27:04.01)\")","v":"Consent Signed for Initial Placement \ninto Special Education\n(24:05:27:04.01)"},null,null,null,null,null,"Date Signed:",null,null,null,null,null,null,null,null,null,null,null,"Select","V28",null,null,null,null,{"$f":"S28","v":"Select"},{"$f":"S28","v":"Select"}]
[null,null,null,null,null,null,"(The Consent Signed for Initial Placement into Special Education form is a separate document.  In the past, it may have been found at the end of the IEP.",null,null,null,null,null,null,null,null,null,null,null,null,null,null,null,null,{"$f":"Y29+Z29","v":0},{"$f":"COUNTIF(Y28,\"Yes\")*3","v":0},{"$f":"COUNTIF(Z28,\"No\")*3","v":0}]
[]
[{"$f":"HYPERLINK(\"https://sdlegislature.gov/Rules/DisplayRule.aspx?Rule=24:05:25:04.02\",\"Determination of Needed \nEvaluation Data\n(24:05:25:04.02)\")","v":"Determination of Needed \nEvaluation Data\n(24:05:25:04.02)"},null,null,null,null,null,"Did the team review existing data before completing the PPWN Consent?",null,null,null,null,null,null,null,null,null,null,null,"Select","V31",null,null,null,null,{"$f":"S31","v":"Select"},{"$f":"S31","v":"Select"}]
[null,null,null,null,null,null,"Select",null,"The existing data includes evaluations and information provided by the parents, current classroom-based local or state assessments, and observations by teachers and related services providers.",null,null,null,null,null,null,null,null,null,null,null,null,null,null,{"$f":"Y32+Z32","v":0},{"$f":"COUNTIF(Y31,\"Yes\")*3","v":0},{"$f":"COUNTIF(Z31,\"No\")*3","v":0}]
[null,null,null,null,null,null,null,null,null,null,null,null,null,null,null,null,null,null,null,null,null,null,null,{"$f":"(X32+X29)/2","v":0},{"$f":"(Y32+Y29)/2","v":0}]
[]
[{"$f":"HYPERLINK(\"https://gosynth.com/p/s/qxevgy\",\"Evaluation\")","v":"Evaluation"},null,null,null,null,null,null,null,null,null,null,null,null,null,null,null,null,null,{"$f":"IFERROR(Y38/X38,\"N/A\")","v":"N/A"},{"$f":"IFERROR(Y58/X58,\"N/A\")","v":"N/A"}]
[{"$f":"HYPERLINK(\"http://sdlegislature.gov/rules/DisplayRule.aspx?Rule=24:05:25:02.01\",\"Initial Evaluation \n(24:05:25:02.01)\")","v":"Initial Evaluation \n(24:05:25:02.01)"},null,null,null,null,null,"PPWN Consent was Sent:",null,null,null,null,null,null,"Use the most recent evaluation. ",null,null,null,null,"Select","V36",null,null,null,null,{"$f":"S36","v":"Select"},{"$f":"S36","v":"Select"}]
[null,null,null,null,null,null,{"$f":"HYPERLINK(\"https://gosynth.com/p/s/qxevgy\",\"Consent was acquired for initial evaluation. \n\nIf consent was not given by the parent for reevaluation, evidence of  attempts were made to elicit parent.\")","v":"Consent was acquired for initial evaluation. \n\nIf consent was not given by the parent for reevaluation, evidence of  attempts were made to elicit parent."},null,null,null,null,null,null,null,null,null,null,null,null,null,null,null,null,{"$f":"Y37+Z37","v":0},{"$f":"COUNTIF(Y36,\"Yes\")*3","v":0},{"$f":"COUNTIF(Z36,\"No\")*3","v":0}]
[{"$f":"HYPERLINK(\"http://sdlegislature.gov/Rules/DisplayRule.aspx?Rule=24:05:25:06.01\",\"Reevaluation\n(24:05:25:06.01)\")","v":"Reevaluation\n(24:05:25:06.01)"},null,null,null,null,null,null,null,null,null,null,null,null,null,null,null,null,null,null,null,null,null,null,{"$f":"(X37+X41+X43+X45+X47+X56+X62+X76+X86+X100+X104+X106+X108+X110+X112+X115+X117+X120)/18","v":0},{"$f":"(Y37+Y41+Y43+Y45+Y47+Y56+Y62+Y76+Y86+Y100+Y104+Y106+Y108+Y110+Y112+Y115+Y117+Y120)/18","v":0}]
[]
[{"$f":"HYPERLINK(\"http://sdlegislature.gov/Rules/DisplayRule.aspx?Rule=24:05:25:16\",\"Parent Input into Evalaution\n(24:05:25:16)\")","v":"Parent Input into Evalaution\n(24:05:25:16)"},null,null,null,null,null,{"$f":"HYPERLINK(\"https://gosynth.com/p/s/ycomsx\",\"Parent input must be documented in the PPWN Consent on input exiting data and \nupcoming evaluation.   (refer to phone logs, progress notes, prior notice)\")","v":"Parent input must be documented in the PPWN Consent on input exiting data and \nupcoming evaluation.   (refer to phone logs, progress notes, prior notice)"},null,null,null,null,null,null,null,null,null,null,null,"Select",null,null,null,null,null,{"$f":"S40","v":"Select"},{"$f":"S40","v":"Select"}]
[null,null,null,null,null,null,null,null,null,null,null,null,null,null,null,null,null,null,null,null,null,null,null,{"$f":"Y41+Z41","v":0},{"$f":"COUNTIF(Y40,\"Yes\")*3","v":0},{"$f":"COUNTIF(Z40,\"No\")*3","v":0}]
[{"$f":"HYPERLINK(\"http://sdlegislature.gov/Rules/DisplayRule.aspx?Rule=24:05:30:06.01\",\"Procedural Safeguards\n(24:05:30:06.01)\")","v":"Procedural Safeguards\n(24:05:30:06.01)"},null,null,null,null,null,{"$f":"HYPERLINK(\"https://gosynth.com/p/s/tdkmfj\",\"[INCLUDE LANGUAGE FOR THIS SECTION]\")","v":"[INCLUDE LANGUAGE FOR THIS SECTION]"},null,null,null,null,null,null,null,null,null,null,null,"Select",null,null,null,null,null,{"$f":"S42","v":"Select"},{"$f":"S42","v":"Select"}]
[null,null,null,null,null,null,null,null,null,null,null,null,null,null,null,null,null,null,null,null,null,null,null,{"$f":"Y43+Z43","v":0},{"$f":"COUNTIF(Y42,\"Yes\")*3","v":0},{"$f":"COUNTIF(Z42,\"No\")*3","v":0}]
[{"$f":"HYPERLINK(\"http://sdlegislature.gov/Rules/DisplayRule.aspx?Rule=24:05:25:03\",\"Extension on 25 Day Timeline\n(24:05:25:03)\")","v":"Extension on 25 Day Timeline\n(24:05:25:03)"},null,null,null,null,null,{"$f":"HYPERLINK(\"https://gosynth.com/p/s/wcheia\",\"Documented agreement with parent and district on new extension date.  \nEligibility and IEP developed 30 days after the agreed extension date.\")","v":"Documented agreement with parent and district on new extension date.  \nEligibility and IEP developed 30 days after the agreed extension date."},null,null,null,null,null,null,null,null,null,null,null,"Select",null,null,null,null,null,{"$f":"S44","v":"Select"},{"$f":"S44","v":"Select"}]
[null,null,null,null,null,null,null,null,null,null,null,null,null,null,null,null,null,null,null,null,null,null,null,{"$f":"Y45+Z45","v":0},{"$f":"COUNTIF(Y44,\"Yes\")*3","v":0},{"$f":"COUNTIF(Z44,\"No\")*3","v":0}]
[{"$f":"HYPERLINK(\"http://sdlegislature.gov/Rules/DisplayRule.aspx?Rule=24:05:30:05\",\"Content of Prior Written Notice/\nConsent for Evaluation\n (24:05:30:05)\")","v":"Content of Prior Written Notice/\nConsent for Evaluation\n (24:05:30:05)"},null,null,null,null,null,{"$f":"HYPERLINK(\"https://gosynth.com/p/s/xymlpn\",\"Check the following:\")","v":"Check the following:"},null,null,null,null,null,null,null,null,null,null,null,"Select","V46",null,null,null,null,{"$f":"S46","v":"Select"},{"$f":"S46","v":"Select"}]
[null,null,null,null,null,null,"PPWN must be individualized to the student, IEP team discussions and situation.",null,null,null,null,null,null,null,null,null,null,null,null,null,null,null,null,{"$f":"Y47+Z47","v":0},{"$f":"COUNTIF(Y46,\"Yes\")*3","v":0},{"$f":"COUNTIF(Z46,\"No\")*3","v":0}]
[]
[null,null,null,null,null,null,null,"Explanation of why the district proposed or refused to take the action"]
[null,null,null,null,null,null,null,"Description of other options considered and why they were rejected "]
[null,null,null,null,null,null,null,"Description of evidence used for the proposed or refused action"]
[null,null,null,null,null,null,null,"Description of other factors that are relevant to proposal or refusal"]
[]
[null,null,null,null,null,null,"All components should be completed and have a clear description."]
[{"$f":"HYPERLINK(\"http://sdlegislature.gov/Rules/DisplayRule.aspx?Rule=24:05:30:05\",\"Timeline of Prior Written Notice/\nConsent for Evaluation\n(24:05:25:03)\")","v":"Timeline of Prior Written Notice/\nConsent for Evaluation\n(24:05:25:03)"},null,null,null,null,null,{"$f":"HYPERLINK(\"https://gosynth.com/p/s/xylthm\",\"Date sent:\")","v":"Date sent:"},null,null,null,"2020-01-18",null,null,null,null,null,null,null,"Select","V54",null,null,null,null,{"$f":"S55","v":"Select"},{"$f":"S55","v":"Select"}]
[null,null,null,null,null,null,"Date signed:",null,null,null,"2020-01-19",null,null,null,null,null,null,null,null,null,null,null,null,{"$f":"Y56+Z56","v":0},{"$f":"COUNTIF(Y55,\"Yes\")*3","v":0},{"$f":"COUNTIF(Z55,\"No\")*3","v":0}]
[null,null,null,null,null,null,"Date received:",null,null,null,"2020-01-20"]
[null,null,null,null,null,null,"25 school days:",null,null,null,{"$f":"WORKDAY(K57,25)","v":"2020-02-24"}]
[null,null,null,null,null,null,"30 calendar days:"]
[null,null,null,null,null,null,"Extension on 25 day:"]
[{"$f":"HYPERLINK(\"http://sdlegislature.gov/Rules/DisplayRule.aspx?Rule=24:05:25:04.02\",\"Evaluations to be Completed by the District per Parental Prior Written/Consent for Evaluation\n(24:05:25:04.02)\")","v":"Evaluations to be Completed by the District per Parental Prior Written/Consent for Evaluation\n(24:05:25:04.02)"},null,null,null,null,null,{"$f":"HYPERLINK(\"https://gosynth.com/p/s/zgdeev\",\"List areas:\")","v":"List areas:"},null,null,"Test administered:",null,null,null,"Test date:",null,"Evaluator:",null,null,"Select","V60",null,null,null,null,{"$f":"S61","v":"Select"},{"$f":"S61","v":"Select"}]
[null,null,null,null,null,null,null,null,null,null,null,null,null,null,null,null,null,null,null,null,null,null,null,{"$f":"Y62+Z62","v":0},{"$f":"COUNTIF(Y61,\"Yes\")*3","v":0},{"$f":"COUNTIF(Z61,\"No\")*3","v":0}]
[]
[]
[]
[]
[]
["For more evaluations requested click the [+]"]
[]
[]
[]
[]
[]
[]
[{"$f":"HYPERLINK(\"http://sdlegislature.gov/Rules/DisplayRule.aspx?Rule=24:05:25:04.02\",\"Existing Evaluation Data\nto be Pulled Forward\n(24:05:25:04.02)\")","v":"Existing Evaluation Data\nto be Pulled Forward\n(24:05:25:04.02)"},null,null,null,null,null,{"$f":"HYPERLINK(\"https://gosynth.com/p/s/pfohnr\",\"List areas:\")","v":"List areas:"},null,null,"Test administered:",null,null,null,"Test date:",null,"Evaluator:",null,null,"Select","V74",null,null,null,null,{"$f":"S75","v":"Select"},{"$f":"S75","v":"Select"}]
[null,null,null,null,null,null,null,null,null,null,null,null,null,null,null,null,null,null,null,null,null,null,null,{"$f":"Y76+Z76","v":0},{"$f":"COUNTIF(Y75,\"Yes\")*3","v":0},{"$f":"COUNTIF(Z75,\"No\")*3","v":0}]
[]
[]
[]
["For more existing data requested click the [+]"]
[]
[]
[]
[]
[{"$f":"HYPERLINK(\"http://sdlegislature.gov/Rules/DisplayRule.aspx?Rule=24:05:25:04.02\",\"Skills Based Assessment and Report\n(24:05:25:04.02)\")","v":"Skills Based Assessment and Report\n(24:05:25:04.02)"},null,null,null,null,null,{"$f":"HYPERLINK(\"https://gosynth.com/p/s/tbqnts\",\"List areas:\")","v":"List areas:"},null,null,"Test administered:",null,null,null,"Test date:",null,"Evaluator:",null,null,"Select","V84",null,null,null,null,{"$f":"S85","v":"Select"},{"$f":"S85","v":"Select"}]
[null,null,null,null,null,null,null,null,null,null,null,null,null,null,null,null,null,null,null,null,null,null,null,{"$f":"Y86+Z86","v":0},{"$f":"COUNTIF(Y85,\"Yes\")*3","v":0},{"$f":"COUNTIF(Z85,\"No\")*3","v":0}]
[]
[null,null,null,null,null,null,null,null,null,null,null,null,null,null,null,null,null,null,null,null,null,null,null,{"$f":"(X86+X100+X104+X106+X108+X110+X112+X115+X117+X120)/10","v":0},{"$f":"(Y86+Y100+Y104+Y106+Y108+Y110+Y112+Y115+Y117+Y120)/10","v":0}]
[]
[]
[]
["For more skills based requested click the [+]"]
[]
[]
[]
[]
[]
[]
[{"$f":"HYPERLINK(\"http://sdlegislature.gov/Rules/DisplayRule.aspx?Rule=24:05:25:03\",\"Consent Received\n(24:05:25:03)\")","v":"Consent Received\n(24:05:25:03)"},null,null,null,null,null,{"$f":"HYPERLINK(\"https://gosynth.com/p/s/ctcnlr\",\"Consent received date:\")","v":"Consent received date:"},null,null,null,null,{"$f":"K57","v":"2020-01-20"},null,null,"Mark \"No\" if dates are outside of \"consent received\" and/or \"25 school days\".",null,null,null,"Select","V98",null,null,null,null,{"$f":"S99","v":"Select"},{"$f":"S99","v":"Select"}]
[null,null,null,null,null,null,"Earliest testing date:",null,null,null,null,{"$f":"MIN(N63:O74,N87:O98)","v":"00:00:00"},null,null,null,null,null,null,null,null,null,null,null,{"$f":"Y100+Z100","v":0},{"$f":"COUNTIF(Y99,\"Yes\")*3","v":0},{"$f":"COUNTIF(Z99,\"No\")*3","v":0}]
[null,null,null,null,null,null,"Latest testing date:",null,null,null,null,{"$f":"MAX(N63:O74,N87:O98)","v":"00:00:00"}]
[null,null,null,null,null,null,"Within 25 School Days:",null,null,null,null,{"$f":"IF(ISBLANK(K60),K58,K60)","v":"2020-02-24"}]
[{"$f":"HYPERLINK(\"http://sdlegislature.gov/Rules/DisplayRule.aspx?Rule=24:05:25:20\",\"All Evaluations Administered \n(24:05:25:20)\")","v":"All Evaluations Administered \n(24:05:25:20)"},null,null,null,null,null,{"$f":"HYPERLINK(\"https://gosynth.com/p/s/mkcdef\",\"All evaluations marked on the PWWN/Consent for Evaluation form must be administered.\")","v":"All evaluations marked on the PWWN/Consent for Evaluation form must be administered."},null,null,null,null,null,null,null,null,null,null,null,"Select","V102",null,null,null,null,{"$f":"S103","v":"Select"},{"$f":"S103","v":"Select"}]
[null,null,null,null,null,null,null,null,null,null,null,null,null,null,null,null,null,null,null,null,null,null,null,{"$f":"Y104+Z104","v":0},{"$f":"COUNTIF(Y103,\"Yes\")*3","v":0},{"$f":"COUNTIF(Z103,\"No\")*3","v":0}]
[{"$f":"HYPERLINK(\"http://sdlegislature.gov/Rules/DisplayRule.aspx?Rule=24:05:25:06.01\",\"Consent was Acquired\n(24:05:25:06.01)\")","v":"Consent was Acquired\n(24:05:25:06.01)"},null,null,null,null,null,{"$f":"HYPERLINK(\"https://gosynth.com/p/s/mkcdef\",\"All evaluations administered must be requested on the PWWN/Consent for Evaluation \nform.\")","v":"All evaluations administered must be requested on the PWWN/Consent for Evaluation \nform."},null,null,null,null,null,null,null,null,null,null,null,"Select",null,null,null,null,null,{"$f":"S105","v":"Select"},{"$f":"S105","v":"Select"}]
[null,null,null,null,null,null,null,null,null,null,null,null,null,null,null,null,null,null,null,null,null,null,null,{"$f":"Y106+Z106","v":0},{"$f":"COUNTIF(Y105,\"Yes\")*3","v":0},{"$f":"COUNTIF(Z105,\"No\")*3","v":0}]
[{"$f":"HYPERLINK(\"http://sdlegislature.gov/Rules/DisplayRule.aspx?Rule=24:05:25:04\",\"Variety of Sources \n(24:05:25:04)\")","v":"Variety of Sources \n(24:05:25:04)"},null,null,null,null,null,{"$f":"HYPERLINK(\"https://gosynth.com/p/s/mkcdef\",\"Appropritate means to provide evaluations for accurate data were used. \")","v":"Appropritate means to provide evaluations for accurate data were used. "},null,null,null,null,null,null,null,null,null,null,null,"Select",null,null,null,null,null,{"$f":"S107","v":"Select"},{"$f":"S107","v":"Select"}]
[null,null,null,null,null,null,null,null,null,null,null,null,null,null,null,null,null,null,null,null,null,null,null,{"$f":"Y108+Z108","v":0},{"$f":"COUNTIF(Y107,\"Yes\")*3","v":0},{"$f":"COUNTIF(Z107,\"No\")*3","v":0}]
[{"$f":"HYPERLINK(\"http://sdlegislature.gov/Rules/DisplayRule.aspx?Rule=24:05:25:04\",\"Met Requirements for the Disability\n(24:05:25:04) \")","v":"Met Requirements for the Disability\n(24:05:25:04) "},null,null,null,null,null,{"$f":"HYPERLINK(\"https://gosynth.com/p/s/mkcdef\",\"Comprehensive Evaluations in all areas required for the disability. \")","v":"Comprehensive Evaluations in all areas required for the disability. "},null,null,null,null,null,null,null,null,null,null,null,"Select",null,null,null,null,null,{"$f":"S109","v":"Select"},{"$f":"S109","v":"Select"}]
[null,null,null,null,null,null,null,null,null,null,null,null,null,null,null,null,null,null,null,null,null,null,null,{"$f":"Y110+Z110","v":0},{"$f":"COUNTIF(Y109,\"Yes\")*3","v":0},{"$f":"COUNTIF(Z109,\"No\")*3","v":0}]
[{"$f":"HYPERLINK(\"http://sdlegislature.gov/Rules/DisplayRule.aspx?Rule=24:05:25:03\",\"Eligibility within 30 Calendar Days \n(24:05:25:03)\")","v":"Eligibility within 30 Calendar Days \n(24:05:25:03)"},null,null,null,null,null,{"$f":"HYPERLINK(\"https://gosynth.com/p/s/mkcdef\",\"Day 26 was on:\")","v":"Day 26 was on:"},null,null,null,null,{"$f":"WORKDAY(L102,1)","v":"2020-02-25"},null,null,null,null,null,null,"Select","V110",null,null,null,null,{"$f":"S111","v":"Select"},{"$f":"S111","v":"Select"}]
[null,null,null,null,null,null,"Eligibility Determination Date:",null,null,null,null,{"$f":"T7","v":"00:00:00"},null,null,null,null,null,null,null,null,null,null,null,{"$f":"Y112+Z112","v":0},{"$f":"COUNTIF(Y111,\"Yes\")*3","v":0},{"$f":"COUNTIF(Z111,\"No\")*3","v":0}]
[null,null,null,null,null,null,"Eligibility meeting date should have been by:",null,null,null,null,null,null,null,{"$f":"K59","v":"00:00:00"}]
[{"$f":"HYPERLINK(\"http://sdlegislature.gov/Rules/DisplayRule.aspx?Rule=24:05:25:04.03\",\"Student Eligible for Special Education \n(24:05:25:04.03)\")","v":"Student Eligible for Special Education \n(24:05:25:04.03)"},null,null,null,null,null,null,null,null,null,null,null,null,null,null,null,null,null,"Select",null,null,null,null,null,{"$f":"S114","v":"Select"},{"$f":"S114","v":"Select"}]
[null,null,null,null,null,null,null,null,null,null,null,null,null,null,null,null,null,null,null,null,null,null,null,{"$f":"Y115+Z115","v":0},{"$f":"COUNTIF(Y114,\"Yes\")*3","v":0},{"$f":"COUNTIF(Z114,\"No\")*3","v":0}]
[{"$f":"HYPERLINK(\"http://sdlegislature.gov/Rules/DisplayRule.aspx?Rule=24:05:25:06\",\"Three Year Re-Evaluation\n(24:05:25:06)\")","v":"Three Year Re-Evaluation\n(24:05:25:06)"},null,null,null,null,null,{"$f":"HYPERLINK(\"https://gosynth.com/p/s/mkcdef\",\"Current Eligibility Determination Date:\")","v":"Current Eligibility Determination Date:"},null,null,null,null,null,null,{"$f":"L112","v":"00:00:00"},null,null,null,null,"Select",null,null,null,null,null,{"$f":"S116","v":"Select"},{"$f":"S116","v":"Select"}]
[null,null,null,null,null,null,"Previous Eligibility Determination Date:",null,null,null,null,null,null,{"$f":"T8","v":"00:00:00"},null,null,null,null,null,null,null,null,null,{"$f":"Y117+Z117","v":0},{"$f":"COUNTIF(Y116,\"Yes\")*3","v":0},{"$f":"COUNTIF(Z116,\"No\")*3","v":0}]
[]
[{"$f":"HYPERLINK(\"https://gosynth.com/p/s/mkcdef\",\"Evaluated to Dismiss from Services  \")","v":"Evaluated to Dismiss from Services  "},null,null,null,null,null,null,null,null,null,null,null,null,null,null,null,null,null,"Select",null,null,null,null,null,{"$f":"S119","v":"Select"},{"$f":"S119","v":"Select"}]
[null,null,null,null,null,null,null,null,null,null,null,null,null,null,null,null,null,null,null,null,null,null,null,{"$f":"Y120+Z120","v":0},{"$f":"COUNTIF(Y119,\"Yes\")*3","v":0},{"$f":"COUNTIF(Z119,\"No\")*3","v":0}]
[]
[{"$f":"HYPERLINK(\"https://gosynth.com/p/s/giwoma\",\"Eligibility Document for Specific Learning Disability\")","v":"Eligibility Document for Specific Learning Disability"},null,null,null,null,null,null,null,null,null,null,null,null,null,null,null,null,null,{"$f":"IFERROR(Y126/X126,\"N/A\")","v":"N/A"}]
["If student is not eligible for Specific Learning Disability, skip this section.  Click on the [+] button if section is not visible. ",null,null,null,null,null,null,null,null,null,null,null,null,null,null,null,null,null,"Select","V122",null,null,null,null,{"$f":"S123","v":"Select"},{"$f":"S123","v":"Select"}]
[{"$f":"HYPERLINK(\"http://sdlegislature.gov/Rules/DisplayRule.aspx?Rule=24:05:24.01:19\",\"Specific Learning Disabilities\n(24:05:24.01:19)\")","v":"Specific Learning Disabilities\n(24:05:24.01:19)"},null,null,null,null,null,"Check the following:",null,null,null,null,null,null,null,null,null,null,null,null,null,null,null,null,{"$f":"Y124+Z124","v":0},{"$f":"COUNTIF(Y123,\"Yes\")*3","v":0},{"$f":"COUNTIF(Z123,\"No\")*3","v":0}]
[]
[null,null,null,null,null,null,null,"Reading Comprehension",null,null,null,null,null,"Math Calculation",null,null,null,null,null,null,null,null,null,{"$f":"(X124+X132+X151+X165+X174)/5","v":0},{"$f":"(Y124+Y132+Y151+Y165+Y174)/5","v":0}]
[null,null,null,null,null,null,null,"Basic Reading Skills",null,null,null,null,null,"Math Problem Solving"]
[null,null,null,null,null,null,null,"Reading Fluency",null,null,null,null,null,"Listening Comprehension"]
[null,null,null,null,null,null,null,"Written Expression",null,null,null,null,null,"Oral Expression"]
[]
["For Initial Determination of Eligibility Only",null,null,null,null,null,null,null,null,null,null,null,null,null,null,null,null,null,"Select","V130",null,null,null,null,{"$f":"S131","v":"Select"},{"$f":"S131","v":"Select"}]
[{"$f":"HYPERLINK(\"http://sdlegislature.gov/Rules/DisplayRule.aspx?Rule=24:05:24.01:19\",\"Initial Eligibility\n(24:05:24.01:19)\")","v":"Initial Eligibility\n(24:05:24.01:19)"},null,null,null,null,null,"Written report must include:",null,null,null,null,null,null,null,null,null,null,null,null,null,null,null,null,{"$f":"Y132+Z132","v":0},{"$f":"COUNTIF(Y131,\"Yes\")*3","v":0},{"$f":"COUNTIF(Z131,\"No\")*3","v":0}]
[]
[null,null,null,null,null,null,null,"Student achieves adequately",null,null,null,null,"Lack of appropriate instruction"]
[]
[null,null,null,null,null,null,null,"Student exhibits pattern of strengths & weaknesses",null,null,null,null,"Observation of the student"]
[]
[null,null,null,null,null,null,null,null,null,null,null,null,"Relevant medical findings (if any)"]
[null,null,null,null,null,null,null,"Student was provided appropriate instruction in regular education settings by qualified personnel"]
[null,null,null,null,null,null,null,null,null,null,null,null,"Achievement level problem is/is not primarily the result of another factor (e.g. emotional disturbance, cognitive impairment, etc.)"]
[]
[]
[null,null,null,null,null,null,null,"Repeated assessment of achievement reflecting student progress"]
[]
[]
[null,null,null,null,null,null,null,"Attendance record",null,null,null,null,"Adverse effect on educational performance"]
[]
[]
["Click on the [+] button to expand or the [-] button to collapse."]
["For Reevaluation of Eligibility Only",null,null,null,null,null,null,null,null,null,null,null,null,null,null,null,null,null,"Select","V149",null,null,null,null,{"$f":"S150","v":"Select"},{"$f":"S150","v":"Select"}]
[{"$f":"HYPERLINK(\"http://sdlegislature.gov/Rules/DisplayRule.aspx?Rule=24:05:24.01:19\",\"Reevaluation of Eligibility\n(24:05:24.01:19)\")","v":"Reevaluation of Eligibility\n(24:05:24.01:19)"},null,null,null,null,null,"Written report must include:",null,null,null,null,null,null,null,null,null,null,null,null,null,null,null,null,{"$f":"Y151+Z151","v":0},{"$f":"COUNTIF(Y150,\"Yes\")*3","v":0},{"$f":"COUNTIF(Z150,\"No\")*3","v":0}]
[]
[null,null,null,null,null,null,null,"Student achieves adequately",null,null,null,null,"Achievement level problem is/is not primarily the result of another factor (e.g. emotional disturbance, cognitive impairment, etc.)"]
[]
[null,null,null,null,null,null,null,"Student exhibits pattern of strengths & weaknesses"]
[]
[]
[null,null,null,null,null,null,null,"Observation of the student"]
[null,null,null,null,null,null,null,null,null,null,null,null,"Adverse effect on educational performance"]
[null,null,null,null,null,null,null,"Relevant medical findings (if any)"]
[]
[]
["Click on the [+] button to expand or the [-] button to collapse."]
[{"$f":"HYPERLINK(\"http://sdlegislature.gov/Rules/DisplayRule.aspx?Rule=24:05:25:08\",\"Team Member Signatures \n(24:05:25:08)\")","v":"Team Member Signatures \n(24:05:25:08)"},null,null,null,null,null,"Check the following:",null,null,null,null,null,null,null,null,null,null,null,"Select","V163",null,null,null,null,{"$f":"S164","v":"Select"},{"$f":"S164","v":"Select"}]
[null,null,null,null,null,null,null,null,null,null,null,null,null,null,null,null,null,null,null,null,null,null,null,{"$f":"Y165+Z165","v":0},{"$f":"COUNTIF(Y164,\"Yes\")*3","v":0},{"$f":"COUNTIF(Z164,\"No\")*3","v":0}]
[null,null,null,null,null,null,null,"Parent",null,null,null,null,"Each group member shall certify in writing whether the report reflects the group member's conclusion. If it does not reflect the group member's conclusion, the group member must submit the conclusion in a separate statement."]
[null,null,null,null,null,null,null,"General Education Teacher"]
[{"$f":"HYPERLINK(\"http://sdlegislature.gov/Rules/DisplayRule.aspx?Rule=24:05:25:13\",\"Group Members to Certify \nReport in Writing \n(24:05:25:13)\")","v":"Group Members to Certify \nReport in Writing \n(24:05:25:13)"},null,null,null,null,null,null,"Special Education Teacher"]
[null,null,null,null,null,null,null,"Qualified interpreter of results"]
[null,null,null,null,null,null,null,"LEA Representative"]
[null,null,null,null,null,null,null,"If disagreed, written input was provided"]
[]
[null,null,null,null,null,null,"Check PWWN for eligibility decisions.                         ",null,null,null,null,"Skip to","PPWN.",null,null,null,null,null,"Select",null,null,null,null,null,{"$f":"S173","v":"Select"},{"$f":"S173","v":"Select"}]
[null,null,null,null,null,null,null,null,null,null,null,null,null,null,null,null,null,null,null,null,null,null,null,{"$f":"Y174+Z174","v":0},{"$f":"COUNTIF(Y173,\"Yes\")*3","v":0},{"$f":"COUNTIF(Z173,\"No\")*3","v":0}]
[]
[{"$f":"HYPERLINK(\"https://gosynth.com/p/s/mzphio\",\"Meeting Notice\")","v":"Meeting Notice"},null,null,null,null,null,null,null,null,null,null,null,null,null,null,null,null,null,{"$f":"IFERROR(Y184/X184,\"N/A\")","v":"N/A"}]
["Meeting Notice",null,null,null,null,null,"Date sent:",null,null,null,null,null,"From this point on use the current IEP's documentation.",null,null,null,null,null,"Select","V174",null,null,null,null,{"$f":"S177","v":"Select"},{"$f":"S177","v":"Select"}]
[{"$f":"HYPERLINK(\"http://sdlegislature.gov/Rules/DisplayRule.aspx?Rule=24:05:30:02.01\",\"(24:05:30:02.01)\")","v":"(24:05:30:02.01)"},null,null,{"$f":"HYPERLINK(\"http://sdlegislature.gov/Rules/DisplayRule.aspx?Rule=24:05:25:16\",\"(24:05:25:16)\")","v":"(24:05:25:16)"},null,null,"Meeting date:",null,null,{"$f":"T5","v":"00:00:00"},null,null,null,null,null,null,null,null,null,null,null,null,null,{"$f":"Y178+Z178","v":0},{"$f":"COUNTIF(Y177,\"Yes\")*3","v":0},{"$f":"COUNTIF(Z177,\"No\")*3","v":0}]
["Procedural Safeguards",null,null,null,null,null,"Must be given to parents annually.",null,null,null,null,null,null,null,null,null,null,null,"Select",null,null,null,null,null,{"$f":"S179","v":"Select"},{"$f":"S179","v":"Select"}]
[{"$f":"HYPERLINK(\"http://sdlegislature.gov/Rules/DisplayRule.aspx?Rule=24:05:30:06.01\",\"(24:05:30:06.01)\")","v":"(24:05:30:06.01)"},null,null,{"$f":"HYPERLINK(\"http://sdlegislature.gov/Rules/DisplayRule.aspx?Rule=24:05:30:06.02\",\"(24:05:30:06.02)\")","v":"(24:05:30:06.02)"},null,null,null,null,null,null,null,null,null,null,null,null,null,null,null,null,null,null,null,{"$f":"Y180+Z180","v":0},{"$f":"COUNTIF(Y179,\"Yes\")*3","v":0},{"$f":"COUNTIF(Z179,\"No\")*3","v":0}]
["IEP Team",null,null,null,null,null,"Complete the following:",null,null,null,null,null,null,null,null,null,null,null,"Select",null,null,null,null,null,{"$f":"S181","v":"Select"},{"$f":"S181","v":"Select"}]
[null,null,null,null,null,null,null,null,null,null,null,null,null,null,null,null,null,null,null,null,null,null,null,{"$f":"Y182+Z182","v":0},{"$f":"COUNTIF(Y181,\"Yes\")*3","v":0},{"$f":"COUNTIF(Z181,\"No\")*3","v":0}]
[null,null,null,null,null,null,null,"The documentation of people attending the IEP meeting on front page of the IEP does not imply agreement, it is for participation purposes only."]
[null,null,null,null,null,null,null,null,null,null,null,null,null,null,null,null,null,null,null,null,null,null,null,{"$f":"(X178+X180+X182+X198)/4","v":0},{"$f":"(Y178+Y180+Y182+Y198)/4","v":0}]
[null,null,null,null,null,null,null,"Identified on the meeting notice:",null,null,"Attended the meeting:",null,null,"Did not attend\nthe meeting:"]
[]
[{"$f":"HYPERLINK(\"http://sdlegislature.gov/Rules/DisplayRule.aspx?Rule=24:05:25:16\",\"(24:05:25:16)\")","v":"(24:05:25:16)"},null,null,null,null,null,null,"Parent/Guardian"]
[null,null,null,null,null,null,null,"Student"]
[null,null,null,null,null,null,null,"Gen. Ed. Teacher"]
[null,null,null,null,null,null,null,"Sp. Ed. Teacher"]
["Parent Participation",null,null,null,null,null,null,"Eval Interpreter"]
[{"$f":"HYPERLINK(\"http://sdlegislature.gov/Rules/DisplayRule.aspx?Rule=24:05:25:16\",\"(24:05:25:16)\")","v":"(24:05:25:16)"},null,null,null,null,null,null,"LEA Representative"]
[null,null,null,null,null,null,null,"List Others"]
[null,null,null,null,null,null,null,"List Others"]
[null,null,null,null,null,null,null,"List Others"]
[]
["IEP Team Attendance \n (24:05:27:01.05)",null,null,null,null,null,"A member of the IEP team may be excused from attending, in whole or in part, an IEP team meeting that involves a modification to or discussion of the member's area of the curriculum or related services, if:\n   (1) The parent and school district consent in writing to the excusal; and\n   (2) The member submits, in writing to the parent and the IEP team, input into the development of the IEP before the meeting.",null,null,null,null,null,null,null,null,null,null,null,"Select","V194",null,null,null,null,{"$f":"S197","v":"Select"},{"$f":"S197","v":"Select"}]
[null,null,null,null,null,null,null,null,null,null,null,null,null,null,null,null,null,null,null,null,null,null,null,{"$f":"Y198+Z198","v":0},{"$f":"COUNTIF(Y197,\"Yes\")*3","v":0},{"$f":"COUNTIF(Z197,\"No\")*3","v":0}]
[]
[]
[]
[]
[{"$f":"HYPERLINK(\"https://gosynth.com/p/s/jshfqs\",\"          Individual Education Plan (Use the most recent IEP.)\n\")","v":"          Individual Education Plan (Use the most recent IEP.)\n"},null,null,null,null,null,null,null,null,null,null,null,null,null,null,null,null,null,{"$f":"IFERROR(Y210/X210,\"N/A\")","v":"N/A"}]
[{"$f":"HYPERLINK(\"http://sdlegislature.gov/Rules/DisplayRule.aspx?Rule=24:05:25:04.03\",\"Evaluation Reports Given to Parents \n(24:05:25:04.03)\")","v":"Evaluation Reports Given to Parents \n(24:05:25:04.03)"},null,null,null,null,null,"Evidence the parent received a copy of the reports (e.g.  initials on the front page IEP or other evidence). ",null,null,null,null,null,null,null,null,null,null,null,"Select","V201",null,null,null,null,{"$f":"S204","v":"Select"},{"$f":"S204","v":"Select"}]
[null,null,null,null,null,null,null,null,null,null,null,null,null,null,null,null,null,null,null,null,null,null,null,{"$f":"Y205+Z205","v":0},{"$f":"COUNTIF(Y204,\"Yes\")*3","v":0},{"$f":"COUNTIF(Z204,\"No\")*3","v":0}]
[{"$f":"HYPERLINK(\"http://sdlegislature.gov/Rules/DisplayRule.aspx?Rule=24:05:25:19\",\"Copy of IEP Given to Parents \n(24:05:25:19)\")","v":"Copy of IEP Given to Parents \n(24:05:25:19)"},null,null,null,null,null,"Evidence copy of the IEP was given to parents (e.g.  initials on the front page, addressed in PPWN, or other evidence).",null,null,null,null,null,null,null,null,null,null,null,"Select",null,null,null,null,null,{"$f":"S206","v":"Select"},{"$f":"S206","v":"Select"}]
[null,null,null,null,null,null,null,null,null,null,null,null,null,null,null,null,null,null,null,null,null,null,null,{"$f":"Y207+Z207","v":0},{"$f":"COUNTIF(Y206,\"Yes\")*3","v":0},{"$f":"COUNTIF(Z206,\"No\")*3","v":0}]
[{"$f":"HYPERLINK(\"http://sdlegislature.gov/Rules/DisplayRule.aspx?Rule=24:05:27:08\",\"Met Annually\n(24:05:27:08)\")","v":"Met Annually\n(24:05:27:08)"},null,null,null,null,null,"Current IEP Meeting Date:",null,null,null,null,{"$f":"T5","v":"00:00:00"},null,null,null,null,null,null,"Select",null,null,null,null,null,{"$f":"S208","v":"Select"},{"$f":"S208","v":"Select"}]
[null,null,null,null,null,null,"Previous IEP Meeting Date:",null,null,null,null,{"$f":"T6","v":"00:00:00"},null,null,null,null,null,null,null,null,null,null,null,{"$f":"Y209+Z209","v":0},{"$f":"COUNTIF(Y208,\"Yes\")*3","v":0},{"$f":"COUNTIF(Z208,\"No\")*3","v":0}]
[null,null,null,null,null,null,null,null,null,null,null,null,null,null,null,null,null,null,null,null,null,null,null,{"$f":"(X205+X207+X209)/3","v":0},{"$f":"(Y205+Y207+Y209)/3","v":0}]
[{"$f":"HYPERLINK(\"https://gosynth.com/p/s/eypdgf\",\"Present Levels of Academic Achievement & Functional Performance\")","v":"Present Levels of Academic Achievement & Functional Performance"},null,null,null,null,null,null,null,null,null,null,null,null,null,null,null,null,null,{"$f":"IFERROR(Y243/X243,\"N/A\")","v":"N/A"}]
[{"$f":"HYPERLINK(\"http://sdlegislature.gov/Rules/DisplayRule.aspx?Rule=24:05:27:01.03\",\"Progress/Involvement in \nGeneral Education Curriculum\n(24:05:27:01.03)\")","v":"Progress/Involvement in \nGeneral Education Curriculum\n(24:05:27:01.03)"},null,null,null,null,null,"A statement of the student's present levels of academic achievement and functional performance, including:\n   (a)  How the student's disability affects the student's involvement and progress in the general education curriculum (i.e., the same curriculum as for nondisabled students); or\n   (b)  For preschool student, as appropriate, how the disability affects the student's participation in appropriate activities;\nis found in the document.",null,null,null,null,null,null,null,null,null,null,null,"Select","V209",null,null,null,null,{"$f":"S212","v":"Select"},{"$f":"S212","v":"Select"}]
[null,null,null,null,null,null,null,null,null,null,null,null,null,null,null,null,null,null,null,null,null,null,null,{"$f":"Y213+Z213","v":0},{"$f":"COUNTIF(Y212,\"Yes\")*3","v":0},{"$f":"COUNTIF(Z212,\"No\")*3","v":0}]
[]
[{"$f":"HYPERLINK(\"https://sdlegislature.gov/Rules/DisplayRule.aspx?Rule=24:05:25:16\",\"Parent Participation\n(24:05:25:16)\")","v":"Parent Participation\n(24:05:25:16)"},null,null,null,null,null,"The purpose of this area for parent to provide IEP team information about how the child’s disability is impacted at home. Parents can also provide input on types of strategies and supports they provide at home.",null,null,null,null,null,null,null,null,null,null,null,"Select",null,null,null,null,null,{"$f":"S215","v":"Select"},{"$f":"S215","v":"Select"}]
[null,null,null,null,null,null,null,null,null,null,null,null,null,null,null,null,null,null,null,null,null,null,null,{"$f":"Y216+Z216","v":0},{"$f":"COUNTIF(Y215,\"Yes\")*3","v":0},{"$f":"COUNTIF(Z215,\"No\")*3","v":0}]
[{"$f":"HYPERLINK(\"http://sdlegislature.gov/Rules/DisplayRule.aspx?Rule=24:05:27:01.03\",\"Present Levels of \nAcademic Achievement \n& Functional Performance\nLinked to Annual Goals\n(24:05:27:01.03)\")","v":"Present Levels of \nAcademic Achievement \n& Functional Performance\nLinked to Annual Goals\n(24:05:27:01.03)"},null,null,null,null,null,"Skill Area:",null,null,null,null,"Measuarable Goal:",null,null,null,null,null,null,"Select","V214",null,null,null,null,{"$f":"S217","v":"Select"},{"$f":"S217","v":"Select"}]
[null,null,null,null,null,null,null,null,null,null,null,null,null,null,null,null,null,null,null,null,null,null,null,{"$f":"Y218+Z218","v":0},{"$f":"COUNTIF(Y217,\"Yes\")*3","v":0},{"$f":"COUNTIF(Z217,\"No\")*3","v":0}]
[null,null,null,null,null,null,null,"Strengths",null,null,null,null,"Condition",null,null,"How well"]
[null,null,null,null,null,null,null,"Needs",null,null,null,null,"Performance",null,null,"How often"]
[null,null,null,null,null,null,null,"Link to evaluation"]
[]
[null,null,null,null,null,null,"Skill Area:",null,null,null,null,"Measuarable Goal:",null,null,null,null,null,null,"Select",null,null,null,null,null,{"$f":"S223","v":"Select"},{"$f":"S223","v":"Select"}]
[null,null,null,null,null,null,null,null,null,null,null,null,null,null,null,null,null,null,null,null,null,null,null,{"$f":"Y224+Z224","v":0},{"$f":"COUNTIF(Y223,\"Yes\")*3","v":0},{"$f":"COUNTIF(Z223,\"No\")*3","v":0}]
[null,null,null,null,null,null,null,"Strengths",null,null,null,null,"Condition",null,null,"How well"]
[null,null,null,null,null,null,null,"Needs",null,null,null,null,"Performance",null,null,"How often"]
[null,null,null,null,null,null,null,"Link to evaluation"]
[]
[null,null,null,null,null,null,"Skill Area:",null,null,null,null,"Measuarable Goal:",null,null,null,null,null,null,"Select",null,null,null,null,null,{"$f":"S229","v":"Select"},{"$f":"S229","v":"Select"}]
[null,null,null,null,null,null,null,null,null,null,null,null,null,null,null,null,null,null,null,null,null,null,null,{"$f":"Y230+Z230","v":0},{"$f":"COUNTIF(Y229,\"Yes\")*3","v":0},{"$f":"COUNTIF(Z229,\"No\")*3","v":0}]
[null,null,null,null,null,null,null,"Strengths",null,null,null,null,"Condition",null,null,"How well"]
[null,null,null,null,null,null,null,"Needs",null,null,null,null,"Performance",null,null,"How often"]
[null,null,null,null,null,null,null,"Link to evaluation"]
[]
[{"$f":"HYPERLINK(\"http://sdlegislature.gov/Rules/DisplayRule.aspx?Rule=24:05:27:01.03\",\"How Progress will be Measured\n(24:05:27:01.03)\")","v":"How Progress will be Measured\n(24:05:27:01.03)"},null,null,null,null,null,{"$f":"HYPERLINK(\"https://gosynth.com/p/s/psaxcx\",\"         Check the following:\")","v":"         Check the following:"},null,null,null,null,null,null,null,null,null,null,null,"Select","V232",null,null,null,null,{"$f":"S235","v":"Select"},{"$f":"S235","v":"Select"}]
[null,null,null,null,null,null,null,null,null,null,null,null,null,null,null,null,null,null,null,null,null,null,null,{"$f":"Y236+Z236","v":0},{"$f":"COUNTIF(Y235,\"Yes\")*3","v":0},{"$f":"COUNTIF(Z235,\"No\")*3","v":0}]
[null,null,null,null,null,null,null,"Reporting frequency",null,null,null,null,"Extent of progress"]
[null,null,null,null,null,null,null,"Reporting method"]
[]
[{"$f":"HYPERLINK(\"http://sdlegislature.gov/Rules/DisplayRule.aspx?Rule=24:05:27:01.03\",\"Accommodations/Modifications\n(24:05:27:01.03)\")","v":"Accommodations/Modifications\n(24:05:27:01.03)"},null,null,null,null,null,{"$f":"HYPERLINK(\"https://gosynth.com/p/s/rtpvrq\",\"         Check the following:\")","v":"         Check the following:"},null,null,null,null,"List Instructional Accommodations:",null,null,null,null,null,null,"Select","V237",null,null,null,null,{"$f":"S240","v":"Select"},{"$f":"S240","v":"Select"}]
[null,null,null,null,null,null,null,"Frequency",null,null,null,null,null,null,null,null,null,null,null,null,null,null,null,{"$f":"Y241+Z241","v":0},{"$f":"COUNTIF(Y240,\"Yes\")*3","v":0},{"$f":"COUNTIF(Z240,\"No\")*3","v":0}]
[null,null,null,null,null,null,null,"Duration"]
[null,null,null,null,null,null,null,"Location",null,null,null,null,null,null,null,null,null,null,null,null,null,null,null,{"$f":"(X241+X236+X230+X224+X218+X216+X213)/7","v":0},{"$f":"(Y241+Y236+Y230+Y224+Y218+Y216+Y213)/7","v":0}]
[]
[]
[null,null,null,null,null,null,null,"Are the accommodations appropriate for the skill areas affected by the diability?"]
[]
[]
[]
[null,null,null,null,null,null,null,null,"Yes"]
[null,null,null,null,null,null,null,null,"No"]
[]
[]
[]
[{"$f":"HYPERLINK(\"https://gosynth.com/p/s/ygpazf\",\"Special Factors\")","v":"Special Factors"},null,null,null,null,null,null,null,null,null,null,null,null,null,null,null,null,null,{"$f":"IFERROR(Y294/X294,\"N/A\")","v":"N/A"}]
[{"$f":"HYPERLINK(\"http://sdlegislature.gov/Rules/DisplayRule.aspx?Rule=24:05:27:01.02\",\"Considerations\n(24:05:27:01.02)\")","v":"Considerations\n(24:05:27:01.02)"},null,null,null,null,null,"Select for each:",null,null,"Determine if data supports the selection for each special factor; if not addressed, check \"N\"  for score.",null,null,null,null,null,null,null,null,"Select","V243",null,null,null,null,{"$f":"S256","v":"Select"},{"$f":"S256","v":"Select"}]
[null,null,null,null,null,null,null,null,null,null,null,null,null,null,null,null,null,null,null,null,null,null,null,{"$f":"Y257+Z257","v":0},{"$f":"COUNTIF(Y256,\"Yes\")*3","v":0},{"$f":"COUNTIF(Z256,\"No\")*3","v":0}]
[null,null,null,null,null,null,null,null,null,"Limited English proficient"]
[null,null,null,null,null,null,null,null,null,"Special communication needs"]
[null,null,null,null,null,null,null,null,null,"Requires Braille"]
[null,null,null,null,null,null,null,null,null,"Behavior impedes learning"]
[null,null,null,null,null,null,null,null,null,"Requires assistive technology & services"]
[null,null,null,null,null,null,null,null,null,"Physical education"]
[null,null,null,null,null,null,null,null,null,"Hearing aid maintenance"]
[{"$f":"HYPERLINK(\"http://sdlegislature.gov/Rules/DisplayRule.aspx?Rule=24:05:27:01.03\",\"State/District Assessments\n(24:05:27:01.03)\")","v":"State/District Assessments\n(24:05:27:01.03)"},null,null,null,null,null,{"$f":"HYPERLINK(\"https://gosynth.com/p/s/jdbbir\",\"             Students will be taking state and district-wide assessments:\")","v":"             Students will be taking state and district-wide assessments:"},null,null,null,null,null,null,null,null,null,null,null,"Select","V263",null,null,null,null,{"$f":"S265","v":"Select"},{"$f":"S265","v":"Select"}]
[null,null,null,null,null,null,null,"With accommodations",null,null,null,null,"Without accommodations",null,null,null,null,null,null,null,null,null,null,{"$f":"Y266+Z266","v":0},{"$f":"COUNTIF(Y265,\"Yes\")*3","v":0},{"$f":"COUNTIF(Z265,\"No\")*3","v":0}]
[null,null,null,null,null,null,"Testing accommodations must reflect instructional accommodations."]
[null,null,null,null,null,null,"Do the accommodations for the state/district assesment(s) \nmatch the instructional accommodations?"]
[]
[null,null,null,null,null,null,"Instructional \nAccommodations",null,null,null,"State/District\nAssessment\nAccommodations",null,null,null,"Select\nyes or no:"]
[]
[]
[null,null,null,null,null,null,{"$f":"L241","v":0},null,null,null,null,null,null,null,"- Select -"]
[null,null,null,null,null,null,0,null,null,null,null,null,null,null,"- Select -"]
[null,null,null,null,null,null,0,null,null,null,null,null,null,null,"- Select -"]
[null,null,null,null,null,null,0,null,null,null,null,null,null,null,"- Select -"]
[null,null,null,null,null,null,0]
[null,null,null,null,null,null,0,null,null,null,null,null,null,null,"- Select -"]
[null,null,null,null,null,null,0,null,null,null,null,null,null,null,"- Select -"]
[null,null,null,null,null,null,0]
[null,null,null,null,null,null,0]
[null,null,null,null,null,null,0,null,null,null,null,null,null,null,"- Select -"]
[null,null,null,null,null,null,0,null,null,null,null,null,null,null,"- Select -"]
[null,null,null,null,null,null,0,null,null,null,null,null,null,null,"- Select -"]
[null,null,null,null,null,null,0,null,null,null,null,null,null,null,"- Select -"]
[null,null,null,null,null,null,0,null,null,null,null,null,null,null,"- Select -"]
[null,null,null,null,null,null,"Were the accommodations for\n the state assessment identified \non the IEP provided according to \nthe assessment data sheet?"]
[null,null,null,null,null,null,null,null,null,null,null,null,null,"- Select -"]
[]
[{"$f":"HYPERLINK(\"http://sdlegislature.gov/Rules/DisplayRule.aspx?Rule=24:05:27:01.03\",\"Alternate Assessments\n(24:05:27:01.03)\")","v":"Alternate Assessments\n(24:05:27:01.03)"},null,null,null,null,null,{"$f":"HYPERLINK(\"https://gosynth.com/p/s/bjlejx\",\"                  The following must be met:\")","v":"                  The following must be met:"},null,null,null,null,null,null,null,null,null,null,null,"Select","V257",null,null,null,null,{"$f":"S290","v":"Select"},{"$f":"S290","v":"Select"}]
[null,null,null,null,null,null,null,null,null,null,null,null,null,null,null,null,null,null,null,null,null,null,null,{"$f":"Y291+Z291","v":0},{"$f":"COUNTIF(Y290,\"Yes\")*3","v":0},{"$f":"COUNTIF(Z290,\"No\")*3","v":0}]
[null,null,null,null,null,null,null,"Student meets the significant cognitive disability criteria"]
[null,null,null,null,null,null,null,"Explanation for why student cannot participate in the regular assessment"]
[null,null,null,null,null,null,null,null,null,null,null,null,null,null,null,null,null,null,null,null,null,null,null,{"$f":"(X291+X266+X257)/3","v":0},{"$f":"(Y291+Y266+Y257)/3","v":0}]
[null,null,null,null,null,null,null,"Explanation for why the alternate assessment selected is appropriate"]
[]
[null,null,null,null,null,null,null,"The alternate assessment is for students working in the alternate achievement standards.  Annual goals and short term objectives are required.                                                                         \n                                                                        "]
[]
[]
[null,null,null,null,null,null,"Does the PPWN explain why IEP team decided alternate assessment for the student?"]
[null,null,null,null,null,null,"Does the student taking the\n alternate assessment meet\n the criteria, has it been \ndocumented on the IEP?"]
[null,null,null,null,null,null,null,null,null,null,null,null,null,"- Select -"]
[]
[]
[{"$f":"HYPERLINK(\"https://gosynth.com/p/s/itwkve\",\"Transition\")","v":"Transition"},null,null,null,null,null,null,null,null,null,null,null,null,null,null,null,null,null,{"$f":"IFERROR(Y306/X306,\"N/A\")","v":"N/A"}]
["Indicator 13 Item 1",null,null,null,null,null,null,null,null,null,null,null,null,null,null,null,null,null,null,null,null,null,null,{"$f":"(X308+X310+X312+X314+X316+X319+X321+X323+X326+X329+X331+X333+X336+X338+X340+X343+X345+X347+X350+X356+X362+X364+X366+X369)/24","v":0},{"$f":"(Y308+Y310+Y312+Y314+Y316+Y319+Y321+Y323+Y326+Y329+Y331+Y333+Y336+Y338+Y340+Y343+Y345+Y347+Y350+Y356+Y362+Y364+Y366+Y369)/24","v":0}]
[{"$f":"HYPERLINK(\"http://sdlegislature.gov/Rules/DisplayRule.aspx?Rule=24:05:27:01.03\",\"Transition IEP*\n(24:05:27:01.03)\")","v":"Transition IEP*\n(24:05:27:01.03)"},null,null,null,null,null,{"$f":"HYPERLINK(\"https://gosynth.com/p/s/itwkve\",\"Transition IEP must be in effect for all students on their 16 birthday or for younger students if it is addressed in the IEP.   \n*This is not on the Indicator 13 checklist, but it is a compliance requirement. \")","v":"Transition IEP must be in effect for all students on their 16 birthday or for younger students if it is addressed in the IEP.   \n*This is not on the Indicator 13 checklist, but it is a compliance requirement. "},null,null,null,null,null,null,null,null,null,null,null,"Select","V269",null,null,null,null,{"$f":"S307","v":"Select"},{"$f":"S307","v":"Select"}]
[null,null,null,null,null,null,null,null,null,null,null,null,null,null,null,null,null,null,null,null,null,null,null,{"$f":"Y308+Z308","v":0},{"$f":"COUNTIF(Y307,\"Yes\")*3","v":0},{"$f":"COUNTIF(Z307,\"No\")*3","v":0}]
[null,null,null,null,null,null,null,null,null,null,null,null,null,null,null,null,null,null,"Select",null,null,null,null,null,{"$f":"S309","v":"Select"},{"$f":"S309","v":"Select"}]
[{"$f":"HYPERLINK(\"http://sdlegislature.gov/Rules/DisplayRule.aspx?Rule=24:05:27:01.03\",\"Transition Assessments\n(24:05:27:01.03)\")","v":"Transition Assessments\n(24:05:27:01.03)"},null,null,null,null,null,null,"Employment",null,null,null,null,null,null,null,null,null,null,null,null,null,null,null,{"$f":"Y310+Z310","v":0},{"$f":"COUNTIF(Y309,\"Yes\")*3","v":0},{"$f":"COUNTIF(Z309,\"No\")*3","v":0}]
[null,null,null,null,null,null,null,null,null,null,null,null,null,null,null,null,null,null,"Select",null,null,null,null,null,{"$f":"S311","v":"Select"},{"$f":"S311","v":"Select"}]
[null,null,null,null,null,null,null,"Education/Training",null,null,null,null,null,null,null,null,null,null,null,null,null,null,null,{"$f":"Y312+Z312","v":0},{"$f":"COUNTIF(Y311,\"Yes\")*3","v":0},{"$f":"COUNTIF(Z311,\"No\")*3","v":0}]
[null,null,null,null,null,null,null,"Independent Living",null,null,null,null,null,null,null,null,null,null,"Select",null,null,null,null,null,{"$f":"S313","v":"Select"},{"$f":"S313","v":"Select"}]
[null,null,null,null,null,null,{"$f":"HYPERLINK(\"https://gosynth.com/p/s/itwkve\",\"The transition assessment must be completed prior to the age of 16 and updated annually.  Evidence of transition strengths/ needs are document on the PLAAFPs.  \")","v":"The transition assessment must be completed prior to the age of 16 and updated annually.  Evidence of transition strengths/ needs are document on the PLAAFPs.  "},null,null,null,null,null,null,null,null,null,null,null,null,null,null,null,null,{"$f":"Y314+Z314","v":0},{"$f":"COUNTIF(Y313,\"Yes\")*3","v":0},{"$f":"COUNTIF(Z313,\"No\")*3","v":0}]
["Transition Evaluation Report*\n",null,null,null,null,null,{"$f":"HYPERLINK(\"https://gosynth.com/p/s/itwkve\",\"A transition evaluation report is located in the file.\n\n*This is not on the Indicator 13 checklist, but it is a compliance requirement. \")","v":"A transition evaluation report is located in the file.\n\n*This is not on the Indicator 13 checklist, but it is a compliance requirement. "},null,null,null,null,null,null,null,null,null,null,null,"Select",null,null,null,null,null,{"$f":"S315","v":"Select"},{"$f":"S315","v":"Select"}]
[null,null,null,null,null,null,null,null,null,null,null,null,null,null,null,null,null,null,null,null,null,null,null,{"$f":"Y316+Z316","v":0},{"$f":"COUNTIF(Y315,\"Yes\")*3","v":0},{"$f":"COUNTIF(Z315,\"No\")*3","v":0}]
[{"$f":"HYPERLINK(\"https://gosynth.com/p/s/itwkve\",\"Indicator 13 Item 2\")","v":"Indicator 13 Item 2"}]
[{"$f":"HYPERLINK(\"http://sdlegislature.gov/Rules/DisplayRule.aspx?Rule=24:05:27:01.03\",\"Age-Appropriate Measurable \nPost-Secondary Goals \n(24:05:27:01.03)\")","v":"Age-Appropriate Measurable \nPost-Secondary Goals \n(24:05:27:01.03)"},null,null,null,null,null,null,"Employment",null,null,null,null,null,null,null,null,null,null,"Select","V278",null,null,null,null,{"$f":"S318","v":"Select"},{"$f":"S318","v":"Select"}]
[null,null,null,null,null,null,null,null,null,null,null,null,null,null,null,null,null,null,null,null,null,null,null,{"$f":"Y319+Z319","v":0},{"$f":"COUNTIF(Y318,\"Yes\")*3","v":0},{"$f":"COUNTIF(Z318,\"No\")*3","v":0}]
[null,null,null,null,null,null,null,"Education/Training",null,null,null,null,null,null,null,null,null,null,"Select",null,null,null,null,null,{"$f":"S320","v":"Select"},{"$f":"S320","v":"Select"}]
[null,null,null,null,null,null,null,null,null,null,null,null,null,null,null,null,null,null,null,null,null,null,null,{"$f":"Y321+Z321","v":0},{"$f":"COUNTIF(Y320,\"Yes\")*3","v":0},{"$f":"COUNTIF(Z320,\"No\")*3","v":0}]
[null,null,null,null,null,null,null,"Independent Living",null,null,null,null,null,null,null,null,null,null,"Select",null,null,null,null,null,{"$f":"S322","v":"Select"},{"$f":"S322","v":"Select"}]
[null,null,null,null,null,null,null,null,null,null,null,null,null,null,null,null,null,null,null,null,null,null,null,{"$f":"Y323+Z323","v":0},{"$f":"COUNTIF(Y322,\"Yes\")*3","v":0},{"$f":"COUNTIF(Z322,\"No\")*3","v":0}]
[{"$f":"HYPERLINK(\"https://gosynth.com/p/s/itwkve\",\"Indicator 13 Item 3\")","v":"Indicator 13 Item 3"}]
["MPSGs Updated Annually",null,null,null,null,null,null,null,null,null,null,null,null,null,null,null,null,null,"Select","V282",null,null,null,null,{"$f":"S325","v":"Select"},{"$f":"S325","v":"Select"}]
[null,null,null,null,null,null,null,null,null,null,null,null,null,null,null,null,null,null,null,null,null,null,null,{"$f":"Y326+Z326","v":0},{"$f":"COUNTIF(Y325,\"Yes\")*3","v":0},{"$f":"COUNTIF(Z325,\"No\")*3","v":0}]
["Indicator 13 Item 4"]
[{"$f":"HYPERLINK(\"http://sdlegislature.gov/Rules/DisplayRule.aspx?Rule=24:05:27:01.03\",\"Course of Study Aligns to \nPost-Secondary Goals\n(24:05:27:01.03)\")","v":"Course of Study Aligns to \nPost-Secondary Goals\n(24:05:27:01.03)"},null,null,null,null,null,null,"Employment",null,null,null,null,null,null,null,null,null,null,"Select","V285",null,null,null,null,{"$f":"S328","v":"Select"},{"$f":"S328","v":"Select"}]
[null,null,null,null,null,null,null,null,null,null,null,null,null,null,null,null,null,null,null,null,null,null,null,{"$f":"Y329+Z329","v":0},{"$f":"COUNTIF(Y328,\"Yes\")*3","v":0},{"$f":"COUNTIF(Z328,\"No\")*3","v":0}]
[null,null,null,null,null,null,null,"Education/Training",null,null,null,null,null,null,null,null,null,null,"Select",null,null,null,null,null,{"$f":"S330","v":"Select"},{"$f":"S330","v":"Select"}]
[null,null,null,null,null,null,null,null,null,null,null,null,null,null,null,null,null,null,null,null,null,null,null,{"$f":"Y331+Z331","v":0},{"$f":"COUNTIF(Y330,\"Yes\")*3","v":0},{"$f":"COUNTIF(Z330,\"No\")*3","v":0}]
[null,null,null,null,null,null,null,"Independent Living",null,null,null,null,null,null,null,null,null,null,"Select",null,null,null,null,null,{"$f":"S332","v":"Select"},{"$f":"S332","v":"Select"}]
[null,null,null,null,null,null,"Completed by age 16, or younger if transition has been addressed in the IEP, and updated annually through graduation or ‘age out’.",null,null,null,null,null,null,null,null,null,null,null,null,null,null,null,null,{"$f":"Y333+Z333","v":0},{"$f":"COUNTIF(Y332,\"Yes\")*3","v":0},{"$f":"COUNTIF(Z332,\"No\")*3","v":0}]
[{"$f":"HYPERLINK(\"https://gosynth.com/p/s/itwkve\",\"Indicator 13 Item 5\")","v":"Indicator 13 Item 5"}]
[{"$f":"HYPERLINK(\"http://sdlegislature.gov/Rules/DisplayRule.aspx?Rule=24:05:27:13.02\",\"Transition Services/Activities\n(24:05:27:13.02)\")","v":"Transition Services/Activities\n(24:05:27:13.02)"},null,null,null,null,null,null,"Employment",null,null,null,null,null,null,null,null,null,null,"Select","V290",null,null,null,null,{"$f":"S335","v":"Select"},{"$f":"S335","v":"Select"}]
[null,null,null,null,null,null,null,null,null,null,null,null,null,null,null,null,null,null,null,null,null,null,null,{"$f":"Y336+Z336","v":0},{"$f":"COUNTIF(Y335,\"Yes\")*3","v":0},{"$f":"COUNTIF(Z335,\"No\")*3","v":0}]
[null,null,null,null,null,null,null,"Education/Training",null,null,null,null,null,null,null,null,null,null,"Select",null,null,null,null,null,{"$f":"S337","v":"Select"},{"$f":"S337","v":"Select"}]
[null,null,null,null,null,null,null,null,null,null,null,null,null,null,null,null,null,null,null,null,null,null,null,{"$f":"Y338+Z338","v":0},{"$f":"COUNTIF(Y337,\"Yes\")*3","v":0},{"$f":"COUNTIF(Z337,\"No\")*3","v":0}]
[null,null,null,null,null,null,null,"Independent Living",null,null,null,null,null,null,null,null,null,null,"Select",null,null,null,null,null,{"$f":"S339","v":"Select"},{"$f":"S339","v":"Select"}]
[null,null,null,null,null,null,"Services/activities will reasonably enable the student to meet post-secondary goals and have at least one activity per MPSG addressed.",null,null,null,null,null,null,null,null,null,null,null,null,null,null,null,null,{"$f":"Y340+Z340","v":0},{"$f":"COUNTIF(Y339,\"Yes\")*3","v":0},{"$f":"COUNTIF(Z339,\"No\")*3","v":0}]
[{"$f":"HYPERLINK(\"https://gosynth.com/p/s/itwkve\",\"Indicator 13 Item 6\")","v":"Indicator 13 Item 6"}]
[{"$f":"HYPERLINK(\"http://sdlegislature.gov/Rules/DisplayRule.aspx?Rule=24:05:27:13.02\",\"Annual Goal Related to Student’s Transition Service needs in\n(24:05:27:13.02)\")","v":"Annual Goal Related to Student’s Transition Service needs in\n(24:05:27:13.02)"},null,null,null,null,null,null,"Employment",null,null,null,null,null,null,null,null,null,null,"Select","V295",null,null,null,null,{"$f":"S342","v":"Select"},{"$f":"S342","v":"Select"}]
[null,null,null,null,null,null,null,null,null,null,null,null,null,null,null,null,null,null,null,null,null,null,null,{"$f":"Y343+Z343","v":0},{"$f":"COUNTIF(Y342,\"Yes\")*3","v":0},{"$f":"COUNTIF(Z342,\"No\")*3","v":0}]
[null,null,null,null,null,null,null,"Education/Training",null,null,null,null,null,null,null,null,null,null,"Select",null,null,null,null,null,{"$f":"S344","v":"Select"},{"$f":"S344","v":"Select"}]
[null,null,null,null,null,null,null,null,null,null,null,null,null,null,null,null,null,null,null,null,null,null,null,{"$f":"Y345+Z345","v":0},{"$f":"COUNTIF(Y344,\"Yes\")*3","v":0},{"$f":"COUNTIF(Z344,\"No\")*3","v":0}]
[null,null,null,null,null,null,null,"Independent Living",null,null,null,null,null,null,null,null,null,null,"Select",null,null,null,null,null,{"$f":"S346","v":"Select"},{"$f":"S346","v":"Select"}]
[null,null,null,null,null,null,{"$f":"HYPERLINK(\"https://gosynth.com/p/s/itwkve\",\"Annual goals are linked to the MPSGs.\")","v":"Annual goals are linked to the MPSGs."},null,null,null,null,null,null,null,null,null,null,null,null,null,null,null,null,{"$f":"Y347+Z347","v":0},{"$f":"COUNTIF(Y346,\"Yes\")*3","v":0},{"$f":"COUNTIF(Z346,\"No\")*3","v":0}]
[{"$f":"HYPERLINK(\"https://gosynth.com/p/s/pisllo\",\"Indicator 13 Item 7\")","v":"Indicator 13 Item 7"}]
[{"$f":"HYPERLINK(\"http://sdlegislature.gov/Rules/DisplayRule.aspx?Rule=24:05:25:16.01\",\"Student Invitation/Participation\n(24:05:25:16.01)\")","v":"Student Invitation/Participation\n(24:05:25:16.01)"},null,null,null,null,null,"How the student invited?",null,null,null,null,{"$f":"HYPERLINK(\"https://gosynth.com/p/s/pisllo\",\"If student was not in attendance at the meeting, the IEP should show evidence that student's preferences and interests were taken into account. *\")","v":"If student was not in attendance at the meeting, the IEP should show evidence that student's preferences and interests were taken into account. *"},null,null,null,null,null,null,"Select","V300",null,null,null,null,{"$f":"S349","v":"Select"},{"$f":"S349","v":"Select"}]
[null,null,null,null,null,null,null,null,null,null,null,null,null,null,null,null,null,null,null,null,null,null,null,{"$f":"Y350+Z350","v":0},{"$f":"COUNTIF(Y349,\"Yes\")*3","v":0},{"$f":"COUNTIF(Z349,\"No\")*3","v":0}]
[null,null,null,null,null,null,null,"Meeting notice"]
[null,null,null,null,null,null,null,"Individual student invite"]
[]
[{"$f":"HYPERLINK(\"https://gosynth.com/p/s/pisllo\",\"Indicator 13 Item 8\")","v":"Indicator 13 Item 8"}]
[{"$f":"HYPERLINK(\"http://sdlegislature.gov/Rules/DisplayRule.aspx?Rule=24:05:25:16.01\",\"Consent to Invite Outside Agency\n(24:05:25:16.01)\")","v":"Consent to Invite Outside Agency\n(24:05:25:16.01)"},null,null,null,null,null,{"$f":"HYPERLINK(\"https://gosynth.com/p/s/pisllo\",\" Written Consent to invite:\")","v":" Written Consent to invite:"},null,null,null,null,null,null,"List of agencies invited:",null,null,null,null,"Select","V306",null,null,null,null,{"$f":"S355","v":"Select"},{"$f":"S355","v":"Select"}]
[null,null,null,null,null,null,"Invited on Meeting Notice:",null,null,null,null,null,"Yes",null,null,null,null,null,null,null,null,null,null,{"$f":"Y356+Z356","v":0},{"$f":"COUNTIF(Y355,\"Yes\")*3","v":0},{"$f":"COUNTIF(Z355,\"No\")*3","v":0}]
[null,null,null,null,null,null,null,null,null,null,null,null,"No"]
[null,null,null,null,null,null,"Meeting Notice Date:",null,null,null,null,{"$f":"J177","v":"00:00:00"}]
[null,null,null,null,null,null,"Date of Current IEP Meeting:",null,null,null,null,{"$f":"T5","v":"00:00:00"}]
[{"$f":"HYPERLINK(\"https://gosynth.com/p/s/pisllo\",\"Other Transition Areas *\")","v":"Other Transition Areas *"}]
[{"$f":"HYPERLINK(\"http://sdlegislature.gov/Rules/DisplayRule.aspx?Rule=24:05:30:16.01\",\"Transfer of Parental Rights:\n(24:05:30:16.01)\")","v":"Transfer of Parental Rights:\n(24:05:30:16.01)"},null,null,null,null,null,"Turned 17 on:",null,null,null,null,null,null,null,null,null,null,null,"Select","V312",null,null,null,null,{"$f":"S361","v":"Select"},{"$f":"S361","v":"Select"}]
[null,null,null,null,null,null,"Rights reviewed on:",null,null,null,null,null,null,null,null,null,null,null,null,null,null,null,null,{"$f":"Y362+Z362","v":0},{"$f":"COUNTIF(Y361,\"Yes\")*3","v":0},{"$f":"COUNTIF(Z361,\"No\")*3","v":0}]
[{"$f":"HYPERLINK(\"http://sdlegislature.gov/Rules/DisplayRule.aspx?Rule=24:05:27:12\",\"Specific Graduation Requirements:\n(24:05:27:12)\")","v":"Specific Graduation Requirements:\n(24:05:27:12)"},null,null,null,null,null,"Graduation requirements addressed on:",null,null,null,null,null,null,null,null,null,null,null,"Select",null,null,null,null,null,{"$f":"S363","v":"Select"},{"$f":"S363","v":"Select"}]
[null,null,null,null,null,null,"Student is projected to graduate:",null,null,null,null,null,null,null,null,null,null,null,null,null,null,null,null,{"$f":"Y364+Z364","v":0},{"$f":"COUNTIF(Y363,\"Yes\")*3","v":0},{"$f":"COUNTIF(Z363,\"No\")*3","v":0}]
[{"$f":"HYPERLINK(\"http://sdlegislature.gov/Rules/DisplayRule.aspx?Rule=24:05:27:12\",\"When Student has Graduated\n(24:05:27:12)\")","v":"When Student has Graduated\n(24:05:27:12)"},null,null,null,null,null,"Written prior notice was sent:",null,null,null,null,null,null,null,null,null,null,null,"Select",null,null,null,null,null,{"$f":"S365","v":"Select"},{"$f":"S365","v":"Select"}]
[null,null,null,null,null,null,{"$f":"HYPERLINK(\"https://gosynth.com/p/s/pisllo\",\"When a student graduates, it is a change in placement. It must have a written\n prior notice sent.  If student has \"\"aged-out\"\", a PPWN is required.  \")","v":"When a student graduates, it is a change in placement. It must have a written\n prior notice sent.  If student has \"aged-out\", a PPWN is required.  "},null,null,null,null,null,null,null,null,null,null,null,null,null,null,null,null,{"$f":"Y366+Z366","v":0},{"$f":"COUNTIF(Y365,\"Yes\")*3","v":0},{"$f":"COUNTIF(Z365,\"No\")*3","v":0}]
[]
[{"$f":"HYPERLINK(\"http://sdlegislature.gov/Rules/DisplayRule.aspx?Rule=24:05:27:12\",\"Summary of Performance was provided to the Student/Parent/Guardian\n(24:05:27:12)\")","v":"Summary of Performance was provided to the Student/Parent/Guardian\n(24:05:27:12)"},null,null,null,null,null,{"$f":"HYPERLINK(\"https://gosynth.com/p/s/pisllo\",\"Summary of Performance (SOP) is required for students who graduated and\n aged out. A copy of the SOP should remain in the file.\")","v":"Summary of Performance (SOP) is required for students who graduated and\n aged out. A copy of the SOP should remain in the file."},null,null,null,null,null,null,null,null,null,null,null,"Select",null,null,null,null,null,{"$f":"S368","v":"Select"},{"$f":"S368","v":"Select"}]
[null,null,null,null,null,null,null,null,null,null,null,null,null,null,null,null,null,null,null,null,null,null,null,{"$f":"Y369+Z369","v":0},{"$f":"COUNTIF(Y368,\"Yes\")*3","v":0},{"$f":"COUNTIF(Z368,\"No\")*3","v":0}]
[]
["Click on the [+] button to expand or the [-] button to collapse."]
[{"$f":"HYPERLINK(\"https://gosynth.com/p/s/kldkzb\",\"Related Services\")","v":"Related Services"},null,null,null,null,null,null,null,null,null,null,null,null,null,null,null,null,null,{"$f":"IFERROR(Y375/X375,\"N/A\")","v":"N/A"}]
[{"$f":"HYPERLINK(\"http://sdlegislature.gov/Rules/DisplayRule.aspx?Rule=24:05:27:16\",\"Related Services\n(24:05:27)\")","v":"Related Services\n(24:05:27)"},null,null,null,null,null,"Service Provided:",null,null,null,null,null,"If student will receive services in a different location, then must break it out to calculate the Least Restrictive Environment.",null,null,null,null,null,"Select","V324",null,null,null,null,{"$f":"S373","v":"Select"},{"$f":"S373","v":"Select"}]
[null,null,null,null,null,null,null,null,null,null,null,null,null,null,null,null,null,null,null,null,null,null,null,{"$f":"Y374+Z374","v":0},{"$f":"COUNTIF(Y373,\"Yes\")*3","v":0},{"$f":"COUNTIF(Z373,\"No\")*3","v":0}]
[null,null,null,null,null,null,null,"Frequency",null,null,"Location",null,null,null,null,null,null,null,null,null,null,null,null,{"$f":"(X374+X379)/2","v":0},{"$f":"(Y374+Y379)/2","v":0}]
[null,null,null,null,null,null,null,"Duration",null,null,"Other"]
[null,null,null,null,null,null,"Service Provided:",null,null,null,null,null,"At a minimum, all areas student qualifies and has an annual goal must have service time documented. If not addressed, then PPWN must explain reason."]
[null,null,null,null,null,null,null,null,null,null,null,null,null,null,null,null,null,null,"Select",null,null,null,null,null,{"$f":"S378","v":"Select"},{"$f":"S378","v":"Select"}]
[null,null,null,null,null,null,null,"Frequency",null,null,"Location",null,null,null,null,null,null,null,null,null,null,null,null,{"$f":"Y379+Z379","v":0},{"$f":"COUNTIF(Y378,\"Yes\")*3","v":0},{"$f":"COUNTIF(Z378,\"No\")*3","v":0}]
[null,null,null,null,null,null,null,"Duration",null,null,"Other"]
[]
["Least Restrictive Environment ",null,null,null,null,null,null,null,null,null,null,null,null,null,null,null,null,null,{"$f":"IFERROR(Y382/X382,\"N/A\")","v":"N/A"},null,null,null,null,{"$f":"(X384+X388+X392+X396+X400+X402+X404+X406+X408)/9","v":0},{"$f":"(Y384+Y388+Y392+Y396+Y400+Y402+Y404+Y406+Y408)/9","v":0}]
[{"$f":"HYPERLINK(\"https://sdlegislature.gov/Rules/DisplayRule.aspx?Rule=24:05:28\",\"Least Restrictive Enviornment \n(Chapter 24:05:28)\")","v":"Least Restrictive Enviornment \n(Chapter 24:05:28)"},null,null,null,null,null,{"$f":"HYPERLINK(\"https://gosynth.com/p/s/llxjsq\",\"Skill area:\")","v":"Skill area:"},null,null,null,null,null,null,null,null,null,null,null,"Select","V334",null,null,null,null,{"$f":"S383","v":"Select"},{"$f":"S383","v":"Select"}]
[null,null,null,null,null,null,null,null,null,null,null,null,null,null,null,null,null,null,null,null,null,null,null,{"$f":"Y384+Z384","v":0},{"$f":"COUNTIF(Y383,\"Yes\")*3","v":0},{"$f":"COUNTIF(Z383,\"No\")*3","v":0}]
[null,null,null,null,null,null,null,null,"Frequency",null,null,"Duration",null,null,"Location"]
[]
[null,null,null,null,null,null,"Skill area:",null,null,null,null,null,null,null,null,null,null,null,"Select",null,null,null,null,null,{"$f":"S387","v":"Select"},{"$f":"S387","v":"Select"}]
[null,null,null,null,null,null,null,null,null,null,null,null,null,null,null,null,null,null,null,null,null,null,null,{"$f":"Y388+Z388","v":0},{"$f":"COUNTIF(Y387,\"Yes\")*3","v":0},{"$f":"COUNTIF(Z387,\"No\")*3","v":0}]
[null,null,null,null,null,null,null,null,"Frequency",null,null,"Duration",null,null,"Location"]
[]
[null,null,null,null,null,null,"Skill area:",null,null,null,null,null,null,null,null,null,null,null,"Select",null,null,null,null,null,{"$f":"S391","v":"Select"},{"$f":"S391","v":"Select"}]
[null,null,null,null,null,null,null,null,null,null,null,null,null,null,null,null,null,null,null,null,null,null,null,{"$f":"Y392+Z392","v":0},{"$f":"COUNTIF(Y391,\"Yes\")*3","v":0},{"$f":"COUNTIF(Z391,\"No\")*3","v":0}]
[null,null,null,null,null,null,null,null,"Frequency",null,null,"Duration",null,null,"Location"]
[]
[null,null,null,null,null,null,"Skill area:",null,null,null,null,null,null,null,null,null,null,null,"Select",null,null,null,null,null,{"$f":"S395","v":"Select"},{"$f":"S395","v":"Select"}]
[null,null,null,null,null,null,null,null,null,null,null,null,null,null,null,null,null,null,null,null,null,null,null,{"$f":"Y396+Z396","v":0},{"$f":"COUNTIF(Y395,\"Yes\")*3","v":0},{"$f":"COUNTIF(Z395,\"No\")*3","v":0}]
[null,null,null,null,null,null,null,null,"Frequency",null,null,"Duration",null,null,"Location"]
[]
[{"$f":"HYPERLINK(\"http://sdlegislature.gov/Rules/DisplayRule.aspx?Rule=24:05:28:02\",\"Continuum of Placement\n(24:05:28:02)\")","v":"Continuum of Placement\n(24:05:28:02)"},null,null,null,null,null,"Select:",null,null,null,null,null,null,null,null,null,null,null,"Select","V350",null,null,null,null,{"$f":"S399","v":"Select"},{"$f":"S399","v":"Select"}]
[null,null,null,null,null,null,null,null,null,null,null,null,null,null,null,null,null,null,null,null,null,null,null,{"$f":"Y400+Z400","v":0},{"$f":"COUNTIF(Y399,\"Yes\")*3","v":0},{"$f":"COUNTIF(Z399,\"No\")*3","v":0}]
[null,null,null,null,null,null,"Select for Early Childhood (Ages 3-5):",null,null,null,null,null,null,null,null,null,null,null,"Select",null,null,null,null,null,{"$f":"S401","v":"Select"},{"$f":"S401","v":"Select"}]
[null,null,null,null,null,null,null,null,null,null,null,null,null,null,null,null,null,null,null,null,null,null,null,{"$f":"Y402+Z402","v":0},{"$f":"COUNTIF(Y401,\"Yes\")*3","v":0},{"$f":"COUNTIF(Z401,\"No\")*3","v":0}]
[{"$f":"HYPERLINK(\"http://sdlegislature.gov/Rules/DisplayRule.aspx?Rule=24:05:27:01.03\",\"Participation with Non-disabled Peers\n(24:05:27:01.03)\")","v":"Participation with Non-disabled Peers\n(24:05:27:01.03)"},null,null,null,null,null,{"$f":"HYPERLINK(\"https://gosynth.com/p/s/wjqcuh\",\"Document opportunities to participate with non-disabled peers.\")","v":"Document opportunities to participate with non-disabled peers."},null,null,null,null,null,null,null,null,null,null,null,"Select",null,null,null,null,null,{"$f":"S403","v":"Select"},{"$f":"S403","v":"Select"}]
[null,null,null,null,null,null,null,null,null,null,null,null,null,null,null,null,null,null,null,null,null,null,null,{"$f":"Y404+Z404","v":0},{"$f":"COUNTIF(Y403,\"Yes\")*3","v":0},{"$f":"COUNTIF(Z403,\"No\")*3","v":0}]
[{"$f":"HYPERLINK(\"http://sdlegislature.gov/Rules/DisplayRule.aspx?Rule=24:05:28:03\",\"Justification for Placement \n(24:05:28:03)\")","v":"Justification for Placement \n(24:05:28:03)"},null,null,null,null,null,{"$f":"HYPERLINK(\"https://gosynth.com/p/s/rjxcoc\",\"                  Select from the following:\")","v":"                  Select from the following:"},null,null,null,null,null,null,null,null,null,null,null,"Select",null,null,null,null,null,{"$f":"S405","v":"Select"},{"$f":"S405","v":"Select"}]
[null,null,null,null,null,null,null,null,null,null,null,null,null,null,null,null,null,null,null,null,null,null,null,{"$f":"Y406+Z406","v":0},{"$f":"COUNTIF(Y405,\"Yes\")*3","v":0},{"$f":"COUNTIF(Z405,\"No\")*3","v":0}]
[{"$f":"HYPERLINK(\"http://sdlegislature.gov/Rules/DisplayRule.aspx?Rule=24:05:25:26\",\"Extended School Year\n(24:05:25:26)\")","v":"Extended School Year\n(24:05:25:26)"},null,null,null,null,null,{"$f":"HYPERLINK(\"https://gosynth.com/p/s/bbepxx\",\"                  Check the following:\")","v":"                  Check the following:"},null,null,null,null,null,null,null,null,null,null,null,"Select","V358",null,null,null,null,{"$f":"S407","v":"Select"},{"$f":"S407","v":"Select"}]
[null,null,null,null,null,null,null,null,null,null,null,null,null,null,null,null,null,null,null,null,null,null,null,{"$f":"Y408+Z408","v":0},{"$f":"COUNTIF(Y407,\"Yes\")*3","v":0},{"$f":"COUNTIF(Z407,\"No\")*3","v":0}]
[null,null,null,null,null,null,null,null,"Determination",null,null,null,"Beginning/end dates"]
[null,null,null,null,null,null,null,null,"Goals",null,null,null,"Amount of service"]
[]
[]
[]
[{"$f":"HYPERLINK(\"https://gosynth.com/p/s/acbbuk\",\"Prior Parental Written Notice\")","v":"Prior Parental Written Notice"},null,null,null,null,null,null,null,null,null,null,null,null,null,null,null,null,null,{"$f":"IFERROR(Y414/X414,\"N/A\")","v":"N/A"},null,null,null,null,{"$f":"(X416+X421)/2","v":0},{"$f":"(Y416+Y421)/2","v":0}]
[{"$f":"HYPERLINK(\"http://sdlegislature.gov/Rules/DisplayRule.aspx?Rule=24:05:30:04\",\"Prior Written Notice Sent to Parent Regarding IEP Implementation\n(24:05:30:04)\")","v":"Prior Written Notice Sent to Parent Regarding IEP Implementation\n(24:05:30:04)"},null,null,null,null,null,"Date the district sent the PPWN:",null,null,null,null,null,null,null,"The implementation date documented on the PPWN must be reflected on IEP.\n\nThe five-day notice requirement may be waived by the parents.",null,null,null,"Select","V366",null,null,null,null,{"$f":"S415","v":"Select"},{"$f":"S415","v":"Select"}]
[null,null,null,null,null,null,"District proposed at least 5 calendar days to begin implementation:",null,null,null,null,null,{"$f":"M415+5","v":"1900-01-05"},null,null,null,null,null,null,null,null,null,null,{"$f":"Y416+Z416","v":0},{"$f":"COUNTIF(Y415,\"Yes\")*3","v":0},{"$f":"COUNTIF(Z415,\"No\")*3","v":0}]
[]
[null,null,null,null,null,null,"Was the 5 calendar day notice requirement met?",null,null,null,null,null,null,"Yes"]
[null,null,null,null,null,null,null,null,null,null,null,null,null,"No"]
[{"$f":"HYPERLINK(\"http://sdlegislature.gov/Rules/DisplayRule.aspx?Rule=24:05:30:05\",\"Content of PPWN\n(24:05:30:05)\")","v":"Content of PPWN\n(24:05:30:05)"},null,null,null,null,null,"Check the following:",null,null,null,null,null,null,null,null,null,null,null,"Select","V371",null,null,null,null,{"$f":"S420","v":"Select"},{"$f":"S420","v":"Select"}]
[null,null,null,null,null,null,"PPWN must be individualized to the student, IEP team discussions and situation.",null,null,null,null,null,null,null,null,null,null,null,null,null,null,null,null,{"$f":"Y421+Z421","v":0},{"$f":"COUNTIF(Y420,\"Yes\")*3","v":0},{"$f":"COUNTIF(Z420,\"No\")*3","v":0}]
[]
[null,null,null,null,null,null,null,"Explanation of why the district proposed or refused to take the action"]
[null,null,null,null,null,null,null,"Description of other options considered and why they were rejected "]
[null,null,null,null,null,null,null,"Description of evidence used for the proposed or refused action"]
[null,null,null,null,null,null,null,"Description of other factors that are relevant to proposal or refusal"]
[]
[null,null,null,null,null,null,"To skip back to Eligibility section click ",null,null,null,null,"HERE."]
[]
[{"$f":"HYPERLINK(\"https://gosynth.com/p/s/iwvzyu\",\"Amendment to IEP\")","v":"Amendment to IEP"},null,null,null,null,null,null,null,null,null,null,null,null,null,null,null,null,null,{"$f":"IFERROR(Z430/Y430,\"N/A\")","v":"N/A"},null,null,null,null,null,{"$f":"(X432+X434)/2","v":0},{"$f":"(Y432+Y434)/2","v":0}]
["Amendment to IEP",null,null,null,null,null,null,null,null,null,null,null,null,null,null,null,null,null,"Select","V381",null,null,null,null,{"$f":"S431","v":"Select"},{"$f":"S431","v":"Select"}]
[{"$f":"HYPERLINK(\"http://sdlegislature.gov/Rules/DisplayRule.aspx?Rule=24:05:27:08.01\",\"(24:05:27:08.01)\")","v":"(24:05:27:08.01)"},null,null,{"$f":"HYPERLINK(\"http://sdlegislature.gov/Rules/DisplayRule.aspx?Rule=24:05:27:08.02\",\"(24:05:27:08.02)\")","v":"(24:05:27:08.02)"},null,null,null,null,null,null,null,null,null,null,null,null,null,null,null,null,null,null,null,{"$f":"Y432+Z432","v":0},{"$f":"COUNTIF(Y431,\"Yes\")*3","v":0},{"$f":"COUNTIF(Z431,\"No\")*3","v":0}]
[{"$f":"HYPERLINK(\"http://sdlegislature.gov/Rules/DisplayRule.aspx?Rule=24:05:30:04\",\"Prior Notice\n(24:05:30:04)\")","v":"Prior Notice\n(24:05:30:04)"},null,null,null,null,null,"Document if the amendment was made with or without a meeting.",null,null,null,null,null,null,null,null,null,null,null,"Select",null,null,null,null,null,{"$f":"S433","v":"Select"},{"$f":"S433","v":"Select"}]
[null,null,null,null,null,null,null,null,null,null,null,null,null,null,null,null,null,null,null,null,null,null,null,{"$f":"Y434+Z434","v":0},{"$f":"COUNTIF(Y433,\"Yes\")*3","v":0},{"$f":"COUNTIF(Z433,\"No\")*3","v":0}]
[]
[{"$f":"HYPERLINK(\"https://gosynth.com/p/s/jdtswp\",\"Additional Items\")","v":"Additional Items"},null,null,null,null,null,null,null,null,null,null,null,null,null,null,null,null,null,{"$f":"IFERROR(AB436/AA436,\"N/A\")","v":"N/A"},null,null,null,null,null,{"$f":"S437","v":"Select"},{"$f":"S437","v":"Select"},{"$f":"(X437+X439+X441+X443)/4","v":0},{"$f":"(Y437+Y439+Y441+Y443)/4","v":0}]
["Parent Declined/\nWithdrew Consent for Services ",null,null,null,null,null,"Revocation signed:",null,null,null,null,null,null,{"$f":"HYPERLINK(\"http://sdlegislature.gov/Rules/DisplayRule.aspx?Rule=24:05:27:04.02\",\"(24:05:27:04.02)\")","v":"(24:05:27:04.02)"},null,null,null,null,"Select","V387",null,null,null,{"$f":"Y437+Z437","v":0},{"$f":"COUNTIF(Y436,\"Yes\")*3","v":0},{"$f":"COUNTIF(Z436,\"No\")*3","v":0}]
[null,null,null,null,null,null,"Date prior notice was sent:",null,null,null,null,null,null,null,null,null,null,null,null,null,null,null,null,null,{"$f":"S439","v":"Select"},{"$f":"S439","v":"Select"}]
["Surrogate Parent",null,null,null,null,null,null,null,null,null,null,null,null,null,null,null,null,null,"Select",null,null,null,null,{"$f":"Y439+Z439","v":0},{"$f":"COUNTIF(Y438,\"Yes\")*3","v":0},{"$f":"COUNTIF(Z438,\"No\")*3","v":0}]
["Transfer Students Provided with  FAPE/Comparable Services ",null,null,null,null,null,"Date prior notice was sent:",null,null,null,null,null,null,{"$f":"HYPERLINK(\"http://sdlegislature.gov/Rules/DisplayRule.aspx?Rule=24:05:27:15.01\",\"In-state (24:05:27:15.01)\")","v":"In-state (24:05:27:15.01)"},null,null,null,null,"Select",null,null,null,null,null,{"$f":"S440","v":"Select"},{"$f":"S440","v":"Select"}]
[null,null,null,null,null,null,null,null,null,null,null,null,null,{"$f":"HYPERLINK(\"http://sdlegislature.gov/Rules/DisplayRule.aspx?Rule=24:05:27:15.02\",\"Out-of-state (24:05:27:15.02)\")","v":"Out-of-state (24:05:27:15.02)"},null,null,null,null,null,null,null,null,null,{"$f":"Y441+Z441","v":0},{"$f":"COUNTIF(Y440,\"Yes\")*3","v":0},{"$f":"COUNTIF(Z440,\"No\")*3","v":0}]
["Transfer Students Evaluated for \nSouth Dakota Eligibility",null,null,null,null,null,"Eligibility determination date:",null,null,null,null,null,null,null,null,null,null,null,"Select",null,null,null,null,null,{"$f":"S442","v":"Select"},{"$f":"S442","v":"Select"}]
[null,null,null,null,null,null,"IEP date:",null,null,null,null,null,null,null,null,null,null,null,null,null,null,null,null,{"$f":"Y443+Z443","v":0},{"$f":"COUNTIF(Y442,\"Yes\")*3","v":0},{"$f":"COUNTIF(Z442,\"No\")*3","v":0}]
[null,null,null,null,null,null,"PPWN Implementing IEP sent:"]

{"sheet":"File 5","index":8,"n_rows":444,"n_cols":28,"rows_kept":444,"cut":false,"hidden":false,"merged":[[436,18,437,18],[437,6,437,10],[437,11,437,12],[438,6,438,17],[442,6,442,10],[442,11,442,12],[413,19,413,21],[414,6,414,11],[414,12,414,13],[414,14,418,17],[414,18,418,18],[414,19,418,21],[417,6,418,11],[419,6,419,17],[420,6,420,17],[216,14,216,16],[443,6,443,10],[443,11,443,12],[446,11,447,12],[439,6,440,10],[439,11,440,12],[439,13,439,17],[440,13,440,17],[441,6,441,10],[441,11,441,12],[441,13,443,17],[415,6,416,11],[415,12,416,13],[413,0,413,17],[422,7,422,17],[423,7,423,17],[424,7,424,17],[425,7,425,17],[426,6,426,17],[427,6,427,10],[427,11,427,17],[436,6,436,10],[436,11,436,12],[436,13,437,17],[216,6,216,7],[216,8,216,10],[205,0,206,5],[207,0,209,5],[216,11,216,13],[231,7,231,10],[209,6,209,13],[210,0,210,17],[211,0,213,5],[211,6,213,16],[214,0,215,5],[214,6,215,16],[216,0,233,5],[225,12,225,13],[225,15,225,16],[226,7,226,10],[227,6,227,10],[228,6,228,7],[228,8,228,10],[228,11,228,13],[228,14,228,16],[230,7,230,10],[230,12,230,13],[230,15,230,16],[196,0,200,5],[196,6,200,17],[196,18,200,18],[201,0,201,21],[202,0,202,17],[202,19,202,21],[203,0,204,5],[188,7,188,9],[188,10,188,12],[189,7,189,9],[189,10,189,12],[186,0,189,5],[186,7,186,9],[186,10,186,12],[192,7,192,9],[193,7,193,9],[193,10,193,12],[194,7,194,9],[190,0,190,5],[190,7,190,9],[190,10,190,12],[191,0,195,5],[191,7,191,9],[191,10,191,12],[152,12,156,15],[154,7,156,10],[145,7,146,10],[145,12,146,15],[149,18,162,18],[149,19,162,21],[150,6,150,15],[150,17,160,17],[158,12,159,15],[151,6,151,15],[152,7,153,10],[157,7,158,10],[157,12,157,15],[210,19,210,21],[211,19,215,21],[214,18,215,18],[196,19,200,21],[203,19,209,21],[205,18,206,18],[207,14,208,17],[207,18,209,18],[209,14,209,17],[211,18,213,18],[205,6,206,17],[207,6,207,10],[207,11,207,13],[208,6,208,10],[208,11,208,13],[203,6,204,17],[203,18,204,18],[190,13,190,16],[191,13,191,16],[192,13,192,16],[193,13,193,16],[194,13,194,16],[176,12,177,17],[184,13,185,16],[186,13,186,16],[184,10,185,12],[194,10,194,12],[180,6,180,17],[182,7,183,16],[187,7,187,9],[187,10,187,12],[187,13,187,16],[188,13,188,16],[192,10,192,12],[172,12,173,17],[172,18,173,18],[172,19,173,21],[177,0,177,2],[177,3,177,5],[177,6,177,8],[177,9,177,11],[178,0,178,5],[178,6,179,17],[179,0,179,2],[179,3,179,5],[176,18,177,18],[176,19,195,21],[178,18,179,18],[180,18,195,18],[176,0,176,5],[176,6,176,8],[176,9,176,11],[174,0,174,21],[175,0,175,17],[175,19,175,21],[180,0,185,5],[184,7,185,9],[189,13,189,16],[216,18,221,18],[216,19,233,21],[222,18,227,18],[228,18,233,18],[218,7,218,10],[218,12,218,13],[220,7,220,10],[221,6,221,10],[222,6,222,7],[222,8,222,10],[222,11,222,13],[222,14,222,16],[231,12,231,13],[231,15,231,16],[232,7,232,10],[233,6,233,10],[218,15,218,16],[219,7,219,10],[219,12,219,13],[219,15,219,16],[224,7,224,10],[224,12,224,13],[224,15,224,16],[225,7,225,10],[117,6,117,13],[117,14,117,17],[118,6,119,17],[120,0,120,21],[118,0,119,5],[130,18,148,18],[130,19,148,21],[133,12,134,15],[135,7,137,10],[135,12,136,15],[137,12,138,15],[138,7,141,10],[139,12,144,15],[142,7,144,10],[121,0,121,17],[121,19,121,21],[122,0,122,17],[122,18,129,18],[122,19,129,21],[123,0,129,5],[123,6,123,17],[124,6,124,17],[125,7,125,11],[126,7,126,11],[165,12,169,17],[167,7,167,11],[168,7,168,11],[110,18,112,18],[110,19,119,21],[113,18,114,18],[115,18,117,18],[118,18,119,18],[104,18,105,18],[106,18,107,18],[169,7,169,11],[162,0,162,17],[163,0,166,5],[163,6,163,17],[163,18,171,18],[163,19,171,21],[164,6,164,17],[167,0,173,5],[165,7,165,11],[166,7,166,11],[170,7,170,13],[171,7,171,11],[172,6,173,10],[172,11,173,11],[98,18,101,18],[98,19,101,21],[99,11,99,13],[106,6,107,17],[84,18,97,18],[84,19,97,21],[86,6,86,8],[86,9,86,12],[87,15,87,17],[100,11,100,13],[101,11,101,13],[102,6,103,17],[102,18,103,18],[94,13,94,14],[94,15,94,17],[95,15,95,17],[96,13,96,14],[96,15,96,17],[99,6,99,10],[100,6,100,10],[102,19,109,21],[108,18,109,18],[89,13,89,14],[89,15,89,17],[91,13,91,14],[91,15,91,17],[92,13,92,14],[92,15,92,17],[97,13,97,14],[97,15,97,17],[98,11,98,13],[98,14,101,17],[93,15,93,17],[93,13,93,14],[110,0,112,5],[110,6,110,10],[111,6,111,10],[113,0,114,5],[115,0,117,5],[115,6,115,12],[116,6,116,12],[98,0,101,5],[98,6,98,10],[101,6,101,10],[102,0,103,5],[104,0,105,5],[106,0,107,5],[108,0,109,5],[104,6,105,17],[108,6,109,17],[110,11,110,13],[110,14,111,17],[111,11,111,13],[112,6,112,13],[112,14,112,17],[113,6,114,17],[115,13,115,15],[116,13,116,15],[90,6,90,8],[90,9,90,12],[78,6,78,8],[78,9,78,12],[80,0,83,5],[80,6,80,8],[80,9,80,12],[81,9,81,12],[84,0,90,5],[83,9,83,12],[96,6,96,8],[96,9,96,12],[91,0,91,5],[91,6,91,8],[91,9,91,12],[92,0,97,5],[92,9,92,12],[93,9,93,12],[94,9,94,12],[93,6,93,8],[94,6,94,8],[92,6,92,8],[97,6,97,8],[97,9,97,12],[74,19,83,21],[76,6,76,8],[76,9,76,12],[76,13,76,14],[76,15,76,17],[77,6,77,8],[77,9,77,12],[77,13,77,14],[77,15,77,17],[82,6,82,8],[82,9,82,12],[82,13,82,14],[82,15,82,17],[83,15,83,17],[78,13,78,14],[78,15,78,17],[80,13,80,14],[80,15,80,17],[81,13,81,14],[81,15,81,17],[83,13,83,14],[74,18,83,18],[81,6,81,8],[83,6,83,8],[150,0,161,5],[159,6,160,6],[159,7,160,10],[161,6,161,15],[89,6,89,8],[89,9,89,12],[90,13,90,14],[90,15,90,17],[95,9,95,12],[147,6,147,15],[148,0,148,17],[149,0,149,17],[128,7,128,11],[128,13,128,17],[131,0,147,5],[131,6,131,15],[131,17,147,17],[132,6,132,15],[133,7,134,10],[95,6,95,8],[127,7,127,11],[127,13,127,17],[129,6,129,17],[130,0,130,17],[84,15,85,17],[84,6,85,8],[86,13,86,14],[86,15,86,17],[87,9,87,12],[87,13,87,14],[88,6,88,8],[88,9,88,12],[84,13,85,14],[88,13,88,14],[88,15,88,17],[84,9,85,12],[87,6,87,8],[125,13,125,17],[126,13,126,17],[66,15,66,17],[66,13,66,14],[67,0,67,5],[67,6,67,8],[67,9,67,12],[67,13,67,14],[67,15,67,17],[68,0,73,5],[79,0,79,5],[79,6,79,8],[79,9,79,12],[79,13,79,14],[79,15,79,17],[72,6,72,8],[72,9,72,12],[74,0,78,5],[74,6,75,8],[74,9,75,12],[74,13,75,14],[74,15,75,17],[68,13,68,14],[73,6,73,8],[60,13,61,14],[60,15,61,17],[62,13,62,14],[62,15,62,17],[63,13,63,14],[63,15,63,17],[64,13,64,14],[64,15,64,17],[65,13,65,14],[65,15,65,17],[54,0,59,5],[54,6,54,9],[54,10,54,12],[55,6,55,9],[55,10,55,12],[45,19,53,21],[54,19,59,21],[58,13,59,17],[56,6,56,9],[56,10,56,12],[57,6,57,9],[57,10,57,12],[58,6,58,9],[58,10,58,12],[59,6,59,9],[59,10,59,12],[62,9,62,12],[63,9,63,12],[64,9,64,12],[65,9,65,12],[66,9,66,12],[60,0,66,5],[60,6,61,8],[62,6,62,8],[63,6,63,8],[64,6,64,8],[65,6,65,8],[66,6,66,8],[60,9,61,12],[21,10,21,13],[21,14,21,17],[27,9,27,11],[27,12,27,17],[52,6,52,17],[53,6,53,17],[45,6,45,17],[46,6,46,17],[47,6,47,17],[48,7,48,17],[49,7,49,17],[50,7,50,17],[51,7,51,17],[39,6,40,17],[22,6,22,9],[22,10,22,13],[25,0,25,21],[26,0,26,17],[26,19,26,21],[22,14,22,17],[23,6,23,9],[23,10,23,13],[23,14,23,17],[45,0,53,5],[17,0,17,21],[18,0,18,17],[19,0,24,5],[19,9,19,11],[19,12,19,17],[20,14,20,17],[24,6,24,17],[8,3,8,6],[8,7,8,9],[9,0,9,21],[8,0,8,2],[10,0,12,5],[10,10,11,10],[10,11,11,13],[10,14,11,17],[10,18,11,18],[10,19,11,21],[18,19,18,21],[19,18,24,18],[19,19,24,21],[20,6,20,9],[20,10,20,13],[19,6,19,8],[21,6,21,9],[10,6,10,9],[11,6,11,9],[12,6,12,21],[13,0,13,21],[14,0,14,17],[14,19,14,21],[15,0,16,5],[15,18,16,18],[15,19,16,21],[15,6,16,17],[6,0,6,2],[6,10,6,13],[7,14,7,18],[8,14,8,18],[8,19,8,21],[4,14,4,18],[4,19,4,21],[5,14,5,18],[5,19,5,21],[6,14,6,18],[6,19,6,21],[7,19,7,21],[6,3,6,6],[6,7,6,9],[7,0,7,2],[7,3,7,6],[7,7,7,9],[7,10,7,13],[8,10,8,13],[3,0,3,21],[4,0,4,2],[4,3,4,6],[4,7,4,9],[4,10,4,13],[5,0,5,2],[5,3,5,6],[5,7,5,9],[5,11,5,13],[0,0,0,3],[0,4,0,5],[0,6,0,8],[0,9,0,11],[0,12,0,14],[0,15,0,17],[0,19,0,21],[1,0,2,13],[1,14,2,17],[1,18,2,18],[1,19,2,21],[73,9,73,12],[73,13,73,14],[73,15,73,17],[68,6,68,8],[68,9,68,12],[69,6,69,8],[69,9,69,12],[69,13,69,14],[69,15,69,17],[70,6,70,8],[70,9,70,12],[70,13,70,14],[70,15,70,17],[71,6,71,8],[71,9,71,12],[71,13,71,14],[71,15,71,17],[68,15,68,17],[72,13,72,14],[72,15,72,17],[41,0,42,5],[41,6,42,17],[43,6,44,17],[27,18,29,18],[27,19,29,21],[30,18,32,18],[30,19,32,21],[35,18,38,18],[35,19,44,21],[39,18,40,18],[43,0,44,5],[27,6,27,8],[28,6,29,17],[30,6,30,17],[31,8,32,17],[408,8,408,10],[408,12,408,15],[409,8,409,10],[411,0,411,16],[412,0,412,21],[27,0,29,5],[30,0,32,5],[31,6,32,7],[35,0,36,5],[35,6,35,9],[33,0,33,21],[34,0,34,17],[34,19,34,21],[35,10,35,12],[35,13,35,17],[41,18,42,18],[43,18,44,18],[45,18,53,18],[54,18,59,18],[60,18,73,18],[60,19,73,21],[36,6,38,17],[37,0,38,5],[39,0,40,5],[397,6,397,16],[398,6,398,16],[399,6,399,16],[400,6,400,16],[401,6,401,16],[402,6,403,16],[404,6,404,16],[405,6,405,16],[406,6,406,16],[391,6,391,16],[392,11,392,12],[392,14,392,16],[393,6,393,16],[394,6,394,8],[394,9,394,16],[395,6,395,16],[396,11,396,12],[396,14,396,16],[385,6,385,16],[386,6,386,8],[386,9,386,16],[387,6,387,16],[388,11,388,12],[388,14,388,16],[389,6,389,16],[390,6,390,8],[390,9,390,16],[382,17,411,17],[406,19,411,21],[419,19,427,21],[430,19,433,21],[436,19,443,21],[372,19,380,21],[377,18,380,18],[382,19,397,21],[390,18,393,18],[394,18,397,18],[398,19,405,21],[400,18,401,18],[380,0,380,17],[381,0,381,17],[381,19,381,21],[382,9,382,16],[383,6,383,16],[384,8,384,9],[388,8,388,9],[392,8,392,9],[396,8,396,9],[382,6,382,8],[384,11,384,12],[384,14,384,16],[402,18,403,18],[404,18,405,18],[398,18,399,18],[406,18,411,18],[419,18,427,18],[432,18,433,18],[439,18,440,18],[441,18,443,18],[341,18,342,18],[343,18,344,18],[354,18,358,18],[360,18,361,18],[372,18,376,18],[428,0,428,21],[429,0,429,17],[429,19,429,21],[430,18,431,18],[430,6,431,17],[431,0,431,2],[431,3,431,5],[432,6,433,17],[434,0,434,21],[435,0,435,17],[435,19,435,21],[341,19,346,21],[345,18,346,18],[353,18,353,21],[354,19,358,21],[359,18,359,21],[360,19,370,21],[362,18,363,18],[382,18,385,18],[386,18,389,18],[371,19,371,21],[439,0,440,5],[441,0,443,5],[406,0,410,5],[414,0,418,5],[419,0,427,5],[430,0,430,5],[432,0,433,5],[436,0,437,5],[438,0,438,5],[359,0,359,5],[360,0,361,5],[362,0,363,5],[364,0,366,5],[372,0,379,5],[382,0,397,5],[398,0,401,5],[402,0,403,5],[404,0,405,5],[367,0,369,5],[353,6,353,16],[354,6,354,10],[354,13,354,16],[355,13,355,16],[356,13,356,16],[341,0,346,5],[347,0,347,5],[348,0,352,5],[353,0,353,5],[354,0,358,5],[334,18,335,18],[317,18,318,18],[317,19,322,21],[319,18,320,18],[321,18,322,18],[323,18,323,21],[324,19,325,21],[326,18,326,21],[327,19,332,21],[329,18,330,18],[331,18,332,18],[327,0,332,5],[327,6,328,6],[329,6,330,6],[329,7,330,16],[331,7,331,16],[332,6,332,16],[306,18,307,18],[306,19,315,21],[308,18,309,18],[309,6,310,6],[310,18,311,18],[314,18,315,18],[319,6,320,6],[319,7,320,16],[321,6,322,6],[321,7,322,16],[324,18,325,18],[327,18,328,18],[314,0,315,5],[314,6,315,16],[316,0,316,5],[316,6,316,16],[317,0,322,5],[317,6,318,6],[317,7,318,16],[323,0,323,5],[323,6,323,16],[364,6,364,12],[364,13,364,16],[365,6,366,16],[364,18,366,18],[367,18,370,18],[375,7,375,8],[375,10,375,11],[367,6,369,16],[370,0,370,17],[371,0,371,17],[359,6,359,16],[360,6,360,12],[360,13,360,16],[361,6,361,12],[361,13,361,16],[362,6,362,12],[362,13,362,16],[363,6,363,12],[363,13,363,16],[340,0,340,5],[340,6,340,16],[376,6,376,11],[376,12,379,16],[377,6,377,11],[378,7,378,8],[379,7,379,8],[372,17,379,17],[378,10,378,11],[379,10,379,11],[373,6,373,11],[374,7,374,8],[374,10,374,11],[372,6,372,11],[372,12,375,16],[340,18,340,21],[341,7,342,16],[343,7,344,16],[345,7,345,16],[346,6,346,16],[357,13,357,16],[358,13,358,16],[350,7,350,10],[351,7,351,10],[347,6,347,16],[347,18,347,21],[348,6,348,10],[348,11,352,16],[348,18,352,18],[348,19,352,21],[349,6,349,10],[352,6,352,10],[355,6,356,10],[357,6,357,10],[357,11,357,12],[358,6,358,10],[358,11,358,12],[341,6,342,6],[343,6,344,6],[282,14,282,16],[283,14,283,16],[336,7,337,16],[338,7,338,16],[333,0,333,5],[334,0,339,5],[334,6,335,6],[334,7,335,16],[334,19,339,21],[336,6,337,6],[336,18,337,18],[338,18,339,18],[339,6,339,16],[333,18,333,21],[333,6,333,16],[324,0,325,5],[324,6,325,16],[326,0,326,5],[326,6,326,16],[327,7,328,16],[309,7,310,16],[311,7,311,16],[305,6,305,16],[306,6,307,16],[257,9,257,12],[258,6,258,8],[292,7,293,16],[281,10,281,13],[282,10,282,13],[283,10,283,13],[289,18,303,18],[289,19,303,21],[300,12,302,12],[300,13,300,16],[302,13,302,15],[283,6,283,9],[284,6,284,9],[286,6,288,11],[264,18,288,18],[264,19,288,21],[255,17,298,17],[284,14,284,16],[272,14,272,16],[273,14,273,16],[279,14,279,16],[280,14,280,16],[281,14,281,16],[285,14,285,16],[279,6,279,9],[280,6,280,9],[281,6,281,9],[282,6,282,9],[285,6,285,9],[274,6,274,9],[274,10,274,13],[277,6,277,9],[278,6,278,9],[278,10,278,13],[284,10,284,13],[285,10,285,13],[279,10,279,13],[280,10,280,13],[276,10,276,13],[276,14,276,16],[277,10,277,13],[277,14,277,16],[262,6,262,8],[262,9,262,11],[262,12,262,16],[263,6,263,8],[263,9,263,12],[263,13,263,16],[265,7,265,10],[266,6,266,16],[267,6,268,16],[269,10,271,13],[275,6,275,9],[275,10,275,13],[269,6,271,9],[272,6,272,9],[272,10,272,13],[273,6,273,9],[273,10,273,13],[254,19,254,21],[255,0,263,5],[255,9,256,16],[255,18,263,18],[255,19,263,21],[258,9,258,13],[259,6,259,8],[239,19,253,21],[245,7,248,9],[259,9,259,11],[259,12,259,16],[260,6,260,8],[260,9,260,13],[260,14,260,16],[261,6,261,8],[261,9,261,15],[241,7,241,8],[241,11,241,16],[243,6,244,10],[243,11,243,16],[244,11,244,16],[245,11,245,16],[255,6,256,8],[257,6,257,8],[289,0,302,5],[306,0,307,5],[309,0,313,5],[301,13,301,15],[301,16,302,16],[303,0,303,17],[304,0,304,17],[304,18,305,18],[304,19,305,21],[305,0,305,5],[312,7,312,16],[312,18,313,18],[313,6,313,16],[294,6,295,6],[294,7,295,16],[296,6,297,6],[296,7,297,16],[298,6,298,16],[299,6,299,16],[300,6,302,11],[289,6,289,16],[290,6,290,16],[291,7,291,16],[292,6,293,6],[234,18,238,18],[234,19,238,21],[235,6,235,16],[236,7,236,10],[236,12,236,15],[239,11,239,16],[246,11,246,16],[239,18,253,18],[253,0,253,17],[240,7,240,8],[240,11,240,16],[240,9,242,10],[242,11,242,16],[247,11,247,16],[250,11,250,16],[251,6,252,10],[251,11,251,16],[252,11,252,16],[264,0,288,5],[237,7,237,10],[238,6,238,10],[239,0,252,5],[239,6,239,10],[286,12,288,12],[286,13,286,16],[287,13,287,15],[287,16,288,16],[288,13,288,15],[248,11,248,16],[249,11,249,16],[257,13,257,16],[258,14,258,16],[265,12,265,16],[269,14,271,16],[264,6,264,16],[234,0,238,5],[234,6,234,16],[254,0,254,16],[278,14,278,16],[274,14,274,16],[275,14,275,16],[276,6,276,9]]}
[{"$f":"'Caseload Files'!B2","v":"Teacher Caseload Review"},null,null,null,{"$f":"'Caseload Files'!D15","v":"File 5"},null,"Reviewer:",null,null,{"$f":"'Caseload Files'!F15","v":"Reviewer 5"},null,null,"Staff Reviewed:",null,null,{"$f":"'Caseload Files'!I15","v":"Staff 5"},null,null,"Score","Findings/Notes"]
[{"$f":"'Caseload Files'!B2","v":"Teacher Caseload Review"},null,null,null,null,null,null,null,null,null,null,null,null,null,null,null,null,null,"Rating","Record notes\nand/or findings."]
[]
[]
["Student Name:",null,null,{"$f":"'Caseload Files'!$L$15","v":"Student 5"},null,null,null,"Date of Birth:",null,null,{"$f":"'Caseload Files'!$R$15","v":"2005-05-05"},null,null,null,"Current IEP Meeting Date:"]
["SIMS Numer:",null,null,{"$f":"'Caseload Files'!$O$15","v":50123456},null,null,null,"Age/Grade:",null,null,{"$f":"INT(YEARFRAC(K5,TODAY()))","v":15},"/Sophomore",null,null,"Previous IEP Meeting Date:"]
["School District:",null,null,{"$f":"'Caseload Files'!B3","v":"District 00-0"},null,null,null,"Disability Code:",null,null,{"$f":"'Caseload Files'!$W$15","v":"DisCode 5"},null,null,null,"Current Eligibility Determination Date:"]
["School Name:",null,null,{"$f":"'Caseload Files'!E6","v":"School Name"},null,null,null,"Race/Ethnicity:",null,null,{"$f":"'Caseload Files'!T15","v":"Race 5"},null,null,null,"Previous Eligibility Determination Date:"]
["School Year:",null,null,{"$f":"'Caseload Files'!E7","v":"1998-1999"},null,null,null,"Type of Review:",null,null,{"$f":"'Caseload Files'!Z15","v":"Type 5"},null,null,null,"Date of Review:"]
[]
[{"$f":"HYPERLINK(\"http://sdlegislature.gov/Rules/DisplayRule.aspx?Rule=24:05\",\"Subsection Title and \nCorresponding ARSD Links \")","v":"Subsection Title and \nCorresponding ARSD Links "},null,null,null,null,null,"Yellow boxes are prompts",null,null,null,null,"Use checkboxes to help record findings.",null,null,"Voided space and/or clarifying information.",null,null,null,"\"N/A\" may be appropriate for certain sections.","Findings/Notes"]
[null,null,null,null,null,null,"for information."]
[]
[]
[{"$f":"HYPERLINK(\"https://gosynth.com/p/s/aboqwv\",\"Record of Access\")","v":"Record of Access"},null,null,null,null,null,null,null,null,null,null,null,null,null,null,null,null,null,{"$f":"IFERROR(Y17/X17,\"N/A\")","v":"N/A"},"Findings/Notes"]
[{"$f":"HYPERLINK(\"http://sdlegislature.gov/Rules/DisplayRule.aspx?Rule=24:05:29:15\",\"Record of Access\n(24:05:29:15)\")","v":"Record of Access\n(24:05:29:15)"},null,null,null,null,null,null,null,null,null,null,null,null,null,null,null,null,null,"Select","V16",null,null,null,null,{"$f":"S16","v":"Select"},{"$f":"S16","v":"Select"}]
[null,null,null,null,null,null,null,null,null,null,null,null,null,null,null,null,null,null,null,null,null,null,null,{"$f":"Y17+Z17","v":0},{"$f":"COUNTIF(Y16,\"Yes\")*3","v":0},{"$f":"COUNTIF(Z16,\"No\")*3","v":0}]
[]
[{"$f":"HYPERLINK(\"https://gosynth.com/p/s/grdmsy\",\"Referral\")","v":"Referral"},null,null,null,null,null,null,null,null,null,null,null,null,null,null,null,null,null,{"$f":"IFERROR(Y21/X21,\"N/A\")","v":"N/A"}]
[{"$f":"HYPERLINK(\"http://sdlegislature.gov/Rules/DisplayRule.aspx?Rule=24:05:24:01\",\"Referral Document\n(initial only)\n(24:05:24:01)\")","v":"Referral Document\n(initial only)\n(24:05:24:01)"},null,null,null,null,null,"Date of referral:",null,null,null,null,null,"The top two spaces are available to type in.",null,null,null,null,null,"Select","V20",null,null,null,null,{"$f":"S20","v":"Select"},{"$f":"S20","v":"Select"}]
[null,null,null,null,null,null,"List all areas of referral:",null,null,null,null,null,null,null,null,null,null,null,null,null,null,null,null,{"$f":"Y21+Z21","v":0},{"$f":"COUNTIF(Y20,\"Yes\")*3","v":0},{"$f":"COUNTIF(Z20,\"No\")*3","v":0}]
[]
[]
[]
[null,null,null,null,null,null,"If referral can not be found and is older than three years, N/A is appropriate."]
[]
[{"$f":"HYPERLINK(\"https://gosynth.com/p/s/lihblf\",\"Initial Placement\")","v":"Initial Placement"},null,null,null,null,null,null,null,null,null,null,null,null,null,null,null,null,null,{"$f":"IFERROR(Y33/X33,\"N/A\")","v":"N/A"}]
[{"$f":"HYPERLINK(\"http://sdlegislature.gov/rules/DisplayRule.aspx?Rule=24:05:27:04.01\",\"Consent Signed for Initial Placement \ninto Special Education\n(24:05:27:04.01)\")","v":"Consent Signed for Initial Placement \ninto Special Education\n(24:05:27:04.01)"},null,null,null,null,null,"Date Signed:",null,null,null,null,null,null,null,null,null,null,null,"Select","V28",null,null,null,null,{"$f":"S28","v":"Select"},{"$f":"S28","v":"Select"}]
[null,null,null,null,null,null,"(The Consent Signed for Initial Placement into Special Education form is a separate document.  In the past, it may have been found at the end of the IEP.",null,null,null,null,null,null,null,null,null,null,null,null,null,null,null,null,{"$f":"Y29+Z29","v":0},{"$f":"COUNTIF(Y28,\"Yes\")*3","v":0},{"$f":"COUNTIF(Z28,\"No\")*3","v":0}]
[]
[{"$f":"HYPERLINK(\"https://sdlegislature.gov/Rules/DisplayRule.aspx?Rule=24:05:25:04.02\",\"Determination of Needed \nEvaluation Data\n(24:05:25:04.02)\")","v":"Determination of Needed \nEvaluation Data\n(24:05:25:04.02)"},null,null,null,null,null,"Did the team review existing data before completing the PPWN Consent?",null,null,null,null,null,null,null,null,null,null,null,"Select","V31",null,null,null,null,{"$f":"S31","v":"Select"},{"$f":"S31","v":"Select"}]
[null,null,null,null,null,null,"Select",null,"The existing data includes evaluations and information provided by the parents, current classroom-based local or state assessments, and observations by teachers and related services providers.",null,null,null,null,null,null,null,null,null,null,null,null,null,null,{"$f":"Y32+Z32","v":0},{"$f":"COUNTIF(Y31,\"Yes\")*3","v":0},{"$f":"COUNTIF(Z31,\"No\")*3","v":0}]
[null,null,null,null,null,null,null,null,null,null,null,null,null,null,null,null,null,null,null,null,null,null,null,{"$f":"(X32+X29)/2","v":0},{"$f":"(Y32+Y29)/2","v":0}]
[]
[{"$f":"HYPERLINK(\"https://gosynth.com/p/s/qxevgy\",\"Evaluation\")","v":"Evaluation"},null,null,null,null,null,null,null,null,null,null,null,null,null,null,null,null,null,{"$f":"IFERROR(Y38/X38,\"N/A\")","v":"N/A"},{"$f":"IFERROR(Y58/X58,\"N/A\")","v":"N/A"}]
[{"$f":"HYPERLINK(\"http://sdlegislature.gov/rules/DisplayRule.aspx?Rule=24:05:25:02.01\",\"Initial Evaluation \n(24:05:25:02.01)\")","v":"Initial Evaluation \n(24:05:25:02.01)"},null,null,null,null,null,"PPWN Consent was Sent:",null,null,null,null,null,null,"Use the most recent evaluation. ",null,null,null,null,"Select","V36",null,null,null,null,{"$f":"S36","v":"Select"},{"$f":"S36","v":"Select"}]
[null,null,null,null,null,null,{"$f":"HYPERLINK(\"https://gosynth.com/p/s/qxevgy\",\"Consent was acquired for initial evaluation. \n\nIf consent was not given by the parent for reevaluation, evidence of  attempts were made to elicit parent.\")","v":"Consent was acquired for initial evaluation. \n\nIf consent was not given by the parent for reevaluation, evidence of  attempts were made to elicit parent."},null,null,null,null,null,null,null,null,null,null,null,null,null,null,null,null,{"$f":"Y37+Z37","v":0},{"$f":"COUNTIF(Y36,\"Yes\")*3","v":0},{"$f":"COUNTIF(Z36,\"No\")*3","v":0}]
[{"$f":"HYPERLINK(\"http://sdlegislature.gov/Rules/DisplayRule.aspx?Rule=24:05:25:06.01\",\"Reevaluation\n(24:05:25:06.01)\")","v":"Reevaluation\n(24:05:25:06.01)"},null,null,null,null,null,null,null,null,null,null,null,null,null,null,null,null,null,null,null,null,null,null,{"$f":"(X37+X41+X43+X45+X47+X56+X62+X76+X86+X100+X104+X106+X108+X110+X112+X115+X117+X120)/18","v":0},{"$f":"(Y37+Y41+Y43+Y45+Y47+Y56+Y62+Y76+Y86+Y100+Y104+Y106+Y108+Y110+Y112+Y115+Y117+Y120)/18","v":0}]
[]
[{"$f":"HYPERLINK(\"http://sdlegislature.gov/Rules/DisplayRule.aspx?Rule=24:05:25:16\",\"Parent Input into Evalaution\n(24:05:25:16)\")","v":"Parent Input into Evalaution\n(24:05:25:16)"},null,null,null,null,null,{"$f":"HYPERLINK(\"https://gosynth.com/p/s/ycomsx\",\"Parent input must be documented in the PPWN Consent on input exiting data and \nupcoming evaluation.   (refer to phone logs, progress notes, prior notice)\")","v":"Parent input must be documented in the PPWN Consent on input exiting data and \nupcoming evaluation.   (refer to phone logs, progress notes, prior notice)"},null,null,null,null,null,null,null,null,null,null,null,"Select",null,null,null,null,null,{"$f":"S40","v":"Select"},{"$f":"S40","v":"Select"}]
[null,null,null,null,null,null,null,null,null,null,null,null,null,null,null,null,null,null,null,null,null,null,null,{"$f":"Y41+Z41","v":0},{"$f":"COUNTIF(Y40,\"Yes\")*3","v":0},{"$f":"COUNTIF(Z40,\"No\")*3","v":0}]
[{"$f":"HYPERLINK(\"http://sdlegislature.gov/Rules/DisplayRule.aspx?Rule=24:05:30:06.01\",\"Procedural Safeguards\n(24:05:30:06.01)\")","v":"Procedural Safeguards\n(24:05:30:06.01)"},null,null,null,null,null,{"$f":"HYPERLINK(\"https://gosynth.com/p/s/tdkmfj\",\"[INCLUDE LANGUAGE FOR THIS SECTION]\")","v":"[INCLUDE LANGUAGE FOR THIS SECTION]"},null,null,null,null,null,null,null,null,null,null,null,"Select",null,null,null,null,null,{"$f":"S42","v":"Select"},{"$f":"S42","v":"Select"}]
[null,null,null,null,null,null,null,null,null,null,null,null,null,null,null,null,null,null,null,null,null,null,null,{"$f":"Y43+Z43","v":0},{"$f":"COUNTIF(Y42,\"Yes\")*3","v":0},{"$f":"COUNTIF(Z42,\"No\")*3","v":0}]
[{"$f":"HYPERLINK(\"http://sdlegislature.gov/Rules/DisplayRule.aspx?Rule=24:05:25:03\",\"Extension on 25 Day Timeline\n(24:05:25:03)\")","v":"Extension on 25 Day Timeline\n(24:05:25:03)"},null,null,null,null,null,{"$f":"HYPERLINK(\"https://gosynth.com/p/s/wcheia\",\"Documented agreement with parent and district on new extension date.  \nEligibility and IEP developed 30 days after the agreed extension date.\")","v":"Documented agreement with parent and district on new extension date.  \nEligibility and IEP developed 30 days after the agreed extension date."},null,null,null,null,null,null,null,null,null,null,null,"Select",null,null,null,null,null,{"$f":"S44","v":"Select"},{"$f":"S44","v":"Select"}]
[null,null,null,null,null,null,null,null,null,null,null,null,null,null,null,null,null,null,null,null,null,null,null,{"$f":"Y45+Z45","v":0},{"$f":"COUNTIF(Y44,\"Yes\")*3","v":0},{"$f":"COUNTIF(Z44,\"No\")*3","v":0}]
[{"$f":"HYPERLINK(\"http://sdlegislature.gov/Rules/DisplayRule.aspx?Rule=24:05:30:05\",\"Content of Prior Written Notice/\nConsent for Evaluation\n (24:05:30:05)\")","v":"Content of Prior Written Notice/\nConsent for Evaluation\n (24:05:30:05)"},null,null,null,null,null,{"$f":"HYPERLINK(\"https://gosynth.com/p/s/xymlpn\",\"Check the following:\")","v":"Check the following:"},null,null,null,null,null,null,null,null,null,null,null,"Select","V46",null,null,null,null,{"$f":"S46","v":"Select"},{"$f":"S46","v":"Select"}]
[null,null,null,null,null,null,"PPWN must be individualized to the student, IEP team discussions and situation.",null,null,null,null,null,null,null,null,null,null,null,null,null,null,null,null,{"$f":"Y47+Z47","v":0},{"$f":"COUNTIF(Y46,\"Yes\")*3","v":0},{"$f":"COUNTIF(Z46,\"No\")*3","v":0}]
[]
[null,null,null,null,null,null,null,"Explanation of why the district proposed or refused to take the action"]
[null,null,null,null,null,null,null,"Description of other options considered and why they were rejected "]
[null,null,null,null,null,null,null,"Description of evidence used for the proposed or refused action"]
[null,null,null,null,null,null,null,"Description of other factors that are relevant to proposal or refusal"]
[]
[null,null,null,null,null,null,"All components should be completed and have a clear description."]
[{"$f":"HYPERLINK(\"http://sdlegislature.gov/Rules/DisplayRule.aspx?Rule=24:05:30:05\",\"Timeline of Prior Written Notice/\nConsent for Evaluation\n(24:05:25:03)\")","v":"Timeline of Prior Written Notice/\nConsent for Evaluation\n(24:05:25:03)"},null,null,null,null,null,{"$f":"HYPERLINK(\"https://gosynth.com/p/s/xylthm\",\"Date sent:\")","v":"Date sent:"},null,null,null,"2020-01-18",null,null,null,null,null,null,null,"Select","V54",null,null,null,null,{"$f":"S55","v":"Select"},{"$f":"S55","v":"Select"}]
[null,null,null,null,null,null,"Date signed:",null,null,null,"2020-01-19",null,null,null,null,null,null,null,null,null,null,null,null,{"$f":"Y56+Z56","v":0},{"$f":"COUNTIF(Y55,\"Yes\")*3","v":0},{"$f":"COUNTIF(Z55,\"No\")*3","v":0}]
[null,null,null,null,null,null,"Date received:",null,null,null,"2020-01-20"]
[null,null,null,null,null,null,"25 school days:",null,null,null,{"$f":"WORKDAY(K57,25)","v":"2020-02-24"}]
[null,null,null,null,null,null,"30 calendar days:"]
[null,null,null,null,null,null,"Extension on 25 day:"]
[{"$f":"HYPERLINK(\"http://sdlegislature.gov/Rules/DisplayRule.aspx?Rule=24:05:25:04.02\",\"Evaluations to be Completed by the District per Parental Prior Written/Consent for Evaluation\n(24:05:25:04.02)\")","v":"Evaluations to be Completed by the District per Parental Prior Written/Consent for Evaluation\n(24:05:25:04.02)"},null,null,null,null,null,{"$f":"HYPERLINK(\"https://gosynth.com/p/s/zgdeev\",\"List areas:\")","v":"List areas:"},null,null,"Test administered:",null,null,null,"Test date:",null,"Evaluator:",null,null,"Select","V60",null,null,null,null,{"$f":"S61","v":"Select"},{"$f":"S61","v":"Select"}]
[null,null,null,null,null,null,null,null,null,null,null,null,null,null,null,null,null,null,null,null,null,null,null,{"$f":"Y62+Z62","v":0},{"$f":"COUNTIF(Y61,\"Yes\")*3","v":0},{"$f":"COUNTIF(Z61,\"No\")*3","v":0}]
[]
[]
[]
[]
[]
["For more evaluations requested click the [+]"]
[]
[]
[]
[]
[]
[]
[{"$f":"HYPERLINK(\"http://sdlegislature.gov/Rules/DisplayRule.aspx?Rule=24:05:25:04.02\",\"Existing Evaluation Data\nto be Pulled Forward\n(24:05:25:04.02)\")","v":"Existing Evaluation Data\nto be Pulled Forward\n(24:05:25:04.02)"},null,null,null,null,null,{"$f":"HYPERLINK(\"https://gosynth.com/p/s/pfohnr\",\"List areas:\")","v":"List areas:"},null,null,"Test administered:",null,null,null,"Test date:",null,"Evaluator:",null,null,"Select","V74",null,null,null,null,{"$f":"S75","v":"Select"},{"$f":"S75","v":"Select"}]
[null,null,null,null,null,null,null,null,null,null,null,null,null,null,null,null,null,null,null,null,null,null,null,{"$f":"Y76+Z76","v":0},{"$f":"COUNTIF(Y75,\"Yes\")*3","v":0},{"$f":"COUNTIF(Z75,\"No\")*3","v":0}]
[]
[]
[]
["For more existing data requested click the [+]"]
[]
[]
[]
[]
[{"$f":"HYPERLINK(\"http://sdlegislature.gov/Rules/DisplayRule.aspx?Rule=24:05:25:04.02\",\"Skills Based Assessment and Report\n(24:05:25:04.02)\")","v":"Skills Based Assessment and Report\n(24:05:25:04.02)"},null,null,null,null,null,{"$f":"HYPERLINK(\"https://gosynth.com/p/s/tbqnts\",\"List areas:\")","v":"List areas:"},null,null,"Test administered:",null,null,null,"Test date:",null,"Evaluator:",null,null,"Select","V84",null,null,null,null,{"$f":"S85","v":"Select"},{"$f":"S85","v":"Select"}]
[null,null,null,null,null,null,null,null,null,null,null,null,null,null,null,null,null,null,null,null,null,null,null,{"$f":"Y86+Z86","v":0},{"$f":"COUNTIF(Y85,\"Yes\")*3","v":0},{"$f":"COUNTIF(Z85,\"No\")*3","v":0}]
[]
[null,null,null,null,null,null,null,null,null,null,null,null,null,null,null,null,null,null,null,null,null,null,null,{"$f":"(X86+X100+X104+X106+X108+X110+X112+X115+X117+X120)/10","v":0},{"$f":"(Y86+Y100+Y104+Y106+Y108+Y110+Y112+Y115+Y117+Y120)/10","v":0}]
[]
[]
[]
["For more skills based requested click the [+]"]
[]
[]
[]
[]
[]
[]
[{"$f":"HYPERLINK(\"http://sdlegislature.gov/Rules/DisplayRule.aspx?Rule=24:05:25:03\",\"Consent Received\n(24:05:25:03)\")","v":"Consent Received\n(24:05:25:03)"},null,null,null,null,null,{"$f":"HYPERLINK(\"https://gosynth.com/p/s/ctcnlr\",\"Consent received date:\")","v":"Consent received date:"},null,null,null,null,{"$f":"K57","v":"2020-01-20"},null,null,"Mark \"No\" if dates are outside of \"consent received\" and/or \"25 school days\".",null,null,null,"Select","V98",null,null,null,null,{"$f":"S99","v":"Select"},{"$f":"S99","v":"Select"}]
[null,null,null,null,null,null,"Earliest testing date:",null,null,null,null,{"$f":"MIN(N63:O74,N87:O98)","v":"00:00:00"},null,null,null,null,null,null,null,null,null,null,null,{"$f":"Y100+Z100","v":0},{"$f":"COUNTIF(Y99,\"Yes\")*3","v":0},{"$f":"COUNTIF(Z99,\"No\")*3","v":0}]
[null,null,null,null,null,null,"Latest testing date:",null,null,null,null,{"$f":"MAX(N63:O74,N87:O98)","v":"00:00:00"}]
[null,null,null,null,null,null,"Within 25 School Days:",null,null,null,null,{"$f":"IF(ISBLANK(K60),K58,K60)","v":"2020-02-24"}]
[{"$f":"HYPERLINK(\"http://sdlegislature.gov/Rules/DisplayRule.aspx?Rule=24:05:25:20\",\"All Evaluations Administered \n(24:05:25:20)\")","v":"All Evaluations Administered \n(24:05:25:20)"},null,null,null,null,null,{"$f":"HYPERLINK(\"https://gosynth.com/p/s/mkcdef\",\"All evaluations marked on the PWWN/Consent for Evaluation form must be administered.\")","v":"All evaluations marked on the PWWN/Consent for Evaluation form must be administered."},null,null,null,null,null,null,null,null,null,null,null,"Select","V102",null,null,null,null,{"$f":"S103","v":"Select"},{"$f":"S103","v":"Select"}]
[null,null,null,null,null,null,null,null,null,null,null,null,null,null,null,null,null,null,null,null,null,null,null,{"$f":"Y104+Z104","v":0},{"$f":"COUNTIF(Y103,\"Yes\")*3","v":0},{"$f":"COUNTIF(Z103,\"No\")*3","v":0}]
[{"$f":"HYPERLINK(\"http://sdlegislature.gov/Rules/DisplayRule.aspx?Rule=24:05:25:06.01\",\"Consent was Acquired\n(24:05:25:06.01)\")","v":"Consent was Acquired\n(24:05:25:06.01)"},null,null,null,null,null,{"$f":"HYPERLINK(\"https://gosynth.com/p/s/mkcdef\",\"All evaluations administered must be requested on the PWWN/Consent for Evaluation \nform.\")","v":"All evaluations administered must be requested on the PWWN/Consent for Evaluation \nform."},null,null,null,null,null,null,null,null,null,null,null,"Select",null,null,null,null,null,{"$f":"S105","v":"Select"},{"$f":"S105","v":"Select"}]
[null,null,null,null,null,null,null,null,null,null,null,null,null,null,null,null,null,null,null,null,null,null,null,{"$f":"Y106+Z106","v":0},{"$f":"COUNTIF(Y105,\"Yes\")*3","v":0},{"$f":"COUNTIF(Z105,\"No\")*3","v":0}]
[{"$f":"HYPERLINK(\"http://sdlegislature.gov/Rules/DisplayRule.aspx?Rule=24:05:25:04\",\"Variety of Sources \n(24:05:25:04)\")","v":"Variety of Sources \n(24:05:25:04)"},null,null,null,null,null,{"$f":"HYPERLINK(\"https://gosynth.com/p/s/mkcdef\",\"Appropritate means to provide evaluations for accurate data were used. \")","v":"Appropritate means to provide evaluations for accurate data were used. "},null,null,null,null,null,null,null,null,null,null,null,"Select",null,null,null,null,null,{"$f":"S107","v":"Select"},{"$f":"S107","v":"Select"}]
[null,null,null,null,null,null,null,null,null,null,null,null,null,null,null,null,null,null,null,null,null,null,null,{"$f":"Y108+Z108","v":0},{"$f":"COUNTIF(Y107,\"Yes\")*3","v":0},{"$f":"COUNTIF(Z107,\"No\")*3","v":0}]
[{"$f":"HYPERLINK(\"http://sdlegislature.gov/Rules/DisplayRule.aspx?Rule=24:05:25:04\",\"Met Requirements for the Disability\n(24:05:25:04) \")","v":"Met Requirements for the Disability\n(24:05:25:04) "},null,null,null,null,null,{"$f":"HYPERLINK(\"https://gosynth.com/p/s/mkcdef\",\"Comprehensive Evaluations in all areas required for the disability. \")","v":"Comprehensive Evaluations in all areas required for the disability. "},null,null,null,null,null,null,null,null,null,null,null,"Select",null,null,null,null,null,{"$f":"S109","v":"Select"},{"$f":"S109","v":"Select"}]
[null,null,null,null,null,null,null,null,null,null,null,null,null,null,null,null,null,null,null,null,null,null,null,{"$f":"Y110+Z110","v":0},{"$f":"COUNTIF(Y109,\"Yes\")*3","v":0},{"$f":"COUNTIF(Z109,\"No\")*3","v":0}]
[{"$f":"HYPERLINK(\"http://sdlegislature.gov/Rules/DisplayRule.aspx?Rule=24:05:25:03\",\"Eligibility within 30 Calendar Days \n(24:05:25:03)\")","v":"Eligibility within 30 Calendar Days \n(24:05:25:03)"},null,null,null,null,null,{"$f":"HYPERLINK(\"https://gosynth.com/p/s/mkcdef\",\"Day 26 was on:\")","v":"Day 26 was on:"},null,null,null,null,{"$f":"WORKDAY(L102,1)","v":"2020-02-25"},null,null,null,null,null,null,"Select","V110",null,null,null,null,{"$f":"S111","v":"Select"},{"$f":"S111","v":"Select"}]
[null,null,null,null,null,null,"Eligibility Determination Date:",null,null,null,null,{"$f":"T7","v":"00:00:00"},null,null,null,null,null,null,null,null,null,null,null,{"$f":"Y112+Z112","v":0},{"$f":"COUNTIF(Y111,\"Yes\")*3","v":0},{"$f":"COUNTIF(Z111,\"No\")*3","v":0}]
[null,null,null,null,null,null,"Eligibility meeting date should have been by:",null,null,null,null,null,null,null,{"$f":"K59","v":"00:00:00"}]
[{"$f":"HYPERLINK(\"http://sdlegislature.gov/Rules/DisplayRule.aspx?Rule=24:05:25:04.03\",\"Student Eligible for Special Education \n(24:05:25:04.03)\")","v":"Student Eligible for Special Education \n(24:05:25:04.03)"},null,null,null,null,null,null,null,null,null,null,null,null,null,null,null,null,null,"Select",null,null,null,null,null,{"$f":"S114","v":"Select"},{"$f":"S114","v":"Select"}]
[null,null,null,null,null,null,null,null,null,null,null,null,null,null,null,null,null,null,null,null,null,null,null,{"$f":"Y115+Z115","v":0},{"$f":"COUNTIF(Y114,\"Yes\")*3","v":0},{"$f":"COUNTIF(Z114,\"No\")*3","v":0}]
[{"$f":"HYPERLINK(\"http://sdlegislature.gov/Rules/DisplayRule.aspx?Rule=24:05:25:06\",\"Three Year Re-Evaluation\n(24:05:25:06)\")","v":"Three Year Re-Evaluation\n(24:05:25:06)"},null,null,null,null,null,{"$f":"HYPERLINK(\"https://gosynth.com/p/s/mkcdef\",\"Current Eligibility Determination Date:\")","v":"Current Eligibility Determination Date:"},null,null,null,null,null,null,{"$f":"L112","v":"00:00:00"},null,null,null,null,"Select",null,null,null,null,null,{"$f":"S116","v":"Select"},{"$f":"S116","v":"Select"}]
[null,null,null,null,null,null,"Previous Eligibility Determination Date:",null,null,null,null,null,null,{"$f":"T8","v":"00:00:00"},null,null,null,null,null,null,null,null,null,{"$f":"Y117+Z117","v":0},{"$f":"COUNTIF(Y116,\"Yes\")*3","v":0},{"$f":"COUNTIF(Z116,\"No\")*3","v":0}]
[]
[{"$f":"HYPERLINK(\"https://gosynth.com/p/s/mkcdef\",\"Evaluated to Dismiss from Services  \")","v":"Evaluated to Dismiss from Services  "},null,null,null,null,null,null,null,null,null,null,null,null,null,null,null,null,null,"Select",null,null,null,null,null,{"$f":"S119","v":"Select"},{"$f":"S119","v":"Select"}]
[null,null,null,null,null,null,null,null,null,null,null,null,null,null,null,null,null,null,null,null,null,null,null,{"$f":"Y120+Z120","v":0},{"$f":"COUNTIF(Y119,\"Yes\")*3","v":0},{"$f":"COUNTIF(Z119,\"No\")*3","v":0}]
[]
[{"$f":"HYPERLINK(\"https://gosynth.com/p/s/giwoma\",\"Eligibility Document for Specific Learning Disability\")","v":"Eligibility Document for Specific Learning Disability"},null,null,null,null,null,null,null,null,null,null,null,null,null,null,null,null,null,{"$f":"IFERROR(Y126/X126,\"N/A\")","v":"N/A"}]
["If student is not eligible for Specific Learning Disability, skip this section.  Click on the [+] button if section is not visible. ",null,null,null,null,null,null,null,null,null,null,null,null,null,null,null,null,null,"Select","V122",null,null,null,null,{"$f":"S123","v":"Select"},{"$f":"S123","v":"Select"}]
[{"$f":"HYPERLINK(\"http://sdlegislature.gov/Rules/DisplayRule.aspx?Rule=24:05:24.01:19\",\"Specific Learning Disabilities\n(24:05:24.01:19)\")","v":"Specific Learning Disabilities\n(24:05:24.01:19)"},null,null,null,null,null,"Check the following:",null,null,null,null,null,null,null,null,null,null,null,null,null,null,null,null,{"$f":"Y124+Z124","v":0},{"$f":"COUNTIF(Y123,\"Yes\")*3","v":0},{"$f":"COUNTIF(Z123,\"No\")*3","v":0}]
[]
[null,null,null,null,null,null,null,"Reading Comprehension",null,null,null,null,null,"Math Calculation",null,null,null,null,null,null,null,null,null,{"$f":"(X124+X132+X151+X165+X174)/5","v":0},{"$f":"(Y124+Y132+Y151+Y165+Y174)/5","v":0}]
[null,null,null,null,null,null,null,"Basic Reading Skills",null,null,null,null,null,"Math Problem Solving"]
[null,null,null,null,null,null,null,"Reading Fluency",null,null,null,null,null,"Listening Comprehension"]
[null,null,null,null,null,null,null,"Written Expression",null,null,null,null,null,"Oral Expression"]
[]
["For Initial Determination of Eligibility Only",null,null,null,null,null,null,null,null,null,null,null,null,null,null,null,null,null,"Select","V130",null,null,null,null,{"$f":"S131","v":"Select"},{"$f":"S131","v":"Select"}]
[{"$f":"HYPERLINK(\"http://sdlegislature.gov/Rules/DisplayRule.aspx?Rule=24:05:24.01:19\",\"Initial Eligibility\n(24:05:24.01:19)\")","v":"Initial Eligibility\n(24:05:24.01:19)"},null,null,null,null,null,"Written report must include:",null,null,null,null,null,null,null,null,null,null,null,null,null,null,null,null,{"$f":"Y132+Z132","v":0},{"$f":"COUNTIF(Y131,\"Yes\")*3","v":0},{"$f":"COUNTIF(Z131,\"No\")*3","v":0}]
[]
[null,null,null,null,null,null,null,"Student achieves adequately",null,null,null,null,"Lack of appropriate instruction"]
[]
[null,null,null,null,null,null,null,"Student exhibits pattern of strengths & weaknesses",null,null,null,null,"Observation of the student"]
[]
[null,null,null,null,null,null,null,null,null,null,null,null,"Relevant medical findings (if any)"]
[null,null,null,null,null,null,null,"Student was provided appropriate instruction in regular education settings by qualified personnel"]
[null,null,null,null,null,null,null,null,null,null,null,null,"Achievement level problem is/is not primarily the result of another factor (e.g. emotional disturbance, cognitive impairment, etc.)"]
[]
[]
[null,null,null,null,null,null,null,"Repeated assessment of achievement reflecting student progress"]
[]
[]
[null,null,null,null,null,null,null,"Attendance record",null,null,null,null,"Adverse effect on educational performance"]
[]
[]
["Click on the [+] button to expand or the [-] button to collapse."]
["For Reevaluation of Eligibility Only",null,null,null,null,null,null,null,null,null,null,null,null,null,null,null,null,null,"Select","V149",null,null,null,null,{"$f":"S150","v":"Select"},{"$f":"S150","v":"Select"}]
[{"$f":"HYPERLINK(\"http://sdlegislature.gov/Rules/DisplayRule.aspx?Rule=24:05:24.01:19\",\"Reevaluation of Eligibility\n(24:05:24.01:19)\")","v":"Reevaluation of Eligibility\n(24:05:24.01:19)"},null,null,null,null,null,"Written report must include:",null,null,null,null,null,null,null,null,null,null,null,null,null,null,null,null,{"$f":"Y151+Z151","v":0},{"$f":"COUNTIF(Y150,\"Yes\")*3","v":0},{"$f":"COUNTIF(Z150,\"No\")*3","v":0}]
[]
[null,null,null,null,null,null,null,"Student achieves adequately",null,null,null,null,"Achievement level problem is/is not primarily the result of another factor (e.g. emotional disturbance, cognitive impairment, etc.)"]
[]
[null,null,null,null,null,null,null,"Student exhibits pattern of strengths & weaknesses"]
[]
[]
[null,null,null,null,null,null,null,"Observation of the student"]
[null,null,null,null,null,null,null,null,null,null,null,null,"Adverse effect on educational performance"]
[null,null,null,null,null,null,null,"Relevant medical findings (if any)"]
[]
[]
["Click on the [+] button to expand or the [-] button to collapse."]
[{"$f":"HYPERLINK(\"http://sdlegislature.gov/Rules/DisplayRule.aspx?Rule=24:05:25:08\",\"Team Member Signatures \n(24:05:25:08)\")","v":"Team Member Signatures \n(24:05:25:08)"},null,null,null,null,null,"Check the following:",null,null,null,null,null,null,null,null,null,null,null,"Select","V163",null,null,null,null,{"$f":"S164","v":"Select"},{"$f":"S164","v":"Select"}]
[null,null,null,null,null,null,null,null,null,null,null,null,null,null,null,null,null,null,null,null,null,null,null,{"$f":"Y165+Z165","v":0},{"$f":"COUNTIF(Y164,\"Yes\")*3","v":0},{"$f":"COUNTIF(Z164,\"No\")*3","v":0}]
[null,null,null,null,null,null,null,"Parent",null,null,null,null,"Each group member shall certify in writing whether the report reflects the group member's conclusion. If it does not reflect the group member's conclusion, the group member must submit the conclusion in a separate statement."]
[null,null,null,null,null,null,null,"General Education Teacher"]
[{"$f":"HYPERLINK(\"http://sdlegislature.gov/Rules/DisplayRule.aspx?Rule=24:05:25:13\",\"Group Members to Certify \nReport in Writing \n(24:05:25:13)\")","v":"Group Members to Certify \nReport in Writing \n(24:05:25:13)"},null,null,null,null,null,null,"Special Education Teacher"]
[null,null,null,null,null,null,null,"Qualified interpreter of results"]
[null,null,null,null,null,null,null,"LEA Representative"]
[null,null,null,null,null,null,null,"If disagreed, written input was provided"]
[]
[null,null,null,null,null,null,"Check PWWN for eligibility decisions.                         ",null,null,null,null,"Skip to","PPWN.",null,null,null,null,null,"Select",null,null,null,null,null,{"$f":"S173","v":"Select"},{"$f":"S173","v":"Select"}]
[null,null,null,null,null,null,null,null,null,null,null,null,null,null,null,null,null,null,null,null,null,null,null,{"$f":"Y174+Z174","v":0},{"$f":"COUNTIF(Y173,\"Yes\")*3","v":0},{"$f":"COUNTIF(Z173,\"No\")*3","v":0}]
[]
[{"$f":"HYPERLINK(\"https://gosynth.com/p/s/mzphio\",\"Meeting Notice\")","v":"Meeting Notice"},null,null,null,null,null,null,null,null,null,null,null,null,null,null,null,null,null,{"$f":"IFERROR(Y184/X184,\"N/A\")","v":"N/A"}]
["Meeting Notice",null,null,null,null,null,"Date sent:",null,null,null,null,null,"From this point on use the current IEP's documentation.",null,null,null,null,null,"Select","V174",null,null,null,null,{"$f":"S177","v":"Select"},{"$f":"S177","v":"Select"}]
[{"$f":"HYPERLINK(\"http://sdlegislature.gov/Rules/DisplayRule.aspx?Rule=24:05:30:02.01\",\"(24:05:30:02.01)\")","v":"(24:05:30:02.01)"},null,null,{"$f":"HYPERLINK(\"http://sdlegislature.gov/Rules/DisplayRule.aspx?Rule=24:05:25:16\",\"(24:05:25:16)\")","v":"(24:05:25:16)"},null,null,"Meeting date:",null,null,{"$f":"T5","v":"00:00:00"},null,null,null,null,null,null,null,null,null,null,null,null,null,{"$f":"Y178+Z178","v":0},{"$f":"COUNTIF(Y177,\"Yes\")*3","v":0},{"$f":"COUNTIF(Z177,\"No\")*3","v":0}]
["Procedural Safeguards",null,null,null,null,null,"Must be given to parents annually.",null,null,null,null,null,null,null,null,null,null,null,"Select",null,null,null,null,null,{"$f":"S179","v":"Select"},{"$f":"S179","v":"Select"}]
[{"$f":"HYPERLINK(\"http://sdlegislature.gov/Rules/DisplayRule.aspx?Rule=24:05:30:06.01\",\"(24:05:30:06.01)\")","v":"(24:05:30:06.01)"},null,null,{"$f":"HYPERLINK(\"http://sdlegislature.gov/Rules/DisplayRule.aspx?Rule=24:05:30:06.02\",\"(24:05:30:06.02)\")","v":"(24:05:30:06.02)"},null,null,null,null,null,null,null,null,null,null,null,null,null,null,null,null,null,null,null,{"$f":"Y180+Z180","v":0},{"$f":"COUNTIF(Y179,\"Yes\")*3","v":0},{"$f":"COUNTIF(Z179,\"No\")*3","v":0}]
["IEP Team",null,null,null,null,null,"Complete the following:",null,null,null,null,null,null,null,null,null,null,null,"Select",null,null,null,null,null,{"$f":"S181","v":"Select"},{"$f":"S181","v":"Select"}]
[null,null,null,null,null,null,null,null,null,null,null,null,null,null,null,null,null,null,null,null,null,null,null,{"$f":"Y182+Z182","v":0},{"$f":"COUNTIF(Y181,\"Yes\")*3","v":0},{"$f":"COUNTIF(Z181,\"No\")*3","v":0}]
[null,null,null,null,null,null,null,"The documentation of people attending the IEP meeting on front page of the IEP does not imply agreement, it is for participation purposes only."]
[null,null,null,null,null,null,null,null,null,null,null,null,null,null,null,null,null,null,null,null,null,null,null,{"$f":"(X178+X180+X182+X198)/4","v":0},{"$f":"(Y178+Y180+Y182+Y198)/4","v":0}]
[null,null,null,null,null,null,null,"Identified on the meeting notice:",null,null,"Attended the meeting:",null,null,"Did not attend\nthe meeting:"]
[]
[{"$f":"HYPERLINK(\"http://sdlegislature.gov/Rules/DisplayRule.aspx?Rule=24:05:25:16\",\"(24:05:25:16)\")","v":"(24:05:25:16)"},null,null,null,null,null,null,"Parent/Guardian"]
[null,null,null,null,null,null,null,"Student"]
[null,null,null,null,null,null,null,"Gen. Ed. Teacher"]
[null,null,null,null,null,null,null,"Sp. Ed. Teacher"]
["Parent Participation",null,null,null,null,null,null,"Eval Interpreter"]
[{"$f":"HYPERLINK(\"http://sdlegislature.gov/Rules/DisplayRule.aspx?Rule=24:05:25:16\",\"(24:05:25:16)\")","v":"(24:05:25:16)"},null,null,null,null,null,null,"LEA Representative"]
[null,null,null,null,null,null,null,"List Others"]
[null,null,null,null,null,null,null,"List Others"]
[null,null,null,null,null,null,null,"List Others"]
[]
["IEP Team Attendance \n (24:05:27:01.05)",null,null,null,null,null,"A member of the IEP team may be excused from attending, in whole or in part, an IEP team meeting that involves a modification to or discussion of the member's area of the curriculum or related services, if:\n   (1) The parent and school district consent in writing to the excusal; and\n   (2) The member submits, in writing to the parent and the IEP team, input into the development of the IEP before the meeting.",null,null,null,null,null,null,null,null,null,null,null,"Select","V194",null,null,null,null,{"$f":"S197","v":"Select"},{"$f":"S197","v":"Select"}]
[null,null,null,null,null,null,null,null,null,null,null,null,null,null,null,null,null,null,null,null,null,null,null,{"$f":"Y198+Z198","v":0},{"$f":"COUNTIF(Y197,\"Yes\")*3","v":0},{"$f":"COUNTIF(Z197,\"No\")*3","v":0}]
[]
[]
[]
[]
[{"$f":"HYPERLINK(\"https://gosynth.com/p/s/jshfqs\",\"          Individual Education Plan (Use the most recent IEP.)\n\")","v":"          Individual Education Plan (Use the most recent IEP.)\n"},null,null,null,null,null,null,null,null,null,null,null,null,null,null,null,null,null,{"$f":"IFERROR(Y210/X210,\"N/A\")","v":"N/A"}]
[{"$f":"HYPERLINK(\"http://sdlegislature.gov/Rules/DisplayRule.aspx?Rule=24:05:25:04.03\",\"Evaluation Reports Given to Parents \n(24:05:25:04.03)\")","v":"Evaluation Reports Given to Parents \n(24:05:25:04.03)"},null,null,null,null,null,"Evidence the parent received a copy of the reports (e.g.  initials on the front page IEP or other evidence). ",null,null,null,null,null,null,null,null,null,null,null,"Select","V201",null,null,null,null,{"$f":"S204","v":"Select"},{"$f":"S204","v":"Select"}]
[null,null,null,null,null,null,null,null,null,null,null,null,null,null,null,null,null,null,null,null,null,null,null,{"$f":"Y205+Z205","v":0},{"$f":"COUNTIF(Y204,\"Yes\")*3","v":0},{"$f":"COUNTIF(Z204,\"No\")*3","v":0}]
[{"$f":"HYPERLINK(\"http://sdlegislature.gov/Rules/DisplayRule.aspx?Rule=24:05:25:19\",\"Copy of IEP Given to Parents \n(24:05:25:19)\")","v":"Copy of IEP Given to Parents \n(24:05:25:19)"},null,null,null,null,null,"Evidence copy of the IEP was given to parents (e.g.  initials on the front page, addressed in PPWN, or other evidence).",null,null,null,null,null,null,null,null,null,null,null,"Select",null,null,null,null,null,{"$f":"S206","v":"Select"},{"$f":"S206","v":"Select"}]
[null,null,null,null,null,null,null,null,null,null,null,null,null,null,null,null,null,null,null,null,null,null,null,{"$f":"Y207+Z207","v":0},{"$f":"COUNTIF(Y206,\"Yes\")*3","v":0},{"$f":"COUNTIF(Z206,\"No\")*3","v":0}]
[{"$f":"HYPERLINK(\"http://sdlegislature.gov/Rules/DisplayRule.aspx?Rule=24:05:27:08\",\"Met Annually\n(24:05:27:08)\")","v":"Met Annually\n(24:05:27:08)"},null,null,null,null,null,"Current IEP Meeting Date:",null,null,null,null,{"$f":"T5","v":"00:00:00"},null,null,null,null,null,null,"Select",null,null,null,null,null,{"$f":"S208","v":"Select"},{"$f":"S208","v":"Select"}]
[null,null,null,null,null,null,"Previous IEP Meeting Date:",null,null,null,null,{"$f":"T6","v":"00:00:00"},null,null,null,null,null,null,null,null,null,null,null,{"$f":"Y209+Z209","v":0},{"$f":"COUNTIF(Y208,\"Yes\")*3","v":0},{"$f":"COUNTIF(Z208,\"No\")*3","v":0}]
[null,null,null,null,null,null,null,null,null,null,null,null,null,null,null,null,null,null,null,null,null,null,null,{"$f":"(X205+X207+X209)/3","v":0},{"$f":"(Y205+Y207+Y209)/3","v":0}]
[{"$f":"HYPERLINK(\"https://gosynth.com/p/s/eypdgf\",\"Present Levels of Academic Achievement & Functional Performance\")","v":"Present Levels of Academic Achievement & Functional Performance"},null,null,null,null,null,null,null,null,null,null,null,null,null,null,null,null,null,{"$f":"IFERROR(Y243/X243,\"N/A\")","v":"N/A"}]
[{"$f":"HYPERLINK(\"http://sdlegislature.gov/Rules/DisplayRule.aspx?Rule=24:05:27:01.03\",\"Progress/Involvement in \nGeneral Education Curriculum\n(24:05:27:01.03)\")","v":"Progress/Involvement in \nGeneral Education Curriculum\n(24:05:27:01.03)"},null,null,null,null,null,"A statement of the student's present levels of academic achievement and functional performance, including:\n   (a)  How the student's disability affects the student's involvement and progress in the general education curriculum (i.e., the same curriculum as for nondisabled students); or\n   (b)  For preschool student, as appropriate, how the disability affects the student's participation in appropriate activities;\nis found in the document.",null,null,null,null,null,null,null,null,null,null,null,"Select","V209",null,null,null,null,{"$f":"S212","v":"Select"},{"$f":"S212","v":"Select"}]
[null,null,null,null,null,null,null,null,null,null,null,null,null,null,null,null,null,null,null,null,null,null,null,{"$f":"Y213+Z213","v":0},{"$f":"COUNTIF(Y212,\"Yes\")*3","v":0},{"$f":"COUNTIF(Z212,\"No\")*3","v":0}]
[]
[{"$f":"HYPERLINK(\"https://sdlegislature.gov/Rules/DisplayRule.aspx?Rule=24:05:25:16\",\"Parent Participation\n(24:05:25:16)\")","v":"Parent Participation\n(24:05:25:16)"},null,null,null,null,null,"The purpose of this area for parent to provide IEP team information about how the child’s disability is impacted at home. Parents can also provide input on types of strategies and supports they provide at home.",null,null,null,null,null,null,null,null,null,null,null,"Select",null,null,null,null,null,{"$f":"S215","v":"Select"},{"$f":"S215","v":"Select"}]
[null,null,null,null,null,null,null,null,null,null,null,null,null,null,null,null,null,null,null,null,null,null,null,{"$f":"Y216+Z216","v":0},{"$f":"COUNTIF(Y215,\"Yes\")*3","v":0},{"$f":"COUNTIF(Z215,\"No\")*3","v":0}]
[{"$f":"HYPERLINK(\"http://sdlegislature.gov/Rules/DisplayRule.aspx?Rule=24:05:27:01.03\",\"Present Levels of \nAcademic Achievement \n& Functional Performance\nLinked to Annual Goals\n(24:05:27:01.03)\")","v":"Present Levels of \nAcademic Achievement \n& Functional Performance\nLinked to Annual Goals\n(24:05:27:01.03)"},null,null,null,null,null,"Skill Area:",null,null,null,null,"Measuarable Goal:",null,null,null,null,null,null,"Select","V214",null,null,null,null,{"$f":"S217","v":"Select"},{"$f":"S217","v":"Select"}]
[null,null,null,null,null,null,null,null,null,null,null,null,null,null,null,null,null,null,null,null,null,null,null,{"$f":"Y218+Z218","v":0},{"$f":"COUNTIF(Y217,\"Yes\")*3","v":0},{"$f":"COUNTIF(Z217,\"No\")*3","v":0}]
[null,null,null,null,null,null,null,"Strengths",null,null,null,null,"Condition",null,null,"How well"]
[null,null,null,null,null,null,null,"Needs",null,null,null,null,"Performance",null,null,"How often"]
[null,null,null,null,null,null,null,"Link to evaluation"]
[]
[null,null,null,null,null,null,"Skill Area:",null,null,null,null,"Measuarable Goal:",null,null,null,null,null,null,"Select",null,null,null,null,null,{"$f":"S223","v":"Select"},{"$f":"S223","v":"Select"}]
[null,null,null,null,null,null,null,null,null,null,null,null,null,null,null,null,null,null,null,null,null,null,null,{"$f":"Y224+Z224","v":0},{"$f":"COUNTIF(Y223,\"Yes\")*3","v":0},{"$f":"COUNTIF(Z223,\"No\")*3","v":0}]
[null,null,null,null,null,null,null,"Strengths",null,null,null,null,"Condition",null,null,"How well"]
[null,null,null,null,null,null,null,"Needs",null,null,null,null,"Performance",null,null,"How often"]
[null,null,null,null,null,null,null,"Link to evaluation"]
[]
[null,null,null,null,null,null,"Skill Area:",null,null,null,null,"Measuarable Goal:",null,null,null,null,null,null,"Select",null,null,null,null,null,{"$f":"S229","v":"Select"},{"$f":"S229","v":"Select"}]
[null,null,null,null,null,null,null,null,null,null,null,null,null,null,null,null,null,null,null,null,null,null,null,{"$f":"Y230+Z230","v":0},{"$f":"COUNTIF(Y229,\"Yes\")*3","v":0},{"$f":"COUNTIF(Z229,\"No\")*3","v":0}]
[null,null,null,null,null,null,null,"Strengths",null,null,null,null,"Condition",null,null,"How well"]
[null,null,null,null,null,null,null,"Needs",null,null,null,null,"Performance",null,null,"How often"]
[null,null,null,null,null,null,null,"Link to evaluation"]
[]
[{"$f":"HYPERLINK(\"http://sdlegislature.gov/Rules/DisplayRule.aspx?Rule=24:05:27:01.03\",\"How Progress will be Measured\n(24:05:27:01.03)\")","v":"How Progress will be Measured\n(24:05:27:01.03)"},null,null,null,null,null,{"$f":"HYPERLINK(\"https://gosynth.com/p/s/psaxcx\",\"         Check the following:\")","v":"         Check the following:"},null,null,null,null,null,null,null,null,null,null,null,"Select","V232",null,null,null,null,{"$f":"S235","v":"Select"},{"$f":"S235","v":"Select"}]
[null,null,null,null,null,null,null,null,null,null,null,null,null,null,null,null,null,null,null,null,null,null,null,{"$f":"Y236+Z236","v":0},{"$f":"COUNTIF(Y235,\"Yes\")*3","v":0},{"$f":"COUNTIF(Z235,\"No\")*3","v":0}]
[null,null,null,null,null,null,null,"Reporting frequency",null,null,null,null,"Extent of progress"]
[null,null,null,null,null,null,null,"Reporting method"]
[]
[{"$f":"HYPERLINK(\"http://sdlegislature.gov/Rules/DisplayRule.aspx?Rule=24:05:27:01.03\",\"Accommodations/Modifications\n(24:05:27:01.03)\")","v":"Accommodations/Modifications\n(24:05:27:01.03)"},null,null,null,null,null,{"$f":"HYPERLINK(\"https://gosynth.com/p/s/rtpvrq\",\"         Check the following:\")","v":"         Check the following:"},null,null,null,null,"List Instructional Accommodations:",null,null,null,null,null,null,"Select","V237",null,null,null,null,{"$f":"S240","v":"Select"},{"$f":"S240","v":"Select"}]
[null,null,null,null,null,null,null,"Frequency",null,null,null,null,null,null,null,null,null,null,null,null,null,null,null,{"$f":"Y241+Z241","v":0},{"$f":"COUNTIF(Y240,\"Yes\")*3","v":0},{"$f":"COUNTIF(Z240,\"No\")*3","v":0}]
[null,null,null,null,null,null,null,"Duration"]
[null,null,null,null,null,null,null,"Location",null,null,null,null,null,null,null,null,null,null,null,null,null,null,null,{"$f":"(X241+X236+X230+X224+X218+X216+X213)/7","v":0},{"$f":"(Y241+Y236+Y230+Y224+Y218+Y216+Y213)/7","v":0}]
[]
[]
[null,null,null,null,null,null,null,"Are the accommodations appropriate for the skill areas affected by the diability?"]
[]
[]
[]
[null,null,null,null,null,null,null,null,"Yes"]
[null,null,null,null,null,null,null,null,"No"]
[]
[]
[]
[{"$f":"HYPERLINK(\"https://gosynth.com/p/s/ygpazf\",\"Special Factors\")","v":"Special Factors"},null,null,null,null,null,null,null,null,null,null,null,null,null,null,null,null,null,{"$f":"IFERROR(Y294/X294,\"N/A\")","v":"N/A"}]
[{"$f":"HYPERLINK(\"http://sdlegislature.gov/Rules/DisplayRule.aspx?Rule=24:05:27:01.02\",\"Considerations\n(24:05:27:01.02)\")","v":"Considerations\n(24:05:27:01.02)"},null,null,null,null,null,"Select for each:",null,null,"Determine if data supports the selection for each special factor; if not addressed, check \"N\"  for score.",null,null,null,null,null,null,null,null,"Select","V243",null,null,null,null,{"$f":"S256","v":"Select"},{"$f":"S256","v":"Select"}]
[null,null,null,null,null,null,null,null,null,null,null,null,null,null,null,null,null,null,null,null,null,null,null,{"$f":"Y257+Z257","v":0},{"$f":"COUNTIF(Y256,\"Yes\")*3","v":0},{"$f":"COUNTIF(Z256,\"No\")*3","v":0}]
[null,null,null,null,null,null,null,null,null,"Limited English proficient"]
[null,null,null,null,null,null,null,null,null,"Special communication needs"]
[null,null,null,null,null,null,null,null,null,"Requires Braille"]
[null,null,null,null,null,null,null,null,null,"Behavior impedes learning"]
[null,null,null,null,null,null,null,null,null,"Requires assistive technology & services"]
[null,null,null,null,null,null,null,null,null,"Physical education"]
[null,null,null,null,null,null,null,null,null,"Hearing aid maintenance"]
[{"$f":"HYPERLINK(\"http://sdlegislature.gov/Rules/DisplayRule.aspx?Rule=24:05:27:01.03\",\"State/District Assessments\n(24:05:27:01.03)\")","v":"State/District Assessments\n(24:05:27:01.03)"},null,null,null,null,null,{"$f":"HYPERLINK(\"https://gosynth.com/p/s/jdbbir\",\"             Students will be taking state and district-wide assessments:\")","v":"             Students will be taking state and district-wide assessments:"},null,null,null,null,null,null,null,null,null,null,null,"Select","V263",null,null,null,null,{"$f":"S265","v":"Select"},{"$f":"S265","v":"Select"}]
[null,null,null,null,null,null,null,"With accommodations",null,null,null,null,"Without accommodations",null,null,null,null,null,null,null,null,null,null,{"$f":"Y266+Z266","v":0},{"$f":"COUNTIF(Y265,\"Yes\")*3","v":0},{"$f":"COUNTIF(Z265,\"No\")*3","v":0}]
[null,null,null,null,null,null,"Testing accommodations must reflect instructional accommodations."]
[null,null,null,null,null,null,"Do the accommodations for the state/district assesment(s) \nmatch the instructional accommodations?"]
[]
[null,null,null,null,null,null,"Instructional \nAccommodations",null,null,null,"State/District\nAssessment\nAccommodations",null,null,null,"Select\nyes or no:"]
[]
[]
[null,null,null,null,null,null,{"$f":"L241","v":0},null,null,null,null,null,null,null,"- Select -"]
[null,null,null,null,null,null,0,null,null,null,null,null,null,null,"- Select -"]
[null,null,null,null,null,null,0,null,null,null,null,null,null,null,"- Select -"]
[null,null,null,null,null,null,0,null,null,null,null,null,null,null,"- Select -"]
[null,null,null,null,null,null,0]
[null,null,null,null,null,null,0,null,null,null,null,null,null,null,"- Select -"]
[null,null,null,null,null,null,0,null,null,null,null,null,null,null,"- Select -"]
[null,null,null,null,null,null,0]
[null,null,null,null,null,null,0]
[null,null,null,null,null,null,0,null,null,null,null,null,null,null,"- Select -"]
[null,null,null,null,null,null,0,null,null,null,null,null,null,null,"- Select -"]
[null,null,null,null,null,null,0,null,null,null,null,null,null,null,"- Select -"]
[null,null,null,null,null,null,0,null,null,null,null,null,null,null,"- Select -"]
[null,null,null,null,null,null,0,null,null,null,null,null,null,null,"- Select -"]
[null,null,null,null,null,null,"Were the accommodations for\n the state assessment identified \non the IEP provided according to \nthe assessment data sheet?"]
[null,null,null,null,null,null,null,null,null,null,null,null,null,"- Select -"]
[]
[{"$f":"HYPERLINK(\"http://sdlegislature.gov/Rules/DisplayRule.aspx?Rule=24:05:27:01.03\",\"Alternate Assessments\n(24:05:27:01.03)\")","v":"Alternate Assessments\n(24:05:27:01.03)"},null,null,null,null,null,{"$f":"HYPERLINK(\"https://gosynth.com/p/s/bjlejx\",\"                  The following must be met:\")","v":"                  The following must be met:"},null,null,null,null,null,null,null,null,null,null,null,"Select","V257",null,null,null,null,{"$f":"S290","v":"Select"},{"$f":"S290","v":"Select"}]
[null,null,null,null,null,null,null,null,null,null,null,null,null,null,null,null,null,null,null,null,null,null,null,{"$f":"Y291+Z291","v":0},{"$f":"COUNTIF(Y290,\"Yes\")*3","v":0},{"$f":"COUNTIF(Z290,\"No\")*3","v":0}]
[null,null,null,null,null,null,null,"Student meets the significant cognitive disability criteria"]
[null,null,null,null,null,null,null,"Explanation for why student cannot participate in the regular assessment"]
[null,null,null,null,null,null,null,null,null,null,null,null,null,null,null,null,null,null,null,null,null,null,null,{"$f":"(X291+X266+X257)/3","v":0},{"$f":"(Y291+Y266+Y257)/3","v":0}]
[null,null,null,null,null,null,null,"Explanation for why the alternate assessment selected is appropriate"]
[]
[null,null,null,null,null,null,null,"The alternate assessment is for students working in the alternate achievement standards.  Annual goals and short term objectives are required.                                                                         \n                                                                        "]
[]
[]
[null,null,null,null,null,null,"Does the PPWN explain why IEP team decided alternate assessment for the student?"]
[null,null,null,null,null,null,"Does the student taking the\n alternate assessment meet\n the criteria, has it been \ndocumented on the IEP?"]
[null,null,null,null,null,null,null,null,null,null,null,null,null,"- Select -"]
[]
[]
[{"$f":"HYPERLINK(\"https://gosynth.com/p/s/itwkve\",\"Transition\")","v":"Transition"},null,null,null,null,null,null,null,null,null,null,null,null,null,null,null,null,null,{"$f":"IFERROR(Y306/X306,\"N/A\")","v":"N/A"}]
["Indicator 13 Item 1",null,null,null,null,null,null,null,null,null,null,null,null,null,null,null,null,null,null,null,null,null,null,{"$f":"(X308+X310+X312+X314+X316+X319+X321+X323+X326+X329+X331+X333+X336+X338+X340+X343+X345+X347+X350+X356+X362+X364+X366+X369)/24","v":0},{"$f":"(Y308+Y310+Y312+Y314+Y316+Y319+Y321+Y323+Y326+Y329+Y331+Y333+Y336+Y338+Y340+Y343+Y345+Y347+Y350+Y356+Y362+Y364+Y366+Y369)/24","v":0}]
[{"$f":"HYPERLINK(\"http://sdlegislature.gov/Rules/DisplayRule.aspx?Rule=24:05:27:01.03\",\"Transition IEP*\n(24:05:27:01.03)\")","v":"Transition IEP*\n(24:05:27:01.03)"},null,null,null,null,null,{"$f":"HYPERLINK(\"https://gosynth.com/p/s/itwkve\",\"Transition IEP must be in effect for all students on their 16 birthday or for younger students if it is addressed in the IEP.   \n*This is not on the Indicator 13 checklist, but it is a compliance requirement. \")","v":"Transition IEP must be in effect for all students on their 16 birthday or for younger students if it is addressed in the IEP.   \n*This is not on the Indicator 13 checklist, but it is a compliance requirement. "},null,null,null,null,null,null,null,null,null,null,null,"Select","V269",null,null,null,null,{"$f":"S307","v":"Select"},{"$f":"S307","v":"Select"}]
[null,null,null,null,null,null,null,null,null,null,null,null,null,null,null,null,null,null,null,null,null,null,null,{"$f":"Y308+Z308","v":0},{"$f":"COUNTIF(Y307,\"Yes\")*3","v":0},{"$f":"COUNTIF(Z307,\"No\")*3","v":0}]
[null,null,null,null,null,null,null,null,null,null,null,null,null,null,null,null,null,null,"Select",null,null,null,null,null,{"$f":"S309","v":"Select"},{"$f":"S309","v":"Select"}]
[{"$f":"HYPERLINK(\"http://sdlegislature.gov/Rules/DisplayRule.aspx?Rule=24:05:27:01.03\",\"Transition Assessments\n(24:05:27:01.03)\")","v":"Transition Assessments\n(24:05:27:01.03)"},null,null,null,null,null,null,"Employment",null,null,null,null,null,null,null,null,null,null,null,null,null,null,null,{"$f":"Y310+Z310","v":0},{"$f":"COUNTIF(Y309,\"Yes\")*3","v":0},{"$f":"COUNTIF(Z309,\"No\")*3","v":0}]
[null,null,null,null,null,null,null,null,null,null,null,null,null,null,null,null,null,null,"Select",null,null,null,null,null,{"$f":"S311","v":"Select"},{"$f":"S311","v":"Select"}]
[null,null,null,null,null,null,null,"Education/Training",null,null,null,null,null,null,null,null,null,null,null,null,null,null,null,{"$f":"Y312+Z312","v":0},{"$f":"COUNTIF(Y311,\"Yes\")*3","v":0},{"$f":"COUNTIF(Z311,\"No\")*3","v":0}]
[null,null,null,null,null,null,null,"Independent Living",null,null,null,null,null,null,null,null,null,null,"Select",null,null,null,null,null,{"$f":"S313","v":"Select"},{"$f":"S313","v":"Select"}]
[null,null,null,null,null,null,{"$f":"HYPERLINK(\"https://gosynth.com/p/s/itwkve\",\"The transition assessment must be completed prior to the age of 16 and updated annually.  Evidence of transition strengths/ needs are document on the PLAAFPs.  \")","v":"The transition assessment must be completed prior to the age of 16 and updated annually.  Evidence of transition strengths/ needs are document on the PLAAFPs.  "},null,null,null,null,null,null,null,null,null,null,null,null,null,null,null,null,{"$f":"Y314+Z314","v":0},{"$f":"COUNTIF(Y313,\"Yes\")*3","v":0},{"$f":"COUNTIF(Z313,\"No\")*3","v":0}]
["Transition Evaluation Report*\n",null,null,null,null,null,{"$f":"HYPERLINK(\"https://gosynth.com/p/s/itwkve\",\"A transition evaluation report is located in the file.\n\n*This is not on the Indicator 13 checklist, but it is a compliance requirement. \")","v":"A transition evaluation report is located in the file.\n\n*This is not on the Indicator 13 checklist, but it is a compliance requirement. "},null,null,null,null,null,null,null,null,null,null,null,"Select",null,null,null,null,null,{"$f":"S315","v":"Select"},{"$f":"S315","v":"Select"}]
[null,null,null,null,null,null,null,null,null,null,null,null,null,null,null,null,null,null,null,null,null,null,null,{"$f":"Y316+Z316","v":0},{"$f":"COUNTIF(Y315,\"Yes\")*3","v":0},{"$f":"COUNTIF(Z315,\"No\")*3","v":0}]
[{"$f":"HYPERLINK(\"https://gosynth.com/p/s/itwkve\",\"Indicator 13 Item 2\")","v":"Indicator 13 Item 2"}]
[{"$f":"HYPERLINK(\"http://sdlegislature.gov/Rules/DisplayRule.aspx?Rule=24:05:27:01.03\",\"Age-Appropriate Measurable \nPost-Secondary Goals \n(24:05:27:01.03)\")","v":"Age-Appropriate Measurable \nPost-Secondary Goals \n(24:05:27:01.03)"},null,null,null,null,null,null,"Employment",null,null,null,null,null,null,null,null,null,null,"Select","V278",null,null,null,null,{"$f":"S318","v":"Select"},{"$f":"S318","v":"Select"}]
[null,null,null,null,null,null,null,null,null,null,null,null,null,null,null,null,null,null,null,null,null,null,null,{"$f":"Y319+Z319","v":0},{"$f":"COUNTIF(Y318,\"Yes\")*3","v":0},{"$f":"COUNTIF(Z318,\"No\")*3","v":0}]
[null,null,null,null,null,null,null,"Education/Training",null,null,null,null,null,null,null,null,null,null,"Select",null,null,null,null,null,{"$f":"S320","v":"Select"},{"$f":"S320","v":"Select"}]
[null,null,null,null,null,null,null,null,null,null,null,null,null,null,null,null,null,null,null,null,null,null,null,{"$f":"Y321+Z321","v":0},{"$f":"COUNTIF(Y320,\"Yes\")*3","v":0},{"$f":"COUNTIF(Z320,\"No\")*3","v":0}]
[null,null,null,null,null,null,null,"Independent Living",null,null,null,null,null,null,null,null,null,null,"Select",null,null,null,null,null,{"$f":"S322","v":"Select"},{"$f":"S322","v":"Select"}]
[null,null,null,null,null,null,null,null,null,null,null,null,null,null,null,null,null,null,null,null,null,null,null,{"$f":"Y323+Z323","v":0},{"$f":"COUNTIF(Y322,\"Yes\")*3","v":0},{"$f":"COUNTIF(Z322,\"No\")*3","v":0}]
[{"$f":"HYPERLINK(\"https://gosynth.com/p/s/itwkve\",\"Indicator 13 Item 3\")","v":"Indicator 13 Item 3"}]
["MPSGs Updated Annually",null,null,null,null,null,null,null,null,null,null,null,null,null,null,null,null,null,"Select","V282",null,null,null,null,{"$f":"S325","v":"Select"},{"$f":"S325","v":"Select"}]
[null,null,null,null,null,null,null,null,null,null,null,null,null,null,null,null,null,null,null,null,null,null,null,{"$f":"Y326+Z326","v":0},{"$f":"COUNTIF(Y325,\"Yes\")*3","v":0},{"$f":"COUNTIF(Z325,\"No\")*3","v":0}]
["Indicator 13 Item 4"]
[{"$f":"HYPERLINK(\"http://sdlegislature.gov/Rules/DisplayRule.aspx?Rule=24:05:27:01.03\",\"Course of Study Aligns to \nPost-Secondary Goals\n(24:05:27:01.03)\")","v":"Course of Study Aligns to \nPost-Secondary Goals\n(24:05:27:01.03)"},null,null,null,null,null,null,"Employment",null,null,null,null,null,null,null,null,null,null,"Select","V285",null,null,null,null,{"$f":"S328","v":"Select"},{"$f":"S328","v":"Select"}]
[null,null,null,null,null,null,null,null,null,null,null,null,null,null,null,null,null,null,null,null,null,null,null,{"$f":"Y329+Z329","v":0},{"$f":"COUNTIF(Y328,\"Yes\")*3","v":0},{"$f":"COUNTIF(Z328,\"No\")*3","v":0}]
[null,null,null,null,null,null,null,"Education/Training",null,null,null,null,null,null,null,null,null,null,"Select",null,null,null,null,null,{"$f":"S330","v":"Select"},{"$f":"S330","v":"Select"}]
[null,null,null,null,null,null,null,null,null,null,null,null,null,null,null,null,null,null,null,null,null,null,null,{"$f":"Y331+Z331","v":0},{"$f":"COUNTIF(Y330,\"Yes\")*3","v":0},{"$f":"COUNTIF(Z330,\"No\")*3","v":0}]
[null,null,null,null,null,null,null,"Independent Living",null,null,null,null,null,null,null,null,null,null,"Select",null,null,null,null,null,{"$f":"S332","v":"Select"},{"$f":"S332","v":"Select"}]
[null,null,null,null,null,null,"Completed by age 16, or younger if transition has been addressed in the IEP, and updated annually through graduation or ‘age out’.",null,null,null,null,null,null,null,null,null,null,null,null,null,null,null,null,{"$f":"Y333+Z333","v":0},{"$f":"COUNTIF(Y332,\"Yes\")*3","v":0},{"$f":"COUNTIF(Z332,\"No\")*3","v":0}]
[{"$f":"HYPERLINK(\"https://gosynth.com/p/s/itwkve\",\"Indicator 13 Item 5\")","v":"Indicator 13 Item 5"}]
[{"$f":"HYPERLINK(\"http://sdlegislature.gov/Rules/DisplayRule.aspx?Rule=24:05:27:13.02\",\"Transition Services/Activities\n(24:05:27:13.02)\")","v":"Transition Services/Activities\n(24:05:27:13.02)"},null,null,null,null,null,null,"Employment",null,null,null,null,null,null,null,null,null,null,"Select","V290",null,null,null,null,{"$f":"S335","v":"Select"},{"$f":"S335","v":"Select"}]
[null,null,null,null,null,null,null,null,null,null,null,null,null,null,null,null,null,null,null,null,null,null,null,{"$f":"Y336+Z336","v":0},{"$f":"COUNTIF(Y335,\"Yes\")*3","v":0},{"$f":"COUNTIF(Z335,\"No\")*3","v":0}]
[null,null,null,null,null,null,null,"Education/Training",null,null,null,null,null,null,null,null,null,null,"Select",null,null,null,null,null,{"$f":"S337","v":"Select"},{"$f":"S337","v":"Select"}]
[null,null,null,null,null,null,null,null,null,null,null,null,null,null,null,null,null,null,null,null,null,null,null,{"$f":"Y338+Z338","v":0},{"$f":"COUNTIF(Y337,\"Yes\")*3","v":0},{"$f":"COUNTIF(Z337,\"No\")*3","v":0}]
[null,null,null,null,null,null,null,"Independent Living",null,null,null,null,null,null,null,null,null,null,"Select",null,null,null,null,null,{"$f":"S339","v":"Select"},{"$f":"S339","v":"Select"}]
[null,null,null,null,null,null,"Services/activities will reasonably enable the student to meet post-secondary goals and have at least one activity per MPSG addressed.",null,null,null,null,null,null,null,null,null,null,null,null,null,null,null,null,{"$f":"Y340+Z340","v":0},{"$f":"COUNTIF(Y339,\"Yes\")*3","v":0},{"$f":"COUNTIF(Z339,\"No\")*3","v":0}]
[{"$f":"HYPERLINK(\"https://gosynth.com/p/s/itwkve\",\"Indicator 13 Item 6\")","v":"Indicator 13 Item 6"}]
[{"$f":"HYPERLINK(\"http://sdlegislature.gov/Rules/DisplayRule.aspx?Rule=24:05:27:13.02\",\"Annual Goal Related to Student’s Transition Service needs in\n(24:05:27:13.02)\")","v":"Annual Goal Related to Student’s Transition Service needs in\n(24:05:27:13.02)"},null,null,null,null,null,null,"Employment",null,null,null,null,null,null,null,null,null,null,"Select","V295",null,null,null,null,{"$f":"S342","v":"Select"},{"$f":"S342","v":"Select"}]
[null,null,null,null,null,null,null,null,null,null,null,null,null,null,null,null,null,null,null,null,null,null,null,{"$f":"Y343+Z343","v":0},{"$f":"COUNTIF(Y342,\"Yes\")*3","v":0},{"$f":"COUNTIF(Z342,\"No\")*3","v":0}]
[null,null,null,null,null,null,null,"Education/Training",null,null,null,null,null,null,null,null,null,null,"Select",null,null,null,null,null,{"$f":"S344","v":"Select"},{"$f":"S344","v":"Select"}]
[null,null,null,null,null,null,null,null,null,null,null,null,null,null,null,null,null,null,null,null,null,null,null,{"$f":"Y345+Z345","v":0},{"$f":"COUNTIF(Y344,\"Yes\")*3","v":0},{"$f":"COUNTIF(Z344,\"No\")*3","v":0}]
[null,null,null,null,null,null,null,"Independent Living",null,null,null,null,null,null,null,null,null,null,"Select",null,null,null,null,null,{"$f":"S346","v":"Select"},{"$f":"S346","v":"Select"}]
[null,null,null,null,null,null,{"$f":"HYPERLINK(\"https://gosynth.com/p/s/itwkve\",\"Annual goals are linked to the MPSGs.\")","v":"Annual goals are linked to the MPSGs."},null,null,null,null,null,null,null,null,null,null,null,null,null,null,null,null,{"$f":"Y347+Z347","v":0},{"$f":"COUNTIF(Y346,\"Yes\")*3","v":0},{"$f":"COUNTIF(Z346,\"No\")*3","v":0}]
[{"$f":"HYPERLINK(\"https://gosynth.com/p/s/pisllo\",\"Indicator 13 Item 7\")","v":"Indicator 13 Item 7"}]
[{"$f":"HYPERLINK(\"http://sdlegislature.gov/Rules/DisplayRule.aspx?Rule=24:05:25:16.01\",\"Student Invitation/Participation\n(24:05:25:16.01)\")","v":"Student Invitation/Participation\n(24:05:25:16.01)"},null,null,null,null,null,"How the student invited?",null,null,null,null,{"$f":"HYPERLINK(\"https://gosynth.com/p/s/pisllo\",\"If student was not in attendance at the meeting, the IEP should show evidence that student's preferences and interests were taken into account. *\")","v":"If student was not in attendance at the meeting, the IEP should show evidence that student's preferences and interests were taken into account. *"},null,null,null,null,null,null,"Select","V300",null,null,null,null,{"$f":"S349","v":"Select"},{"$f":"S349","v":"Select"}]
[null,null,null,null,null,null,null,null,null,null,null,null,null,null,null,null,null,null,null,null,null,null,null,{"$f":"Y350+Z350","v":0},{"$f":"COUNTIF(Y349,\"Yes\")*3","v":0},{"$f":"COUNTIF(Z349,\"No\")*3","v":0}]
[null,null,null,null,null,null,null,"Meeting notice"]
[null,null,null,null,null,null,null,"Individual student invite"]
[]
[{"$f":"HYPERLINK(\"https://gosynth.com/p/s/pisllo\",\"Indicator 13 Item 8\")","v":"Indicator 13 Item 8"}]
[{"$f":"HYPERLINK(\"http://sdlegislature.gov/Rules/DisplayRule.aspx?Rule=24:05:25:16.01\",\"Consent to Invite Outside Agency\n(24:05:25:16.01)\")","v":"Consent to Invite Outside Agency\n(24:05:25:16.01)"},null,null,null,null,null,{"$f":"HYPERLINK(\"https://gosynth.com/p/s/pisllo\",\" Written Consent to invite:\")","v":" Written Consent to invite:"},null,null,null,null,null,null,"List of agencies invited:",null,null,null,null,"Select","V306",null,null,null,null,{"$f":"S355","v":"Select"},{"$f":"S355","v":"Select"}]
[null,null,null,null,null,null,"Invited on Meeting Notice:",null,null,null,null,null,"Yes",null,null,null,null,null,null,null,null,null,null,{"$f":"Y356+Z356","v":0},{"$f":"COUNTIF(Y355,\"Yes\")*3","v":0},{"$f":"COUNTIF(Z355,\"No\")*3","v":0}]
[null,null,null,null,null,null,null,null,null,null,null,null,"No"]
[null,null,null,null,null,null,"Meeting Notice Date:",null,null,null,null,{"$f":"J177","v":"00:00:00"}]
[null,null,null,null,null,null,"Date of Current IEP Meeting:",null,null,null,null,{"$f":"T5","v":"00:00:00"}]
[{"$f":"HYPERLINK(\"https://gosynth.com/p/s/pisllo\",\"Other Transition Areas *\")","v":"Other Transition Areas *"}]
[{"$f":"HYPERLINK(\"http://sdlegislature.gov/Rules/DisplayRule.aspx?Rule=24:05:30:16.01\",\"Transfer of Parental Rights:\n(24:05:30:16.01)\")","v":"Transfer of Parental Rights:\n(24:05:30:16.01)"},null,null,null,null,null,"Turned 17 on:",null,null,null,null,null,null,null,null,null,null,null,"Select","V312",null,null,null,null,{"$f":"S361","v":"Select"},{"$f":"S361","v":"Select"}]
[null,null,null,null,null,null,"Rights reviewed on:",null,null,null,null,null,null,null,null,null,null,null,null,null,null,null,null,{"$f":"Y362+Z362","v":0},{"$f":"COUNTIF(Y361,\"Yes\")*3","v":0},{"$f":"COUNTIF(Z361,\"No\")*3","v":0}]
[{"$f":"HYPERLINK(\"http://sdlegislature.gov/Rules/DisplayRule.aspx?Rule=24:05:27:12\",\"Specific Graduation Requirements:\n(24:05:27:12)\")","v":"Specific Graduation Requirements:\n(24:05:27:12)"},null,null,null,null,null,"Graduation requirements addressed on:",null,null,null,null,null,null,null,null,null,null,null,"Select",null,null,null,null,null,{"$f":"S363","v":"Select"},{"$f":"S363","v":"Select"}]
[null,null,null,null,null,null,"Student is projected to graduate:",null,null,null,null,null,null,null,null,null,null,null,null,null,null,null,null,{"$f":"Y364+Z364","v":0},{"$f":"COUNTIF(Y363,\"Yes\")*3","v":0},{"$f":"COUNTIF(Z363,\"No\")*3","v":0}]
[{"$f":"HYPERLINK(\"http://sdlegislature.gov/Rules/DisplayRule.aspx?Rule=24:05:27:12\",\"When Student has Graduated\n(24:05:27:12)\")","v":"When Student has Graduated\n(24:05:27:12)"},null,null,null,null,null,"Written prior notice was sent:",null,null,null,null,null,null,null,null,null,null,null,"Select",null,null,null,null,null,{"$f":"S365","v":"Select"},{"$f":"S365","v":"Select"}]
[null,null,null,null,null,null,{"$f":"HYPERLINK(\"https://gosynth.com/p/s/pisllo\",\"When a student graduates, it is a change in placement. It must have a written\n prior notice sent.  If student has \"\"aged-out\"\", a PPWN is required.  \")","v":"When a student graduates, it is a change in placement. It must have a written\n prior notice sent.  If student has \"aged-out\", a PPWN is required.  "},null,null,null,null,null,null,null,null,null,null,null,null,null,null,null,null,{"$f":"Y366+Z366","v":0},{"$f":"COUNTIF(Y365,\"Yes\")*3","v":0},{"$f":"COUNTIF(Z365,\"No\")*3","v":0}]
[]
[{"$f":"HYPERLINK(\"http://sdlegislature.gov/Rules/DisplayRule.aspx?Rule=24:05:27:12\",\"Summary of Performance was provided to the Student/Parent/Guardian\n(24:05:27:12)\")","v":"Summary of Performance was provided to the Student/Parent/Guardian\n(24:05:27:12)"},null,null,null,null,null,{"$f":"HYPERLINK(\"https://gosynth.com/p/s/pisllo\",\"Summary of Performance (SOP) is required for students who graduated and\n aged out. A copy of the SOP should remain in the file.\")","v":"Summary of Performance (SOP) is required for students who graduated and\n aged out. A copy of the SOP should remain in the file."},null,null,null,null,null,null,null,null,null,null,null,"Select",null,null,null,null,null,{"$f":"S368","v":"Select"},{"$f":"S368","v":"Select"}]
[null,null,null,null,null,null,null,null,null,null,null,null,null,null,null,null,null,null,null,null,null,null,null,{"$f":"Y369+Z369","v":0},{"$f":"COUNTIF(Y368,\"Yes\")*3","v":0},{"$f":"COUNTIF(Z368,\"No\")*3","v":0}]
[]
["Click on the [+] button to expand or the [-] button to collapse."]
[{"$f":"HYPERLINK(\"https://gosynth.com/p/s/kldkzb\",\"Related Services\")","v":"Related Services"},null,null,null,null,null,null,null,null,null,null,null,null,null,null,null,null,null,{"$f":"IFERROR(Y375/X375,\"N/A\")","v":"N/A"}]
[{"$f":"HYPERLINK(\"http://sdlegislature.gov/Rules/DisplayRule.aspx?Rule=24:05:27:16\",\"Related Services\n(24:05:27)\")","v":"Related Services\n(24:05:27)"},null,null,null,null,null,"Service Provided:",null,null,null,null,null,"If student will receive services in a different location, then must break it out to calculate the Least Restrictive Environment.",null,null,null,null,null,"Select","V324",null,null,null,null,{"$f":"S373","v":"Select"},{"$f":"S373","v":"Select"}]
[null,null,null,null,null,null,null,null,null,null,null,null,null,null,null,null,null,null,null,null,null,null,null,{"$f":"Y374+Z374","v":0},{"$f":"COUNTIF(Y373,\"Yes\")*3","v":0},{"$f":"COUNTIF(Z373,\"No\")*3","v":0}]
[null,null,null,null,null,null,null,"Frequency",null,null,"Location",null,null,null,null,null,null,null,null,null,null,null,null,{"$f":"(X374+X379)/2","v":0},{"$f":"(Y374+Y379)/2","v":0}]
[null,null,null,null,null,null,null,"Duration",null,null,"Other"]
[null,null,null,null,null,null,"Service Provided:",null,null,null,null,null,"At a minimum, all areas student qualifies and has an annual goal must have service time documented. If not addressed, then PPWN must explain reason."]
[null,null,null,null,null,null,null,null,null,null,null,null,null,null,null,null,null,null,"Select",null,null,null,null,null,{"$f":"S378","v":"Select"},{"$f":"S378","v":"Select"}]
[null,null,null,null,null,null,null,"Frequency",null,null,"Location",null,null,null,null,null,null,null,null,null,null,null,null,{"$f":"Y379+Z379","v":0},{"$f":"COUNTIF(Y378,\"Yes\")*3","v":0},{"$f":"COUNTIF(Z378,\"No\")*3","v":0}]
[null,null,null,null,null,null,null,"Duration",null,null,"Other"]
[]
["Least Restrictive Environment ",null,null,null,null,null,null,null,null,null,null,null,null,null,null,null,null,null,{"$f":"IFERROR(Y382/X382,\"N/A\")","v":"N/A"},null,null,null,null,{"$f":"(X384+X388+X392+X396+X400+X402+X404+X406+X408)/9","v":0},{"$f":"(Y384+Y388+Y392+Y396+Y400+Y402+Y404+Y406+Y408)/9","v":0}]
[{"$f":"HYPERLINK(\"https://sdlegislature.gov/Rules/DisplayRule.aspx?Rule=24:05:28\",\"Least Restrictive Enviornment \n(Chapter 24:05:28)\")","v":"Least Restrictive Enviornment \n(Chapter 24:05:28)"},null,null,null,null,null,{"$f":"HYPERLINK(\"https://gosynth.com/p/s/llxjsq\",\"Skill area:\")","v":"Skill area:"},null,null,null,null,null,null,null,null,null,null,null,"Select","V334",null,null,null,null,{"$f":"S383","v":"Select"},{"$f":"S383","v":"Select"}]
[null,null,null,null,null,null,null,null,null,null,null,null,null,null,null,null,null,null,null,null,null,null,null,{"$f":"Y384+Z384","v":0},{"$f":"COUNTIF(Y383,\"Yes\")*3","v":0},{"$f":"COUNTIF(Z383,\"No\")*3","v":0}]
[null,null,null,null,null,null,null,null,"Frequency",null,null,"Duration",null,null,"Location"]
[]
[null,null,null,null,null,null,"Skill area:",null,null,null,null,null,null,null,null,null,null,null,"Select",null,null,null,null,null,{"$f":"S387","v":"Select"},{"$f":"S387","v":"Select"}]
[null,null,null,null,null,null,null,null,null,null,null,null,null,null,null,null,null,null,null,null,null,null,null,{"$f":"Y388+Z388","v":0},{"$f":"COUNTIF(Y387,\"Yes\")*3","v":0},{"$f":"COUNTIF(Z387,\"No\")*3","v":0}]
[null,null,null,null,null,null,null,null,"Frequency",null,null,"Duration",null,null,"Location"]
[]
[null,null,null,null,null,null,"Skill area:",null,null,null,null,null,null,null,null,null,null,null,"Select",null,null,null,null,null,{"$f":"S391","v":"Select"},{"$f":"S391","v":"Select"}]
[null,null,null,null,null,null,null,null,null,null,null,null,null,null,null,null,null,null,null,null,null,null,null,{"$f":"Y392+Z392","v":0},{"$f":"COUNTIF(Y391,\"Yes\")*3","v":0},{"$f":"COUNTIF(Z391,\"No\")*3","v":0}]
[null,null,null,null,null,null,null,null,"Frequency",null,null,"Duration",null,null,"Location"]
[]
[null,null,null,null,null,null,"Skill area:",null,null,null,null,null,null,null,null,null,null,null,"Select",null,null,null,null,null,{"$f":"S395","v":"Select"},{"$f":"S395","v":"Select"}]
[null,null,null,null,null,null,null,null,null,null,null,null,null,null,null,null,null,null,null,null,null,null,null,{"$f":"Y396+Z396","v":0},{"$f":"COUNTIF(Y395,\"Yes\")*3","v":0},{"$f":"COUNTIF(Z395,\"No\")*3","v":0}]
[null,null,null,null,null,null,null,null,"Frequency",null,null,"Duration",null,null,"Location"]
[]
[{"$f":"HYPERLINK(\"http://sdlegislature.gov/Rules/DisplayRule.aspx?Rule=24:05:28:02\",\"Continuum of Placement\n(24:05:28:02)\")","v":"Continuum of Placement\n(24:05:28:02)"},null,null,null,null,null,"Select:",null,null,null,null,null,null,null,null,null,null,null,"Select","V350",null,null,null,null,{"$f":"S399","v":"Select"},{"$f":"S399","v":"Select"}]
[null,null,null,null,null,null,null,null,null,null,null,null,null,null,null,null,null,null,null,null,null,null,null,{"$f":"Y400+Z400","v":0},{"$f":"COUNTIF(Y399,\"Yes\")*3","v":0},{"$f":"COUNTIF(Z399,\"No\")*3","v":0}]
[null,null,null,null,null,null,"Select for Early Childhood (Ages 3-5):",null,null,null,null,null,null,null,null,null,null,null,"Select",null,null,null,null,null,{"$f":"S401","v":"Select"},{"$f":"S401","v":"Select"}]
[null,null,null,null,null,null,null,null,null,null,null,null,null,null,null,null,null,null,null,null,null,null,null,{"$f":"Y402+Z402","v":0},{"$f":"COUNTIF(Y401,\"Yes\")*3","v":0},{"$f":"COUNTIF(Z401,\"No\")*3","v":0}]
[{"$f":"HYPERLINK(\"http://sdlegislature.gov/Rules/DisplayRule.aspx?Rule=24:05:27:01.03\",\"Participation with Non-disabled Peers\n(24:05:27:01.03)\")","v":"Participation with Non-disabled Peers\n(24:05:27:01.03)"},null,null,null,null,null,{"$f":"HYPERLINK(\"https://gosynth.com/p/s/wjqcuh\",\"Document opportunities to participate with non-disabled peers.\")","v":"Document opportunities to participate with non-disabled peers."},null,null,null,null,null,null,null,null,null,null,null,"Select",null,null,null,null,null,{"$f":"S403","v":"Select"},{"$f":"S403","v":"Select"}]
[null,null,null,null,null,null,null,null,null,null,null,null,null,null,null,null,null,null,null,null,null,null,null,{"$f":"Y404+Z404","v":0},{"$f":"COUNTIF(Y403,\"Yes\")*3","v":0},{"$f":"COUNTIF(Z403,\"No\")*3","v":0}]
[{"$f":"HYPERLINK(\"http://sdlegislature.gov/Rules/DisplayRule.aspx?Rule=24:05:28:03\",\"Justification for Placement \n(24:05:28:03)\")","v":"Justification for Placement \n(24:05:28:03)"},null,null,null,null,null,{"$f":"HYPERLINK(\"https://gosynth.com/p/s/rjxcoc\",\"                  Select from the following:\")","v":"                  Select from the following:"},null,null,null,null,null,null,null,null,null,null,null,"Select",null,null,null,null,null,{"$f":"S405","v":"Select"},{"$f":"S405","v":"Select"}]
[null,null,null,null,null,null,null,null,null,null,null,null,null,null,null,null,null,null,null,null,null,null,null,{"$f":"Y406+Z406","v":0},{"$f":"COUNTIF(Y405,\"Yes\")*3","v":0},{"$f":"COUNTIF(Z405,\"No\")*3","v":0}]
[{"$f":"HYPERLINK(\"http://sdlegislature.gov/Rules/DisplayRule.aspx?Rule=24:05:25:26\",\"Extended School Year\n(24:05:25:26)\")","v":"Extended School Year\n(24:05:25:26)"},null,null,null,null,null,{"$f":"HYPERLINK(\"https://gosynth.com/p/s/bbepxx\",\"                  Check the following:\")","v":"                  Check the following:"},null,null,null,null,null,null,null,null,null,null,null,"Select","V358",null,null,null,null,{"$f":"S407","v":"Select"},{"$f":"S407","v":"Select"}]
[null,null,null,null,null,null,null,null,null,null,null,null,null,null,null,null,null,null,null,null,null,null,null,{"$f":"Y408+Z408","v":0},{"$f":"COUNTIF(Y407,\"Yes\")*3","v":0},{"$f":"COUNTIF(Z407,\"No\")*3","v":0}]
[null,null,null,null,null,null,null,null,"Determination",null,null,null,"Beginning/end dates"]
[null,null,null,null,null,null,null,null,"Goals",null,null,null,"Amount of service"]
[]
[]
[]
[{"$f":"HYPERLINK(\"https://gosynth.com/p/s/acbbuk\",\"Prior Parental Written Notice\")","v":"Prior Parental Written Notice"},null,null,null,null,null,null,null,null,null,null,null,null,null,null,null,null,null,{"$f":"IFERROR(Y414/X414,\"N/A\")","v":"N/A"},null,null,null,null,{"$f":"(X416+X421)/2","v":0},{"$f":"(Y416+Y421)/2","v":0}]
[{"$f":"HYPERLINK(\"http://sdlegislature.gov/Rules/DisplayRule.aspx?Rule=24:05:30:04\",\"Prior Written Notice Sent to Parent Regarding IEP Implementation\n(24:05:30:04)\")","v":"Prior Written Notice Sent to Parent Regarding IEP Implementation\n(24:05:30:04)"},null,null,null,null,null,"Date the district sent the PPWN:",null,null,null,null,null,null,null,"The implementation date documented on the PPWN must be reflected on IEP.\n\nThe five-day notice requirement may be waived by the parents.",null,null,null,"Select","V366",null,null,null,null,{"$f":"S415","v":"Select"},{"$f":"S415","v":"Select"}]
[null,null,null,null,null,null,"District proposed at least 5 calendar days to begin implementation:",null,null,null,null,null,{"$f":"M415+5","v":"1900-01-05"},null,null,null,null,null,null,null,null,null,null,{"$f":"Y416+Z416","v":0},{"$f":"COUNTIF(Y415,\"Yes\")*3","v":0},{"$f":"COUNTIF(Z415,\"No\")*3","v":0}]
[]
[null,null,null,null,null,null,"Was the 5 calendar day notice requirement met?",null,null,null,null,null,null,"Yes"]
[null,null,null,null,null,null,null,null,null,null,null,null,null,"No"]
[{"$f":"HYPERLINK(\"http://sdlegislature.gov/Rules/DisplayRule.aspx?Rule=24:05:30:05\",\"Content of PPWN\n(24:05:30:05)\")","v":"Content of PPWN\n(24:05:30:05)"},null,null,null,null,null,"Check the following:",null,null,null,null,null,null,null,null,null,null,null,"Select","V371",null,null,null,null,{"$f":"S420","v":"Select"},{"$f":"S420","v":"Select"}]
[null,null,null,null,null,null,"PPWN must be individualized to the student, IEP team discussions and situation.",null,null,null,null,null,null,null,null,null,null,null,null,null,null,null,null,{"$f":"Y421+Z421","v":0},{"$f":"COUNTIF(Y420,\"Yes\")*3","v":0},{"$f":"COUNTIF(Z420,\"No\")*3","v":0}]
[]
[null,null,null,null,null,null,null,"Explanation of why the district proposed or refused to take the action"]
[null,null,null,null,null,null,null,"Description of other options considered and why they were rejected "]
[null,null,null,null,null,null,null,"Description of evidence used for the proposed or refused action"]
[null,null,null,null,null,null,null,"Description of other factors that are relevant to proposal or refusal"]
[]
[null,null,null,null,null,null,"To skip back to Eligibility section click ",null,null,null,null,"HERE."]
[]
[{"$f":"HYPERLINK(\"https://gosynth.com/p/s/iwvzyu\",\"Amendment to IEP\")","v":"Amendment to IEP"},null,null,null,null,null,null,null,null,null,null,null,null,null,null,null,null,null,{"$f":"IFERROR(Z430/Y430,\"N/A\")","v":"N/A"},null,null,null,null,null,{"$f":"(X432+X434)/2","v":0},{"$f":"(Y432+Y434)/2","v":0}]
["Amendment to IEP",null,null,null,null,null,null,null,null,null,null,null,null,null,null,null,null,null,"Select","V381",null,null,null,null,{"$f":"S431","v":"Select"},{"$f":"S431","v":"Select"}]
[{"$f":"HYPERLINK(\"http://sdlegislature.gov/Rules/DisplayRule.aspx?Rule=24:05:27:08.01\",\"(24:05:27:08.01)\")","v":"(24:05:27:08.01)"},null,null,{"$f":"HYPERLINK(\"http://sdlegislature.gov/Rules/DisplayRule.aspx?Rule=24:05:27:08.02\",\"(24:05:27:08.02)\")","v":"(24:05:27:08.02)"},null,null,null,null,null,null,null,null,null,null,null,null,null,null,null,null,null,null,null,{"$f":"Y432+Z432","v":0},{"$f":"COUNTIF(Y431,\"Yes\")*3","v":0},{"$f":"COUNTIF(Z431,\"No\")*3","v":0}]
[{"$f":"HYPERLINK(\"http://sdlegislature.gov/Rules/DisplayRule.aspx?Rule=24:05:30:04\",\"Prior Notice\n(24:05:30:04)\")","v":"Prior Notice\n(24:05:30:04)"},null,null,null,null,null,"Document if the amendment was made with or without a meeting.",null,null,null,null,null,null,null,null,null,null,null,"Select",null,null,null,null,null,{"$f":"S433","v":"Select"},{"$f":"S433","v":"Select"}]
[null,null,null,null,null,null,null,null,null,null,null,null,null,null,null,null,null,null,null,null,null,null,null,{"$f":"Y434+Z434","v":0},{"$f":"COUNTIF(Y433,\"Yes\")*3","v":0},{"$f":"COUNTIF(Z433,\"No\")*3","v":0}]
[]
[{"$f":"HYPERLINK(\"https://gosynth.com/p/s/jdtswp\",\"Additional Items\")","v":"Additional Items"},null,null,null,null,null,null,null,null,null,null,null,null,null,null,null,null,null,{"$f":"IFERROR(AB436/AA436,\"N/A\")","v":"N/A"},null,null,null,null,null,{"$f":"S437","v":"Select"},{"$f":"S437","v":"Select"},{"$f":"(X437+X439+X441+X443)/4","v":0},{"$f":"(Y437+Y439+Y441+Y443)/4","v":0}]
["Parent Declined/\nWithdrew Consent for Services ",null,null,null,null,null,"Revocation signed:",null,null,null,null,null,null,{"$f":"HYPERLINK(\"http://sdlegislature.gov/Rules/DisplayRule.aspx?Rule=24:05:27:04.02\",\"(24:05:27:04.02)\")","v":"(24:05:27:04.02)"},null,null,null,null,"Select","V387",null,null,null,{"$f":"Y437+Z437","v":0},{"$f":"COUNTIF(Y436,\"Yes\")*3","v":0},{"$f":"COUNTIF(Z436,\"No\")*3","v":0}]
[null,null,null,null,null,null,"Date prior notice was sent:",null,null,null,null,null,null,null,null,null,null,null,null,null,null,null,null,null,{"$f":"S439","v":"Select"},{"$f":"S439","v":"Select"}]
["Surrogate Parent",null,null,null,null,null,null,null,null,null,null,null,null,null,null,null,null,null,"Select",null,null,null,null,{"$f":"Y439+Z439","v":0},{"$f":"COUNTIF(Y438,\"Yes\")*3","v":0},{"$f":"COUNTIF(Z438,\"No\")*3","v":0}]
["Transfer Students Provided with  FAPE/Comparable Services ",null,null,null,null,null,"Date prior notice was sent:",null,null,null,null,null,null,{"$f":"HYPERLINK(\"http://sdlegislature.gov/Rules/DisplayRule.aspx?Rule=24:05:27:15.01\",\"In-state (24:05:27:15.01)\")","v":"In-state (24:05:27:15.01)"},null,null,null,null,"Select",null,null,null,null,null,{"$f":"S440","v":"Select"},{"$f":"S440","v":"Select"}]
[null,null,null,null,null,null,null,null,null,null,null,null,null,{"$f":"HYPERLINK(\"http://sdlegislature.gov/Rules/DisplayRule.aspx?Rule=24:05:27:15.02\",\"Out-of-state (24:05:27:15.02)\")","v":"Out-of-state (24:05:27:15.02)"},null,null,null,null,null,null,null,null,null,{"$f":"Y441+Z441","v":0},{"$f":"COUNTIF(Y440,\"Yes\")*3","v":0},{"$f":"COUNTIF(Z440,\"No\")*3","v":0}]
["Transfer Students Evaluated for \nSouth Dakota Eligibility",null,null,null,null,null,"Eligibility determination date:",null,null,null,null,null,null,null,null,null,null,null,"Select",null,null,null,null,null,{"$f":"S442","v":"Select"},{"$f":"S442","v":"Select"}]
[null,null,null,null,null,null,"IEP date:",null,null,null,null,null,null,null,null,null,null,null,null,null,null,null,null,{"$f":"Y443+Z443","v":0},{"$f":"COUNTIF(Y442,\"Yes\")*3","v":0},{"$f":"COUNTIF(Z442,\"No\")*3","v":0}]
[null,null,null,null,null,null,"PPWN Implementing IEP sent:"]

{"sheet":"File 6","index":9,"n_rows":444,"n_cols":28,"rows_kept":444,"cut":false,"hidden":false,"merged":[[436,18,437,18],[437,6,437,10],[437,11,437,12],[438,6,438,17],[442,6,442,10],[442,11,442,12],[413,19,413,21],[414,6,414,11],[414,12,414,13],[414,14,418,17],[414,18,418,18],[414,19,418,21],[417,6,418,11],[419,6,419,17],[420,6,420,17],[216,14,216,16],[443,6,443,10],[443,11,443,12],[446,11,447,12],[439,6,440,10],[439,11,440,12],[439,13,439,17],[440,13,440,17],[441,6,441,10],[441,11,441,12],[441,13,443,17],[415,6,416,11],[415,12,416,13],[413,0,413,17],[422,7,422,17],[423,7,423,17],[424,7,424,17],[425,7,425,17],[426,6,426,17],[427,6,427,10],[427,11,427,17],[436,6,436,10],[436,11,436,12],[436,13,437,17],[216,6,216,7],[216,8,216,10],[205,0,206,5],[207,0,209,5],[216,11,216,13],[231,7,231,10],[209,6,209,13],[210,0,210,17],[211,0,213,5],[211,6,213,16],[214,0,215,5],[214,6,215,16],[216,0,233,5],[225,12,225,13],[225,15,225,16],[226,7,226,10],[227,6,227,10],[228,6,228,7],[228,8,228,10],[228,11,228,13],[228,14,228,16],[230,7,230,10],[230,12,230,13],[230,15,230,16],[196,0,200,5],[196,6,200,17],[196,18,200,18],[201,0,201,21],[202,0,202,17],[202,19,202,21],[203,0,204,5],[188,7,188,9],[188,10,188,12],[189,7,189,9],[189,10,189,12],[186,0,189,5],[186,7,186,9],[186,10,186,12],[192,7,192,9],[193,7,193,9],[193,10,193,12],[194,7,194,9],[190,0,190,5],[190,7,190,9],[190,10,190,12],[191,0,195,5],[191,7,191,9],[191,10,191,12],[152,12,156,15],[154,7,156,10],[145,7,146,10],[145,12,146,15],[149,18,162,18],[149,19,162,21],[150,6,150,15],[150,17,160,17],[158,12,159,15],[151,6,151,15],[152,7,153,10],[157,7,158,10],[157,12,157,15],[210,19,210,21],[211,19,215,21],[214,18,215,18],[196,19,200,21],[203,19,209,21],[205,18,206,18],[207,14,208,17],[207,18,209,18],[209,14,209,17],[211,18,213,18],[205,6,206,17],[207,6,207,10],[207,11,207,13],[208,6,208,10],[208,11,208,13],[203,6,204,17],[203,18,204,18],[190,13,190,16],[191,13,191,16],[192,13,192,16],[193,13,193,16],[194,13,194,16],[176,12,177,17],[184,13,185,16],[186,13,186,16],[184,10,185,12],[194,10,194,12],[180,6,180,17],[182,7,183,16],[187,7,187,9],[187,10,187,12],[187,13,187,16],[188,13,188,16],[192,10,192,12],[172,12,173,17],[172,18,173,18],[172,19,173,21],[177,0,177,2],[177,3,177,5],[177,6,177,8],[177,9,177,11],[178,0,178,5],[178,6,179,17],[179,0,179,2],[179,3,179,5],[176,18,177,18],[176,19,195,21],[178,18,179,18],[180,18,195,18],[176,0,176,5],[176,6,176,8],[176,9,176,11],[174,0,174,21],[175,0,175,17],[175,19,175,21],[180,0,185,5],[184,7,185,9],[189,13,189,16],[216,18,221,18],[216,19,233,21],[222,18,227,18],[228,18,233,18],[218,7,218,10],[218,12,218,13],[220,7,220,10],[221,6,221,10],[222,6,222,7],[222,8,222,10],[222,11,222,13],[222,14,222,16],[231,12,231,13],[231,15,231,16],[232,7,232,10],[233,6,233,10],[218,15,218,16],[219,7,219,10],[219,12,219,13],[219,15,219,16],[224,7,224,10],[224,12,224,13],[224,15,224,16],[225,7,225,10],[117,6,117,13],[117,14,117,17],[118,6,119,17],[120,0,120,21],[118,0,119,5],[130,18,148,18],[130,19,148,21],[133,12,134,15],[135,7,137,10],[135,12,136,15],[137,12,138,15],[138,7,141,10],[139,12,144,15],[142,7,144,10],[121,0,121,17],[121,19,121,21],[122,0,122,17],[122,18,129,18],[122,19,129,21],[123,0,129,5],[123,6,123,17],[124,6,124,17],[125,7,125,11],[126,7,126,11],[165,12,169,17],[167,7,167,11],[168,7,168,11],[110,18,112,18],[110,19,119,21],[113,18,114,18],[115,18,117,18],[118,18,119,18],[104,18,105,18],[106,18,107,18],[169,7,169,11],[162,0,162,17],[163,0,166,5],[163,6,163,17],[163,18,171,18],[163,19,171,21],[164,6,164,17],[167,0,173,5],[165,7,165,11],[166,7,166,11],[170,7,170,13],[171,7,171,11],[172,6,173,10],[172,11,173,11],[98,18,101,18],[98,19,101,21],[99,11,99,13],[106,6,107,17],[84,18,97,18],[84,19,97,21],[86,6,86,8],[86,9,86,12],[87,15,87,17],[100,11,100,13],[101,11,101,13],[102,6,103,17],[102,18,103,18],[94,13,94,14],[94,15,94,17],[95,15,95,17],[96,13,96,14],[96,15,96,17],[99,6,99,10],[100,6,100,10],[102,19,109,21],[108,18,109,18],[89,13,89,14],[89,15,89,17],[91,13,91,14],[91,15,91,17],[92,13,92,14],[92,15,92,17],[97,13,97,14],[97,15,97,17],[98,11,98,13],[98,14,101,17],[93,15,93,17],[93,13,93,14],[110,0,112,5],[110,6,110,10],[111,6,111,10],[113,0,114,5],[115,0,117,5],[115,6,115,12],[116,6,116,12],[98,0,101,5],[98,6,98,10],[101,6,101,10],[102,0,103,5],[104,0,105,5],[106,0,107,5],[108,0,109,5],[104,6,105,17],[108,6,109,17],[110,11,110,13],[110,14,111,17],[111,11,111,13],[112,6,112,13],[112,14,112,17],[113,6,114,17],[115,13,115,15],[116,13,116,15],[90,6,90,8],[90,9,90,12],[78,6,78,8],[78,9,78,12],[80,0,83,5],[80,6,80,8],[80,9,80,12],[81,9,81,12],[84,0,90,5],[83,9,83,12],[96,6,96,8],[96,9,96,12],[91,0,91,5],[91,6,91,8],[91,9,91,12],[92,0,97,5],[92,9,92,12],[93,9,93,12],[94,9,94,12],[93,6,93,8],[94,6,94,8],[92,6,92,8],[97,6,97,8],[97,9,97,12],[74,19,83,21],[76,6,76,8],[76,9,76,12],[76,13,76,14],[76,15,76,17],[77,6,77,8],[77,9,77,12],[77,13,77,14],[77,15,77,17],[82,6,82,8],[82,9,82,12],[82,13,82,14],[82,15,82,17],[83,15,83,17],[78,13,78,14],[78,15,78,17],[80,13,80,14],[80,15,80,17],[81,13,81,14],[81,15,81,17],[83,13,83,14],[74,18,83,18],[81,6,81,8],[83,6,83,8],[150,0,161,5],[159,6,160,6],[159,7,160,10],[161,6,161,15],[89,6,89,8],[89,9,89,12],[90,13,90,14],[90,15,90,17],[95,9,95,12],[147,6,147,15],[148,0,148,17],[149,0,149,17],[128,7,128,11],[128,13,128,17],[131,0,147,5],[131,6,131,15],[131,17,147,17],[132,6,132,15],[133,7,134,10],[95,6,95,8],[127,7,127,11],[127,13,127,17],[129,6,129,17],[130,0,130,17],[84,15,85,17],[84,6,85,8],[86,13,86,14],[86,15,86,17],[87,9,87,12],[87,13,87,14],[88,6,88,8],[88,9,88,12],[84,13,85,14],[88,13,88,14],[88,15,88,17],[84,9,85,12],[87,6,87,8],[125,13,125,17],[126,13,126,17],[66,15,66,17],[66,13,66,14],[67,0,67,5],[67,6,67,8],[67,9,67,12],[67,13,67,14],[67,15,67,17],[68,0,73,5],[79,0,79,5],[79,6,79,8],[79,9,79,12],[79,13,79,14],[79,15,79,17],[72,6,72,8],[72,9,72,12],[74,0,78,5],[74,6,75,8],[74,9,75,12],[74,13,75,14],[74,15,75,17],[68,13,68,14],[73,6,73,8],[60,13,61,14],[60,15,61,17],[62,13,62,14],[62,15,62,17],[63,13,63,14],[63,15,63,17],[64,13,64,14],[64,15,64,17],[65,13,65,14],[65,15,65,17],[54,0,59,5],[54,6,54,9],[54,10,54,12],[55,6,55,9],[55,10,55,12],[45,19,53,21],[54,19,59,21],[58,13,59,17],[56,6,56,9],[56,10,56,12],[57,6,57,9],[57,10,57,12],[58,6,58,9],[58,10,58,12],[59,6,59,9],[59,10,59,12],[62,9,62,12],[63,9,63,12],[64,9,64,12],[65,9,65,12],[66,9,66,12],[60,0,66,5],[60,6,61,8],[62,6,62,8],[63,6,63,8],[64,6,64,8],[65,6,65,8],[66,6,66,8],[60,9,61,12],[21,10,21,13],[21,14,21,17],[27,9,27,11],[27,12,27,17],[52,6,52,17],[53,6,53,17],[45,6,45,17],[46,6,46,17],[47,6,47,17],[48,7,48,17],[49,7,49,17],[50,7,50,17],[51,7,51,17],[39,6,40,17],[22,6,22,9],[22,10,22,13],[25,0,25,21],[26,0,26,17],[26,19,26,21],[22,14,22,17],[23,6,23,9],[23,10,23,13],[23,14,23,17],[45,0,53,5],[17,0,17,21],[18,0,18,17],[19,0,24,5],[19,9,19,11],[19,12,19,17],[20,14,20,17],[24,6,24,17],[8,3,8,6],[8,7,8,9],[9,0,9,21],[8,0,8,2],[10,0,12,5],[10,10,11,10],[10,11,11,13],[10,14,11,17],[10,18,11,18],[10,19,11,21],[18,19,18,21],[19,18,24,18],[19,19,24,21],[20,6,20,9],[20,10,20,13],[19,6,19,8],[21,6,21,9],[10,6,10,9],[11,6,11,9],[12,6,12,21],[13,0,13,21],[14,0,14,17],[14,19,14,21],[15,0,16,5],[15,18,16,18],[15,19,16,21],[15,6,16,17],[6,0,6,2],[6,10,6,13],[7,14,7,18],[8,14,8,18],[8,19,8,21],[4,14,4,18],[4,19,4,21],[5,14,5,18],[5,19,5,21],[6,14,6,18],[6,19,6,21],[7,19,7,21],[6,3,6,6],[6,7,6,9],[7,0,7,2],[7,3,7,6],[7,7,7,9],[7,10,7,13],[8,10,8,13],[3,0,3,21],[4,0,4,2],[4,3,4,6],[4,7,4,9],[4,10,4,13],[5,0,5,2],[5,3,5,6],[5,7,5,9],[5,11,5,13],[0,0,0,3],[0,4,0,5],[0,6,0,8],[0,9,0,11],[0,12,0,14],[0,15,0,17],[0,19,0,21],[1,0,2,13],[1,14,2,17],[1,18,2,18],[1,19,2,21],[73,9,73,12],[73,13,73,14],[73,15,73,17],[68,6,68,8],[68,9,68,12],[69,6,69,8],[69,9,69,12],[69,13,69,14],[69,15,69,17],[70,6,70,8],[70,9,70,12],[70,13,70,14],[70,15,70,17],[71,6,71,8],[71,9,71,12],[71,13,71,14],[71,15,71,17],[68,15,68,17],[72,13,72,14],[72,15,72,17],[41,0,42,5],[41,6,42,17],[43,6,44,17],[27,18,29,18],[27,19,29,21],[30,18,32,18],[30,19,32,21],[35,18,38,18],[35,19,44,21],[39,18,40,18],[43,0,44,5],[27,6,27,8],[28,6,29,17],[30,6,30,17],[31,8,32,17],[408,8,408,10],[408,12,408,15],[409,8,409,10],[411,0,411,16],[412,0,412,21],[27,0,29,5],[30,0,32,5],[31,6,32,7],[35,0,36,5],[35,6,35,9],[33,0,33,21],[34,0,34,17],[34,19,34,21],[35,10,35,12],[35,13,35,17],[41,18,42,18],[43,18,44,18],[45,18,53,18],[54,18,59,18],[60,18,73,18],[60,19,73,21],[36,6,38,17],[37,0,38,5],[39,0,40,5],[397,6,397,16],[398,6,398,16],[399,6,399,16],[400,6,400,16],[401,6,401,16],[402,6,403,16],[404,6,404,16],[405,6,405,16],[406,6,406,16],[391,6,391,16],[392,11,392,12],[392,14,392,16],[393,6,393,16],[394,6,394,8],[394,9,394,16],[395,6,395,16],[396,11,396,12],[396,14,396,16],[385,6,385,16],[386,6,386,8],[386,9,386,16],[387,6,387,16],[388,11,388,12],[388,14,388,16],[389,6,389,16],[390,6,390,8],[390,9,390,16],[382,17,411,17],[406,19,411,21],[419,19,427,21],[430,19,433,21],[436,19,443,21],[372,19,380,21],[377,18,380,18],[382,19,397,21],[390,18,393,18],[394,18,397,18],[398,19,405,21],[400,18,401,18],[380,0,380,17],[381,0,381,17],[381,19,381,21],[382,9,382,16],[383,6,383,16],[384,8,384,9],[388,8,388,9],[392,8,392,9],[396,8,396,9],[382,6,382,8],[384,11,384,12],[384,14,384,16],[402,18,403,18],[404,18,405,18],[398,18,399,18],[406,18,411,18],[419,18,427,18],[432,18,433,18],[439,18,440,18],[441,18,443,18],[341,18,342,18],[343,18,344,18],[354,18,358,18],[360,18,361,18],[372,18,376,18],[428,0,428,21],[429,0,429,17],[429,19,429,21],[430,18,431,18],[430,6,431,17],[431,0,431,2],[431,3,431,5],[432,6,433,17],[434,0,434,21],[435,0,435,17],[435,19,435,21],[341,19,346,21],[345,18,346,18],[353,18,353,21],[354,19,358,21],[359,18,359,21],[360,19,370,21],[362,18,363,18],[382,18,385,18],[386,18,389,18],[371,19,371,21],[439,0,440,5],[441,0,443,5],[406,0,410,5],[414,0,418,5],[419,0,427,5],[430,0,430,5],[432,0,433,5],[436,0,437,5],[438,0,438,5],[359,0,359,5],[360,0,361,5],[362,0,363,5],[364,0,366,5],[372,0,379,5],[382,0,397,5],[398,0,401,5],[402,0,403,5],[404,0,405,5],[367,0,369,5],[353,6,353,16],[354,6,354,10],[354,13,354,16],[355,13,355,16],[356,13,356,16],[341,0,346,5],[347,0,347,5],[348,0,352,5],[353,0,353,5],[354,0,358,5],[334,18,335,18],[317,18,318,18],[317,19,322,21],[319,18,320,18],[321,18,322,18],[323,18,323,21],[324,19,325,21],[326,18,326,21],[327,19,332,21],[329,18,330,18],[331,18,332,18],[327,0,332,5],[327,6,328,6],[329,6,330,6],[329,7,330,16],[331,7,331,16],[332,6,332,16],[306,18,307,18],[306,19,315,21],[308,18,309,18],[309,6,310,6],[310,18,311,18],[314,18,315,18],[319,6,320,6],[319,7,320,16],[321,6,322,6],[321,7,322,16],[324,18,325,18],[327,18,328,18],[314,0,315,5],[314,6,315,16],[316,0,316,5],[316,6,316,16],[317,0,322,5],[317,6,318,6],[317,7,318,16],[323,0,323,5],[323,6,323,16],[364,6,364,12],[364,13,364,16],[365,6,366,16],[364,18,366,18],[367,18,370,18],[375,7,375,8],[375,10,375,11],[367,6,369,16],[370,0,370,17],[371,0,371,17],[359,6,359,16],[360,6,360,12],[360,13,360,16],[361,6,361,12],[361,13,361,16],[362,6,362,12],[362,13,362,16],[363,6,363,12],[363,13,363,16],[340,0,340,5],[340,6,340,16],[376,6,376,11],[376,12,379,16],[377,6,377,11],[378,7,378,8],[379,7,379,8],[372,17,379,17],[378,10,378,11],[379,10,379,11],[373,6,373,11],[374,7,374,8],[374,10,374,11],[372,6,372,11],[372,12,375,16],[340,18,340,21],[341,7,342,16],[343,7,344,16],[345,7,345,16],[346,6,346,16],[357,13,357,16],[358,13,358,16],[350,7,350,10],[351,7,351,10],[347,6,347,16],[347,18,347,21],[348,6,348,10],[348,11,352,16],[348,18,352,18],[348,19,352,21],[349,6,349,10],[352,6,352,10],[355,6,356,10],[357,6,357,10],[357,11,357,12],[358,6,358,10],[358,11,358,12],[341,6,342,6],[343,6,344,6],[282,14,282,16],[283,14,283,16],[336,7,337,16],[338,7,338,16],[333,0,333,5],[334,0,339,5],[334,6,335,6],[334,7,335,16],[334,19,339,21],[336,6,337,6],[336,18,337,18],[338,18,339,18],[339,6,339,16],[333,18,333,21],[333,6,333,16],[324,0,325,5],[324,6,325,16],[326,0,326,5],[326,6,326,16],[327,7,328,16],[309,7,310,16],[311,7,311,16],[305,6,305,16],[306,6,307,16],[257,9,257,12],[258,6,258,8],[292,7,293,16],[281,10,281,13],[282,10,282,13],[283,10,283,13],[289,18,303,18],[289,19,303,21],[300,12,302,12],[300,13,300,16],[302,13,302,15],[283,6,283,9],[284,6,284,9],[286,6,288,11],[264,18,288,18],[264,19,288,21],[255,17,298,17],[284,14,284,16],[272,14,272,16],[273,14,273,16],[279,14,279,16],[280,14,280,16],[281,14,281,16],[285,14,285,16],[279,6,279,9],[280,6,280,9],[281,6,281,9],[282,6,282,9],[285,6,285,9],[274,6,274,9],[274,10,274,13],[277,6,277,9],[278,6,278,9],[278,10,278,13],[284,10,284,13],[285,10,285,13],[279,10,279,13],[280,10,280,13],[276,10,276,13],[276,14,276,16],[277,10,277,13],[277,14,277,16],[262,6,262,8],[262,9,262,11],[262,12,262,16],[263,6,263,8],[263,9,263,12],[263,13,263,16],[265,7,265,10],[266,6,266,16],[267,6,268,16],[269,10,271,13],[275,6,275,9],[275,10,275,13],[269,6,271,9],[272,6,272,9],[272,10,272,13],[273,6,273,9],[273,10,273,13],[254,19,254,21],[255,0,263,5],[255,9,256,16],[255,18,263,18],[255,19,263,21],[258,9,258,13],[259,6,259,8],[239,19,253,21],[245,7,248,9],[259,9,259,11],[259,12,259,16],[260,6,260,8],[260,9,260,13],[260,14,260,16],[261,6,261,8],[261,9,261,15],[241,7,241,8],[241,11,241,16],[243,6,244,10],[243,11,243,16],[244,11,244,16],[245,11,245,16],[255,6,256,8],[257,6,257,8],[289,0,302,5],[306,0,307,5],[309,0,313,5],[301,13,301,15],[301,16,302,16],[303,0,303,17],[304,0,304,17],[304,18,305,18],[304,19,305,21],[305,0,305,5],[312,7,312,16],[312,18,313,18],[313,6,313,16],[294,6,295,6],[294,7,295,16],[296,6,297,6],[296,7,297,16],[298,6,298,16],[299,6,299,16],[300,6,302,11],[289,6,289,16],[290,6,290,16],[291,7,291,16],[292,6,293,6],[234,18,238,18],[234,19,238,21],[235,6,235,16],[236,7,236,10],[236,12,236,15],[239,11,239,16],[246,11,246,16],[239,18,253,18],[253,0,253,17],[240,7,240,8],[240,11,240,16],[240,9,242,10],[242,11,242,16],[247,11,247,16],[250,11,250,16],[251,6,252,10],[251,11,251,16],[252,11,252,16],[264,0,288,5],[237,7,237,10],[238,6,238,10],[239,0,252,5],[239,6,239,10],[286,12,288,12],[286,13,286,16],[287,13,287,15],[287,16,288,16],[288,13,288,15],[248,11,248,16],[249,11,249,16],[257,13,257,16],[258,14,258,16],[265,12,265,16],[269,14,271,16],[264,6,264,16],[234,0,238,5],[234,6,234,16],[254,0,254,16],[278,14,278,16],[274,14,274,16],[275,14,275,16],[276,6,276,9]]}
[{"$f":"'Caseload Files'!B2","v":"Teacher Caseload Review"},null,null,null,{"$f":"'Caseload Files'!D16","v":"File 6"},null,"Reviewer:",null,null,{"$f":"'Caseload Files'!F16","v":"Reviewer 6"},null,null,"Staff Reviewed:",null,null,{"$f":"'Caseload Files'!I16","v":"Staff 6"},null,null,"Score","Findings/Notes"]
[{"$f":"'Caseload Files'!B2","v":"Teacher Caseload Review"},null,null,null,null,null,null,null,null,null,null,null,null,null,null,null,null,null,"Rating","Record notes\nand/or findings."]
[]
[]
["Student Name:",null,null,{"$f":"'Caseload Files'!$L$16","v":"Student 6"},null,null,null,"Date of Birth:",null,null,{"$f":"'Caseload Files'!$R$16","v":"2006-06-06"},null,null,null,"Current IEP Meeting Date:"]
["SIMS Numer:",null,null,{"$f":"'Caseload Files'!$O$16","v":60123456},null,null,null,"Age/Grade:",null,null,{"$f":"INT(YEARFRAC(K5,TODAY()))","v":14},"/Sophomore",null,null,"Previous IEP Meeting Date:"]
["School District:",null,null,{"$f":"'Caseload Files'!B3","v":"District 00-0"},null,null,null,"Disability Code:",null,null,{"$f":"'Caseload Files'!$W$16","v":"DisCode 6"},null,null,null,"Current Eligibility Determination Date:"]
["School Name:",null,null,{"$f":"'Caseload Files'!E6","v":"School Name"},null,null,null,"Race/Ethnicity:",null,null,{"$f":"'Caseload Files'!T16","v":"Race 6"},null,null,null,"Previous Eligibility Determination Date:"]
["School Year:",null,null,{"$f":"'Caseload Files'!E7","v":"1998-1999"},null,null,null,"Type of Review:",null,null,{"$f":"'Caseload Files'!Z16","v":"Type 6"},null,null,null,"Date of Review:"]
[]
[{"$f":"HYPERLINK(\"http://sdlegislature.gov/Rules/DisplayRule.aspx?Rule=24:05\",\"Subsection Title and \nCorresponding ARSD Links \")","v":"Subsection Title and \nCorresponding ARSD Links "},null,null,null,null,null,"Yellow boxes are prompts",null,null,null,null,"Use checkboxes to help record findings.",null,null,"Voided space and/or clarifying information.",null,null,null,"\"N/A\" may be appropriate for certain sections.","Findings/Notes"]
[null,null,null,null,null,null,"for information."]
[]
[]
[{"$f":"HYPERLINK(\"https://gosynth.com/p/s/aboqwv\",\"Record of Access\")","v":"Record of Access"},null,null,null,null,null,null,null,null,null,null,null,null,null,null,null,null,null,{"$f":"IFERROR(Y17/X17,\"N/A\")","v":"N/A"},"Findings/Notes"]
[{"$f":"HYPERLINK(\"http://sdlegislature.gov/Rules/DisplayRule.aspx?Rule=24:05:29:15\",\"Record of Access\n(24:05:29:15)\")","v":"Record of Access\n(24:05:29:15)"},null,null,null,null,null,null,null,null,null,null,null,null,null,null,null,null,null,"Select","V16",null,null,null,null,{"$f":"S16","v":"Select"},{"$f":"S16","v":"Select"}]
[null,null,null,null,null,null,null,null,null,null,null,null,null,null,null,null,null,null,null,null,null,null,null,{"$f":"Y17+Z17","v":0},{"$f":"COUNTIF(Y16,\"Yes\")*3","v":0},{"$f":"COUNTIF(Z16,\"No\")*3","v":0}]
[]
[{"$f":"HYPERLINK(\"https://gosynth.com/p/s/grdmsy\",\"Referral\")","v":"Referral"},null,null,null,null,null,null,null,null,null,null,null,null,null,null,null,null,null,{"$f":"IFERROR(Y21/X21,\"N/A\")","v":"N/A"}]
[{"$f":"HYPERLINK(\"http://sdlegislature.gov/Rules/DisplayRule.aspx?Rule=24:05:24:01\",\"Referral Document\n(initial only)\n(24:05:24:01)\")","v":"Referral Document\n(initial only)\n(24:05:24:01)"},null,null,null,null,null,"Date of referral:",null,null,null,null,null,"The top two spaces are available to type in.",null,null,null,null,null,"Select","V20",null,null,null,null,{"$f":"S20","v":"Select"},{"$f":"S20","v":"Select"}]
[null,null,null,null,null,null,"List all areas of referral:",null,null,null,null,null,null,null,null,null,null,null,null,null,null,null,null,{"$f":"Y21+Z21","v":0},{"$f":"COUNTIF(Y20,\"Yes\")*3","v":0},{"$f":"COUNTIF(Z20,\"No\")*3","v":0}]
[]
[]
[]
[null,null,null,null,null,null,"If referral can not be found and is older than three years, N/A is appropriate."]
[]
[{"$f":"HYPERLINK(\"https://gosynth.com/p/s/lihblf\",\"Initial Placement\")","v":"Initial Placement"},null,null,null,null,null,null,null,null,null,null,null,null,null,null,null,null,null,{"$f":"IFERROR(Y33/X33,\"N/A\")","v":"N/A"}]
[{"$f":"HYPERLINK(\"http://sdlegislature.gov/rules/DisplayRule.aspx?Rule=24:05:27:04.01\",\"Consent Signed for Initial Placement \ninto Special Education\n(24:05:27:04.01)\")","v":"Consent Signed for Initial Placement \ninto Special Education\n(24:05:27:04.01)"},null,null,null,null,null,"Date Signed:",null,null,null,null,null,null,null,null,null,null,null,"Select","V28",null,null,null,null,{"$f":"S28","v":"Select"},{"$f":"S28","v":"Select"}]
[null,null,null,null,null,null,"(The Consent Signed for Initial Placement into Special Education form is a separate document.  In the past, it may have been found at the end of the IEP.",null,null,null,null,null,null,null,null,null,null,null,null,null,null,null,null,{"$f":"Y29+Z29","v":0},{"$f":"COUNTIF(Y28,\"Yes\")*3","v":0},{"$f":"COUNTIF(Z28,\"No\")*3","v":0}]
[]
[{"$f":"HYPERLINK(\"https://sdlegislature.gov/Rules/DisplayRule.aspx?Rule=24:05:25:04.02\",\"Determination of Needed \nEvaluation Data\n(24:05:25:04.02)\")","v":"Determination of Needed \nEvaluation Data\n(24:05:25:04.02)"},null,null,null,null,null,"Did the team review existing data before completing the PPWN Consent?",null,null,null,null,null,null,null,null,null,null,null,"Select","V31",null,null,null,null,{"$f":"S31","v":"Select"},{"$f":"S31","v":"Select"}]
[null,null,null,null,null,null,"Select",null,"The existing data includes evaluations and information provided by the parents, current classroom-based local or state assessments, and observations by teachers and related services providers.",null,null,null,null,null,null,null,null,null,null,null,null,null,null,{"$f":"Y32+Z32","v":0},{"$f":"COUNTIF(Y31,\"Yes\")*3","v":0},{"$f":"COUNTIF(Z31,\"No\")*3","v":0}]
[null,null,null,null,null,null,null,null,null,null,null,null,null,null,null,null,null,null,null,null,null,null,null,{"$f":"(X32+X29)/2","v":0},{"$f":"(Y32+Y29)/2","v":0}]
[]
[{"$f":"HYPERLINK(\"https://gosynth.com/p/s/qxevgy\",\"Evaluation\")","v":"Evaluation"},null,null,null,null,null,null,null,null,null,null,null,null,null,null,null,null,null,{"$f":"IFERROR(Y38/X38,\"N/A\")","v":"N/A"},{"$f":"IFERROR(Y58/X58,\"N/A\")","v":"N/A"}]
[{"$f":"HYPERLINK(\"http://sdlegislature.gov/rules/DisplayRule.aspx?Rule=24:05:25:02.01\",\"Initial Evaluation \n(24:05:25:02.01)\")","v":"Initial Evaluation \n(24:05:25:02.01)"},null,null,null,null,null,"PPWN Consent was Sent:",null,null,null,null,null,null,"Use the most recent evaluation. ",null,null,null,null,"Select","V36",null,null,null,null,{"$f":"S36","v":"Select"},{"$f":"S36","v":"Select"}]
[null,null,null,null,null,null,{"$f":"HYPERLINK(\"https://gosynth.com/p/s/qxevgy\",\"Consent was acquired for initial evaluation. \n\nIf consent was not given by the parent for reevaluation, evidence of  attempts were made to elicit parent.\")","v":"Consent was acquired for initial evaluation. \n\nIf consent was not given by the parent for reevaluation, evidence of  attempts were made to elicit parent."},null,null,null,null,null,null,null,null,null,null,null,null,null,null,null,null,{"$f":"Y37+Z37","v":0},{"$f":"COUNTIF(Y36,\"Yes\")*3","v":0},{"$f":"COUNTIF(Z36,\"No\")*3","v":0}]
[{"$f":"HYPERLINK(\"http://sdlegislature.gov/Rules/DisplayRule.aspx?Rule=24:05:25:06.01\",\"Reevaluation\n(24:05:25:06.01)\")","v":"Reevaluation\n(24:05:25:06.01)"},null,null,null,null,null,null,null,null,null,null,null,null,null,null,null,null,null,null,null,null,null,null,{"$f":"(X37+X41+X43+X45+X47+X56+X62+X76+X86+X100+X104+X106+X108+X110+X112+X115+X117+X120)/18","v":0},{"$f":"(Y37+Y41+Y43+Y45+Y47+Y56+Y62+Y76+Y86+Y100+Y104+Y106+Y108+Y110+Y112+Y115+Y117+Y120)/18","v":0}]
[]
[{"$f":"HYPERLINK(\"http://sdlegislature.gov/Rules/DisplayRule.aspx?Rule=24:05:25:16\",\"Parent Input into Evalaution\n(24:05:25:16)\")","v":"Parent Input into Evalaution\n(24:05:25:16)"},null,null,null,null,null,{"$f":"HYPERLINK(\"https://gosynth.com/p/s/ycomsx\",\"Parent input must be documented in the PPWN Consent on input exiting data and \nupcoming evaluation.   (refer to phone logs, progress notes, prior notice)\")","v":"Parent input must be documented in the PPWN Consent on input exiting data and \nupcoming evaluation.   (refer to phone logs, progress notes, prior notice)"},null,null,null,null,null,null,null,null,null,null,null,"Select",null,null,null,null,null,{"$f":"S40","v":"Select"},{"$f":"S40","v":"Select"}]
[null,null,null,null,null,null,null,null,null,null,null,null,null,null,null,null,null,null,null,null,null,null,null,{"$f":"Y41+Z41","v":0},{"$f":"COUNTIF(Y40,\"Yes\")*3","v":0},{"$f":"COUNTIF(Z40,\"No\")*3","v":0}]
[{"$f":"HYPERLINK(\"http://sdlegislature.gov/Rules/DisplayRule.aspx?Rule=24:05:30:06.01\",\"Procedural Safeguards\n(24:05:30:06.01)\")","v":"Procedural Safeguards\n(24:05:30:06.01)"},null,null,null,null,null,{"$f":"HYPERLINK(\"https://gosynth.com/p/s/tdkmfj\",\"[INCLUDE LANGUAGE FOR THIS SECTION]\")","v":"[INCLUDE LANGUAGE FOR THIS SECTION]"},null,null,null,null,null,null,null,null,null,null,null,"Select",null,null,null,null,null,{"$f":"S42","v":"Select"},{"$f":"S42","v":"Select"}]
[null,null,null,null,null,null,null,null,null,null,null,null,null,null,null,null,null,null,null,null,null,null,null,{"$f":"Y43+Z43","v":0},{"$f":"COUNTIF(Y42,\"Yes\")*3","v":0},{"$f":"COUNTIF(Z42,\"No\")*3","v":0}]
[{"$f":"HYPERLINK(\"http://sdlegislature.gov/Rules/DisplayRule.aspx?Rule=24:05:25:03\",\"Extension on 25 Day Timeline\n(24:05:25:03)\")","v":"Extension on 25 Day Timeline\n(24:05:25:03)"},null,null,null,null,null,{"$f":"HYPERLINK(\"https://gosynth.com/p/s/wcheia\",\"Documented agreement with parent and district on new extension date.  \nEligibility and IEP developed 30 days after the agreed extension date.\")","v":"Documented agreement with parent and district on new extension date.  \nEligibility and IEP developed 30 days after the agreed extension date."},null,null,null,null,null,null,null,null,null,null,null,"Select",null,null,null,null,null,{"$f":"S44","v":"Select"},{"$f":"S44","v":"Select"}]
[null,null,null,null,null,null,null,null,null,null,null,null,null,null,null,null,null,null,null,null,null,null,null,{"$f":"Y45+Z45","v":0},{"$f":"COUNTIF(Y44,\"Yes\")*3","v":0},{"$f":"COUNTIF(Z44,\"No\")*3","v":0}]
[{"$f":"HYPERLINK(\"http://sdlegislature.gov/Rules/DisplayRule.aspx?Rule=24:05:30:05\",\"Content of Prior Written Notice/\nConsent for Evaluation\n (24:05:30:05)\")","v":"Content of Prior Written Notice/\nConsent for Evaluation\n (24:05:30:05)"},null,null,null,null,null,{"$f":"HYPERLINK(\"https://gosynth.com/p/s/xymlpn\",\"Check the following:\")","v":"Check the following:"},null,null,null,null,null,null,null,null,null,null,null,"Select","V46",null,null,null,null,{"$f":"S46","v":"Select"},{"$f":"S46","v":"Select"}]
[null,null,null,null,null,null,"PPWN must be individualized to the student, IEP team discussions and situation.",null,null,null,null,null,null,null,null,null,null,null,null,null,null,null,null,{"$f":"Y47+Z47","v":0},{"$f":"COUNTIF(Y46,\"Yes\")*3","v":0},{"$f":"COUNTIF(Z46,\"No\")*3","v":0}]
[]
[null,null,null,null,null,null,null,"Explanation of why the district proposed or refused to take the action"]
[null,null,null,null,null,null,null,"Description of other options considered and why they were rejected "]
[null,null,null,null,null,null,null,"Description of evidence used for the proposed or refused action"]
[null,null,null,null,null,null,null,"Description of other factors that are relevant to proposal or refusal"]
[]
[null,null,null,null,null,null,"All components should be completed and have a clear description."]
[{"$f":"HYPERLINK(\"http://sdlegislature.gov/Rules/DisplayRule.aspx?Rule=24:05:30:05\",\"Timeline of Prior Written Notice/\nConsent for Evaluation\n(24:05:25:03)\")","v":"Timeline of Prior Written Notice/\nConsent for Evaluation\n(24:05:25:03)"},null,null,null,null,null,{"$f":"HYPERLINK(\"https://gosynth.com/p/s/xylthm\",\"Date sent:\")","v":"Date sent:"},null,null,null,"2020-01-18",null,null,null,null,null,null,null,"Select","V54",null,null,null,null,{"$f":"S55","v":"Select"},{"$f":"S55","v":"Select"}]
[null,null,null,null,null,null,"Date signed:",null,null,null,"2020-01-19",null,null,null,null,null,null,null,null,null,null,null,null,{"$f":"Y56+Z56","v":0},{"$f":"COUNTIF(Y55,\"Yes\")*3","v":0},{"$f":"COUNTIF(Z55,\"No\")*3","v":0}]
[null,null,null,null,null,null,"Date received:",null,null,null,"2020-01-20"]
[null,null,null,null,null,null,"25 school days:",null,null,null,{"$f":"WORKDAY(K57,25)","v":"2020-02-24"}]
[null,null,null,null,null,null,"30 calendar days:"]
[null,null,null,null,null,null,"Extension on 25 day:"]
[{"$f":"HYPERLINK(\"http://sdlegislature.gov/Rules/DisplayRule.aspx?Rule=24:05:25:04.02\",\"Evaluations to be Completed by the District per Parental Prior Written/Consent for Evaluation\n(24:05:25:04.02)\")","v":"Evaluations to be Completed by the District per Parental Prior Written/Consent for Evaluation\n(24:05:25:04.02)"},null,null,null,null,null,{"$f":"HYPERLINK(\"https://gosynth.com/p/s/zgdeev\",\"List areas:\")","v":"List areas:"},null,null,"Test administered:",null,null,null,"Test date:",null,"Evaluator:",null,null,"Select","V60",null,null,null,null,{"$f":"S61","v":"Select"},{"$f":"S61","v":"Select"}]
[null,null,null,null,null,null,null,null,null,null,null,null,null,null,null,null,null,null,null,null,null,null,null,{"$f":"Y62+Z62","v":0},{"$f":"COUNTIF(Y61,\"Yes\")*3","v":0},{"$f":"COUNTIF(Z61,\"No\")*3","v":0}]
[]
[]
[]
[]
[]
["For more evaluations requested click the [+]"]
[]
[]
[]
[]
[]
[]
[{"$f":"HYPERLINK(\"http://sdlegislature.gov/Rules/DisplayRule.aspx?Rule=24:05:25:04.02\",\"Existing Evaluation Data\nto be Pulled Forward\n(24:05:25:04.02)\")","v":"Existing Evaluation Data\nto be Pulled Forward\n(24:05:25:04.02)"},null,null,null,null,null,{"$f":"HYPERLINK(\"https://gosynth.com/p/s/pfohnr\",\"List areas:\")","v":"List areas:"},null,null,"Test administered:",null,null,null,"Test date:",null,"Evaluator:",null,null,"Select","V74",null,null,null,null,{"$f":"S75","v":"Select"},{"$f":"S75","v":"Select"}]
[null,null,null,null,null,null,null,null,null,null,null,null,null,null,null,null,null,null,null,null,null,null,null,{"$f":"Y76+Z76","v":0},{"$f":"COUNTIF(Y75,\"Yes\")*3","v":0},{"$f":"COUNTIF(Z75,\"No\")*3","v":0}]
[]
[]
[]
["For more existing data requested click the [+]"]
[]
[]
[]
[]
[{"$f":"HYPERLINK(\"http://sdlegislature.gov/Rules/DisplayRule.aspx?Rule=24:05:25:04.02\",\"Skills Based Assessment and Report\n(24:05:25:04.02)\")","v":"Skills Based Assessment and Report\n(24:05:25:04.02)"},null,null,null,null,null,{"$f":"HYPERLINK(\"https://gosynth.com/p/s/tbqnts\",\"List areas:\")","v":"List areas:"},null,null,"Test administered:",null,null,null,"Test date:",null,"Evaluator:",null,null,"Select","V84",null,null,null,null,{"$f":"S85","v":"Select"},{"$f":"S85","v":"Select"}]
[null,null,null,null,null,null,null,null,null,null,null,null,null,null,null,null,null,null,null,null,null,null,null,{"$f":"Y86+Z86","v":0},{"$f":"COUNTIF(Y85,\"Yes\")*3","v":0},{"$f":"COUNTIF(Z85,\"No\")*3","v":0}]
[]
[null,null,null,null,null,null,null,null,null,null,null,null,null,null,null,null,null,null,null,null,null,null,null,{"$f":"(X86+X100+X104+X106+X108+X110+X112+X115+X117+X120)/10","v":0},{"$f":"(Y86+Y100+Y104+Y106+Y108+Y110+Y112+Y115+Y117+Y120)/10","v":0}]
[]
[]
[]
["For more skills based requested click the [+]"]
[]
[]
[]
[]
[]
[]
[{"$f":"HYPERLINK(\"http://sdlegislature.gov/Rules/DisplayRule.aspx?Rule=24:05:25:03\",\"Consent Received\n(24:05:25:03)\")","v":"Consent Received\n(24:05:25:03)"},null,null,null,null,null,{"$f":"HYPERLINK(\"https://gosynth.com/p/s/ctcnlr\",\"Consent received date:\")","v":"Consent received date:"},null,null,null,null,{"$f":"K57","v":"2020-01-20"},null,null,"Mark \"No\" if dates are outside of \"consent received\" and/or \"25 school days\".",null,null,null,"Select","V98",null,null,null,null,{"$f":"S99","v":"Select"},{"$f":"S99","v":"Select"}]
[null,null,null,null,null,null,"Earliest testing date:",null,null,null,null,{"$f":"MIN(N63:O74,N87:O98)","v":"00:00:00"},null,null,null,null,null,null,null,null,null,null,null,{"$f":"Y100+Z100","v":0},{"$f":"COUNTIF(Y99,\"Yes\")*3","v":0},{"$f":"COUNTIF(Z99,\"No\")*3","v":0}]
[null,null,null,null,null,null,"Latest testing date:",null,null,null,null,{"$f":"MAX(N63:O74,N87:O98)","v":"00:00:00"}]
[null,null,null,null,null,null,"Within 25 School Days:",null,null,null,null,{"$f":"IF(ISBLANK(K60),K58,K60)","v":"2020-02-24"}]
[{"$f":"HYPERLINK(\"http://sdlegislature.gov/Rules/DisplayRule.aspx?Rule=24:05:25:20\",\"All Evaluations Administered \n(24:05:25:20)\")","v":"All Evaluations Administered \n(24:05:25:20)"},null,null,null,null,null,{"$f":"HYPERLINK(\"https://gosynth.com/p/s/mkcdef\",\"All evaluations marked on the PWWN/Consent for Evaluation form must be administered.\")","v":"All evaluations marked on the PWWN/Consent for Evaluation form must be administered."},null,null,null,null,null,null,null,null,null,null,null,"Select","V102",null,null,null,null,{"$f":"S103","v":"Select"},{"$f":"S103","v":"Select"}]
[null,null,null,null,null,null,null,null,null,null,null,null,null,null,null,null,null,null,null,null,null,null,null,{"$f":"Y104+Z104","v":0},{"$f":"COUNTIF(Y103,\"Yes\")*3","v":0},{"$f":"COUNTIF(Z103,\"No\")*3","v":0}]
[{"$f":"HYPERLINK(\"http://sdlegislature.gov/Rules/DisplayRule.aspx?Rule=24:05:25:06.01\",\"Consent was Acquired\n(24:05:25:06.01)\")","v":"Consent was Acquired\n(24:05:25:06.01)"},null,null,null,null,null,{"$f":"HYPERLINK(\"https://gosynth.com/p/s/mkcdef\",\"All evaluations administered must be requested on the PWWN/Consent for Evaluation \nform.\")","v":"All evaluations administered must be requested on the PWWN/Consent for Evaluation \nform."},null,null,null,null,null,null,null,null,null,null,null,"Select",null,null,null,null,null,{"$f":"S105","v":"Select"},{"$f":"S105","v":"Select"}]
[null,null,null,null,null,null,null,null,null,null,null,null,null,null,null,null,null,null,null,null,null,null,null,{"$f":"Y106+Z106","v":0},{"$f":"COUNTIF(Y105,\"Yes\")*3","v":0},{"$f":"COUNTIF(Z105,\"No\")*3","v":0}]
[{"$f":"HYPERLINK(\"http://sdlegislature.gov/Rules/DisplayRule.aspx?Rule=24:05:25:04\",\"Variety of Sources \n(24:05:25:04)\")","v":"Variety of Sources \n(24:05:25:04)"},null,null,null,null,null,{"$f":"HYPERLINK(\"https://gosynth.com/p/s/mkcdef\",\"Appropritate means to provide evaluations for accurate data were used. \")","v":"Appropritate means to provide evaluations for accurate data were used. "},null,null,null,null,null,null,null,null,null,null,null,"Select",null,null,null,null,null,{"$f":"S107","v":"Select"},{"$f":"S107","v":"Select"}]
[null,null,null,null,null,null,null,null,null,null,null,null,null,null,null,null,null,null,null,null,null,null,null,{"$f":"Y108+Z108","v":0},{"$f":"COUNTIF(Y107,\"Yes\")*3","v":0},{"$f":"COUNTIF(Z107,\"No\")*3","v":0}]
[{"$f":"HYPERLINK(\"http://sdlegislature.gov/Rules/DisplayRule.aspx?Rule=24:05:25:04\",\"Met Requirements for the Disability\n(24:05:25:04) \")","v":"Met Requirements for the Disability\n(24:05:25:04) "},null,null,null,null,null,{"$f":"HYPERLINK(\"https://gosynth.com/p/s/mkcdef\",\"Comprehensive Evaluations in all areas required for the disability. \")","v":"Comprehensive Evaluations in all areas required for the disability. "},null,null,null,null,null,null,null,null,null,null,null,"Select",null,null,null,null,null,{"$f":"S109","v":"Select"},{"$f":"S109","v":"Select"}]
[null,null,null,null,null,null,null,null,null,null,null,null,null,null,null,null,null,null,null,null,null,null,null,{"$f":"Y110+Z110","v":0},{"$f":"COUNTIF(Y109,\"Yes\")*3","v":0},{"$f":"COUNTIF(Z109,\"No\")*3","v":0}]
[{"$f":"HYPERLINK(\"http://sdlegislature.gov/Rules/DisplayRule.aspx?Rule=24:05:25:03\",\"Eligibility within 30 Calendar Days \n(24:05:25:03)\")","v":"Eligibility within 30 Calendar Days \n(24:05:25:03)"},null,null,null,null,null,{"$f":"HYPERLINK(\"https://gosynth.com/p/s/mkcdef\",\"Day 26 was on:\")","v":"Day 26 was on:"},null,null,null,null,{"$f":"WORKDAY(L102,1)","v":"2020-02-25"},null,null,null,null,null,null,"Select","V110",null,null,null,null,{"$f":"S111","v":"Select"},{"$f":"S111","v":"Select"}]
[null,null,null,null,null,null,"Eligibility Determination Date:",null,null,null,null,{"$f":"T7","v":"00:00:00"},null,null,null,null,null,null,null,null,null,null,null,{"$f":"Y112+Z112","v":0},{"$f":"COUNTIF(Y111,\"Yes\")*3","v":0},{"$f":"COUNTIF(Z111,\"No\")*3","v":0}]
[null,null,null,null,null,null,"Eligibility meeting date should have been by:",null,null,null,null,null,null,null,{"$f":"K59","v":"00:00:00"}]
[{"$f":"HYPERLINK(\"http://sdlegislature.gov/Rules/DisplayRule.aspx?Rule=24:05:25:04.03\",\"Student Eligible for Special Education \n(24:05:25:04.03)\")","v":"Student Eligible for Special Education \n(24:05:25:04.03)"},null,null,null,null,null,null,null,null,null,null,null,null,null,null,null,null,null,"Select",null,null,null,null,null,{"$f":"S114","v":"Select"},{"$f":"S114","v":"Select"}]
[null,null,null,null,null,null,null,null,null,null,null,null,null,null,null,null,null,null,null,null,null,null,null,{"$f":"Y115+Z115","v":0},{"$f":"COUNTIF(Y114,\"Yes\")*3","v":0},{"$f":"COUNTIF(Z114,\"No\")*3","v":0}]
[{"$f":"HYPERLINK(\"http://sdlegislature.gov/Rules/DisplayRule.aspx?Rule=24:05:25:06\",\"Three Year Re-Evaluation\n(24:05:25:06)\")","v":"Three Year Re-Evaluation\n(24:05:25:06)"},null,null,null,null,null,{"$f":"HYPERLINK(\"https://gosynth.com/p/s/mkcdef\",\"Current Eligibility Determination Date:\")","v":"Current Eligibility Determination Date:"},null,null,null,null,null,null,{"$f":"L112","v":"00:00:00"},null,null,null,null,"Select",null,null,null,null,null,{"$f":"S116","v":"Select"},{"$f":"S116","v":"Select"}]
[null,null,null,null,null,null,"Previous Eligibility Determination Date:",null,null,null,null,null,null,{"$f":"T8","v":"00:00:00"},null,null,null,null,null,null,null,null,null,{"$f":"Y117+Z117","v":0},{"$f":"COUNTIF(Y116,\"Yes\")*3","v":0},{"$f":"COUNTIF(Z116,\"No\")*3","v":0}]
[]
[{"$f":"HYPERLINK(\"https://gosynth.com/p/s/mkcdef\",\"Evaluated to Dismiss from Services  \")","v":"Evaluated to Dismiss from Services  "},null,null,null,null,null,null,null,null,null,null,null,null,null,null,null,null,null,"Select",null,null,null,null,null,{"$f":"S119","v":"Select"},{"$f":"S119","v":"Select"}]
[null,null,null,null,null,null,null,null,null,null,null,null,null,null,null,null,null,null,null,null,null,null,null,{"$f":"Y120+Z120","v":0},{"$f":"COUNTIF(Y119,\"Yes\")*3","v":0},{"$f":"COUNTIF(Z119,\"No\")*3","v":0}]
[]
[{"$f":"HYPERLINK(\"https://gosynth.com/p/s/giwoma\",\"Eligibility Document for Specific Learning Disability\")","v":"Eligibility Document for Specific Learning Disability"},null,null,null,null,null,null,null,null,null,null,null,null,null,null,null,null,null,{"$f":"IFERROR(Y126/X126,\"N/A\")","v":"N/A"}]
["If student is not eligible for Specific Learning Disability, skip this section.  Click on the [+] button if section is not visible. ",null,null,null,null,null,null,null,null,null,null,null,null,null,null,null,null,null,"Select","V122",null,null,null,null,{"$f":"S123","v":"Select"},{"$f":"S123","v":"Select"}]
[{"$f":"HYPERLINK(\"http://sdlegislature.gov/Rules/DisplayRule.aspx?Rule=24:05:24.01:19\",\"Specific Learning Disabilities\n(24:05:24.01:19)\")","v":"Specific Learning Disabilities\n(24:05:24.01:19)"},null,null,null,null,null,"Check the following:",null,null,null,null,null,null,null,null,null,null,null,null,null,null,null,null,{"$f":"Y124+Z124","v":0},{"$f":"COUNTIF(Y123,\"Yes\")*3","v":0},{"$f":"COUNTIF(Z123,\"No\")*3","v":0}]
[]
[null,null,null,null,null,null,null,"Reading Comprehension",null,null,null,null,null,"Math Calculation",null,null,null,null,null,null,null,null,null,{"$f":"(X124+X132+X151+X165+X174)/5","v":0},{"$f":"(Y124+Y132+Y151+Y165+Y174)/5","v":0}]
[null,null,null,null,null,null,null,"Basic Reading Skills",null,null,null,null,null,"Math Problem Solving"]
[null,null,null,null,null,null,null,"Reading Fluency",null,null,null,null,null,"Listening Comprehension"]
[null,null,null,null,null,null,null,"Written Expression",null,null,null,null,null,"Oral Expression"]
[]
["For Initial Determination of Eligibility Only",null,null,null,null,null,null,null,null,null,null,null,null,null,null,null,null,null,"Select","V130",null,null,null,null,{"$f":"S131","v":"Select"},{"$f":"S131","v":"Select"}]
[{"$f":"HYPERLINK(\"http://sdlegislature.gov/Rules/DisplayRule.aspx?Rule=24:05:24.01:19\",\"Initial Eligibility\n(24:05:24.01:19)\")","v":"Initial Eligibility\n(24:05:24.01:19)"},null,null,null,null,null,"Written report must include:",null,null,null,null,null,null,null,null,null,null,null,null,null,null,null,null,{"$f":"Y132+Z132","v":0},{"$f":"COUNTIF(Y131,\"Yes\")*3","v":0},{"$f":"COUNTIF(Z131,\"No\")*3","v":0}]
[]
[null,null,null,null,null,null,null,"Student achieves adequately",null,null,null,null,"Lack of appropriate instruction"]
[]
[null,null,null,null,null,null,null,"Student exhibits pattern of strengths & weaknesses",null,null,null,null,"Observation of the student"]
[]
[null,null,null,null,null,null,null,null,null,null,null,null,"Relevant medical findings (if any)"]
[null,null,null,null,null,null,null,"Student was provided appropriate instruction in regular education settings by qualified personnel"]
[null,null,null,null,null,null,null,null,null,null,null,null,"Achievement level problem is/is not primarily the result of another factor (e.g. emotional disturbance, cognitive impairment, etc.)"]
[]
[]
[null,null,null,null,null,null,null,"Repeated assessment of achievement reflecting student progress"]
[]
[]
[null,null,null,null,null,null,null,"Attendance record",null,null,null,null,"Adverse effect on educational performance"]
[]
[]
["Click on the [+] button to expand or the [-] button to collapse."]
["For Reevaluation of Eligibility Only",null,null,null,null,null,null,null,null,null,null,null,null,null,null,null,null,null,"Select","V149",null,null,null,null,{"$f":"S150","v":"Select"},{"$f":"S150","v":"Select"}]
[{"$f":"HYPERLINK(\"http://sdlegislature.gov/Rules/DisplayRule.aspx?Rule=24:05:24.01:19\",\"Reevaluation of Eligibility\n(24:05:24.01:19)\")","v":"Reevaluation of Eligibility\n(24:05:24.01:19)"},null,null,null,null,null,"Written report must include:",null,null,null,null,null,null,null,null,null,null,null,null,null,null,null,null,{"$f":"Y151+Z151","v":0},{"$f":"COUNTIF(Y150,\"Yes\")*3","v":0},{"$f":"COUNTIF(Z150,\"No\")*3","v":0}]
[]
[null,null,null,null,null,null,null,"Student achieves adequately",null,null,null,null,"Achievement level problem is/is not primarily the result of another factor (e.g. emotional disturbance, cognitive impairment, etc.)"]
[]
[null,null,null,null,null,null,null,"Student exhibits pattern of strengths & weaknesses"]
[]
[]
[null,null,null,null,null,null,null,"Observation of the student"]
[null,null,null,null,null,null,null,null,null,null,null,null,"Adverse effect on educational performance"]
[null,null,null,null,null,null,null,"Relevant medical findings (if any)"]
[]
[]
["Click on the [+] button to expand or the [-] button to collapse."]
[{"$f":"HYPERLINK(\"http://sdlegislature.gov/Rules/DisplayRule.aspx?Rule=24:05:25:08\",\"Team Member Signatures \n(24:05:25:08)\")","v":"Team Member Signatures \n(24:05:25:08)"},null,null,null,null,null,"Check the following:",null,null,null,null,null,null,null,null,null,null,null,"Select","V163",null,null,null,null,{"$f":"S164","v":"Select"},{"$f":"S164","v":"Select"}]
[null,null,null,null,null,null,null,null,null,null,null,null,null,null,null,null,null,null,null,null,null,null,null,{"$f":"Y165+Z165","v":0},{"$f":"COUNTIF(Y164,\"Yes\")*3","v":0},{"$f":"COUNTIF(Z164,\"No\")*3","v":0}]
[null,null,null,null,null,null,null,"Parent",null,null,null,null,"Each group member shall certify in writing whether the report reflects the group member's conclusion. If it does not reflect the group member's conclusion, the group member must submit the conclusion in a separate statement."]
[null,null,null,null,null,null,null,"General Education Teacher"]
[{"$f":"HYPERLINK(\"http://sdlegislature.gov/Rules/DisplayRule.aspx?Rule=24:05:25:13\",\"Group Members to Certify \nReport in Writing \n(24:05:25:13)\")","v":"Group Members to Certify \nReport in Writing \n(24:05:25:13)"},null,null,null,null,null,null,"Special Education Teacher"]
[null,null,null,null,null,null,null,"Qualified interpreter of results"]
[null,null,null,null,null,null,null,"LEA Representative"]
[null,null,null,null,null,null,null,"If disagreed, written input was provided"]
[]
[null,null,null,null,null,null,"Check PWWN for eligibility decisions.                         ",null,null,null,null,"Skip to","PPWN.",null,null,null,null,null,"Select",null,null,null,null,null,{"$f":"S173","v":"Select"},{"$f":"S173","v":"Select"}]
[null,null,null,null,null,null,null,null,null,null,null,null,null,null,null,null,null,null,null,null,null,null,null,{"$f":"Y174+Z174","v":0},{"$f":"COUNTIF(Y173,\"Yes\")*3","v":0},{"$f":"COUNTIF(Z173,\"No\")*3","v":0}]
[]
[{"$f":"HYPERLINK(\"https://gosynth.com/p/s/mzphio\",\"Meeting Notice\")","v":"Meeting Notice"},null,null,null,null,null,null,null,null,null,null,null,null,null,null,null,null,null,{"$f":"IFERROR(Y184/X184,\"N/A\")","v":"N/A"}]
["Meeting Notice",null,null,null,null,null,"Date sent:",null,null,null,null,null,"From this point on use the current IEP's documentation.",null,null,null,null,null,"Select","V174",null,null,null,null,{"$f":"S177","v":"Select"},{"$f":"S177","v":"Select"}]
[{"$f":"HYPERLINK(\"http://sdlegislature.gov/Rules/DisplayRule.aspx?Rule=24:05:30:02.01\",\"(24:05:30:02.01)\")","v":"(24:05:30:02.01)"},null,null,{"$f":"HYPERLINK(\"http://sdlegislature.gov/Rules/DisplayRule.aspx?Rule=24:05:25:16\",\"(24:05:25:16)\")","v":"(24:05:25:16)"},null,null,"Meeting date:",null,null,{"$f":"T5","v":"00:00:00"},null,null,null,null,null,null,null,null,null,null,null,null,null,{"$f":"Y178+Z178","v":0},{"$f":"COUNTIF(Y177,\"Yes\")*3","v":0},{"$f":"COUNTIF(Z177,\"No\")*3","v":0}]
["Procedural Safeguards",null,null,null,null,null,"Must be given to parents annually.",null,null,null,null,null,null,null,null,null,null,null,"Select",null,null,null,null,null,{"$f":"S179","v":"Select"},{"$f":"S179","v":"Select"}]
[{"$f":"HYPERLINK(\"http://sdlegislature.gov/Rules/DisplayRule.aspx?Rule=24:05:30:06.01\",\"(24:05:30:06.01)\")","v":"(24:05:30:06.01)"},null,null,{"$f":"HYPERLINK(\"http://sdlegislature.gov/Rules/DisplayRule.aspx?Rule=24:05:30:06.02\",\"(24:05:30:06.02)\")","v":"(24:05:30:06.02)"},null,null,null,null,null,null,null,null,null,null,null,null,null,null,null,null,null,null,null,{"$f":"Y180+Z180","v":0},{"$f":"COUNTIF(Y179,\"Yes\")*3","v":0},{"$f":"COUNTIF(Z179,\"No\")*3","v":0}]
["IEP Team",null,null,null,null,null,"Complete the following:",null,null,null,null,null,null,null,null,null,null,null,"Select",null,null,null,null,null,{"$f":"S181","v":"Select"},{"$f":"S181","v":"Select"}]
[null,null,null,null,null,null,null,null,null,null,null,null,null,null,null,null,null,null,null,null,null,null,null,{"$f":"Y182+Z182","v":0},{"$f":"COUNTIF(Y181,\"Yes\")*3","v":0},{"$f":"COUNTIF(Z181,\"No\")*3","v":0}]
[null,null,null,null,null,null,null,"The documentation of people attending the IEP meeting on front page of the IEP does not imply agreement, it is for participation purposes only."]
[null,null,null,null,null,null,null,null,null,null,null,null,null,null,null,null,null,null,null,null,null,null,null,{"$f":"(X178+X180+X182+X198)/4","v":0},{"$f":"(Y178+Y180+Y182+Y198)/4","v":0}]
[null,null,null,null,null,null,null,"Identified on the meeting notice:",null,null,"Attended the meeting:",null,null,"Did not attend\nthe meeting:"]
[]
[{"$f":"HYPERLINK(\"http://sdlegislature.gov/Rules/DisplayRule.aspx?Rule=24:05:25:16\",\"(24:05:25:16)\")","v":"(24:05:25:16)"},null,null,null,null,null,null,"Parent/Guardian"]
[null,null,null,null,null,null,null,"Student"]
[null,null,null,null,null,null,null,"Gen. Ed. Teacher"]
[null,null,null,null,null,null,null,"Sp. Ed. Teacher"]
["Parent Participation",null,null,null,null,null,null,"Eval Interpreter"]
[{"$f":"HYPERLINK(\"http://sdlegislature.gov/Rules/DisplayRule.aspx?Rule=24:05:25:16\",\"(24:05:25:16)\")","v":"(24:05:25:16)"},null,null,null,null,null,null,"LEA Representative"]
[null,null,null,null,null,null,null,"List Others"]
[null,null,null,null,null,null,null,"List Others"]
[null,null,null,null,null,null,null,"List Others"]
[]
["IEP Team Attendance \n (24:05:27:01.05)",null,null,null,null,null,"A member of the IEP team may be excused from attending, in whole or in part, an IEP team meeting that involves a modification to or discussion of the member's area of the curriculum or related services, if:\n   (1) The parent and school district consent in writing to the excusal; and\n   (2) The member submits, in writing to the parent and the IEP team, input into the development of the IEP before the meeting.",null,null,null,null,null,null,null,null,null,null,null,"Select","V194",null,null,null,null,{"$f":"S197","v":"Select"},{"$f":"S197","v":"Select"}]
[null,null,null,null,null,null,null,null,null,null,null,null,null,null,null,null,null,null,null,null,null,null,null,{"$f":"Y198+Z198","v":0},{"$f":"COUNTIF(Y197,\"Yes\")*3","v":0},{"$f":"COUNTIF(Z197,\"No\")*3","v":0}]
[]
[]
[]
[]
[{"$f":"HYPERLINK(\"https://gosynth.com/p/s/jshfqs\",\"          Individual Education Plan (Use the most recent IEP.)\n\")","v":"          Individual Education Plan (Use the most recent IEP.)\n"},null,null,null,null,null,null,null,null,null,null,null,null,null,null,null,null,null,{"$f":"IFERROR(Y210/X210,\"N/A\")","v":"N/A"}]
[{"$f":"HYPERLINK(\"http://sdlegislature.gov/Rules/DisplayRule.aspx?Rule=24:05:25:04.03\",\"Evaluation Reports Given to Parents \n(24:05:25:04.03)\")","v":"Evaluation Reports Given to Parents \n(24:05:25:04.03)"},null,null,null,null,null,"Evidence the parent received a copy of the reports (e.g.  initials on the front page IEP or other evidence). ",null,null,null,null,null,null,null,null,null,null,null,"Select","V201",null,null,null,null,{"$f":"S204","v":"Select"},{"$f":"S204","v":"Select"}]
[null,null,null,null,null,null,null,null,null,null,null,null,null,null,null,null,null,null,null,null,null,null,null,{"$f":"Y205+Z205","v":0},{"$f":"COUNTIF(Y204,\"Yes\")*3","v":0},{"$f":"COUNTIF(Z204,\"No\")*3","v":0}]
[{"$f":"HYPERLINK(\"http://sdlegislature.gov/Rules/DisplayRule.aspx?Rule=24:05:25:19\",\"Copy of IEP Given to Parents \n(24:05:25:19)\")","v":"Copy of IEP Given to Parents \n(24:05:25:19)"},null,null,null,null,null,"Evidence copy of the IEP was given to parents (e.g.  initials on the front page, addressed in PPWN, or other evidence).",null,null,null,null,null,null,null,null,null,null,null,"Select",null,null,null,null,null,{"$f":"S206","v":"Select"},{"$f":"S206","v":"Select"}]
[null,null,null,null,null,null,null,null,null,null,null,null,null,null,null,null,null,null,null,null,null,null,null,{"$f":"Y207+Z207","v":0},{"$f":"COUNTIF(Y206,\"Yes\")*3","v":0},{"$f":"COUNTIF(Z206,\"No\")*3","v":0}]
[{"$f":"HYPERLINK(\"http://sdlegislature.gov/Rules/DisplayRule.aspx?Rule=24:05:27:08\",\"Met Annually\n(24:05:27:08)\")","v":"Met Annually\n(24:05:27:08)"},null,null,null,null,null,"Current IEP Meeting Date:",null,null,null,null,{"$f":"T5","v":"00:00:00"},null,null,null,null,null,null,"Select",null,null,null,null,null,{"$f":"S208","v":"Select"},{"$f":"S208","v":"Select"}]
[null,null,null,null,null,null,"Previous IEP Meeting Date:",null,null,null,null,{"$f":"T6","v":"00:00:00"},null,null,null,null,null,null,null,null,null,null,null,{"$f":"Y209+Z209","v":0},{"$f":"COUNTIF(Y208,\"Yes\")*3","v":0},{"$f":"COUNTIF(Z208,\"No\")*3","v":0}]
[null,null,null,null,null,null,null,null,null,null,null,null,null,null,null,null,null,null,null,null,null,null,null,{"$f":"(X205+X207+X209)/3","v":0},{"$f":"(Y205+Y207+Y209)/3","v":0}]
[{"$f":"HYPERLINK(\"https://gosynth.com/p/s/eypdgf\",\"Present Levels of Academic Achievement & Functional Performance\")","v":"Present Levels of Academic Achievement & Functional Performance"},null,null,null,null,null,null,null,null,null,null,null,null,null,null,null,null,null,{"$f":"IFERROR(Y243/X243,\"N/A\")","v":"N/A"}]
[{"$f":"HYPERLINK(\"http://sdlegislature.gov/Rules/DisplayRule.aspx?Rule=24:05:27:01.03\",\"Progress/Involvement in \nGeneral Education Curriculum\n(24:05:27:01.03)\")","v":"Progress/Involvement in \nGeneral Education Curriculum\n(24:05:27:01.03)"},null,null,null,null,null,"A statement of the student's present levels of academic achievement and functional performance, including:\n   (a)  How the student's disability affects the student's involvement and progress in the general education curriculum (i.e., the same curriculum as for nondisabled students); or\n   (b)  For preschool student, as appropriate, how the disability affects the student's participation in appropriate activities;\nis found in the document.",null,null,null,null,null,null,null,null,null,null,null,"Select","V209",null,null,null,null,{"$f":"S212","v":"Select"},{"$f":"S212","v":"Select"}]
[null,null,null,null,null,null,null,null,null,null,null,null,null,null,null,null,null,null,null,null,null,null,null,{"$f":"Y213+Z213","v":0},{"$f":"COUNTIF(Y212,\"Yes\")*3","v":0},{"$f":"COUNTIF(Z212,\"No\")*3","v":0}]
[]
[{"$f":"HYPERLINK(\"https://sdlegislature.gov/Rules/DisplayRule.aspx?Rule=24:05:25:16\",\"Parent Participation\n(24:05:25:16)\")","v":"Parent Participation\n(24:05:25:16)"},null,null,null,null,null,"The purpose of this area for parent to provide IEP team information about how the child’s disability is impacted at home. Parents can also provide input on types of strategies and supports they provide at home.",null,null,null,null,null,null,null,null,null,null,null,"Select",null,null,null,null,null,{"$f":"S215","v":"Select"},{"$f":"S215","v":"Select"}]
[null,null,null,null,null,null,null,null,null,null,null,null,null,null,null,null,null,null,null,null,null,null,null,{"$f":"Y216+Z216","v":0},{"$f":"COUNTIF(Y215,\"Yes\")*3","v":0},{"$f":"COUNTIF(Z215,\"No\")*3","v":0}]
[{"$f":"HYPERLINK(\"http://sdlegislature.gov/Rules/DisplayRule.aspx?Rule=24:05:27:01.03\",\"Present Levels of \nAcademic Achievement \n& Functional Performance\nLinked to Annual Goals\n(24:05:27:01.03)\")","v":"Present Levels of \nAcademic Achievement \n& Functional Performance\nLinked to Annual Goals\n(24:05:27:01.03)"},null,null,null,null,null,"Skill Area:",null,null,null,null,"Measuarable Goal:",null,null,null,null,null,null,"Select","V214",null,null,null,null,{"$f":"S217","v":"Select"},{"$f":"S217","v":"Select"}]
[null,null,null,null,null,null,null,null,null,null,null,null,null,null,null,null,null,null,null,null,null,null,null,{"$f":"Y218+Z218","v":0},{"$f":"COUNTIF(Y217,\"Yes\")*3","v":0},{"$f":"COUNTIF(Z217,\"No\")*3","v":0}]
[null,null,null,null,null,null,null,"Strengths",null,null,null,null,"Condition",null,null,"How well"]
[null,null,null,null,null,null,null,"Needs",null,null,null,null,"Performance",null,null,"How often"]
[null,null,null,null,null,null,null,"Link to evaluation"]
[]
[null,null,null,null,null,null,"Skill Area:",null,null,null,null,"Measuarable Goal:",null,null,null,null,null,null,"Select",null,null,null,null,null,{"$f":"S223","v":"Select"},{"$f":"S223","v":"Select"}]
[null,null,null,null,null,null,null,null,null,null,null,null,null,null,null,null,null,null,null,null,null,null,null,{"$f":"Y224+Z224","v":0},{"$f":"COUNTIF(Y223,\"Yes\")*3","v":0},{"$f":"COUNTIF(Z223,\"No\")*3","v":0}]
[null,null,null,null,null,null,null,"Strengths",null,null,null,null,"Condition",null,null,"How well"]
[null,null,null,null,null,null,null,"Needs",null,null,null,null,"Performance",null,null,"How often"]
[null,null,null,null,null,null,null,"Link to evaluation"]
[]
[null,null,null,null,null,null,"Skill Area:",null,null,null,null,"Measuarable Goal:",null,null,null,null,null,null,"Select",null,null,null,null,null,{"$f":"S229","v":"Select"},{"$f":"S229","v":"Select"}]
[null,null,null,null,null,null,null,null,null,null,null,null,null,null,null,null,null,null,null,null,null,null,null,{"$f":"Y230+Z230","v":0},{"$f":"COUNTIF(Y229,\"Yes\")*3","v":0},{"$f":"COUNTIF(Z229,\"No\")*3","v":0}]
[null,null,null,null,null,null,null,"Strengths",null,null,null,null,"Condition",null,null,"How well"]
[null,null,null,null,null,null,null,"Needs",null,null,null,null,"Performance",null,null,"How often"]
[null,null,null,null,null,null,null,"Link to evaluation"]
[]
[{"$f":"HYPERLINK(\"http://sdlegislature.gov/Rules/DisplayRule.aspx?Rule=24:05:27:01.03\",\"How Progress will be Measured\n(24:05:27:01.03)\")","v":"How Progress will be Measured\n(24:05:27:01.03)"},null,null,null,null,null,{"$f":"HYPERLINK(\"https://gosynth.com/p/s/psaxcx\",\"         Check the following:\")","v":"         Check the following:"},null,null,null,null,null,null,null,null,null,null,null,"Select","V232",null,null,null,null,{"$f":"S235","v":"Select"},{"$f":"S235","v":"Select"}]
[null,null,null,null,null,null,null,null,null,null,null,null,null,null,null,null,null,null,null,null,null,null,null,{"$f":"Y236+Z236","v":0},{"$f":"COUNTIF(Y235,\"Yes\")*3","v":0},{"$f":"COUNTIF(Z235,\"No\")*3","v":0}]
[null,null,null,null,null,null,null,"Reporting frequency",null,null,null,null,"Extent of progress"]
[null,null,null,null,null,null,null,"Reporting method"]
[]
[{"$f":"HYPERLINK(\"http://sdlegislature.gov/Rules/DisplayRule.aspx?Rule=24:05:27:01.03\",\"Accommodations/Modifications\n(24:05:27:01.03)\")","v":"Accommodations/Modifications\n(24:05:27:01.03)"},null,null,null,null,null,{"$f":"HYPERLINK(\"https://gosynth.com/p/s/rtpvrq\",\"         Check the following:\")","v":"         Check the following:"},null,null,null,null,"List Instructional Accommodations:",null,null,null,null,null,null,"Select","V237",null,null,null,null,{"$f":"S240","v":"Select"},{"$f":"S240","v":"Select"}]
[null,null,null,null,null,null,null,"Frequency",null,null,null,null,null,null,null,null,null,null,null,null,null,null,null,{"$f":"Y241+Z241","v":0},{"$f":"COUNTIF(Y240,\"Yes\")*3","v":0},{"$f":"COUNTIF(Z240,\"No\")*3","v":0}]
[null,null,null,null,null,null,null,"Duration"]
[null,null,null,null,null,null,null,"Location",null,null,null,null,null,null,null,null,null,null,null,null,null,null,null,{"$f":"(X241+X236+X230+X224+X218+X216+X213)/7","v":0},{"$f":"(Y241+Y236+Y230+Y224+Y218+Y216+Y213)/7","v":0}]
[]
[]
[null,null,null,null,null,null,null,"Are the accommodations appropriate for the skill areas affected by the diability?"]
[]
[]
[]
[null,null,null,null,null,null,null,null,"Yes"]
[null,null,null,null,null,null,null,null,"No"]
[]
[]
[]
[{"$f":"HYPERLINK(\"https://gosynth.com/p/s/ygpazf\",\"Special Factors\")","v":"Special Factors"},null,null,null,null,null,null,null,null,null,null,null,null,null,null,null,null,null,{"$f":"IFERROR(Y294/X294,\"N/A\")","v":"N/A"}]
[{"$f":"HYPERLINK(\"http://sdlegislature.gov/Rules/DisplayRule.aspx?Rule=24:05:27:01.02\",\"Considerations\n(24:05:27:01.02)\")","v":"Considerations\n(24:05:27:01.02)"},null,null,null,null,null,"Select for each:",null,null,"Determine if data supports the selection for each special factor; if not addressed, check \"N\"  for score.",null,null,null,null,null,null,null,null,"Select","V243",null,null,null,null,{"$f":"S256","v":"Select"},{"$f":"S256","v":"Select"}]
[null,null,null,null,null,null,null,null,null,null,null,null,null,null,null,null,null,null,null,null,null,null,null,{"$f":"Y257+Z257","v":0},{"$f":"COUNTIF(Y256,\"Yes\")*3","v":0},{"$f":"COUNTIF(Z256,\"No\")*3","v":0}]
[null,null,null,null,null,null,null,null,null,"Limited English proficient"]
[null,null,null,null,null,null,null,null,null,"Special communication needs"]
[null,null,null,null,null,null,null,null,null,"Requires Braille"]
[null,null,null,null,null,null,null,null,null,"Behavior impedes learning"]
[null,null,null,null,null,null,null,null,null,"Requires assistive technology & services"]
[null,null,null,null,null,null,null,null,null,"Physical education"]
[null,null,null,null,null,null,null,null,null,"Hearing aid maintenance"]
[{"$f":"HYPERLINK(\"http://sdlegislature.gov/Rules/DisplayRule.aspx?Rule=24:05:27:01.03\",\"State/District Assessments\n(24:05:27:01.03)\")","v":"State/District Assessments\n(24:05:27:01.03)"},null,null,null,null,null,{"$f":"HYPERLINK(\"https://gosynth.com/p/s/jdbbir\",\"             Students will be taking state and district-wide assessments:\")","v":"             Students will be taking state and district-wide assessments:"},null,null,null,null,null,null,null,null,null,null,null,"Select","V263",null,null,null,null,{"$f":"S265","v":"Select"},{"$f":"S265","v":"Select"}]
[null,null,null,null,null,null,null,"With accommodations",null,null,null,null,"Without accommodations",null,null,null,null,null,null,null,null,null,null,{"$f":"Y266+Z266","v":0},{"$f":"COUNTIF(Y265,\"Yes\")*3","v":0},{"$f":"COUNTIF(Z265,\"No\")*3","v":0}]
[null,null,null,null,null,null,"Testing accommodations must reflect instructional accommodations."]
[null,null,null,null,null,null,"Do the accommodations for the state/district assesment(s) \nmatch the instructional accommodations?"]
[]
[null,null,null,null,null,null,"Instructional \nAccommodations",null,null,null,"State/District\nAssessment\nAccommodations",null,null,null,"Select\nyes or no:"]
[]
[]
[null,null,null,null,null,null,{"$f":"L241","v":0},null,null,null,null,null,null,null,"- Select -"]
[null,null,null,null,null,null,0,null,null,null,null,null,null,null,"- Select -"]
[null,null,null,null,null,null,0,null,null,null,null,null,null,null,"- Select -"]
[null,null,null,null,null,null,0,null,null,null,null,null,null,null,"- Select -"]
[null,null,null,null,null,null,0]
[null,null,null,null,null,null,0,null,null,null,null,null,null,null,"- Select -"]
[null,null,null,null,null,null,0,null,null,null,null,null,null,null,"- Select -"]
[null,null,null,null,null,null,0]
[null,null,null,null,null,null,0]
[null,null,null,null,null,null,0,null,null,null,null,null,null,null,"- Select -"]
[null,null,null,null,null,null,0,null,null,null,null,null,null,null,"- Select -"]
[null,null,null,null,null,null,0,null,null,null,null,null,null,null,"- Select -"]
[null,null,null,null,null,null,0,null,null,null,null,null,null,null,"- Select -"]
[null,null,null,null,null,null,0,null,null,null,null,null,null,null,"- Select -"]
[null,null,null,null,null,null,"Were the accommodations for\n the state assessment identified \non the IEP provided according to \nthe assessment data sheet?"]
[null,null,null,null,null,null,null,null,null,null,null,null,null,"- Select -"]
[]
[{"$f":"HYPERLINK(\"http://sdlegislature.gov/Rules/DisplayRule.aspx?Rule=24:05:27:01.03\",\"Alternate Assessments\n(24:05:27:01.03)\")","v":"Alternate Assessments\n(24:05:27:01.03)"},null,null,null,null,null,{"$f":"HYPERLINK(\"https://gosynth.com/p/s/bjlejx\",\"                  The following must be met:\")","v":"                  The following must be met:"},null,null,null,null,null,null,null,null,null,null,null,"Select","V257",null,null,null,null,{"$f":"S290","v":"Select"},{"$f":"S290","v":"Select"}]
[null,null,null,null,null,null,null,null,null,null,null,null,null,null,null,null,null,null,null,null,null,null,null,{"$f":"Y291+Z291","v":0},{"$f":"COUNTIF(Y290,\"Yes\")*3","v":0},{"$f":"COUNTIF(Z290,\"No\")*3","v":0}]
[null,null,null,null,null,null,null,"Student meets the significant cognitive disability criteria"]
[null,null,null,null,null,null,null,"Explanation for why student cannot participate in the regular assessment"]
[null,null,null,null,null,null,null,null,null,null,null,null,null,null,null,null,null,null,null,null,null,null,null,{"$f":"(X291+X266+X257)/3","v":0},{"$f":"(Y291+Y266+Y257)/3","v":0}]
[null,null,null,null,null,null,null,"Explanation for why the alternate assessment selected is appropriate"]
[]
[null,null,null,null,null,null,null,"The alternate assessment is for students working in the alternate achievement standards.  Annual goals and short term objectives are required.                                                                         \n                                                                        "]
[]
[]
[null,null,null,null,null,null,"Does the PPWN explain why IEP team decided alternate assessment for the student?"]
[null,null,null,null,null,null,"Does the student taking the\n alternate assessment meet\n the criteria, has it been \ndocumented on the IEP?"]
[null,null,null,null,null,null,null,null,null,null,null,null,null,"- Select -"]
[]
[]
[{"$f":"HYPERLINK(\"https://gosynth.com/p/s/itwkve\",\"Transition\")","v":"Transition"},null,null,null,null,null,null,null,null,null,null,null,null,null,null,null,null,null,{"$f":"IFERROR(Y306/X306,\"N/A\")","v":"N/A"}]
["Indicator 13 Item 1",null,null,null,null,null,null,null,null,null,null,null,null,null,null,null,null,null,null,null,null,null,null,{"$f":"(X308+X310+X312+X314+X316+X319+X321+X323+X326+X329+X331+X333+X336+X338+X340+X343+X345+X347+X350+X356+X362+X364+X366+X369)/24","v":0},{"$f":"(Y308+Y310+Y312+Y314+Y316+Y319+Y321+Y323+Y326+Y329+Y331+Y333+Y336+Y338+Y340+Y343+Y345+Y347+Y350+Y356+Y362+Y364+Y366+Y369)/24","v":0}]
[{"$f":"HYPERLINK(\"http://sdlegislature.gov/Rules/DisplayRule.aspx?Rule=24:05:27:01.03\",\"Transition IEP*\n(24:05:27:01.03)\")","v":"Transition IEP*\n(24:05:27:01.03)"},null,null,null,null,null,{"$f":"HYPERLINK(\"https://gosynth.com/p/s/itwkve\",\"Transition IEP must be in effect for all students on their 16 birthday or for younger students if it is addressed in the IEP.   \n*This is not on the Indicator 13 checklist, but it is a compliance requirement. \")","v":"Transition IEP must be in effect for all students on their 16 birthday or for younger students if it is addressed in the IEP.   \n*This is not on the Indicator 13 checklist, but it is a compliance requirement. "},null,null,null,null,null,null,null,null,null,null,null,"Select","V269",null,null,null,null,{"$f":"S307","v":"Select"},{"$f":"S307","v":"Select"}]
[null,null,null,null,null,null,null,null,null,null,null,null,null,null,null,null,null,null,null,null,null,null,null,{"$f":"Y308+Z308","v":0},{"$f":"COUNTIF(Y307,\"Yes\")*3","v":0},{"$f":"COUNTIF(Z307,\"No\")*3","v":0}]
[null,null,null,null,null,null,null,null,null,null,null,null,null,null,null,null,null,null,"Select",null,null,null,null,null,{"$f":"S309","v":"Select"},{"$f":"S309","v":"Select"}]
[{"$f":"HYPERLINK(\"http://sdlegislature.gov/Rules/DisplayRule.aspx?Rule=24:05:27:01.03\",\"Transition Assessments\n(24:05:27:01.03)\")","v":"Transition Assessments\n(24:05:27:01.03)"},null,null,null,null,null,null,"Employment",null,null,null,null,null,null,null,null,null,null,null,null,null,null,null,{"$f":"Y310+Z310","v":0},{"$f":"COUNTIF(Y309,\"Yes\")*3","v":0},{"$f":"COUNTIF(Z309,\"No\")*3","v":0}]
[null,null,null,null,null,null,null,null,null,null,null,null,null,null,null,null,null,null,"Select",null,null,null,null,null,{"$f":"S311","v":"Select"},{"$f":"S311","v":"Select"}]
[null,null,null,null,null,null,null,"Education/Training",null,null,null,null,null,null,null,null,null,null,null,null,null,null,null,{"$f":"Y312+Z312","v":0},{"$f":"COUNTIF(Y311,\"Yes\")*3","v":0},{"$f":"COUNTIF(Z311,\"No\")*3","v":0}]
[null,null,null,null,null,null,null,"Independent Living",null,null,null,null,null,null,null,null,null,null,"Select",null,null,null,null,null,{"$f":"S313","v":"Select"},{"$f":"S313","v":"Select"}]
[null,null,null,null,null,null,{"$f":"HYPERLINK(\"https://gosynth.com/p/s/itwkve\",\"The transition assessment must be completed prior to the age of 16 and updated annually.  Evidence of transition strengths/ needs are document on the PLAAFPs.  \")","v":"The transition assessment must be completed prior to the age of 16 and updated annually.  Evidence of transition strengths/ needs are document on the PLAAFPs.  "},null,null,null,null,null,null,null,null,null,null,null,null,null,null,null,null,{"$f":"Y314+Z314","v":0},{"$f":"COUNTIF(Y313,\"Yes\")*3","v":0},{"$f":"COUNTIF(Z313,\"No\")*3","v":0}]
["Transition Evaluation Report*\n",null,null,null,null,null,{"$f":"HYPERLINK(\"https://gosynth.com/p/s/itwkve\",\"A transition evaluation report is located in the file.\n\n*This is not on the Indicator 13 checklist, but it is a compliance requirement. \")","v":"A transition evaluation report is located in the file.\n\n*This is not on the Indicator 13 checklist, but it is a compliance requirement. "},null,null,null,null,null,null,null,null,null,null,null,"Select",null,null,null,null,null,{"$f":"S315","v":"Select"},{"$f":"S315","v":"Select"}]
[null,null,null,null,null,null,null,null,null,null,null,null,null,null,null,null,null,null,null,null,null,null,null,{"$f":"Y316+Z316","v":0},{"$f":"COUNTIF(Y315,\"Yes\")*3","v":0},{"$f":"COUNTIF(Z315,\"No\")*3","v":0}]
[{"$f":"HYPERLINK(\"https://gosynth.com/p/s/itwkve\",\"Indicator 13 Item 2\")","v":"Indicator 13 Item 2"}]
[{"$f":"HYPERLINK(\"http://sdlegislature.gov/Rules/DisplayRule.aspx?Rule=24:05:27:01.03\",\"Age-Appropriate Measurable \nPost-Secondary Goals \n(24:05:27:01.03)\")","v":"Age-Appropriate Measurable \nPost-Secondary Goals \n(24:05:27:01.03)"},null,null,null,null,null,null,"Employment",null,null,null,null,null,null,null,null,null,null,"Select","V278",null,null,null,null,{"$f":"S318","v":"Select"},{"$f":"S318","v":"Select"}]
[null,null,null,null,null,null,null,null,null,null,null,null,null,null,null,null,null,null,null,null,null,null,null,{"$f":"Y319+Z319","v":0},{"$f":"COUNTIF(Y318,\"Yes\")*3","v":0},{"$f":"COUNTIF(Z318,\"No\")*3","v":0}]
[null,null,null,null,null,null,null,"Education/Training",null,null,null,null,null,null,null,null,null,null,"Select",null,null,null,null,null,{"$f":"S320","v":"Select"},{"$f":"S320","v":"Select"}]
[null,null,null,null,null,null,null,null,null,null,null,null,null,null,null,null,null,null,null,null,null,null,null,{"$f":"Y321+Z321","v":0},{"$f":"COUNTIF(Y320,\"Yes\")*3","v":0},{"$f":"COUNTIF(Z320,\"No\")*3","v":0}]
[null,null,null,null,null,null,null,"Independent Living",null,null,null,null,null,null,null,null,null,null,"Select",null,null,null,null,null,{"$f":"S322","v":"Select"},{"$f":"S322","v":"Select"}]
[null,null,null,null,null,null,null,null,null,null,null,null,null,null,null,null,null,null,null,null,null,null,null,{"$f":"Y323+Z323","v":0},{"$f":"COUNTIF(Y322,\"Yes\")*3","v":0},{"$f":"COUNTIF(Z322,\"No\")*3","v":0}]
[{"$f":"HYPERLINK(\"https://gosynth.com/p/s/itwkve\",\"Indicator 13 Item 3\")","v":"Indicator 13 Item 3"}]
["MPSGs Updated Annually",null,null,null,null,null,null,null,null,null,null,null,null,null,null,null,null,null,"Select","V282",null,null,null,null,{"$f":"S325","v":"Select"},{"$f":"S325","v":"Select"}]
[null,null,null,null,null,null,null,null,null,null,null,null,null,null,null,null,null,null,null,null,null,null,null,{"$f":"Y326+Z326","v":0},{"$f":"COUNTIF(Y325,\"Yes\")*3","v":0},{"$f":"COUNTIF(Z325,\"No\")*3","v":0}]
["Indicator 13 Item 4"]
[{"$f":"HYPERLINK(\"http://sdlegislature.gov/Rules/DisplayRule.aspx?Rule=24:05:27:01.03\",\"Course of Study Aligns to \nPost-Secondary Goals\n(24:05:27:01.03)\")","v":"Course of Study Aligns to \nPost-Secondary Goals\n(24:05:27:01.03)"},null,null,null,null,null,null,"Employment",null,null,null,null,null,null,null,null,null,null,"Select","V285",null,null,null,null,{"$f":"S328","v":"Select"},{"$f":"S328","v":"Select"}]
[null,null,null,null,null,null,null,null,null,null,null,null,null,null,null,null,null,null,null,null,null,null,null,{"$f":"Y329+Z329","v":0},{"$f":"COUNTIF(Y328,\"Yes\")*3","v":0},{"$f":"COUNTIF(Z328,\"No\")*3","v":0}]
[null,null,null,null,null,null,null,"Education/Training",null,null,null,null,null,null,null,null,null,null,"Select",null,null,null,null,null,{"$f":"S330","v":"Select"},{"$f":"S330","v":"Select"}]
[null,null,null,null,null,null,null,null,null,null,null,null,null,null,null,null,null,null,null,null,null,null,null,{"$f":"Y331+Z331","v":0},{"$f":"COUNTIF(Y330,\"Yes\")*3","v":0},{"$f":"COUNTIF(Z330,\"No\")*3","v":0}]
[null,null,null,null,null,null,null,"Independent Living",null,null,null,null,null,null,null,null,null,null,"Select",null,null,null,null,null,{"$f":"S332","v":"Select"},{"$f":"S332","v":"Select"}]
[null,null,null,null,null,null,"Completed by age 16, or younger if transition has been addressed in the IEP, and updated annually through graduation or ‘age out’.",null,null,null,null,null,null,null,null,null,null,null,null,null,null,null,null,{"$f":"Y333+Z333","v":0},{"$f":"COUNTIF(Y332,\"Yes\")*3","v":0},{"$f":"COUNTIF(Z332,\"No\")*3","v":0}]
[{"$f":"HYPERLINK(\"https://gosynth.com/p/s/itwkve\",\"Indicator 13 Item 5\")","v":"Indicator 13 Item 5"}]
[{"$f":"HYPERLINK(\"http://sdlegislature.gov/Rules/DisplayRule.aspx?Rule=24:05:27:13.02\",\"Transition Services/Activities\n(24:05:27:13.02)\")","v":"Transition Services/Activities\n(24:05:27:13.02)"},null,null,null,null,null,null,"Employment",null,null,null,null,null,null,null,null,null,null,"Select","V290",null,null,null,null,{"$f":"S335","v":"Select"},{"$f":"S335","v":"Select"}]
[null,null,null,null,null,null,null,null,null,null,null,null,null,null,null,null,null,null,null,null,null,null,null,{"$f":"Y336+Z336","v":0},{"$f":"COUNTIF(Y335,\"Yes\")*3","v":0},{"$f":"COUNTIF(Z335,\"No\")*3","v":0}]
[null,null,null,null,null,null,null,"Education/Training",null,null,null,null,null,null,null,null,null,null,"Select",null,null,null,null,null,{"$f":"S337","v":"Select"},{"$f":"S337","v":"Select"}]
[null,null,null,null,null,null,null,null,null,null,null,null,null,null,null,null,null,null,null,null,null,null,null,{"$f":"Y338+Z338","v":0},{"$f":"COUNTIF(Y337,\"Yes\")*3","v":0},{"$f":"COUNTIF(Z337,\"No\")*3","v":0}]
[null,null,null,null,null,null,null,"Independent Living",null,null,null,null,null,null,null,null,null,null,"Select",null,null,null,null,null,{"$f":"S339","v":"Select"},{"$f":"S339","v":"Select"}]
[null,null,null,null,null,null,"Services/activities will reasonably enable the student to meet post-secondary goals and have at least one activity per MPSG addressed.",null,null,null,null,null,null,null,null,null,null,null,null,null,null,null,null,{"$f":"Y340+Z340","v":0},{"$f":"COUNTIF(Y339,\"Yes\")*3","v":0},{"$f":"COUNTIF(Z339,\"No\")*3","v":0}]
[{"$f":"HYPERLINK(\"https://gosynth.com/p/s/itwkve\",\"Indicator 13 Item 6\")","v":"Indicator 13 Item 6"}]
[{"$f":"HYPERLINK(\"http://sdlegislature.gov/Rules/DisplayRule.aspx?Rule=24:05:27:13.02\",\"Annual Goal Related to Student’s Transition Service needs in\n(24:05:27:13.02)\")","v":"Annual Goal Related to Student’s Transition Service needs in\n(24:05:27:13.02)"},null,null,null,null,null,null,"Employment",null,null,null,null,null,null,null,null,null,null,"Select","V295",null,null,null,null,{"$f":"S342","v":"Select"},{"$f":"S342","v":"Select"}]
[null,null,null,null,null,null,null,null,null,null,null,null,null,null,null,null,null,null,null,null,null,null,null,{"$f":"Y343+Z343","v":0},{"$f":"COUNTIF(Y342,\"Yes\")*3","v":0},{"$f":"COUNTIF(Z342,\"No\")*3","v":0}]
[null,null,null,null,null,null,null,"Education/Training",null,null,null,null,null,null,null,null,null,null,"Select",null,null,null,null,null,{"$f":"S344","v":"Select"},{"$f":"S344","v":"Select"}]
[null,null,null,null,null,null,null,null,null,null,null,null,null,null,null,null,null,null,null,null,null,null,null,{"$f":"Y345+Z345","v":0},{"$f":"COUNTIF(Y344,\"Yes\")*3","v":0},{"$f":"COUNTIF(Z344,\"No\")*3","v":0}]
[null,null,null,null,null,null,null,"Independent Living",null,null,null,null,null,null,null,null,null,null,"Select",null,null,null,null,null,{"$f":"S346","v":"Select"},{"$f":"S346","v":"Select"}]
[null,null,null,null,null,null,{"$f":"HYPERLINK(\"https://gosynth.com/p/s/itwkve\",\"Annual goals are linked to the MPSGs.\")","v":"Annual goals are linked to the MPSGs."},null,null,null,null,null,null,null,null,null,null,null,null,null,null,null,null,{"$f":"Y347+Z347","v":0},{"$f":"COUNTIF(Y346,\"Yes\")*3","v":0},{"$f":"COUNTIF(Z346,\"No\")*3","v":0}]
[{"$f":"HYPERLINK(\"https://gosynth.com/p/s/pisllo\",\"Indicator 13 Item 7\")","v":"Indicator 13 Item 7"}]
[{"$f":"HYPERLINK(\"http://sdlegislature.gov/Rules/DisplayRule.aspx?Rule=24:05:25:16.01\",\"Student Invitation/Participation\n(24:05:25:16.01)\")","v":"Student Invitation/Participation\n(24:05:25:16.01)"},null,null,null,null,null,"How the student invited?",null,null,null,null,{"$f":"HYPERLINK(\"https://gosynth.com/p/s/pisllo\",\"If student was not in attendance at the meeting, the IEP should show evidence that student's preferences and interests were taken into account. *\")","v":"If student was not in attendance at the meeting, the IEP should show evidence that student's preferences and interests were taken into account. *"},null,null,null,null,null,null,"Select","V300",null,null,null,null,{"$f":"S349","v":"Select"},{"$f":"S349","v":"Select"}]
[null,null,null,null,null,null,null,null,null,null,null,null,null,null,null,null,null,null,null,null,null,null,null,{"$f":"Y350+Z350","v":0},{"$f":"COUNTIF(Y349,\"Yes\")*3","v":0},{"$f":"COUNTIF(Z349,\"No\")*3","v":0}]
[null,null,null,null,null,null,null,"Meeting notice"]
[null,null,null,null,null,null,null,"Individual student invite"]
[]
[{"$f":"HYPERLINK(\"https://gosynth.com/p/s/pisllo\",\"Indicator 13 Item 8\")","v":"Indicator 13 Item 8"}]
[{"$f":"HYPERLINK(\"http://sdlegislature.gov/Rules/DisplayRule.aspx?Rule=24:05:25:16.01\",\"Consent to Invite Outside Agency\n(24:05:25:16.01)\")","v":"Consent to Invite Outside Agency\n(24:05:25:16.01)"},null,null,null,null,null,{"$f":"HYPERLINK(\"https://gosynth.com/p/s/pisllo\",\" Written Consent to invite:\")","v":" Written Consent to invite:"},null,null,null,null,null,null,"List of agencies invited:",null,null,null,null,"Select","V306",null,null,null,null,{"$f":"S355","v":"Select"},{"$f":"S355","v":"Select"}]
[null,null,null,null,null,null,"Invited on Meeting Notice:",null,null,null,null,null,"Yes",null,null,null,null,null,null,null,null,null,null,{"$f":"Y356+Z356","v":0},{"$f":"COUNTIF(Y355,\"Yes\")*3","v":0},{"$f":"COUNTIF(Z355,\"No\")*3","v":0}]
[null,null,null,null,null,null,null,null,null,null,null,null,"No"]
[null,null,null,null,null,null,"Meeting Notice Date:",null,null,null,null,{"$f":"J177","v":"00:00:00"}]
[null,null,null,null,null,null,"Date of Current IEP Meeting:",null,null,null,null,{"$f":"T5","v":"00:00:00"}]
[{"$f":"HYPERLINK(\"https://gosynth.com/p/s/pisllo\",\"Other Transition Areas *\")","v":"Other Transition Areas *"}]
[{"$f":"HYPERLINK(\"http://sdlegislature.gov/Rules/DisplayRule.aspx?Rule=24:05:30:16.01\",\"Transfer of Parental Rights:\n(24:05:30:16.01)\")","v":"Transfer of Parental Rights:\n(24:05:30:16.01)"},null,null,null,null,null,"Turned 17 on:",null,null,null,null,null,null,null,null,null,null,null,"Select","V312",null,null,null,null,{"$f":"S361","v":"Select"},{"$f":"S361","v":"Select"}]
[null,null,null,null,null,null,"Rights reviewed on:",null,null,null,null,null,null,null,null,null,null,null,null,null,null,null,null,{"$f":"Y362+Z362","v":0},{"$f":"COUNTIF(Y361,\"Yes\")*3","v":0},{"$f":"COUNTIF(Z361,\"No\")*3","v":0}]
[{"$f":"HYPERLINK(\"http://sdlegislature.gov/Rules/DisplayRule.aspx?Rule=24:05:27:12\",\"Specific Graduation Requirements:\n(24:05:27:12)\")","v":"Specific Graduation Requirements:\n(24:05:27:12)"},null,null,null,null,null,"Graduation requirements addressed on:",null,null,null,null,null,null,null,null,null,null,null,"Select",null,null,null,null,null,{"$f":"S363","v":"Select"},{"$f":"S363","v":"Select"}]
[null,null,null,null,null,null,"Student is projected to graduate:",null,null,null,null,null,null,null,null,null,null,null,null,null,null,null,null,{"$f":"Y364+Z364","v":0},{"$f":"COUNTIF(Y363,\"Yes\")*3","v":0},{"$f":"COUNTIF(Z363,\"No\")*3","v":0}]
[{"$f":"HYPERLINK(\"http://sdlegislature.gov/Rules/DisplayRule.aspx?Rule=24:05:27:12\",\"When Student has Graduated\n(24:05:27:12)\")","v":"When Student has Graduated\n(24:05:27:12)"},null,null,null,null,null,"Written prior notice was sent:",null,null,null,null,null,null,null,null,null,null,null,"Select",null,null,null,null,null,{"$f":"S365","v":"Select"},{"$f":"S365","v":"Select"}]
[null,null,null,null,null,null,{"$f":"HYPERLINK(\"https://gosynth.com/p/s/pisllo\",\"When a student graduates, it is a change in placement. It must have a written\n prior notice sent.  If student has \"\"aged-out\"\", a PPWN is required.  \")","v":"When a student graduates, it is a change in placement. It must have a written\n prior notice sent.  If student has \"aged-out\", a PPWN is required.  "},null,null,null,null,null,null,null,null,null,null,null,null,null,null,null,null,{"$f":"Y366+Z366","v":0},{"$f":"COUNTIF(Y365,\"Yes\")*3","v":0},{"$f":"COUNTIF(Z365,\"No\")*3","v":0}]
[]
[{"$f":"HYPERLINK(\"http://sdlegislature.gov/Rules/DisplayRule.aspx?Rule=24:05:27:12\",\"Summary of Performance was provided to the Student/Parent/Guardian\n(24:05:27:12)\")","v":"Summary of Performance was provided to the Student/Parent/Guardian\n(24:05:27:12)"},null,null,null,null,null,{"$f":"HYPERLINK(\"https://gosynth.com/p/s/pisllo\",\"Summary of Performance (SOP) is required for students who graduated and\n aged out. A copy of the SOP should remain in the file.\")","v":"Summary of Performance (SOP) is required for students who graduated and\n aged out. A copy of the SOP should remain in the file."},null,null,null,null,null,null,null,null,null,null,null,"Select",null,null,null,null,null,{"$f":"S368","v":"Select"},{"$f":"S368","v":"Select"}]
[null,null,null,null,null,null,null,null,null,null,null,null,null,null,null,null,null,null,null,null,null,null,null,{"$f":"Y369+Z369","v":0},{"$f":"COUNTIF(Y368,\"Yes\")*3","v":0},{"$f":"COUNTIF(Z368,\"No\")*3","v":0}]
[]
["Click on the [+] button to expand or the [-] button to collapse."]
[{"$f":"HYPERLINK(\"https://gosynth.com/p/s/kldkzb\",\"Related Services\")","v":"Related Services"},null,null,null,null,null,null,null,null,null,null,null,null,null,null,null,null,null,{"$f":"IFERROR(Y375/X375,\"N/A\")","v":"N/A"}]
[{"$f":"HYPERLINK(\"http://sdlegislature.gov/Rules/DisplayRule.aspx?Rule=24:05:27:16\",\"Related Services\n(24:05:27)\")","v":"Related Services\n(24:05:27)"},null,null,null,null,null,"Service Provided:",null,null,null,null,null,"If student will receive services in a different location, then must break it out to calculate the Least Restrictive Environment.",null,null,null,null,null,"Select","V324",null,null,null,null,{"$f":"S373","v":"Select"},{"$f":"S373","v":"Select"}]
[null,null,null,null,null,null,null,null,null,null,null,null,null,null,null,null,null,null,null,null,null,null,null,{"$f":"Y374+Z374","v":0},{"$f":"COUNTIF(Y373,\"Yes\")*3","v":0},{"$f":"COUNTIF(Z373,\"No\")*3","v":0}]
[null,null,null,null,null,null,null,"Frequency",null,null,"Location",null,null,null,null,null,null,null,null,null,null,null,null,{"$f":"(X374+X379)/2","v":0},{"$f":"(Y374+Y379)/2","v":0}]
[null,null,null,null,null,null,null,"Duration",null,null,"Other"]
[null,null,null,null,null,null,"Service Provided:",null,null,null,null,null,"At a minimum, all areas student qualifies and has an annual goal must have service time documented. If not addressed, then PPWN must explain reason."]
[null,null,null,null,null,null,null,null,null,null,null,null,null,null,null,null,null,null,"Select",null,null,null,null,null,{"$f":"S378","v":"Select"},{"$f":"S378","v":"Select"}]
[null,null,null,null,null,null,null,"Frequency",null,null,"Location",null,null,null,null,null,null,null,null,null,null,null,null,{"$f":"Y379+Z379","v":0},{"$f":"COUNTIF(Y378,\"Yes\")*3","v":0},{"$f":"COUNTIF(Z378,\"No\")*3","v":0}]
[null,null,null,null,null,null,null,"Duration",null,null,"Other"]
[]
["Least Restrictive Environment ",null,null,null,null,null,null,null,null,null,null,null,null,null,null,null,null,null,{"$f":"IFERROR(Y382/X382,\"N/A\")","v":"N/A"},null,null,null,null,{"$f":"(X384+X388+X392+X396+X400+X402+X404+X406+X408)/9","v":0},{"$f":"(Y384+Y388+Y392+Y396+Y400+Y402+Y404+Y406+Y408)/9","v":0}]
[{"$f":"HYPERLINK(\"https://sdlegislature.gov/Rules/DisplayRule.aspx?Rule=24:05:28\",\"Least Restrictive Enviornment \n(Chapter 24:05:28)\")","v":"Least Restrictive Enviornment \n(Chapter 24:05:28)"},null,null,null,null,null,{"$f":"HYPERLINK(\"https://gosynth.com/p/s/llxjsq\",\"Skill area:\")","v":"Skill area:"},null,null,null,null,null,null,null,null,null,null,null,"Select","V334",null,null,null,null,{"$f":"S383","v":"Select"},{"$f":"S383","v":"Select"}]
[null,null,null,null,null,null,null,null,null,null,null,null,null,null,null,null,null,null,null,null,null,null,null,{"$f":"Y384+Z384","v":0},{"$f":"COUNTIF(Y383,\"Yes\")*3","v":0},{"$f":"COUNTIF(Z383,\"No\")*3","v":0}]
[null,null,null,null,null,null,null,null,"Frequency",null,null,"Duration",null,null,"Location"]
[]
[null,null,null,null,null,null,"Skill area:",null,null,null,null,null,null,null,null,null,null,null,"Select",null,null,null,null,null,{"$f":"S387","v":"Select"},{"$f":"S387","v":"Select"}]
[null,null,null,null,null,null,null,null,null,null,null,null,null,null,null,null,null,null,null,null,null,null,null,{"$f":"Y388+Z388","v":0},{"$f":"COUNTIF(Y387,\"Yes\")*3","v":0},{"$f":"COUNTIF(Z387,\"No\")*3","v":0}]
[null,null,null,null,null,null,null,null,"Frequency",null,null,"Duration",null,null,"Location"]
[]
[null,null,null,null,null,null,"Skill area:",null,null,null,null,null,null,null,null,null,null,null,"Select",null,null,null,null,null,{"$f":"S391","v":"Select"},{"$f":"S391","v":"Select"}]
[null,null,null,null,null,null,null,null,null,null,null,null,null,null,null,null,null,null,null,null,null,null,null,{"$f":"Y392+Z392","v":0},{"$f":"COUNTIF(Y391,\"Yes\")*3","v":0},{"$f":"COUNTIF(Z391,\"No\")*3","v":0}]
[null,null,null,null,null,null,null,null,"Frequency",null,null,"Duration",null,null,"Location"]
[]
[null,null,null,null,null,null,"Skill area:",null,null,null,null,null,null,null,null,null,null,null,"Select",null,null,null,null,null,{"$f":"S395","v":"Select"},{"$f":"S395","v":"Select"}]
[null,null,null,null,null,null,null,null,null,null,null,null,null,null,null,null,null,null,null,null,null,null,null,{"$f":"Y396+Z396","v":0},{"$f":"COUNTIF(Y395,\"Yes\")*3","v":0},{"$f":"COUNTIF(Z395,\"No\")*3","v":0}]
[null,null,null,null,null,null,null,null,"Frequency",null,null,"Duration",null,null,"Location"]
[]
[{"$f":"HYPERLINK(\"http://sdlegislature.gov/Rules/DisplayRule.aspx?Rule=24:05:28:02\",\"Continuum of Placement\n(24:05:28:02)\")","v":"Continuum of Placement\n(24:05:28:02)"},null,null,null,null,null,"Select:",null,null,null,null,null,null,null,null,null,null,null,"Select","V350",null,null,null,null,{"$f":"S399","v":"Select"},{"$f":"S399","v":"Select"}]
[null,null,null,null,null,null,null,null,null,null,null,null,null,null,null,null,null,null,null,null,null,null,null,{"$f":"Y400+Z400","v":0},{"$f":"COUNTIF(Y399,\"Yes\")*3","v":0},{"$f":"COUNTIF(Z399,\"No\")*3","v":0}]
[null,null,null,null,null,null,"Select for Early Childhood (Ages 3-5):",null,null,null,null,null,null,null,null,null,null,null,"Select",null,null,null,null,null,{"$f":"S401","v":"Select"},{"$f":"S401","v":"Select"}]
[null,null,null,null,null,null,null,null,null,null,null,null,null,null,null,null,null,null,null,null,null,null,null,{"$f":"Y402+Z402","v":0},{"$f":"COUNTIF(Y401,\"Yes\")*3","v":0},{"$f":"COUNTIF(Z401,\"No\")*3","v":0}]
[{"$f":"HYPERLINK(\"http://sdlegislature.gov/Rules/DisplayRule.aspx?Rule=24:05:27:01.03\",\"Participation with Non-disabled Peers\n(24:05:27:01.03)\")","v":"Participation with Non-disabled Peers\n(24:05:27:01.03)"},null,null,null,null,null,{"$f":"HYPERLINK(\"https://gosynth.com/p/s/wjqcuh\",\"Document opportunities to participate with non-disabled peers.\")","v":"Document opportunities to participate with non-disabled peers."},null,null,null,null,null,null,null,null,null,null,null,"Select",null,null,null,null,null,{"$f":"S403","v":"Select"},{"$f":"S403","v":"Select"}]
[null,null,null,null,null,null,null,null,null,null,null,null,null,null,null,null,null,null,null,null,null,null,null,{"$f":"Y404+Z404","v":0},{"$f":"COUNTIF(Y403,\"Yes\")*3","v":0},{"$f":"COUNTIF(Z403,\"No\")*3","v":0}]
[{"$f":"HYPERLINK(\"http://sdlegislature.gov/Rules/DisplayRule.aspx?Rule=24:05:28:03\",\"Justification for Placement \n(24:05:28:03)\")","v":"Justification for Placement \n(24:05:28:03)"},null,null,null,null,null,{"$f":"HYPERLINK(\"https://gosynth.com/p/s/rjxcoc\",\"                  Select from the following:\")","v":"                  Select from the following:"},null,null,null,null,null,null,null,null,null,null,null,"Select",null,null,null,null,null,{"$f":"S405","v":"Select"},{"$f":"S405","v":"Select"}]
[null,null,null,null,null,null,null,null,null,null,null,null,null,null,null,null,null,null,null,null,null,null,null,{"$f":"Y406+Z406","v":0},{"$f":"COUNTIF(Y405,\"Yes\")*3","v":0},{"$f":"COUNTIF(Z405,\"No\")*3","v":0}]
[{"$f":"HYPERLINK(\"http://sdlegislature.gov/Rules/DisplayRule.aspx?Rule=24:05:25:26\",\"Extended School Year\n(24:05:25:26)\")","v":"Extended School Year\n(24:05:25:26)"},null,null,null,null,null,{"$f":"HYPERLINK(\"https://gosynth.com/p/s/bbepxx\",\"                  Check the following:\")","v":"                  Check the following:"},null,null,null,null,null,null,null,null,null,null,null,"Select","V358",null,null,null,null,{"$f":"S407","v":"Select"},{"$f":"S407","v":"Select"}]
[null,null,null,null,null,null,null,null,null,null,null,null,null,null,null,null,null,null,null,null,null,null,null,{"$f":"Y408+Z408","v":0},{"$f":"COUNTIF(Y407,\"Yes\")*3","v":0},{"$f":"COUNTIF(Z407,\"No\")*3","v":0}]
[null,null,null,null,null,null,null,null,"Determination",null,null,null,"Beginning/end dates"]
[null,null,null,null,null,null,null,null,"Goals",null,null,null,"Amount of service"]
[]
[]
[]
[{"$f":"HYPERLINK(\"https://gosynth.com/p/s/acbbuk\",\"Prior Parental Written Notice\")","v":"Prior Parental Written Notice"},null,null,null,null,null,null,null,null,null,null,null,null,null,null,null,null,null,{"$f":"IFERROR(Y414/X414,\"N/A\")","v":"N/A"},null,null,null,null,{"$f":"(X416+X421)/2","v":0},{"$f":"(Y416+Y421)/2","v":0}]
[{"$f":"HYPERLINK(\"http://sdlegislature.gov/Rules/DisplayRule.aspx?Rule=24:05:30:04\",\"Prior Written Notice Sent to Parent Regarding IEP Implementation\n(24:05:30:04)\")","v":"Prior Written Notice Sent to Parent Regarding IEP Implementation\n(24:05:30:04)"},null,null,null,null,null,"Date the district sent the PPWN:",null,null,null,null,null,null,null,"The implementation date documented on the PPWN must be reflected on IEP.\n\nThe five-day notice requirement may be waived by the parents.",null,null,null,"Select","V366",null,null,null,null,{"$f":"S415","v":"Select"},{"$f":"S415","v":"Select"}]
[null,null,null,null,null,null,"District proposed at least 5 calendar days to begin implementation:",null,null,null,null,null,{"$f":"M415+5","v":"1900-01-05"},null,null,null,null,null,null,null,null,null,null,{"$f":"Y416+Z416","v":0},{"$f":"COUNTIF(Y415,\"Yes\")*3","v":0},{"$f":"COUNTIF(Z415,\"No\")*3","v":0}]
[]
[null,null,null,null,null,null,"Was the 5 calendar day notice requirement met?",null,null,null,null,null,null,"Yes"]
[null,null,null,null,null,null,null,null,null,null,null,null,null,"No"]
[{"$f":"HYPERLINK(\"http://sdlegislature.gov/Rules/DisplayRule.aspx?Rule=24:05:30:05\",\"Content of PPWN\n(24:05:30:05)\")","v":"Content of PPWN\n(24:05:30:05)"},null,null,null,null,null,"Check the following:",null,null,null,null,null,null,null,null,null,null,null,"Select","V371",null,null,null,null,{"$f":"S420","v":"Select"},{"$f":"S420","v":"Select"}]
[null,null,null,null,null,null,"PPWN must be individualized to the student, IEP team discussions and situation.",null,null,null,null,null,null,null,null,null,null,null,null,null,null,null,null,{"$f":"Y421+Z421","v":0},{"$f":"COUNTIF(Y420,\"Yes\")*3","v":0},{"$f":"COUNTIF(Z420,\"No\")*3","v":0}]
[]
[null,null,null,null,null,null,null,"Explanation of why the district proposed or refused to take the action"]
[null,null,null,null,null,null,null,"Description of other options considered and why they were rejected "]
[null,null,null,null,null,null,null,"Description of evidence used for the proposed or refused action"]
[null,null,null,null,null,null,null,"Description of other factors that are relevant to proposal or refusal"]
[]
[null,null,null,null,null,null,"To skip back to Eligibility section click ",null,null,null,null,"HERE."]
[]
[{"$f":"HYPERLINK(\"https://gosynth.com/p/s/iwvzyu\",\"Amendment to IEP\")","v":"Amendment to IEP"},null,null,null,null,null,null,null,null,null,null,null,null,null,null,null,null,null,{"$f":"IFERROR(Z430/Y430,\"N/A\")","v":"N/A"},null,null,null,null,null,{"$f":"(X432+X434)/2","v":0},{"$f":"(Y432+Y434)/2","v":0}]
["Amendment to IEP",null,null,null,null,null,null,null,null,null,null,null,null,null,null,null,null,null,"Select","V381",null,null,null,null,{"$f":"S431","v":"Select"},{"$f":"S431","v":"Select"}]
[{"$f":"HYPERLINK(\"http://sdlegislature.gov/Rules/DisplayRule.aspx?Rule=24:05:27:08.01\",\"(24:05:27:08.01)\")","v":"(24:05:27:08.01)"},null,null,{"$f":"HYPERLINK(\"http://sdlegislature.gov/Rules/DisplayRule.aspx?Rule=24:05:27:08.02\",\"(24:05:27:08.02)\")","v":"(24:05:27:08.02)"},null,null,null,null,null,null,null,null,null,null,null,null,null,null,null,null,null,null,null,{"$f":"Y432+Z432","v":0},{"$f":"COUNTIF(Y431,\"Yes\")*3","v":0},{"$f":"COUNTIF(Z431,\"No\")*3","v":0}]
[{"$f":"HYPERLINK(\"http://sdlegislature.gov/Rules/DisplayRule.aspx?Rule=24:05:30:04\",\"Prior Notice\n(24:05:30:04)\")","v":"Prior Notice\n(24:05:30:04)"},null,null,null,null,null,"Document if the amendment was made with or without a meeting.",null,null,null,null,null,null,null,null,null,null,null,"Select",null,null,null,null,null,{"$f":"S433","v":"Select"},{"$f":"S433","v":"Select"}]
[null,null,null,null,null,null,null,null,null,null,null,null,null,null,null,null,null,null,null,null,null,null,null,{"$f":"Y434+Z434","v":0},{"$f":"COUNTIF(Y433,\"Yes\")*3","v":0},{"$f":"COUNTIF(Z433,\"No\")*3","v":0}]
[]
[{"$f":"HYPERLINK(\"https://gosynth.com/p/s/jdtswp\",\"Additional Items\")","v":"Additional Items"},null,null,null,null,null,null,null,null,null,null,null,null,null,null,null,null,null,{"$f":"IFERROR(AB436/AA436,\"N/A\")","v":"N/A"},null,null,null,null,null,{"$f":"S437","v":"Select"},{"$f":"S437","v":"Select"},{"$f":"(X437+X439+X441+X443)/4","v":0},{"$f":"(Y437+Y439+Y441+Y443)/4","v":0}]
["Parent Declined/\nWithdrew Consent for Services ",null,null,null,null,null,"Revocation signed:",null,null,null,null,null,null,{"$f":"HYPERLINK(\"http://sdlegislature.gov/Rules/DisplayRule.aspx?Rule=24:05:27:04.02\",\"(24:05:27:04.02)\")","v":"(24:05:27:04.02)"},null,null,null,null,"Select","V387",null,null,null,{"$f":"Y437+Z437","v":0},{"$f":"COUNTIF(Y436,\"Yes\")*3","v":0},{"$f":"COUNTIF(Z436,\"No\")*3","v":0}]
[null,null,null,null,null,null,"Date prior notice was sent:",null,null,null,null,null,null,null,null,null,null,null,null,null,null,null,null,null,{"$f":"S439","v":"Select"},{"$f":"S439","v":"Select"}]
["Surrogate Parent",null,null,null,null,null,null,null,null,null,null,null,null,null,null,null,null,null,"Select",null,null,null,null,{"$f":"Y439+Z439","v":0},{"$f":"COUNTIF(Y438,\"Yes\")*3","v":0},{"$f":"COUNTIF(Z438,\"No\")*3","v":0}]
["Transfer Students Provided with  FAPE/Comparable Services ",null,null,null,null,null,"Date prior notice was sent:",null,null,null,null,null,null,{"$f":"HYPERLINK(\"http://sdlegislature.gov/Rules/DisplayRule.aspx?Rule=24:05:27:15.01\",\"In-state (24:05:27:15.01)\")","v":"In-state (24:05:27:15.01)"},null,null,null,null,"Select",null,null,null,null,null,{"$f":"S440","v":"Select"},{"$f":"S440","v":"Select"}]
[null,null,null,null,null,null,null,null,null,null,null,null,null,{"$f":"HYPERLINK(\"http://sdlegislature.gov/Rules/DisplayRule.aspx?Rule=24:05:27:15.02\",\"Out-of-state (24:05:27:15.02)\")","v":"Out-of-state (24:05:27:15.02)"},null,null,null,null,null,null,null,null,null,{"$f":"Y441+Z441","v":0},{"$f":"COUNTIF(Y440,\"Yes\")*3","v":0},{"$f":"COUNTIF(Z440,\"No\")*3","v":0}]
["Transfer Students Evaluated for \nSouth Dakota Eligibility",null,null,null,null,null,"Eligibility determination date:",null,null,null,null,null,null,null,null,null,null,null,"Select",null,null,null,null,null,{"$f":"S442","v":"Select"},{"$f":"S442","v":"Select"}]
[null,null,null,null,null,null,"IEP date:",null,null,null,null,null,null,null,null,null,null,null,null,null,null,null,null,{"$f":"Y443+Z443","v":0},{"$f":"COUNTIF(Y442,\"Yes\")*3","v":0},{"$f":"COUNTIF(Z442,\"No\")*3","v":0}]
[null,null,null,null,null,null,"PPWN Implementing IEP sent:"]

{"sheet":"File 7","index":10,"n_rows":444,"n_cols":28,"rows_kept":444,"cut":false,"hidden":false,"merged":[[436,18,437,18],[437,6,437,10],[437,11,437,12],[438,6,438,17],[442,6,442,10],[442,11,442,12],[413,19,413,21],[414,6,414,11],[414,12,414,13],[414,14,418,17],[414,18,418,18],[414,19,418,21],[417,6,418,11],[419,6,419,17],[420,6,420,17],[216,14,216,16],[443,6,443,10],[443,11,443,12],[446,11,447,12],[439,6,440,10],[439,11,440,12],[439,13,439,17],[440,13,440,17],[441,6,441,10],[441,11,441,12],[441,13,443,17],[415,6,416,11],[415,12,416,13],[413,0,413,17],[422,7,422,17],[423,7,423,17],[424,7,424,17],[425,7,425,17],[426,6,426,17],[427,6,427,10],[427,11,427,17],[436,6,436,10],[436,11,436,12],[436,13,437,17],[216,6,216,7],[216,8,216,10],[205,0,206,5],[207,0,209,5],[216,11,216,13],[231,7,231,10],[209,6,209,13],[210,0,210,17],[211,0,213,5],[211,6,213,16],[214,0,215,5],[214,6,215,16],[216,0,233,5],[225,12,225,13],[225,15,225,16],[226,7,226,10],[227,6,227,10],[228,6,228,7],[228,8,228,10],[228,11,228,13],[228,14,228,16],[230,7,230,10],[230,12,230,13],[230,15,230,16],[196,0,200,5],[196,6,200,17],[196,18,200,18],[201,0,201,21],[202,0,202,17],[202,19,202,21],[203,0,204,5],[188,7,188,9],[188,10,188,12],[189,7,189,9],[189,10,189,12],[186,0,189,5],[186,7,186,9],[186,10,186,12],[192,7,192,9],[193,7,193,9],[193,10,193,12],[194,7,194,9],[190,0,190,5],[190,7,190,9],[190,10,190,12],[191,0,195,5],[191,7,191,9],[191,10,191,12],[152,12,156,15],[154,7,156,10],[145,7,146,10],[145,12,146,15],[149,18,162,18],[149,19,162,21],[150,6,150,15],[150,17,160,17],[158,12,159,15],[151,6,151,15],[152,7,153,10],[157,7,158,10],[157,12,157,15],[210,19,210,21],[211,19,215,21],[214,18,215,18],[196,19,200,21],[203,19,209,21],[205,18,206,18],[207,14,208,17],[207,18,209,18],[209,14,209,17],[211,18,213,18],[205,6,206,17],[207,6,207,10],[207,11,207,13],[208,6,208,10],[208,11,208,13],[203,6,204,17],[203,18,204,18],[190,13,190,16],[191,13,191,16],[192,13,192,16],[193,13,193,16],[194,13,194,16],[176,12,177,17],[184,13,185,16],[186,13,186,16],[184,10,185,12],[194,10,194,12],[180,6,180,17],[182,7,183,16],[187,7,187,9],[187,10,187,12],[187,13,187,16],[188,13,188,16],[192,10,192,12],[172,12,173,17],[172,18,173,18],[172,19,173,21],[177,0,177,2],[177,3,177,5],[177,6,177,8],[177,9,177,11],[178,0,178,5],[178,6,179,17],[179,0,179,2],[179,3,179,5],[176,18,177,18],[176,19,195,21],[178,18,179,18],[180,18,195,18],[176,0,176,5],[176,6,176,8],[176,9,176,11],[174,0,174,21],[175,0,175,17],[175,19,175,21],[180,0,185,5],[184,7,185,9],[189,13,189,16],[216,18,221,18],[216,19,233,21],[222,18,227,18],[228,18,233,18],[218,7,218,10],[218,12,218,13],[220,7,220,10],[221,6,221,10],[222,6,222,7],[222,8,222,10],[222,11,222,13],[222,14,222,16],[231,12,231,13],[231,15,231,16],[232,7,232,10],[233,6,233,10],[218,15,218,16],[219,7,219,10],[219,12,219,13],[219,15,219,16],[224,7,224,10],[224,12,224,13],[224,15,224,16],[225,7,225,10],[117,6,117,13],[117,14,117,17],[118,6,119,17],[120,0,120,21],[118,0,119,5],[130,18,148,18],[130,19,148,21],[133,12,134,15],[135,7,137,10],[135,12,136,15],[137,12,138,15],[138,7,141,10],[139,12,144,15],[142,7,144,10],[121,0,121,17],[121,19,121,21],[122,0,122,17],[122,18,129,18],[122,19,129,21],[123,0,129,5],[123,6,123,17],[124,6,124,17],[125,7,125,11],[126,7,126,11],[165,12,169,17],[167,7,167,11],[168,7,168,11],[110,18,112,18],[110,19,119,21],[113,18,114,18],[115,18,117,18],[118,18,119,18],[104,18,105,18],[106,18,107,18],[169,7,169,11],[162,0,162,17],[163,0,166,5],[163,6,163,17],[163,18,171,18],[163,19,171,21],[164,6,164,17],[167,0,173,5],[165,7,165,11],[166,7,166,11],[170,7,170,13],[171,7,171,11],[172,6,173,10],[172,11,173,11],[98,18,101,18],[98,19,101,21],[99,11,99,13],[106,6,107,17],[84,18,97,18],[84,19,97,21],[86,6,86,8],[86,9,86,12],[87,15,87,17],[100,11,100,13],[101,11,101,13],[102,6,103,17],[102,18,103,18],[94,13,94,14],[94,15,94,17],[95,15,95,17],[96,13,96,14],[96,15,96,17],[99,6,99,10],[100,6,100,10],[102,19,109,21],[108,18,109,18],[89,13,89,14],[89,15,89,17],[91,13,91,14],[91,15,91,17],[92,13,92,14],[92,15,92,17],[97,13,97,14],[97,15,97,17],[98,11,98,13],[98,14,101,17],[93,15,93,17],[93,13,93,14],[110,0,112,5],[110,6,110,10],[111,6,111,10],[113,0,114,5],[115,0,117,5],[115,6,115,12],[116,6,116,12],[98,0,101,5],[98,6,98,10],[101,6,101,10],[102,0,103,5],[104,0,105,5],[106,0,107,5],[108,0,109,5],[104,6,105,17],[108,6,109,17],[110,11,110,13],[110,14,111,17],[111,11,111,13],[112,6,112,13],[112,14,112,17],[113,6,114,17],[115,13,115,15],[116,13,116,15],[90,6,90,8],[90,9,90,12],[78,6,78,8],[78,9,78,12],[80,0,83,5],[80,6,80,8],[80,9,80,12],[81,9,81,12],[84,0,90,5],[83,9,83,12],[96,6,96,8],[96,9,96,12],[91,0,91,5],[91,6,91,8],[91,9,91,12],[92,0,97,5],[92,9,92,12],[93,9,93,12],[94,9,94,12],[93,6,93,8],[94,6,94,8],[92,6,92,8],[97,6,97,8],[97,9,97,12],[74,19,83,21],[76,6,76,8],[76,9,76,12],[76,13,76,14],[76,15,76,17],[77,6,77,8],[77,9,77,12],[77,13,77,14],[77,15,77,17],[82,6,82,8],[82,9,82,12],[82,13,82,14],[82,15,82,17],[83,15,83,17],[78,13,78,14],[78,15,78,17],[80,13,80,14],[80,15,80,17],[81,13,81,14],[81,15,81,17],[83,13,83,14],[74,18,83,18],[81,6,81,8],[83,6,83,8],[150,0,161,5],[159,6,160,6],[159,7,160,10],[161,6,161,15],[89,6,89,8],[89,9,89,12],[90,13,90,14],[90,15,90,17],[95,9,95,12],[147,6,147,15],[148,0,148,17],[149,0,149,17],[128,7,128,11],[128,13,128,17],[131,0,147,5],[131,6,131,15],[131,17,147,17],[132,6,132,15],[133,7,134,10],[95,6,95,8],[127,7,127,11],[127,13,127,17],[129,6,129,17],[130,0,130,17],[84,15,85,17],[84,6,85,8],[86,13,86,14],[86,15,86,17],[87,9,87,12],[87,13,87,14],[88,6,88,8],[88,9,88,12],[84,13,85,14],[88,13,88,14],[88,15,88,17],[84,9,85,12],[87,6,87,8],[125,13,125,17],[126,13,126,17],[66,15,66,17],[66,13,66,14],[67,0,67,5],[67,6,67,8],[67,9,67,12],[67,13,67,14],[67,15,67,17],[68,0,73,5],[79,0,79,5],[79,6,79,8],[79,9,79,12],[79,13,79,14],[79,15,79,17],[72,6,72,8],[72,9,72,12],[74,0,78,5],[74,6,75,8],[74,9,75,12],[74,13,75,14],[74,15,75,17],[68,13,68,14],[73,6,73,8],[60,13,61,14],[60,15,61,17],[62,13,62,14],[62,15,62,17],[63,13,63,14],[63,15,63,17],[64,13,64,14],[64,15,64,17],[65,13,65,14],[65,15,65,17],[54,0,59,5],[54,6,54,9],[54,10,54,12],[55,6,55,9],[55,10,55,12],[45,19,53,21],[54,19,59,21],[58,13,59,17],[56,6,56,9],[56,10,56,12],[57,6,57,9],[57,10,57,12],[58,6,58,9],[58,10,58,12],[59,6,59,9],[59,10,59,12],[62,9,62,12],[63,9,63,12],[64,9,64,12],[65,9,65,12],[66,9,66,12],[60,0,66,5],[60,6,61,8],[62,6,62,8],[63,6,63,8],[64,6,64,8],[65,6,65,8],[66,6,66,8],[60,9,61,12],[21,10,21,13],[21,14,21,17],[27,9,27,11],[27,12,27,17],[52,6,52,17],[53,6,53,17],[45,6,45,17],[46,6,46,17],[47,6,47,17],[48,7,48,17],[49,7,49,17],[50,7,50,17],[51,7,51,17],[39,6,40,17],[22,6,22,9],[22,10,22,13],[25,0,25,21],[26,0,26,17],[26,19,26,21],[22,14,22,17],[23,6,23,9],[23,10,23,13],[23,14,23,17],[45,0,53,5],[17,0,17,21],[18,0,18,17],[19,0,24,5],[19,9,19,11],[19,12,19,17],[20,14,20,17],[24,6,24,17],[8,3,8,6],[8,7,8,9],[9,0,9,21],[8,0,8,2],[10,0,12,5],[10,10,11,10],[10,11,11,13],[10,14,11,17],[10,18,11,18],[10,19,11,21],[18,19,18,21],[19,18,24,18],[19,19,24,21],[20,6,20,9],[20,10,20,13],[19,6,19,8],[21,6,21,9],[10,6,10,9],[11,6,11,9],[12,6,12,21],[13,0,13,21],[14,0,14,17],[14,19,14,21],[15,0,16,5],[15,18,16,18],[15,19,16,21],[15,6,16,17],[6,0,6,2],[6,10,6,13],[7,14,7,18],[8,14,8,18],[8,19,8,21],[4,14,4,18],[4,19,4,21],[5,14,5,18],[5,19,5,21],[6,14,6,18],[6,19,6,21],[7,19,7,21],[6,3,6,6],[6,7,6,9],[7,0,7,2],[7,3,7,6],[7,7,7,9],[7,10,7,13],[8,10,8,13],[3,0,3,21],[4,0,4,2],[4,3,4,6],[4,7,4,9],[4,10,4,13],[5,0,5,2],[5,3,5,6],[5,7,5,9],[5,11,5,13],[0,0,0,3],[0,4,0,5],[0,6,0,8],[0,9,0,11],[0,12,0,14],[0,15,0,17],[0,19,0,21],[1,0,2,13],[1,14,2,17],[1,18,2,18],[1,19,2,21],[73,9,73,12],[73,13,73,14],[73,15,73,17],[68,6,68,8],[68,9,68,12],[69,6,69,8],[69,9,69,12],[69,13,69,14],[69,15,69,17],[70,6,70,8],[70,9,70,12],[70,13,70,14],[70,15,70,17],[71,6,71,8],[71,9,71,12],[71,13,71,14],[71,15,71,17],[68,15,68,17],[72,13,72,14],[72,15,72,17],[41,0,42,5],[41,6,42,17],[43,6,44,17],[27,18,29,18],[27,19,29,21],[30,18,32,18],[30,19,32,21],[35,18,38,18],[35,19,44,21],[39,18,40,18],[43,0,44,5],[27,6,27,8],[28,6,29,17],[30,6,30,17],[31,8,32,17],[408,8,408,10],[408,12,408,15],[409,8,409,10],[411,0,411,16],[412,0,412,21],[27,0,29,5],[30,0,32,5],[31,6,32,7],[35,0,36,5],[35,6,35,9],[33,0,33,21],[34,0,34,17],[34,19,34,21],[35,10,35,12],[35,13,35,17],[41,18,42,18],[43,18,44,18],[45,18,53,18],[54,18,59,18],[60,18,73,18],[60,19,73,21],[36,6,38,17],[37,0,38,5],[39,0,40,5],[397,6,397,16],[398,6,398,16],[399,6,399,16],[400,6,400,16],[401,6,401,16],[402,6,403,16],[404,6,404,16],[405,6,405,16],[406,6,406,16],[391,6,391,16],[392,11,392,12],[392,14,392,16],[393,6,393,16],[394,6,394,8],[394,9,394,16],[395,6,395,16],[396,11,396,12],[396,14,396,16],[385,6,385,16],[386,6,386,8],[386,9,386,16],[387,6,387,16],[388,11,388,12],[388,14,388,16],[389,6,389,16],[390,6,390,8],[390,9,390,16],[382,17,411,17],[406,19,411,21],[419,19,427,21],[430,19,433,21],[436,19,443,21],[372,19,380,21],[377,18,380,18],[382,19,397,21],[390,18,393,18],[394,18,397,18],[398,19,405,21],[400,18,401,18],[380,0,380,17],[381,0,381,17],[381,19,381,21],[382,9,382,16],[383,6,383,16],[384,8,384,9],[388,8,388,9],[392,8,392,9],[396,8,396,9],[382,6,382,8],[384,11,384,12],[384,14,384,16],[402,18,403,18],[404,18,405,18],[398,18,399,18],[406,18,411,18],[419,18,427,18],[432,18,433,18],[439,18,440,18],[441,18,443,18],[341,18,342,18],[343,18,344,18],[354,18,358,18],[360,18,361,18],[372,18,376,18],[428,0,428,21],[429,0,429,17],[429,19,429,21],[430,18,431,18],[430,6,431,17],[431,0,431,2],[431,3,431,5],[432,6,433,17],[434,0,434,21],[435,0,435,17],[435,19,435,21],[341,19,346,21],[345,18,346,18],[353,18,353,21],[354,19,358,21],[359,18,359,21],[360,19,370,21],[362,18,363,18],[382,18,385,18],[386,18,389,18],[371,19,371,21],[439,0,440,5],[441,0,443,5],[406,0,410,5],[414,0,418,5],[419,0,427,5],[430,0,430,5],[432,0,433,5],[436,0,437,5],[438,0,438,5],[359,0,359,5],[360,0,361,5],[362,0,363,5],[364,0,366,5],[372,0,379,5],[382,0,397,5],[398,0,401,5],[402,0,403,5],[404,0,405,5],[367,0,369,5],[353,6,353,16],[354,6,354,10],[354,13,354,16],[355,13,355,16],[356,13,356,16],[341,0,346,5],[347,0,347,5],[348,0,352,5],[353,0,353,5],[354,0,358,5],[334,18,335,18],[317,18,318,18],[317,19,322,21],[319,18,320,18],[321,18,322,18],[323,18,323,21],[324,19,325,21],[326,18,326,21],[327,19,332,21],[329,18,330,18],[331,18,332,18],[327,0,332,5],[327,6,328,6],[329,6,330,6],[329,7,330,16],[331,7,331,16],[332,6,332,16],[306,18,307,18],[306,19,315,21],[308,18,309,18],[309,6,310,6],[310,18,311,18],[314,18,315,18],[319,6,320,6],[319,7,320,16],[321,6,322,6],[321,7,322,16],[324,18,325,18],[327,18,328,18],[314,0,315,5],[314,6,315,16],[316,0,316,5],[316,6,316,16],[317,0,322,5],[317,6,318,6],[317,7,318,16],[323,0,323,5],[323,6,323,16],[364,6,364,12],[364,13,364,16],[365,6,366,16],[364,18,366,18],[367,18,370,18],[375,7,375,8],[375,10,375,11],[367,6,369,16],[370,0,370,17],[371,0,371,17],[359,6,359,16],[360,6,360,12],[360,13,360,16],[361,6,361,12],[361,13,361,16],[362,6,362,12],[362,13,362,16],[363,6,363,12],[363,13,363,16],[340,0,340,5],[340,6,340,16],[376,6,376,11],[376,12,379,16],[377,6,377,11],[378,7,378,8],[379,7,379,8],[372,17,379,17],[378,10,378,11],[379,10,379,11],[373,6,373,11],[374,7,374,8],[374,10,374,11],[372,6,372,11],[372,12,375,16],[340,18,340,21],[341,7,342,16],[343,7,344,16],[345,7,345,16],[346,6,346,16],[357,13,357,16],[358,13,358,16],[350,7,350,10],[351,7,351,10],[347,6,347,16],[347,18,347,21],[348,6,348,10],[348,11,352,16],[348,18,352,18],[348,19,352,21],[349,6,349,10],[352,6,352,10],[355,6,356,10],[357,6,357,10],[357,11,357,12],[358,6,358,10],[358,11,358,12],[341,6,342,6],[343,6,344,6],[282,14,282,16],[283,14,283,16],[336,7,337,16],[338,7,338,16],[333,0,333,5],[334,0,339,5],[334,6,335,6],[334,7,335,16],[334,19,339,21],[336,6,337,6],[336,18,337,18],[338,18,339,18],[339,6,339,16],[333,18,333,21],[333,6,333,16],[324,0,325,5],[324,6,325,16],[326,0,326,5],[326,6,326,16],[327,7,328,16],[309,7,310,16],[311,7,311,16],[305,6,305,16],[306,6,307,16],[257,9,257,12],[258,6,258,8],[292,7,293,16],[281,10,281,13],[282,10,282,13],[283,10,283,13],[289,18,303,18],[289,19,303,21],[300,12,302,12],[300,13,300,16],[302,13,302,15],[283,6,283,9],[284,6,284,9],[286,6,288,11],[264,18,288,18],[264,19,288,21],[255,17,298,17],[284,14,284,16],[272,14,272,16],[273,14,273,16],[279,14,279,16],[280,14,280,16],[281,14,281,16],[285,14,285,16],[279,6,279,9],[280,6,280,9],[281,6,281,9],[282,6,282,9],[285,6,285,9],[274,6,274,9],[274,10,274,13],[277,6,277,9],[278,6,278,9],[278,10,278,13],[284,10,284,13],[285,10,285,13],[279,10,279,13],[280,10,280,13],[276,10,276,13],[276,14,276,16],[277,10,277,13],[277,14,277,16],[262,6,262,8],[262,9,262,11],[262,12,262,16],[263,6,263,8],[263,9,263,12],[263,13,263,16],[265,7,265,10],[266,6,266,16],[267,6,268,16],[269,10,271,13],[275,6,275,9],[275,10,275,13],[269,6,271,9],[272,6,272,9],[272,10,272,13],[273,6,273,9],[273,10,273,13],[254,19,254,21],[255,0,263,5],[255,9,256,16],[255,18,263,18],[255,19,263,21],[258,9,258,13],[259,6,259,8],[239,19,253,21],[245,7,248,9],[259,9,259,11],[259,12,259,16],[260,6,260,8],[260,9,260,13],[260,14,260,16],[261,6,261,8],[261,9,261,15],[241,7,241,8],[241,11,241,16],[243,6,244,10],[243,11,243,16],[244,11,244,16],[245,11,245,16],[255,6,256,8],[257,6,257,8],[289,0,302,5],[306,0,307,5],[309,0,313,5],[301,13,301,15],[301,16,302,16],[303,0,303,17],[304,0,304,17],[304,18,305,18],[304,19,305,21],[305,0,305,5],[312,7,312,16],[312,18,313,18],[313,6,313,16],[294,6,295,6],[294,7,295,16],[296,6,297,6],[296,7,297,16],[298,6,298,16],[299,6,299,16],[300,6,302,11],[289,6,289,16],[290,6,290,16],[291,7,291,16],[292,6,293,6],[234,18,238,18],[234,19,238,21],[235,6,235,16],[236,7,236,10],[236,12,236,15],[239,11,239,16],[246,11,246,16],[239,18,253,18],[253,0,253,17],[240,7,240,8],[240,11,240,16],[240,9,242,10],[242,11,242,16],[247,11,247,16],[250,11,250,16],[251,6,252,10],[251,11,251,16],[252,11,252,16],[264,0,288,5],[237,7,237,10],[238,6,238,10],[239,0,252,5],[239,6,239,10],[286,12,288,12],[286,13,286,16],[287,13,287,15],[287,16,288,16],[288,13,288,15],[248,11,248,16],[249,11,249,16],[257,13,257,16],[258,14,258,16],[265,12,265,16],[269,14,271,16],[264,6,264,16],[234,0,238,5],[234,6,234,16],[254,0,254,16],[278,14,278,16],[274,14,274,16],[275,14,275,16],[276,6,276,9]]}
[{"$f":"'Caseload Files'!B2","v":"Teacher Caseload Review"},null,null,null,{"$f":"'Caseload Files'!D17","v":"File 7"},null,"Reviewer:",null,null,{"$f":"'Caseload Files'!F17","v":"Reviewer 7"},null,null,"Staff Reviewed:",null,null,{"$f":"'Caseload Files'!I17","v":"Staff 7"},null,null,"Score","Findings/Notes"]
[{"$f":"'Caseload Files'!B2","v":"Teacher Caseload Review"},null,null,null,null,null,null,null,null,null,null,null,null,null,null,null,null,null,"Rating","Record notes\nand/or findings."]
[]
[]
["Student Name:",null,null,{"$f":"'Caseload Files'!$L$17","v":"Student 7"},null,null,null,"Date of Birth:",null,null,{"$f":"'Caseload Files'!$R$17","v":"2007-07-07"},null,null,null,"Current IEP Meeting Date:"]
["SIMS Numer:",null,null,{"$f":"'Caseload Files'!$O$17","v":70123456},null,null,null,"Age/Grade:",null,null,{"$f":"INT(YEARFRAC(K5,TODAY()))","v":13},"/Sophomore",null,null,"Previous IEP Meeting Date:"]
["School District:",null,null,{"$f":"'Caseload Files'!B3","v":"District 00-0"},null,null,null,"Disability Code:",null,null,{"$f":"'Caseload Files'!$W$17","v":"DisCode 7"},null,null,null,"Current Eligibility Determination Date:"]
["School Name:",null,null,{"$f":"'Caseload Files'!E6","v":"School Name"},null,null,null,"Race/Ethnicity:",null,null,{"$f":"'Caseload Files'!T17","v":"Race 7"},null,null,null,"Previous Eligibility Determination Date:"]
["School Year:",null,null,{"$f":"'Caseload Files'!E7","v":"1998-1999"},null,null,null,"Type of Review:",null,null,{"$f":"'Caseload Files'!Z17","v":"Type 7"},null,null,null,"Date of Review:"]
[]
[{"$f":"HYPERLINK(\"http://sdlegislature.gov/Rules/DisplayRule.aspx?Rule=24:05\",\"Subsection Title and \nCorresponding ARSD Links \")","v":"Subsection Title and \nCorresponding ARSD Links "},null,null,null,null,null,"Yellow boxes are prompts",null,null,null,null,"Use checkboxes to help record findings.",null,null,"Voided space and/or clarifying information.",null,null,null,"\"N/A\" may be appropriate for certain sections.","Findings/Notes"]
[null,null,null,null,null,null,"for information."]
[]
[]
[{"$f":"HYPERLINK(\"https://gosynth.com/p/s/aboqwv\",\"Record of Access\")","v":"Record of Access"},null,null,null,null,null,null,null,null,null,null,null,null,null,null,null,null,null,{"$f":"IFERROR(Y17/X17,\"N/A\")","v":"N/A"},"Findings/Notes"]
[{"$f":"HYPERLINK(\"http://sdlegislature.gov/Rules/DisplayRule.aspx?Rule=24:05:29:15\",\"Record of Access\n(24:05:29:15)\")","v":"Record of Access\n(24:05:29:15)"},null,null,null,null,null,null,null,null,null,null,null,null,null,null,null,null,null,"Select","V16",null,null,null,null,{"$f":"S16","v":"Select"},{"$f":"S16","v":"Select"}]
[null,null,null,null,null,null,null,null,null,null,null,null,null,null,null,null,null,null,null,null,null,null,null,{"$f":"Y17+Z17","v":0},{"$f":"COUNTIF(Y16,\"Yes\")*3","v":0},{"$f":"COUNTIF(Z16,\"No\")*3","v":0}]
[]
[{"$f":"HYPERLINK(\"https://gosynth.com/p/s/grdmsy\",\"Referral\")","v":"Referral"},null,null,null,null,null,null,null,null,null,null,null,null,null,null,null,null,null,{"$f":"IFERROR(Y21/X21,\"N/A\")","v":"N/A"}]
[{"$f":"HYPERLINK(\"http://sdlegislature.gov/Rules/DisplayRule.aspx?Rule=24:05:24:01\",\"Referral Document\n(initial only)\n(24:05:24:01)\")","v":"Referral Document\n(initial only)\n(24:05:24:01)"},null,null,null,null,null,"Date of referral:",null,null,null,null,null,"The top two spaces are available to type in.",null,null,null,null,null,"Select","V20",null,null,null,null,{"$f":"S20","v":"Select"},{"$f":"S20","v":"Select"}]
[null,null,null,null,null,null,"List all areas of referral:",null,null,null,null,null,null,null,null,null,null,null,null,null,null,null,null,{"$f":"Y21+Z21","v":0},{"$f":"COUNTIF(Y20,\"Yes\")*3","v":0},{"$f":"COUNTIF(Z20,\"No\")*3","v":0}]
[]
[]
[]
[null,null,null,null,null,null,"If referral can not be found and is older than three years, N/A is appropriate."]
[]
[{"$f":"HYPERLINK(\"https://gosynth.com/p/s/lihblf\",\"Initial Placement\")","v":"Initial Placement"},null,null,null,null,null,null,null,null,null,null,null,null,null,null,null,null,null,{"$f":"IFERROR(Y33/X33,\"N/A\")","v":"N/A"}]
[{"$f":"HYPERLINK(\"http://sdlegislature.gov/rules/DisplayRule.aspx?Rule=24:05:27:04.01\",\"Consent Signed for Initial Placement \ninto Special Education\n(24:05:27:04.01)\")","v":"Consent Signed for Initial Placement \ninto Special Education\n(24:05:27:04.01)"},null,null,null,null,null,"Date Signed:",null,null,null,null,null,null,null,null,null,null,null,"Select","V28",null,null,null,null,{"$f":"S28","v":"Select"},{"$f":"S28","v":"Select"}]
[null,null,null,null,null,null,"(The Consent Signed for Initial Placement into Special Education form is a separate document.  In the past, it may have been found at the end of the IEP.",null,null,null,null,null,null,null,null,null,null,null,null,null,null,null,null,{"$f":"Y29+Z29","v":0},{"$f":"COUNTIF(Y28,\"Yes\")*3","v":0},{"$f":"COUNTIF(Z28,\"No\")*3","v":0}]
[]
[{"$f":"HYPERLINK(\"https://sdlegislature.gov/Rules/DisplayRule.aspx?Rule=24:05:25:04.02\",\"Determination of Needed \nEvaluation Data\n(24:05:25:04.02)\")","v":"Determination of Needed \nEvaluation Data\n(24:05:25:04.02)"},null,null,null,null,null,"Did the team review existing data before completing the PPWN Consent?",null,null,null,null,null,null,null,null,null,null,null,"Select","V31",null,null,null,null,{"$f":"S31","v":"Select"},{"$f":"S31","v":"Select"}]
[null,null,null,null,null,null,"Select",null,"The existing data includes evaluations and information provided by the parents, current classroom-based local or state assessments, and observations by teachers and related services providers.",null,null,null,null,null,null,null,null,null,null,null,null,null,null,{"$f":"Y32+Z32","v":0},{"$f":"COUNTIF(Y31,\"Yes\")*3","v":0},{"$f":"COUNTIF(Z31,\"No\")*3","v":0}]
[null,null,null,null,null,null,null,null,null,null,null,null,null,null,null,null,null,null,null,null,null,null,null,{"$f":"(X32+X29)/2","v":0},{"$f":"(Y32+Y29)/2","v":0}]
[]
[{"$f":"HYPERLINK(\"https://gosynth.com/p/s/qxevgy\",\"Evaluation\")","v":"Evaluation"},null,null,null,null,null,null,null,null,null,null,null,null,null,null,null,null,null,{"$f":"IFERROR(Y38/X38,\"N/A\")","v":"N/A"},{"$f":"IFERROR(Y58/X58,\"N/A\")","v":"N/A"}]
[{"$f":"HYPERLINK(\"http://sdlegislature.gov/rules/DisplayRule.aspx?Rule=24:05:25:02.01\",\"Initial Evaluation \n(24:05:25:02.01)\")","v":"Initial Evaluation \n(24:05:25:02.01)"},null,null,null,null,null,"PPWN Consent was Sent:",null,null,null,null,null,null,"Use the most recent evaluation. ",null,null,null,null,"Select","V36",null,null,null,null,{"$f":"S36","v":"Select"},{"$f":"S36","v":"Select"}]
[null,null,null,null,null,null,{"$f":"HYPERLINK(\"https://gosynth.com/p/s/qxevgy\",\"Consent was acquired for initial evaluation. \n\nIf consent was not given by the parent for reevaluation, evidence of  attempts were made to elicit parent.\")","v":"Consent was acquired for initial evaluation. \n\nIf consent was not given by the parent for reevaluation, evidence of  attempts were made to elicit parent."},null,null,null,null,null,null,null,null,null,null,null,null,null,null,null,null,{"$f":"Y37+Z37","v":0},{"$f":"COUNTIF(Y36,\"Yes\")*3","v":0},{"$f":"COUNTIF(Z36,\"No\")*3","v":0}]
[{"$f":"HYPERLINK(\"http://sdlegislature.gov/Rules/DisplayRule.aspx?Rule=24:05:25:06.01\",\"Reevaluation\n(24:05:25:06.01)\")","v":"Reevaluation\n(24:05:25:06.01)"},null,null,null,null,null,null,null,null,null,null,null,null,null,null,null,null,null,null,null,null,null,null,{"$f":"(X37+X41+X43+X45+X47+X56+X62+X76+X86+X100+X104+X106+X108+X110+X112+X115+X117+X120)/18","v":0},{"$f":"(Y37+Y41+Y43+Y45+Y47+Y56+Y62+Y76+Y86+Y100+Y104+Y106+Y108+Y110+Y112+Y115+Y117+Y120)/18","v":0}]
[]
[{"$f":"HYPERLINK(\"http://sdlegislature.gov/Rules/DisplayRule.aspx?Rule=24:05:25:16\",\"Parent Input into Evalaution\n(24:05:25:16)\")","v":"Parent Input into Evalaution\n(24:05:25:16)"},null,null,null,null,null,{"$f":"HYPERLINK(\"https://gosynth.com/p/s/ycomsx\",\"Parent input must be documented in the PPWN Consent on input exiting data and \nupcoming evaluation.   (refer to phone logs, progress notes, prior notice)\")","v":"Parent input must be documented in the PPWN Consent on input exiting data and \nupcoming evaluation.   (refer to phone logs, progress notes, prior notice)"},null,null,null,null,null,null,null,null,null,null,null,"Select",null,null,null,null,null,{"$f":"S40","v":"Select"},{"$f":"S40","v":"Select"}]
[null,null,null,null,null,null,null,null,null,null,null,null,null,null,null,null,null,null,null,null,null,null,null,{"$f":"Y41+Z41","v":0},{"$f":"COUNTIF(Y40,\"Yes\")*3","v":0},{"$f":"COUNTIF(Z40,\"No\")*3","v":0}]
[{"$f":"HYPERLINK(\"http://sdlegislature.gov/Rules/DisplayRule.aspx?Rule=24:05:30:06.01\",\"Procedural Safeguards\n(24:05:30:06.01)\")","v":"Procedural Safeguards\n(24:05:30:06.01)"},null,null,null,null,null,{"$f":"HYPERLINK(\"https://gosynth.com/p/s/tdkmfj\",\"[INCLUDE LANGUAGE FOR THIS SECTION]\")","v":"[INCLUDE LANGUAGE FOR THIS SECTION]"},null,null,null,null,null,null,null,null,null,null,null,"Select",null,null,null,null,null,{"$f":"S42","v":"Select"},{"$f":"S42","v":"Select"}]
[null,null,null,null,null,null,null,null,null,null,null,null,null,null,null,null,null,null,null,null,null,null,null,{"$f":"Y43+Z43","v":0},{"$f":"COUNTIF(Y42,\"Yes\")*3","v":0},{"$f":"COUNTIF(Z42,\"No\")*3","v":0}]
[{"$f":"HYPERLINK(\"http://sdlegislature.gov/Rules/DisplayRule.aspx?Rule=24:05:25:03\",\"Extension on 25 Day Timeline\n(24:05:25:03)\")","v":"Extension on 25 Day Timeline\n(24:05:25:03)"},null,null,null,null,null,{"$f":"HYPERLINK(\"https://gosynth.com/p/s/wcheia\",\"Documented agreement with parent and district on new extension date.  \nEligibility and IEP developed 30 days after the agreed extension date.\")","v":"Documented agreement with parent and district on new extension date.  \nEligibility and IEP developed 30 days after the agreed extension date."},null,null,null,null,null,null,null,null,null,null,null,"Select",null,null,null,null,null,{"$f":"S44","v":"Select"},{"$f":"S44","v":"Select"}]
[null,null,null,null,null,null,null,null,null,null,null,null,null,null,null,null,null,null,null,null,null,null,null,{"$f":"Y45+Z45","v":0},{"$f":"COUNTIF(Y44,\"Yes\")*3","v":0},{"$f":"COUNTIF(Z44,\"No\")*3","v":0}]
[{"$f":"HYPERLINK(\"http://sdlegislature.gov/Rules/DisplayRule.aspx?Rule=24:05:30:05\",\"Content of Prior Written Notice/\nConsent for Evaluation\n (24:05:30:05)\")","v":"Content of Prior Written Notice/\nConsent for Evaluation\n (24:05:30:05)"},null,null,null,null,null,{"$f":"HYPERLINK(\"https://gosynth.com/p/s/xymlpn\",\"Check the following:\")","v":"Check the following:"},null,null,null,null,null,null,null,null,null,null,null,"Select","V46",null,null,null,null,{"$f":"S46","v":"Select"},{"$f":"S46","v":"Select"}]
[null,null,null,null,null,null,"PPWN must be individualized to the student, IEP team discussions and situation.",null,null,null,null,null,null,null,null,null,null,null,null,null,null,null,null,{"$f":"Y47+Z47","v":0},{"$f":"COUNTIF(Y46,\"Yes\")*3","v":0},{"$f":"COUNTIF(Z46,\"No\")*3","v":0}]
[]
[null,null,null,null,null,null,null,"Explanation of why the district proposed or refused to take the action"]
[null,null,null,null,null,null,null,"Description of other options considered and why they were rejected "]
[null,null,null,null,null,null,null,"Description of evidence used for the proposed or refused action"]
[null,null,null,null,null,null,null,"Description of other factors that are relevant to proposal or refusal"]
[]
[null,null,null,null,null,null,"All components should be completed and have a clear description."]
[{"$f":"HYPERLINK(\"http://sdlegislature.gov/Rules/DisplayRule.aspx?Rule=24:05:30:05\",\"Timeline of Prior Written Notice/\nConsent for Evaluation\n(24:05:25:03)\")","v":"Timeline of Prior Written Notice/\nConsent for Evaluation\n(24:05:25:03)"},null,null,null,null,null,{"$f":"HYPERLINK(\"https://gosynth.com/p/s/xylthm\",\"Date sent:\")","v":"Date sent:"},null,null,null,"2020-01-18",null,null,null,null,null,null,null,"Select","V54",null,null,null,null,{"$f":"S55","v":"Select"},{"$f":"S55","v":"Select"}]
[null,null,null,null,null,null,"Date signed:",null,null,null,"2020-01-19",null,null,null,null,null,null,null,null,null,null,null,null,{"$f":"Y56+Z56","v":0},{"$f":"COUNTIF(Y55,\"Yes\")*3","v":0},{"$f":"COUNTIF(Z55,\"No\")*3","v":0}]
[null,null,null,null,null,null,"Date received:",null,null,null,"2020-01-20"]
[null,null,null,null,null,null,"25 school days:",null,null,null,{"$f":"WORKDAY(K57,25)","v":"2020-02-24"}]
[null,null,null,null,null,null,"30 calendar days:"]
[null,null,null,null,null,null,"Extension on 25 day:"]
[{"$f":"HYPERLINK(\"http://sdlegislature.gov/Rules/DisplayRule.aspx?Rule=24:05:25:04.02\",\"Evaluations to be Completed by the District per Parental Prior Written/Consent for Evaluation\n(24:05:25:04.02)\")","v":"Evaluations to be Completed by the District per Parental Prior Written/Consent for Evaluation\n(24:05:25:04.02)"},null,null,null,null,null,{"$f":"HYPERLINK(\"https://gosynth.com/p/s/zgdeev\",\"List areas:\")","v":"List areas:"},null,null,"Test administered:",null,null,null,"Test date:",null,"Evaluator:",null,null,"Select","V60",null,null,null,null,{"$f":"S61","v":"Select"},{"$f":"S61","v":"Select"}]
[null,null,null,null,null,null,null,null,null,null,null,null,null,null,null,null,null,null,null,null,null,null,null,{"$f":"Y62+Z62","v":0},{"$f":"COUNTIF(Y61,\"Yes\")*3","v":0},{"$f":"COUNTIF(Z61,\"No\")*3","v":0}]
[]
[]
[]
[]
[]
["For more evaluations requested click the [+]"]
[]
[]
[]
[]
[]
[]
[{"$f":"HYPERLINK(\"http://sdlegislature.gov/Rules/DisplayRule.aspx?Rule=24:05:25:04.02\",\"Existing Evaluation Data\nto be Pulled Forward\n(24:05:25:04.02)\")","v":"Existing Evaluation Data\nto be Pulled Forward\n(24:05:25:04.02)"},null,null,null,null,null,{"$f":"HYPERLINK(\"https://gosynth.com/p/s/pfohnr\",\"List areas:\")","v":"List areas:"},null,null,"Test administered:",null,null,null,"Test date:",null,"Evaluator:",null,null,"Select","V74",null,null,null,null,{"$f":"S75","v":"Select"},{"$f":"S75","v":"Select"}]
[null,null,null,null,null,null,null,null,null,null,null,null,null,null,null,null,null,null,null,null,null,null,null,{"$f":"Y76+Z76","v":0},{"$f":"COUNTIF(Y75,\"Yes\")*3","v":0},{"$f":"COUNTIF(Z75,\"No\")*3","v":0}]
[]
[]
[]
["For more existing data requested click the [+]"]
[]
[]
[]
[]
[{"$f":"HYPERLINK(\"http://sdlegislature.gov/Rules/DisplayRule.aspx?Rule=24:05:25:04.02\",\"Skills Based Assessment and Report\n(24:05:25:04.02)\")","v":"Skills Based Assessment and Report\n(24:05:25:04.02)"},null,null,null,null,null,{"$f":"HYPERLINK(\"https://gosynth.com/p/s/tbqnts\",\"List areas:\")","v":"List areas:"},null,null,"Test administered:",null,null,null,"Test date:",null,"Evaluator:",null,null,"Select","V84",null,null,null,null,{"$f":"S85","v":"Select"},{"$f":"S85","v":"Select"}]
[null,null,null,null,null,null,null,null,null,null,null,null,null,null,null,null,null,null,null,null,null,null,null,{"$f":"Y86+Z86","v":0},{"$f":"COUNTIF(Y85,\"Yes\")*3","v":0},{"$f":"COUNTIF(Z85,\"No\")*3","v":0}]
[]
[null,null,null,null,null,null,null,null,null,null,null,null,null,null,null,null,null,null,null,null,null,null,null,{"$f":"(X86+X100+X104+X106+X108+X110+X112+X115+X117+X120)/10","v":0},{"$f":"(Y86+Y100+Y104+Y106+Y108+Y110+Y112+Y115+Y117+Y120)/10","v":0}]
[]
[]
[]
["For more skills based requested click the [+]"]
[]
[]
[]
[]
[]
[]
[{"$f":"HYPERLINK(\"http://sdlegislature.gov/Rules/DisplayRule.aspx?Rule=24:05:25:03\",\"Consent Received\n(24:05:25:03)\")","v":"Consent Received\n(24:05:25:03)"},null,null,null,null,null,{"$f":"HYPERLINK(\"https://gosynth.com/p/s/ctcnlr\",\"Consent received date:\")","v":"Consent received date:"},null,null,null,null,{"$f":"K57","v":"2020-01-20"},null,null,"Mark \"No\" if dates are outside of \"consent received\" and/or \"25 school days\".",null,null,null,"Select","V98",null,null,null,null,{"$f":"S99","v":"Select"},{"$f":"S99","v":"Select"}]
[null,null,null,null,null,null,"Earliest testing date:",null,null,null,null,{"$f":"MIN(N63:O74,N87:O98)","v":"00:00:00"},null,null,null,null,null,null,null,null,null,null,null,{"$f":"Y100+Z100","v":0},{"$f":"COUNTIF(Y99,\"Yes\")*3","v":0},{"$f":"COUNTIF(Z99,\"No\")*3","v":0}]
[null,null,null,null,null,null,"Latest testing date:",null,null,null,null,{"$f":"MAX(N63:O74,N87:O98)","v":"00:00:00"}]
[null,null,null,null,null,null,"Within 25 School Days:",null,null,null,null,{"$f":"IF(ISBLANK(K60),K58,K60)","v":"2020-02-24"}]
[{"$f":"HYPERLINK(\"http://sdlegislature.gov/Rules/DisplayRule.aspx?Rule=24:05:25:20\",\"All Evaluations Administered \n(24:05:25:20)\")","v":"All Evaluations Administered \n(24:05:25:20)"},null,null,null,null,null,{"$f":"HYPERLINK(\"https://gosynth.com/p/s/mkcdef\",\"All evaluations marked on the PWWN/Consent for Evaluation form must be administered.\")","v":"All evaluations marked on the PWWN/Consent for Evaluation form must be administered."},null,null,null,null,null,null,null,null,null,null,null,"Select","V102",null,null,null,null,{"$f":"S103","v":"Select"},{"$f":"S103","v":"Select"}]
[null,null,null,null,null,null,null,null,null,null,null,null,null,null,null,null,null,null,null,null,null,null,null,{"$f":"Y104+Z104","v":0},{"$f":"COUNTIF(Y103,\"Yes\")*3","v":0},{"$f":"COUNTIF(Z103,\"No\")*3","v":0}]
[{"$f":"HYPERLINK(\"http://sdlegislature.gov/Rules/DisplayRule.aspx?Rule=24:05:25:06.01\",\"Consent was Acquired\n(24:05:25:06.01)\")","v":"Consent was Acquired\n(24:05:25:06.01)"},null,null,null,null,null,{"$f":"HYPERLINK(\"https://gosynth.com/p/s/mkcdef\",\"All evaluations administered must be requested on the PWWN/Consent for Evaluation \nform.\")","v":"All evaluations administered must be requested on the PWWN/Consent for Evaluation \nform."},null,null,null,null,null,null,null,null,null,null,null,"Select",null,null,null,null,null,{"$f":"S105","v":"Select"},{"$f":"S105","v":"Select"}]
[null,null,null,null,null,null,null,null,null,null,null,null,null,null,null,null,null,null,null,null,null,null,null,{"$f":"Y106+Z106","v":0},{"$f":"COUNTIF(Y105,\"Yes\")*3","v":0},{"$f":"COUNTIF(Z105,\"No\")*3","v":0}]
[{"$f":"HYPERLINK(\"http://sdlegislature.gov/Rules/DisplayRule.aspx?Rule=24:05:25:04\",\"Variety of Sources \n(24:05:25:04)\")","v":"Variety of Sources \n(24:05:25:04)"},null,null,null,null,null,{"$f":"HYPERLINK(\"https://gosynth.com/p/s/mkcdef\",\"Appropritate means to provide evaluations for accurate data were used. \")","v":"Appropritate means to provide evaluations for accurate data were used. "},null,null,null,null,null,null,null,null,null,null,null,"Select",null,null,null,null,null,{"$f":"S107","v":"Select"},{"$f":"S107","v":"Select"}]
[null,null,null,null,null,null,null,null,null,null,null,null,null,null,null,null,null,null,null,null,null,null,null,{"$f":"Y108+Z108","v":0},{"$f":"COUNTIF(Y107,\"Yes\")*3","v":0},{"$f":"COUNTIF(Z107,\"No\")*3","v":0}]
[{"$f":"HYPERLINK(\"http://sdlegislature.gov/Rules/DisplayRule.aspx?Rule=24:05:25:04\",\"Met Requirements for the Disability\n(24:05:25:04) \")","v":"Met Requirements for the Disability\n(24:05:25:04) "},null,null,null,null,null,{"$f":"HYPERLINK(\"https://gosynth.com/p/s/mkcdef\",\"Comprehensive Evaluations in all areas required for the disability. \")","v":"Comprehensive Evaluations in all areas required for the disability. "},null,null,null,null,null,null,null,null,null,null,null,"Select",null,null,null,null,null,{"$f":"S109","v":"Select"},{"$f":"S109","v":"Select"}]
[null,null,null,null,null,null,null,null,null,null,null,null,null,null,null,null,null,null,null,null,null,null,null,{"$f":"Y110+Z110","v":0},{"$f":"COUNTIF(Y109,\"Yes\")*3","v":0},{"$f":"COUNTIF(Z109,\"No\")*3","v":0}]
[{"$f":"HYPERLINK(\"http://sdlegislature.gov/Rules/DisplayRule.aspx?Rule=24:05:25:03\",\"Eligibility within 30 Calendar Days \n(24:05:25:03)\")","v":"Eligibility within 30 Calendar Days \n(24:05:25:03)"},null,null,null,null,null,{"$f":"HYPERLINK(\"https://gosynth.com/p/s/mkcdef\",\"Day 26 was on:\")","v":"Day 26 was on:"},null,null,null,null,{"$f":"WORKDAY(L102,1)","v":"2020-02-25"},null,null,null,null,null,null,"Select","V110",null,null,null,null,{"$f":"S111","v":"Select"},{"$f":"S111","v":"Select"}]
[null,null,null,null,null,null,"Eligibility Determination Date:",null,null,null,null,{"$f":"T7","v":"00:00:00"},null,null,null,null,null,null,null,null,null,null,null,{"$f":"Y112+Z112","v":0},{"$f":"COUNTIF(Y111,\"Yes\")*3","v":0},{"$f":"COUNTIF(Z111,\"No\")*3","v":0}]
[null,null,null,null,null,null,"Eligibility meeting date should have been by:",null,null,null,null,null,null,null,{"$f":"K59","v":"00:00:00"}]
[{"$f":"HYPERLINK(\"http://sdlegislature.gov/Rules/DisplayRule.aspx?Rule=24:05:25:04.03\",\"Student Eligible for Special Education \n(24:05:25:04.03)\")","v":"Student Eligible for Special Education \n(24:05:25:04.03)"},null,null,null,null,null,null,null,null,null,null,null,null,null,null,null,null,null,"Select",null,null,null,null,null,{"$f":"S114","v":"Select"},{"$f":"S114","v":"Select"}]
[null,null,null,null,null,null,null,null,null,null,null,null,null,null,null,null,null,null,null,null,null,null,null,{"$f":"Y115+Z115","v":0},{"$f":"COUNTIF(Y114,\"Yes\")*3","v":0},{"$f":"COUNTIF(Z114,\"No\")*3","v":0}]
[{"$f":"HYPERLINK(\"http://sdlegislature.gov/Rules/DisplayRule.aspx?Rule=24:05:25:06\",\"Three Year Re-Evaluation\n(24:05:25:06)\")","v":"Three Year Re-Evaluation\n(24:05:25:06)"},null,null,null,null,null,{"$f":"HYPERLINK(\"https://gosynth.com/p/s/mkcdef\",\"Current Eligibility Determination Date:\")","v":"Current Eligibility Determination Date:"},null,null,null,null,null,null,{"$f":"L112","v":"00:00:00"},null,null,null,null,"Select",null,null,null,null,null,{"$f":"S116","v":"Select"},{"$f":"S116","v":"Select"}]
[null,null,null,null,null,null,"Previous Eligibility Determination Date:",null,null,null,null,null,null,{"$f":"T8","v":"00:00:00"},null,null,null,null,null,null,null,null,null,{"$f":"Y117+Z117","v":0},{"$f":"COUNTIF(Y116,\"Yes\")*3","v":0},{"$f":"COUNTIF(Z116,\"No\")*3","v":0}]
[]
[{"$f":"HYPERLINK(\"https://gosynth.com/p/s/mkcdef\",\"Evaluated to Dismiss from Services  \")","v":"Evaluated to Dismiss from Services  "},null,null,null,null,null,null,null,null,null,null,null,null,null,null,null,null,null,"Select",null,null,null,null,null,{"$f":"S119","v":"Select"},{"$f":"S119","v":"Select"}]
[null,null,null,null,null,null,null,null,null,null,null,null,null,null,null,null,null,null,null,null,null,null,null,{"$f":"Y120+Z120","v":0},{"$f":"COUNTIF(Y119,\"Yes\")*3","v":0},{"$f":"COUNTIF(Z119,\"No\")*3","v":0}]
[]
[{"$f":"HYPERLINK(\"https://gosynth.com/p/s/giwoma\",\"Eligibility Document for Specific Learning Disability\")","v":"Eligibility Document for Specific Learning Disability"},null,null,null,null,null,null,null,null,null,null,null,null,null,null,null,null,null,{"$f":"IFERROR(Y126/X126,\"N/A\")","v":"N/A"}]
["If student is not eligible for Specific Learning Disability, skip this section.  Click on the [+] button if section is not visible. ",null,null,null,null,null,null,null,null,null,null,null,null,null,null,null,null,null,"Select","V122",null,null,null,null,{"$f":"S123","v":"Select"},{"$f":"S123","v":"Select"}]
[{"$f":"HYPERLINK(\"http://sdlegislature.gov/Rules/DisplayRule.aspx?Rule=24:05:24.01:19\",\"Specific Learning Disabilities\n(24:05:24.01:19)\")","v":"Specific Learning Disabilities\n(24:05:24.01:19)"},null,null,null,null,null,"Check the following:",null,null,null,null,null,null,null,null,null,null,null,null,null,null,null,null,{"$f":"Y124+Z124","v":0},{"$f":"COUNTIF(Y123,\"Yes\")*3","v":0},{"$f":"COUNTIF(Z123,\"No\")*3","v":0}]
[]
[null,null,null,null,null,null,null,"Reading Comprehension",null,null,null,null,null,"Math Calculation",null,null,null,null,null,null,null,null,null,{"$f":"(X124+X132+X151+X165+X174)/5","v":0},{"$f":"(Y124+Y132+Y151+Y165+Y174)/5","v":0}]
[null,null,null,null,null,null,null,"Basic Reading Skills",null,null,null,null,null,"Math Problem Solving"]
[null,null,null,null,null,null,null,"Reading Fluency",null,null,null,null,null,"Listening Comprehension"]
[null,null,null,null,null,null,null,"Written Expression",null,null,null,null,null,"Oral Expression"]
[]
["For Initial Determination of Eligibility Only",null,null,null,null,null,null,null,null,null,null,null,null,null,null,null,null,null,"Select","V130",null,null,null,null,{"$f":"S131","v":"Select"},{"$f":"S131","v":"Select"}]
[{"$f":"HYPERLINK(\"http://sdlegislature.gov/Rules/DisplayRule.aspx?Rule=24:05:24.01:19\",\"Initial Eligibility\n(24:05:24.01:19)\")","v":"Initial Eligibility\n(24:05:24.01:19)"},null,null,null,null,null,"Written report must include:",null,null,null,null,null,null,null,null,null,null,null,null,null,null,null,null,{"$f":"Y132+Z132","v":0},{"$f":"COUNTIF(Y131,\"Yes\")*3","v":0},{"$f":"COUNTIF(Z131,\"No\")*3","v":0}]
[]
[null,null,null,null,null,null,null,"Student achieves adequately",null,null,null,null,"Lack of appropriate instruction"]
[]
[null,null,null,null,null,null,null,"Student exhibits pattern of strengths & weaknesses",null,null,null,null,"Observation of the student"]
[]
[null,null,null,null,null,null,null,null,null,null,null,null,"Relevant medical findings (if any)"]
[null,null,null,null,null,null,null,"Student was provided appropriate instruction in regular education settings by qualified personnel"]
[null,null,null,null,null,null,null,null,null,null,null,null,"Achievement level problem is/is not primarily the result of another factor (e.g. emotional disturbance, cognitive impairment, etc.)"]
[]
[]
[null,null,null,null,null,null,null,"Repeated assessment of achievement reflecting student progress"]
[]
[]
[null,null,null,null,null,null,null,"Attendance record",null,null,null,null,"Adverse effect on educational performance"]
[]
[]
["Click on the [+] button to expand or the [-] button to collapse."]
["For Reevaluation of Eligibility Only",null,null,null,null,null,null,null,null,null,null,null,null,null,null,null,null,null,"Select","V149",null,null,null,null,{"$f":"S150","v":"Select"},{"$f":"S150","v":"Select"}]
[{"$f":"HYPERLINK(\"http://sdlegislature.gov/Rules/DisplayRule.aspx?Rule=24:05:24.01:19\",\"Reevaluation of Eligibility\n(24:05:24.01:19)\")","v":"Reevaluation of Eligibility\n(24:05:24.01:19)"},null,null,null,null,null,"Written report must include:",null,null,null,null,null,null,null,null,null,null,null,null,null,null,null,null,{"$f":"Y151+Z151","v":0},{"$f":"COUNTIF(Y150,\"Yes\")*3","v":0},{"$f":"COUNTIF(Z150,\"No\")*3","v":0}]
[]
[null,null,null,null,null,null,null,"Student achieves adequately",null,null,null,null,"Achievement level problem is/is not primarily the result of another factor (e.g. emotional disturbance, cognitive impairment, etc.)"]
[]
[null,null,null,null,null,null,null,"Student exhibits pattern of strengths & weaknesses"]
[]
[]
[null,null,null,null,null,null,null,"Observation of the student"]
[null,null,null,null,null,null,null,null,null,null,null,null,"Adverse effect on educational performance"]
[null,null,null,null,null,null,null,"Relevant medical findings (if any)"]
[]
[]
["Click on the [+] button to expand or the [-] button to collapse."]
[{"$f":"HYPERLINK(\"http://sdlegislature.gov/Rules/DisplayRule.aspx?Rule=24:05:25:08\",\"Team Member Signatures \n(24:05:25:08)\")","v":"Team Member Signatures \n(24:05:25:08)"},null,null,null,null,null,"Check the following:",null,null,null,null,null,null,null,null,null,null,null,"Select","V163",null,null,null,null,{"$f":"S164","v":"Select"},{"$f":"S164","v":"Select"}]
[null,null,null,null,null,null,null,null,null,null,null,null,null,null,null,null,null,null,null,null,null,null,null,{"$f":"Y165+Z165","v":0},{"$f":"COUNTIF(Y164,\"Yes\")*3","v":0},{"$f":"COUNTIF(Z164,\"No\")*3","v":0}]
[null,null,null,null,null,null,null,"Parent",null,null,null,null,"Each group member shall certify in writing whether the report reflects the group member's conclusion. If it does not reflect the group member's conclusion, the group member must submit the conclusion in a separate statement."]
[null,null,null,null,null,null,null,"General Education Teacher"]
[{"$f":"HYPERLINK(\"http://sdlegislature.gov/Rules/DisplayRule.aspx?Rule=24:05:25:13\",\"Group Members to Certify \nReport in Writing \n(24:05:25:13)\")","v":"Group Members to Certify \nReport in Writing \n(24:05:25:13)"},null,null,null,null,null,null,"Special Education Teacher"]
[null,null,null,null,null,null,null,"Qualified interpreter of results"]
[null,null,null,null,null,null,null,"LEA Representative"]
[null,null,null,null,null,null,null,"If disagreed, written input was provided"]
[]
[null,null,null,null,null,null,"Check PWWN for eligibility decisions.                         ",null,null,null,null,"Skip to","PPWN.",null,null,null,null,null,"Select",null,null,null,null,null,{"$f":"S173","v":"Select"},{"$f":"S173","v":"Select"}]
[null,null,null,null,null,null,null,null,null,null,null,null,null,null,null,null,null,null,null,null,null,null,null,{"$f":"Y174+Z174","v":0},{"$f":"COUNTIF(Y173,\"Yes\")*3","v":0},{"$f":"COUNTIF(Z173,\"No\")*3","v":0}]
[]
[{"$f":"HYPERLINK(\"https://gosynth.com/p/s/mzphio\",\"Meeting Notice\")","v":"Meeting Notice"},null,null,null,null,null,null,null,null,null,null,null,null,null,null,null,null,null,{"$f":"IFERROR(Y184/X184,\"N/A\")","v":"N/A"}]
["Meeting Notice",null,null,null,null,null,"Date sent:",null,null,null,null,null,"From this point on use the current IEP's documentation.",null,null,null,null,null,"Select","V174",null,null,null,null,{"$f":"S177","v":"Select"},{"$f":"S177","v":"Select"}]
[{"$f":"HYPERLINK(\"http://sdlegislature.gov/Rules/DisplayRule.aspx?Rule=24:05:30:02.01\",\"(24:05:30:02.01)\")","v":"(24:05:30:02.01)"},null,null,{"$f":"HYPERLINK(\"http://sdlegislature.gov/Rules/DisplayRule.aspx?Rule=24:05:25:16\",\"(24:05:25:16)\")","v":"(24:05:25:16)"},null,null,"Meeting date:",null,null,{"$f":"T5","v":"00:00:00"},null,null,null,null,null,null,null,null,null,null,null,null,null,{"$f":"Y178+Z178","v":0},{"$f":"COUNTIF(Y177,\"Yes\")*3","v":0},{"$f":"COUNTIF(Z177,\"No\")*3","v":0}]
["Procedural Safeguards",null,null,null,null,null,"Must be given to parents annually.",null,null,null,null,null,null,null,null,null,null,null,"Select",null,null,null,null,null,{"$f":"S179","v":"Select"},{"$f":"S179","v":"Select"}]
[{"$f":"HYPERLINK(\"http://sdlegislature.gov/Rules/DisplayRule.aspx?Rule=24:05:30:06.01\",\"(24:05:30:06.01)\")","v":"(24:05:30:06.01)"},null,null,{"$f":"HYPERLINK(\"http://sdlegislature.gov/Rules/DisplayRule.aspx?Rule=24:05:30:06.02\",\"(24:05:30:06.02)\")","v":"(24:05:30:06.02)"},null,null,null,null,null,null,null,null,null,null,null,null,null,null,null,null,null,null,null,{"$f":"Y180+Z180","v":0},{"$f":"COUNTIF(Y179,\"Yes\")*3","v":0},{"$f":"COUNTIF(Z179,\"No\")*3","v":0}]
["IEP Team",null,null,null,null,null,"Complete the following:",null,null,null,null,null,null,null,null,null,null,null,"Select",null,null,null,null,null,{"$f":"S181","v":"Select"},{"$f":"S181","v":"Select"}]
[null,null,null,null,null,null,null,null,null,null,null,null,null,null,null,null,null,null,null,null,null,null,null,{"$f":"Y182+Z182","v":0},{"$f":"COUNTIF(Y181,\"Yes\")*3","v":0},{"$f":"COUNTIF(Z181,\"No\")*3","v":0}]
[null,null,null,null,null,null,null,"The documentation of people attending the IEP meeting on front page of the IEP does not imply agreement, it is for participation purposes only."]
[null,null,null,null,null,null,null,null,null,null,null,null,null,null,null,null,null,null,null,null,null,null,null,{"$f":"(X178+X180+X182+X198)/4","v":0},{"$f":"(Y178+Y180+Y182+Y198)/4","v":0}]
[null,null,null,null,null,null,null,"Identified on the meeting notice:",null,null,"Attended the meeting:",null,null,"Did not attend\nthe meeting:"]
[]
[{"$f":"HYPERLINK(\"http://sdlegislature.gov/Rules/DisplayRule.aspx?Rule=24:05:25:16\",\"(24:05:25:16)\")","v":"(24:05:25:16)"},null,null,null,null,null,null,"Parent/Guardian"]
[null,null,null,null,null,null,null,"Student"]
[null,null,null,null,null,null,null,"Gen. Ed. Teacher"]
[null,null,null,null,null,null,null,"Sp. Ed. Teacher"]
["Parent Participation",null,null,null,null,null,null,"Eval Interpreter"]
[{"$f":"HYPERLINK(\"http://sdlegislature.gov/Rules/DisplayRule.aspx?Rule=24:05:25:16\",\"(24:05:25:16)\")","v":"(24:05:25:16)"},null,null,null,null,null,null,"LEA Representative"]
[null,null,null,null,null,null,null,"List Others"]
[null,null,null,null,null,null,null,"List Others"]
[null,null,null,null,null,null,null,"List Others"]
[]
["IEP Team Attendance \n (24:05:27:01.05)",null,null,null,null,null,"A member of the IEP team may be excused from attending, in whole or in part, an IEP team meeting that involves a modification to or discussion of the member's area of the curriculum or related services, if:\n   (1) The parent and school district consent in writing to the excusal; and\n   (2) The member submits, in writing to the parent and the IEP team, input into the development of the IEP before the meeting.",null,null,null,null,null,null,null,null,null,null,null,"Select","V194",null,null,null,null,{"$f":"S197","v":"Select"},{"$f":"S197","v":"Select"}]
[null,null,null,null,null,null,null,null,null,null,null,null,null,null,null,null,null,null,null,null,null,null,null,{"$f":"Y198+Z198","v":0},{"$f":"COUNTIF(Y197,\"Yes\")*3","v":0},{"$f":"COUNTIF(Z197,\"No\")*3","v":0}]
[]
[]
[]
[]
[{"$f":"HYPERLINK(\"https://gosynth.com/p/s/jshfqs\",\"          Individual Education Plan (Use the most recent IEP.)\n\")","v":"          Individual Education Plan (Use the most recent IEP.)\n"},null,null,null,null,null,null,null,null,null,null,null,null,null,null,null,null,null,{"$f":"IFERROR(Y210/X210,\"N/A\")","v":"N/A"}]
[{"$f":"HYPERLINK(\"http://sdlegislature.gov/Rules/DisplayRule.aspx?Rule=24:05:25:04.03\",\"Evaluation Reports Given to Parents \n(24:05:25:04.03)\")","v":"Evaluation Reports Given to Parents \n(24:05:25:04.03)"},null,null,null,null,null,"Evidence the parent received a copy of the reports (e.g.  initials on the front page IEP or other evidence). ",null,null,null,null,null,null,null,null,null,null,null,"Select","V201",null,null,null,null,{"$f":"S204","v":"Select"},{"$f":"S204","v":"Select"}]
[null,null,null,null,null,null,null,null,null,null,null,null,null,null,null,null,null,null,null,null,null,null,null,{"$f":"Y205+Z205","v":0},{"$f":"COUNTIF(Y204,\"Yes\")*3","v":0},{"$f":"COUNTIF(Z204,\"No\")*3","v":0}]
[{"$f":"HYPERLINK(\"http://sdlegislature.gov/Rules/DisplayRule.aspx?Rule=24:05:25:19\",\"Copy of IEP Given to Parents \n(24:05:25:19)\")","v":"Copy of IEP Given to Parents \n(24:05:25:19)"},null,null,null,null,null,"Evidence copy of the IEP was given to parents (e.g.  initials on the front page, addressed in PPWN, or other evidence).",null,null,null,null,null,null,null,null,null,null,null,"Select",null,null,null,null,null,{"$f":"S206","v":"Select"},{"$f":"S206","v":"Select"}]
[null,null,null,null,null,null,null,null,null,null,null,null,null,null,null,null,null,null,null,null,null,null,null,{"$f":"Y207+Z207","v":0},{"$f":"COUNTIF(Y206,\"Yes\")*3","v":0},{"$f":"COUNTIF(Z206,\"No\")*3","v":0}]
[{"$f":"HYPERLINK(\"http://sdlegislature.gov/Rules/DisplayRule.aspx?Rule=24:05:27:08\",\"Met Annually\n(24:05:27:08)\")","v":"Met Annually\n(24:05:27:08)"},null,null,null,null,null,"Current IEP Meeting Date:",null,null,null,null,{"$f":"T5","v":"00:00:00"},null,null,null,null,null,null,"Select",null,null,null,null,null,{"$f":"S208","v":"Select"},{"$f":"S208","v":"Select"}]
[null,null,null,null,null,null,"Previous IEP Meeting Date:",null,null,null,null,{"$f":"T6","v":"00:00:00"},null,null,null,null,null,null,null,null,null,null,null,{"$f":"Y209+Z209","v":0},{"$f":"COUNTIF(Y208,\"Yes\")*3","v":0},{"$f":"COUNTIF(Z208,\"No\")*3","v":0}]
[null,null,null,null,null,null,null,null,null,null,null,null,null,null,null,null,null,null,null,null,null,null,null,{"$f":"(X205+X207+X209)/3","v":0},{"$f":"(Y205+Y207+Y209)/3","v":0}]
[{"$f":"HYPERLINK(\"https://gosynth.com/p/s/eypdgf\",\"Present Levels of Academic Achievement & Functional Performance\")","v":"Present Levels of Academic Achievement & Functional Performance"},null,null,null,null,null,null,null,null,null,null,null,null,null,null,null,null,null,{"$f":"IFERROR(Y243/X243,\"N/A\")","v":"N/A"}]
[{"$f":"HYPERLINK(\"http://sdlegislature.gov/Rules/DisplayRule.aspx?Rule=24:05:27:01.03\",\"Progress/Involvement in \nGeneral Education Curriculum\n(24:05:27:01.03)\")","v":"Progress/Involvement in \nGeneral Education Curriculum\n(24:05:27:01.03)"},null,null,null,null,null,"A statement of the student's present levels of academic achievement and functional performance, including:\n   (a)  How the student's disability affects the student's involvement and progress in the general education curriculum (i.e., the same curriculum as for nondisabled students); or\n   (b)  For preschool student, as appropriate, how the disability affects the student's participation in appropriate activities;\nis found in the document.",null,null,null,null,null,null,null,null,null,null,null,"Select","V209",null,null,null,null,{"$f":"S212","v":"Select"},{"$f":"S212","v":"Select"}]
[null,null,null,null,null,null,null,null,null,null,null,null,null,null,null,null,null,null,null,null,null,null,null,{"$f":"Y213+Z213","v":0},{"$f":"COUNTIF(Y212,\"Yes\")*3","v":0},{"$f":"COUNTIF(Z212,\"No\")*3","v":0}]
[]
[{"$f":"HYPERLINK(\"https://sdlegislature.gov/Rules/DisplayRule.aspx?Rule=24:05:25:16\",\"Parent Participation\n(24:05:25:16)\")","v":"Parent Participation\n(24:05:25:16)"},null,null,null,null,null,"The purpose of this area for parent to provide IEP team information about how the child’s disability is impacted at home. Parents can also provide input on types of strategies and supports they provide at home.",null,null,null,null,null,null,null,null,null,null,null,"Select",null,null,null,null,null,{"$f":"S215","v":"Select"},{"$f":"S215","v":"Select"}]
[null,null,null,null,null,null,null,null,null,null,null,null,null,null,null,null,null,null,null,null,null,null,null,{"$f":"Y216+Z216","v":0},{"$f":"COUNTIF(Y215,\"Yes\")*3","v":0},{"$f":"COUNTIF(Z215,\"No\")*3","v":0}]
[{"$f":"HYPERLINK(\"http://sdlegislature.gov/Rules/DisplayRule.aspx?Rule=24:05:27:01.03\",\"Present Levels of \nAcademic Achievement \n& Functional Performance\nLinked to Annual Goals\n(24:05:27:01.03)\")","v":"Present Levels of \nAcademic Achievement \n& Functional Performance\nLinked to Annual Goals\n(24:05:27:01.03)"},null,null,null,null,null,"Skill Area:",null,null,null,null,"Measuarable Goal:",null,null,null,null,null,null,"Select","V214",null,null,null,null,{"$f":"S217","v":"Select"},{"$f":"S217","v":"Select"}]
[null,null,null,null,null,null,null,null,null,null,null,null,null,null,null,null,null,null,null,null,null,null,null,{"$f":"Y218+Z218","v":0},{"$f":"COUNTIF(Y217,\"Yes\")*3","v":0},{"$f":"COUNTIF(Z217,\"No\")*3","v":0}]
[null,null,null,null,null,null,null,"Strengths",null,null,null,null,"Condition",null,null,"How well"]
[null,null,null,null,null,null,null,"Needs",null,null,null,null,"Performance",null,null,"How often"]
[null,null,null,null,null,null,null,"Link to evaluation"]
[]
[null,null,null,null,null,null,"Skill Area:",null,null,null,null,"Measuarable Goal:",null,null,null,null,null,null,"Select",null,null,null,null,null,{"$f":"S223","v":"Select"},{"$f":"S223","v":"Select"}]
[null,null,null,null,null,null,null,null,null,null,null,null,null,null,null,null,null,null,null,null,null,null,null,{"$f":"Y224+Z224","v":0},{"$f":"COUNTIF(Y223,\"Yes\")*3","v":0},{"$f":"COUNTIF(Z223,\"No\")*3","v":0}]
[null,null,null,null,null,null,null,"Strengths",null,null,null,null,"Condition",null,null,"How well"]
[null,null,null,null,null,null,null,"Needs",null,null,null,null,"Performance",null,null,"How often"]
[null,null,null,null,null,null,null,"Link to evaluation"]
[]
[null,null,null,null,null,null,"Skill Area:",null,null,null,null,"Measuarable Goal:",null,null,null,null,null,null,"Select",null,null,null,null,null,{"$f":"S229","v":"Select"},{"$f":"S229","v":"Select"}]
[null,null,null,null,null,null,null,null,null,null,null,null,null,null,null,null,null,null,null,null,null,null,null,{"$f":"Y230+Z230","v":0},{"$f":"COUNTIF(Y229,\"Yes\")*3","v":0},{"$f":"COUNTIF(Z229,\"No\")*3","v":0}]
[null,null,null,null,null,null,null,"Strengths",null,null,null,null,"Condition",null,null,"How well"]
[null,null,null,null,null,null,null,"Needs",null,null,null,null,"Performance",null,null,"How often"]
[null,null,null,null,null,null,null,"Link to evaluation"]
[]
[{"$f":"HYPERLINK(\"http://sdlegislature.gov/Rules/DisplayRule.aspx?Rule=24:05:27:01.03\",\"How Progress will be Measured\n(24:05:27:01.03)\")","v":"How Progress will be Measured\n(24:05:27:01.03)"},null,null,null,null,null,{"$f":"HYPERLINK(\"https://gosynth.com/p/s/psaxcx\",\"         Check the following:\")","v":"         Check the following:"},null,null,null,null,null,null,null,null,null,null,null,"Select","V232",null,null,null,null,{"$f":"S235","v":"Select"},{"$f":"S235","v":"Select"}]
[null,null,null,null,null,null,null,null,null,null,null,null,null,null,null,null,null,null,null,null,null,null,null,{"$f":"Y236+Z236","v":0},{"$f":"COUNTIF(Y235,\"Yes\")*3","v":0},{"$f":"COUNTIF(Z235,\"No\")*3","v":0}]
[null,null,null,null,null,null,null,"Reporting frequency",null,null,null,null,"Extent of progress"]
[null,null,null,null,null,null,null,"Reporting method"]
[]
[{"$f":"HYPERLINK(\"http://sdlegislature.gov/Rules/DisplayRule.aspx?Rule=24:05:27:01.03\",\"Accommodations/Modifications\n(24:05:27:01.03)\")","v":"Accommodations/Modifications\n(24:05:27:01.03)"},null,null,null,null,null,{"$f":"HYPERLINK(\"https://gosynth.com/p/s/rtpvrq\",\"         Check the following:\")","v":"         Check the following:"},null,null,null,null,"List Instructional Accommodations:",null,null,null,null,null,null,"Select","V237",null,null,null,null,{"$f":"S240","v":"Select"},{"$f":"S240","v":"Select"}]
[null,null,null,null,null,null,null,"Frequency",null,null,null,null,null,null,null,null,null,null,null,null,null,null,null,{"$f":"Y241+Z241","v":0},{"$f":"COUNTIF(Y240,\"Yes\")*3","v":0},{"$f":"COUNTIF(Z240,\"No\")*3","v":0}]
[null,null,null,null,null,null,null,"Duration"]
[null,null,null,null,null,null,null,"Location",null,null,null,null,null,null,null,null,null,null,null,null,null,null,null,{"$f":"(X241+X236+X230+X224+X218+X216+X213)/7","v":0},{"$f":"(Y241+Y236+Y230+Y224+Y218+Y216+Y213)/7","v":0}]
[]
[]
[null,null,null,null,null,null,null,"Are the accommodations appropriate for the skill areas affected by the diability?"]
[]
[]
[]
[null,null,null,null,null,null,null,null,"Yes"]
[null,null,null,null,null,null,null,null,"No"]
[]
[]
[]
[{"$f":"HYPERLINK(\"https://gosynth.com/p/s/ygpazf\",\"Special Factors\")","v":"Special Factors"},null,null,null,null,null,null,null,null,null,null,null,null,null,null,null,null,null,{"$f":"IFERROR(Y294/X294,\"N/A\")","v":"N/A"}]
[{"$f":"HYPERLINK(\"http://sdlegislature.gov/Rules/DisplayRule.aspx?Rule=24:05:27:01.02\",\"Considerations\n(24:05:27:01.02)\")","v":"Considerations\n(24:05:27:01.02)"},null,null,null,null,null,"Select for each:",null,null,"Determine if data supports the selection for each special factor; if not addressed, check \"N\"  for score.",null,null,null,null,null,null,null,null,"Select","V243",null,null,null,null,{"$f":"S256","v":"Select"},{"$f":"S256","v":"Select"}]
[null,null,null,null,null,null,null,null,null,null,null,null,null,null,null,null,null,null,null,null,null,null,null,{"$f":"Y257+Z257","v":0},{"$f":"COUNTIF(Y256,\"Yes\")*3","v":0},{"$f":"COUNTIF(Z256,\"No\")*3","v":0}]
[null,null,null,null,null,null,null,null,null,"Limited English proficient"]
[null,null,null,null,null,null,null,null,null,"Special communication needs"]
[null,null,null,null,null,null,null,null,null,"Requires Braille"]
[null,null,null,null,null,null,null,null,null,"Behavior impedes learning"]
[null,null,null,null,null,null,null,null,null,"Requires assistive technology & services"]
[null,null,null,null,null,null,null,null,null,"Physical education"]
[null,null,null,null,null,null,null,null,null,"Hearing aid maintenance"]
[{"$f":"HYPERLINK(\"http://sdlegislature.gov/Rules/DisplayRule.aspx?Rule=24:05:27:01.03\",\"State/District Assessments\n(24:05:27:01.03)\")","v":"State/District Assessments\n(24:05:27:01.03)"},null,null,null,null,null,{"$f":"HYPERLINK(\"https://gosynth.com/p/s/jdbbir\",\"             Students will be taking state and district-wide assessments:\")","v":"             Students will be taking state and district-wide assessments:"},null,null,null,null,null,null,null,null,null,null,null,"Select","V263",null,null,null,null,{"$f":"S265","v":"Select"},{"$f":"S265","v":"Select"}]
[null,null,null,null,null,null,null,"With accommodations",null,null,null,null,"Without accommodations",null,null,null,null,null,null,null,null,null,null,{"$f":"Y266+Z266","v":0},{"$f":"COUNTIF(Y265,\"Yes\")*3","v":0},{"$f":"COUNTIF(Z265,\"No\")*3","v":0}]
[null,null,null,null,null,null,"Testing accommodations must reflect instructional accommodations."]
[null,null,null,null,null,null,"Do the accommodations for the state/district assesment(s) \nmatch the instructional accommodations?"]
[]
[null,null,null,null,null,null,"Instructional \nAccommodations",null,null,null,"State/District\nAssessment\nAccommodations",null,null,null,"Select\nyes or no:"]
[]
[]
[null,null,null,null,null,null,{"$f":"L241","v":0},null,null,null,null,null,null,null,"- Select -"]
[null,null,null,null,null,null,0,null,null,null,null,null,null,null,"- Select -"]
[null,null,null,null,null,null,0,null,null,null,null,null,null,null,"- Select -"]
[null,null,null,null,null,null,0,null,null,null,null,null,null,null,"- Select -"]
[null,null,null,null,null,null,0]
[null,null,null,null,null,null,0,null,null,null,null,null,null,null,"- Select -"]
[null,null,null,null,null,null,0,null,null,null,null,null,null,null,"- Select -"]
[null,null,null,null,null,null,0]
[null,null,null,null,null,null,0]
[null,null,null,null,null,null,0,null,null,null,null,null,null,null,"- Select -"]
[null,null,null,null,null,null,0,null,null,null,null,null,null,null,"- Select -"]
[null,null,null,null,null,null,0,null,null,null,null,null,null,null,"- Select -"]
[null,null,null,null,null,null,0,null,null,null,null,null,null,null,"- Select -"]
[null,null,null,null,null,null,0,null,null,null,null,null,null,null,"- Select -"]
[null,null,null,null,null,null,"Were the accommodations for\n the state assessment identified \non the IEP provided according to \nthe assessment data sheet?"]
[null,null,null,null,null,null,null,null,null,null,null,null,null,"- Select -"]
[]
[{"$f":"HYPERLINK(\"http://sdlegislature.gov/Rules/DisplayRule.aspx?Rule=24:05:27:01.03\",\"Alternate Assessments\n(24:05:27:01.03)\")","v":"Alternate Assessments\n(24:05:27:01.03)"},null,null,null,null,null,{"$f":"HYPERLINK(\"https://gosynth.com/p/s/bjlejx\",\"                  The following must be met:\")","v":"                  The following must be met:"},null,null,null,null,null,null,null,null,null,null,null,"Select","V257",null,null,null,null,{"$f":"S290","v":"Select"},{"$f":"S290","v":"Select"}]
[null,null,null,null,null,null,null,null,null,null,null,null,null,null,null,null,null,null,null,null,null,null,null,{"$f":"Y291+Z291","v":0},{"$f":"COUNTIF(Y290,\"Yes\")*3","v":0},{"$f":"COUNTIF(Z290,\"No\")*3","v":0}]
[null,null,null,null,null,null,null,"Student meets the significant cognitive disability criteria"]
[null,null,null,null,null,null,null,"Explanation for why student cannot participate in the regular assessment"]
[null,null,null,null,null,null,null,null,null,null,null,null,null,null,null,null,null,null,null,null,null,null,null,{"$f":"(X291+X266+X257)/3","v":0},{"$f":"(Y291+Y266+Y257)/3","v":0}]
[null,null,null,null,null,null,null,"Explanation for why the alternate assessment selected is appropriate"]
[]
[null,null,null,null,null,null,null,"The alternate assessment is for students working in the alternate achievement standards.  Annual goals and short term objectives are required.                                                                         \n                                                                        "]
[]
[]
[null,null,null,null,null,null,"Does the PPWN explain why IEP team decided alternate assessment for the student?"]
[null,null,null,null,null,null,"Does the student taking the\n alternate assessment meet\n the criteria, has it been \ndocumented on the IEP?"]
[null,null,null,null,null,null,null,null,null,null,null,null,null,"- Select -"]
[]
[]
[{"$f":"HYPERLINK(\"https://gosynth.com/p/s/itwkve\",\"Transition\")","v":"Transition"},null,null,null,null,null,null,null,null,null,null,null,null,null,null,null,null,null,{"$f":"IFERROR(Y306/X306,\"N/A\")","v":"N/A"}]
["Indicator 13 Item 1",null,null,null,null,null,null,null,null,null,null,null,null,null,null,null,null,null,null,null,null,null,null,{"$f":"(X308+X310+X312+X314+X316+X319+X321+X323+X326+X329+X331+X333+X336+X338+X340+X343+X345+X347+X350+X356+X362+X364+X366+X369)/24","v":0},{"$f":"(Y308+Y310+Y312+Y314+Y316+Y319+Y321+Y323+Y326+Y329+Y331+Y333+Y336+Y338+Y340+Y343+Y345+Y347+Y350+Y356+Y362+Y364+Y366+Y369)/24","v":0}]
[{"$f":"HYPERLINK(\"http://sdlegislature.gov/Rules/DisplayRule.aspx?Rule=24:05:27:01.03\",\"Transition IEP*\n(24:05:27:01.03)\")","v":"Transition IEP*\n(24:05:27:01.03)"},null,null,null,null,null,{"$f":"HYPERLINK(\"https://gosynth.com/p/s/itwkve\",\"Transition IEP must be in effect for all students on their 16 birthday or for younger students if it is addressed in the IEP.   \n*This is not on the Indicator 13 checklist, but it is a compliance requirement. \")","v":"Transition IEP must be in effect for all students on their 16 birthday or for younger students if it is addressed in the IEP.   \n*This is not on the Indicator 13 checklist, but it is a compliance requirement. "},null,null,null,null,null,null,null,null,null,null,null,"Select","V269",null,null,null,null,{"$f":"S307","v":"Select"},{"$f":"S307","v":"Select"}]
[null,null,null,null,null,null,null,null,null,null,null,null,null,null,null,null,null,null,null,null,null,null,null,{"$f":"Y308+Z308","v":0},{"$f":"COUNTIF(Y307,\"Yes\")*3","v":0},{"$f":"COUNTIF(Z307,\"No\")*3","v":0}]
[null,null,null,null,null,null,null,null,null,null,null,null,null,null,null,null,null,null,"Select",null,null,null,null,null,{"$f":"S309","v":"Select"},{"$f":"S309","v":"Select"}]
[{"$f":"HYPERLINK(\"http://sdlegislature.gov/Rules/DisplayRule.aspx?Rule=24:05:27:01.03\",\"Transition Assessments\n(24:05:27:01.03)\")","v":"Transition Assessments\n(24:05:27:01.03)"},null,null,null,null,null,null,"Employment",null,null,null,null,null,null,null,null,null,null,null,null,null,null,null,{"$f":"Y310+Z310","v":0},{"$f":"COUNTIF(Y309,\"Yes\")*3","v":0},{"$f":"COUNTIF(Z309,\"No\")*3","v":0}]
[null,null,null,null,null,null,null,null,null,null,null,null,null,null,null,null,null,null,"Select",null,null,null,null,null,{"$f":"S311","v":"Select"},{"$f":"S311","v":"Select"}]
[null,null,null,null,null,null,null,"Education/Training",null,null,null,null,null,null,null,null,null,null,null,null,null,null,null,{"$f":"Y312+Z312","v":0},{"$f":"COUNTIF(Y311,\"Yes\")*3","v":0},{"$f":"COUNTIF(Z311,\"No\")*3","v":0}]
[null,null,null,null,null,null,null,"Independent Living",null,null,null,null,null,null,null,null,null,null,"Select",null,null,null,null,null,{"$f":"S313","v":"Select"},{"$f":"S313","v":"Select"}]
[null,null,null,null,null,null,{"$f":"HYPERLINK(\"https://gosynth.com/p/s/itwkve\",\"The transition assessment must be completed prior to the age of 16 and updated annually.  Evidence of transition strengths/ needs are document on the PLAAFPs.  \")","v":"The transition assessment must be completed prior to the age of 16 and updated annually.  Evidence of transition strengths/ needs are document on the PLAAFPs.  "},null,null,null,null,null,null,null,null,null,null,null,null,null,null,null,null,{"$f":"Y314+Z314","v":0},{"$f":"COUNTIF(Y313,\"Yes\")*3","v":0},{"$f":"COUNTIF(Z313,\"No\")*3","v":0}]
["Transition Evaluation Report*\n",null,null,null,null,null,{"$f":"HYPERLINK(\"https://gosynth.com/p/s/itwkve\",\"A transition evaluation report is located in the file.\n\n*This is not on the Indicator 13 checklist, but it is a compliance requirement. \")","v":"A transition evaluation report is located in the file.\n\n*This is not on the Indicator 13 checklist, but it is a compliance requirement. "},null,null,null,null,null,null,null,null,null,null,null,"Select",null,null,null,null,null,{"$f":"S315","v":"Select"},{"$f":"S315","v":"Select"}]
[null,null,null,null,null,null,null,null,null,null,null,null,null,null,null,null,null,null,null,null,null,null,null,{"$f":"Y316+Z316","v":0},{"$f":"COUNTIF(Y315,\"Yes\")*3","v":0},{"$f":"COUNTIF(Z315,\"No\")*3","v":0}]
[{"$f":"HYPERLINK(\"https://gosynth.com/p/s/itwkve\",\"Indicator 13 Item 2\")","v":"Indicator 13 Item 2"}]
[{"$f":"HYPERLINK(\"http://sdlegislature.gov/Rules/DisplayRule.aspx?Rule=24:05:27:01.03\",\"Age-Appropriate Measurable \nPost-Secondary Goals \n(24:05:27:01.03)\")","v":"Age-Appropriate Measurable \nPost-Secondary Goals \n(24:05:27:01.03)"},null,null,null,null,null,null,"Employment",null,null,null,null,null,null,null,null,null,null,"Select","V278",null,null,null,null,{"$f":"S318","v":"Select"},{"$f":"S318","v":"Select"}]
[null,null,null,null,null,null,null,null,null,null,null,null,null,null,null,null,null,null,null,null,null,null,null,{"$f":"Y319+Z319","v":0},{"$f":"COUNTIF(Y318,\"Yes\")*3","v":0},{"$f":"COUNTIF(Z318,\"No\")*3","v":0}]
[null,null,null,null,null,null,null,"Education/Training",null,null,null,null,null,null,null,null,null,null,"Select",null,null,null,null,null,{"$f":"S320","v":"Select"},{"$f":"S320","v":"Select"}]
[null,null,null,null,null,null,null,null,null,null,null,null,null,null,null,null,null,null,null,null,null,null,null,{"$f":"Y321+Z321","v":0},{"$f":"COUNTIF(Y320,\"Yes\")*3","v":0},{"$f":"COUNTIF(Z320,\"No\")*3","v":0}]
[null,null,null,null,null,null,null,"Independent Living",null,null,null,null,null,null,null,null,null,null,"Select",null,null,null,null,null,{"$f":"S322","v":"Select"},{"$f":"S322","v":"Select"}]
[null,null,null,null,null,null,null,null,null,null,null,null,null,null,null,null,null,null,null,null,null,null,null,{"$f":"Y323+Z323","v":0},{"$f":"COUNTIF(Y322,\"Yes\")*3","v":0},{"$f":"COUNTIF(Z322,\"No\")*3","v":0}]
[{"$f":"HYPERLINK(\"https://gosynth.com/p/s/itwkve\",\"Indicator 13 Item 3\")","v":"Indicator 13 Item 3"}]
["MPSGs Updated Annually",null,null,null,null,null,null,null,null,null,null,null,null,null,null,null,null,null,"Select","V282",null,null,null,null,{"$f":"S325","v":"Select"},{"$f":"S325","v":"Select"}]
[null,null,null,null,null,null,null,null,null,null,null,null,null,null,null,null,null,null,null,null,null,null,null,{"$f":"Y326+Z326","v":0},{"$f":"COUNTIF(Y325,\"Yes\")*3","v":0},{"$f":"COUNTIF(Z325,\"No\")*3","v":0}]
["Indicator 13 Item 4"]
[{"$f":"HYPERLINK(\"http://sdlegislature.gov/Rules/DisplayRule.aspx?Rule=24:05:27:01.03\",\"Course of Study Aligns to \nPost-Secondary Goals\n(24:05:27:01.03)\")","v":"Course of Study Aligns to \nPost-Secondary Goals\n(24:05:27:01.03)"},null,null,null,null,null,null,"Employment",null,null,null,null,null,null,null,null,null,null,"Select","V285",null,null,null,null,{"$f":"S328","v":"Select"},{"$f":"S328","v":"Select"}]
[null,null,null,null,null,null,null,null,null,null,null,null,null,null,null,null,null,null,null,null,null,null,null,{"$f":"Y329+Z329","v":0},{"$f":"COUNTIF(Y328,\"Yes\")*3","v":0},{"$f":"COUNTIF(Z328,\"No\")*3","v":0}]
[null,null,null,null,null,null,null,"Education/Training",null,null,null,null,null,null,null,null,null,null,"Select",null,null,null,null,null,{"$f":"S330","v":"Select"},{"$f":"S330","v":"Select"}]
[null,null,null,null,null,null,null,null,null,null,null,null,null,null,null,null,null,null,null,null,null,null,null,{"$f":"Y331+Z331","v":0},{"$f":"COUNTIF(Y330,\"Yes\")*3","v":0},{"$f":"COUNTIF(Z330,\"No\")*3","v":0}]
[null,null,null,null,null,null,null,"Independent Living",null,null,null,null,null,null,null,null,null,null,"Select",null,null,null,null,null,{"$f":"S332","v":"Select"},{"$f":"S332","v":"Select"}]
[null,null,null,null,null,null,"Completed by age 16, or younger if transition has been addressed in the IEP, and updated annually through graduation or ‘age out’.",null,null,null,null,null,null,null,null,null,null,null,null,null,null,null,null,{"$f":"Y333+Z333","v":0},{"$f":"COUNTIF(Y332,\"Yes\")*3","v":0},{"$f":"COUNTIF(Z332,\"No\")*3","v":0}]
[{"$f":"HYPERLINK(\"https://gosynth.com/p/s/itwkve\",\"Indicator 13 Item 5\")","v":"Indicator 13 Item 5"}]
[{"$f":"HYPERLINK(\"http://sdlegislature.gov/Rules/DisplayRule.aspx?Rule=24:05:27:13.02\",\"Transition Services/Activities\n(24:05:27:13.02)\")","v":"Transition Services/Activities\n(24:05:27:13.02)"},null,null,null,null,null,null,"Employment",null,null,null,null,null,null,null,null,null,null,"Select","V290",null,null,null,null,{"$f":"S335","v":"Select"},{"$f":"S335","v":"Select"}]
[null,null,null,null,null,null,null,null,null,null,null,null,null,null,null,null,null,null,null,null,null,null,null,{"$f":"Y336+Z336","v":0},{"$f":"COUNTIF(Y335,\"Yes\")*3","v":0},{"$f":"COUNTIF(Z335,\"No\")*3","v":0}]
[null,null,null,null,null,null,null,"Education/Training",null,null,null,null,null,null,null,null,null,null,"Select",null,null,null,null,null,{"$f":"S337","v":"Select"},{"$f":"S337","v":"Select"}]
[null,null,null,null,null,null,null,null,null,null,null,null,null,null,null,null,null,null,null,null,null,null,null,{"$f":"Y338+Z338","v":0},{"$f":"COUNTIF(Y337,\"Yes\")*3","v":0},{"$f":"COUNTIF(Z337,\"No\")*3","v":0}]
[null,null,null,null,null,null,null,"Independent Living",null,null,null,null,null,null,null,null,null,null,"Select",null,null,null,null,null,{"$f":"S339","v":"Select"},{"$f":"S339","v":"Select"}]
[null,null,null,null,null,null,"Services/activities will reasonably enable the student to meet post-secondary goals and have at least one activity per MPSG addressed.",null,null,null,null,null,null,null,null,null,null,null,null,null,null,null,null,{"$f":"Y340+Z340","v":0},{"$f":"COUNTIF(Y339,\"Yes\")*3","v":0},{"$f":"COUNTIF(Z339,\"No\")*3","v":0}]
[{"$f":"HYPERLINK(\"https://gosynth.com/p/s/itwkve\",\"Indicator 13 Item 6\")","v":"Indicator 13 Item 6"}]
[{"$f":"HYPERLINK(\"http://sdlegislature.gov/Rules/DisplayRule.aspx?Rule=24:05:27:13.02\",\"Annual Goal Related to Student’s Transition Service needs in\n(24:05:27:13.02)\")","v":"Annual Goal Related to Student’s Transition Service needs in\n(24:05:27:13.02)"},null,null,null,null,null,null,"Employment",null,null,null,null,null,null,null,null,null,null,"Select","V295",null,null,null,null,{"$f":"S342","v":"Select"},{"$f":"S342","v":"Select"}]
[null,null,null,null,null,null,null,null,null,null,null,null,null,null,null,null,null,null,null,null,null,null,null,{"$f":"Y343+Z343","v":0},{"$f":"COUNTIF(Y342,\"Yes\")*3","v":0},{"$f":"COUNTIF(Z342,\"No\")*3","v":0}]
[null,null,null,null,null,null,null,"Education/Training",null,null,null,null,null,null,null,null,null,null,"Select",null,null,null,null,null,{"$f":"S344","v":"Select"},{"$f":"S344","v":"Select"}]
[null,null,null,null,null,null,null,null,null,null,null,null,null,null,null,null,null,null,null,null,null,null,null,{"$f":"Y345+Z345","v":0},{"$f":"COUNTIF(Y344,\"Yes\")*3","v":0},{"$f":"COUNTIF(Z344,\"No\")*3","v":0}]
[null,null,null,null,null,null,null,"Independent Living",null,null,null,null,null,null,null,null,null,null,"Select",null,null,null,null,null,{"$f":"S346","v":"Select"},{"$f":"S346","v":"Select"}]
[null,null,null,null,null,null,{"$f":"HYPERLINK(\"https://gosynth.com/p/s/itwkve\",\"Annual goals are linked to the MPSGs.\")","v":"Annual goals are linked to the MPSGs."},null,null,null,null,null,null,null,null,null,null,null,null,null,null,null,null,{"$f":"Y347+Z347","v":0},{"$f":"COUNTIF(Y346,\"Yes\")*3","v":0},{"$f":"COUNTIF(Z346,\"No\")*3","v":0}]
[{"$f":"HYPERLINK(\"https://gosynth.com/p/s/pisllo\",\"Indicator 13 Item 7\")","v":"Indicator 13 Item 7"}]
[{"$f":"HYPERLINK(\"http://sdlegislature.gov/Rules/DisplayRule.aspx?Rule=24:05:25:16.01\",\"Student Invitation/Participation\n(24:05:25:16.01)\")","v":"Student Invitation/Participation\n(24:05:25:16.01)"},null,null,null,null,null,"How the student invited?",null,null,null,null,{"$f":"HYPERLINK(\"https://gosynth.com/p/s/pisllo\",\"If student was not in attendance at the meeting, the IEP should show evidence that student's preferences and interests were taken into account. *\")","v":"If student was not in attendance at the meeting, the IEP should show evidence that student's preferences and interests were taken into account. *"},null,null,null,null,null,null,"Select","V300",null,null,null,null,{"$f":"S349","v":"Select"},{"$f":"S349","v":"Select"}]
[null,null,null,null,null,null,null,null,null,null,null,null,null,null,null,null,null,null,null,null,null,null,null,{"$f":"Y350+Z350","v":0},{"$f":"COUNTIF(Y349,\"Yes\")*3","v":0},{"$f":"COUNTIF(Z349,\"No\")*3","v":0}]
[null,null,null,null,null,null,null,"Meeting notice"]
[null,null,null,null,null,null,null,"Individual student invite"]
[]
[{"$f":"HYPERLINK(\"https://gosynth.com/p/s/pisllo\",\"Indicator 13 Item 8\")","v":"Indicator 13 Item 8"}]
[{"$f":"HYPERLINK(\"http://sdlegislature.gov/Rules/DisplayRule.aspx?Rule=24:05:25:16.01\",\"Consent to Invite Outside Agency\n(24:05:25:16.01)\")","v":"Consent to Invite Outside Agency\n(24:05:25:16.01)"},null,null,null,null,null,{"$f":"HYPERLINK(\"https://gosynth.com/p/s/pisllo\",\" Written Consent to invite:\")","v":" Written Consent to invite:"},null,null,null,null,null,null,"List of agencies invited:",null,null,null,null,"Select","V306",null,null,null,null,{"$f":"S355","v":"Select"},{"$f":"S355","v":"Select"}]
[null,null,null,null,null,null,"Invited on Meeting Notice:",null,null,null,null,null,"Yes",null,null,null,null,null,null,null,null,null,null,{"$f":"Y356+Z356","v":0},{"$f":"COUNTIF(Y355,\"Yes\")*3","v":0},{"$f":"COUNTIF(Z355,\"No\")*3","v":0}]
[null,null,null,null,null,null,null,null,null,null,null,null,"No"]
[null,null,null,null,null,null,"Meeting Notice Date:",null,null,null,null,{"$f":"J177","v":"00:00:00"}]
[null,null,null,null,null,null,"Date of Current IEP Meeting:",null,null,null,null,{"$f":"T5","v":"00:00:00"}]
[{"$f":"HYPERLINK(\"https://gosynth.com/p/s/pisllo\",\"Other Transition Areas *\")","v":"Other Transition Areas *"}]
[{"$f":"HYPERLINK(\"http://sdlegislature.gov/Rules/DisplayRule.aspx?Rule=24:05:30:16.01\",\"Transfer of Parental Rights:\n(24:05:30:16.01)\")","v":"Transfer of Parental Rights:\n(24:05:30:16.01)"},null,null,null,null,null,"Turned 17 on:",null,null,null,null,null,null,null,null,null,null,null,"Select","V312",null,null,null,null,{"$f":"S361","v":"Select"},{"$f":"S361","v":"Select"}]
[null,null,null,null,null,null,"Rights reviewed on:",null,null,null,null,null,null,null,null,null,null,null,null,null,null,null,null,{"$f":"Y362+Z362","v":0},{"$f":"COUNTIF(Y361,\"Yes\")*3","v":0},{"$f":"COUNTIF(Z361,\"No\")*3","v":0}]
[{"$f":"HYPERLINK(\"http://sdlegislature.gov/Rules/DisplayRule.aspx?Rule=24:05:27:12\",\"Specific Graduation Requirements:\n(24:05:27:12)\")","v":"Specific Graduation Requirements:\n(24:05:27:12)"},null,null,null,null,null,"Graduation requirements addressed on:",null,null,null,null,null,null,null,null,null,null,null,"Select",null,null,null,null,null,{"$f":"S363","v":"Select"},{"$f":"S363","v":"Select"}]
[null,null,null,null,null,null,"Student is projected to graduate:",null,null,null,null,null,null,null,null,null,null,null,null,null,null,null,null,{"$f":"Y364+Z364","v":0},{"$f":"COUNTIF(Y363,\"Yes\")*3","v":0},{"$f":"COUNTIF(Z363,\"No\")*3","v":0}]
[{"$f":"HYPERLINK(\"http://sdlegislature.gov/Rules/DisplayRule.aspx?Rule=24:05:27:12\",\"When Student has Graduated\n(24:05:27:12)\")","v":"When Student has Graduated\n(24:05:27:12)"},null,null,null,null,null,"Written prior notice was sent:",null,null,null,null,null,null,null,null,null,null,null,"Select",null,null,null,null,null,{"$f":"S365","v":"Select"},{"$f":"S365","v":"Select"}]
[null,null,null,null,null,null,{"$f":"HYPERLINK(\"https://gosynth.com/p/s/pisllo\",\"When a student graduates, it is a change in placement. It must have a written\n prior notice sent.  If student has \"\"aged-out\"\", a PPWN is required.  \")","v":"When a student graduates, it is a change in placement. It must have a written\n prior notice sent.  If student has \"aged-out\", a PPWN is required.  "},null,null,null,null,null,null,null,null,null,null,null,null,null,null,null,null,{"$f":"Y366+Z366","v":0},{"$f":"COUNTIF(Y365,\"Yes\")*3","v":0},{"$f":"COUNTIF(Z365,\"No\")*3","v":0}]
[]
[{"$f":"HYPERLINK(\"http://sdlegislature.gov/Rules/DisplayRule.aspx?Rule=24:05:27:12\",\"Summary of Performance was provided to the Student/Parent/Guardian\n(24:05:27:12)\")","v":"Summary of Performance was provided to the Student/Parent/Guardian\n(24:05:27:12)"},null,null,null,null,null,{"$f":"HYPERLINK(\"https://gosynth.com/p/s/pisllo\",\"Summary of Performance (SOP) is required for students who graduated and\n aged out. A copy of the SOP should remain in the file.\")","v":"Summary of Performance (SOP) is required for students who graduated and\n aged out. A copy of the SOP should remain in the file."},null,null,null,null,null,null,null,null,null,null,null,"Select",null,null,null,null,null,{"$f":"S368","v":"Select"},{"$f":"S368","v":"Select"}]
[null,null,null,null,null,null,null,null,null,null,null,null,null,null,null,null,null,null,null,null,null,null,null,{"$f":"Y369+Z369","v":0},{"$f":"COUNTIF(Y368,\"Yes\")*3","v":0},{"$f":"COUNTIF(Z368,\"No\")*3","v":0}]
[]
["Click on the [+] button to expand or the [-] button to collapse."]
[{"$f":"HYPERLINK(\"https://gosynth.com/p/s/kldkzb\",\"Related Services\")","v":"Related Services"},null,null,null,null,null,null,null,null,null,null,null,null,null,null,null,null,null,{"$f":"IFERROR(Y375/X375,\"N/A\")","v":"N/A"}]
[{"$f":"HYPERLINK(\"http://sdlegislature.gov/Rules/DisplayRule.aspx?Rule=24:05:27:16\",\"Related Services\n(24:05:27)\")","v":"Related Services\n(24:05:27)"},null,null,null,null,null,"Service Provided:",null,null,null,null,null,"If student will receive services in a different location, then must break it out to calculate the Least Restrictive Environment.",null,null,null,null,null,"Select","V324",null,null,null,null,{"$f":"S373","v":"Select"},{"$f":"S373","v":"Select"}]
[null,null,null,null,null,null,null,null,null,null,null,null,null,null,null,null,null,null,null,null,null,null,null,{"$f":"Y374+Z374","v":0},{"$f":"COUNTIF(Y373,\"Yes\")*3","v":0},{"$f":"COUNTIF(Z373,\"No\")*3","v":0}]
[null,null,null,null,null,null,null,"Frequency",null,null,"Location",null,null,null,null,null,null,null,null,null,null,null,null,{"$f":"(X374+X379)/2","v":0},{"$f":"(Y374+Y379)/2","v":0}]
[null,null,null,null,null,null,null,"Duration",null,null,"Other"]
[null,null,null,null,null,null,"Service Provided:",null,null,null,null,null,"At a minimum, all areas student qualifies and has an annual goal must have service time documented. If not addressed, then PPWN must explain reason."]
[null,null,null,null,null,null,null,null,null,null,null,null,null,null,null,null,null,null,"Select",null,null,null,null,null,{"$f":"S378","v":"Select"},{"$f":"S378","v":"Select"}]
[null,null,null,null,null,null,null,"Frequency",null,null,"Location",null,null,null,null,null,null,null,null,null,null,null,null,{"$f":"Y379+Z379","v":0},{"$f":"COUNTIF(Y378,\"Yes\")*3","v":0},{"$f":"COUNTIF(Z378,\"No\")*3","v":0}]
[null,null,null,null,null,null,null,"Duration",null,null,"Other"]
[]
["Least Restrictive Environment ",null,null,null,null,null,null,null,null,null,null,null,null,null,null,null,null,null,{"$f":"IFERROR(Y382/X382,\"N/A\")","v":"N/A"},null,null,null,null,{"$f":"(X384+X388+X392+X396+X400+X402+X404+X406+X408)/9","v":0},{"$f":"(Y384+Y388+Y392+Y396+Y400+Y402+Y404+Y406+Y408)/9","v":0}]
[{"$f":"HYPERLINK(\"https://sdlegislature.gov/Rules/DisplayRule.aspx?Rule=24:05:28\",\"Least Restrictive Enviornment \n(Chapter 24:05:28)\")","v":"Least Restrictive Enviornment \n(Chapter 24:05:28)"},null,null,null,null,null,{"$f":"HYPERLINK(\"https://gosynth.com/p/s/llxjsq\",\"Skill area:\")","v":"Skill area:"},null,null,null,null,null,null,null,null,null,null,null,"Select","V334",null,null,null,null,{"$f":"S383","v":"Select"},{"$f":"S383","v":"Select"}]
[null,null,null,null,null,null,null,null,null,null,null,null,null,null,null,null,null,null,null,null,null,null,null,{"$f":"Y384+Z384","v":0},{"$f":"COUNTIF(Y383,\"Yes\")*3","v":0},{"$f":"COUNTIF(Z383,\"No\")*3","v":0}]
[null,null,null,null,null,null,null,null,"Frequency",null,null,"Duration",null,null,"Location"]
[]
[null,null,null,null,null,null,"Skill area:",null,null,null,null,null,null,null,null,null,null,null,"Select",null,null,null,null,null,{"$f":"S387","v":"Select"},{"$f":"S387","v":"Select"}]
[null,null,null,null,null,null,null,null,null,null,null,null,null,null,null,null,null,null,null,null,null,null,null,{"$f":"Y388+Z388","v":0},{"$f":"COUNTIF(Y387,\"Yes\")*3","v":0},{"$f":"COUNTIF(Z387,\"No\")*3","v":0}]
[null,null,null,null,null,null,null,null,"Frequency",null,null,"Duration",null,null,"Location"]
[]
[null,null,null,null,null,null,"Skill area:",null,null,null,null,null,null,null,null,null,null,null,"Select",null,null,null,null,null,{"$f":"S391","v":"Select"},{"$f":"S391","v":"Select"}]
[null,null,null,null,null,null,null,null,null,null,null,null,null,null,null,null,null,null,null,null,null,null,null,{"$f":"Y392+Z392","v":0},{"$f":"COUNTIF(Y391,\"Yes\")*3","v":0},{"$f":"COUNTIF(Z391,\"No\")*3","v":0}]
[null,null,null,null,null,null,null,null,"Frequency",null,null,"Duration",null,null,"Location"]
[]
[null,null,null,null,null,null,"Skill area:",null,null,null,null,null,null,null,null,null,null,null,"Select",null,null,null,null,null,{"$f":"S395","v":"Select"},{"$f":"S395","v":"Select"}]
[null,null,null,null,null,null,null,null,null,null,null,null,null,null,null,null,null,null,null,null,null,null,null,{"$f":"Y396+Z396","v":0},{"$f":"COUNTIF(Y395,\"Yes\")*3","v":0},{"$f":"COUNTIF(Z395,\"No\")*3","v":0}]
[null,null,null,null,null,null,null,null,"Frequency",null,null,"Duration",null,null,"Location"]
[]
[{"$f":"HYPERLINK(\"http://sdlegislature.gov/Rules/DisplayRule.aspx?Rule=24:05:28:02\",\"Continuum of Placement\n(24:05:28:02)\")","v":"Continuum of Placement\n(24:05:28:02)"},null,null,null,null,null,"Select:",null,null,null,null,null,null,null,null,null,null,null,"Select","V350",null,null,null,null,{"$f":"S399","v":"Select"},{"$f":"S399","v":"Select"}]
[null,null,null,null,null,null,null,null,null,null,null,null,null,null,null,null,null,null,null,null,null,null,null,{"$f":"Y400+Z400","v":0},{"$f":"COUNTIF(Y399,\"Yes\")*3","v":0},{"$f":"COUNTIF(Z399,\"No\")*3","v":0}]
[null,null,null,null,null,null,"Select for Early Childhood (Ages 3-5):",null,null,null,null,null,null,null,null,null,null,null,"Select",null,null,null,null,null,{"$f":"S401","v":"Select"},{"$f":"S401","v":"Select"}]
[null,null,null,null,null,null,null,null,null,null,null,null,null,null,null,null,null,null,null,null,null,null,null,{"$f":"Y402+Z402","v":0},{"$f":"COUNTIF(Y401,\"Yes\")*3","v":0},{"$f":"COUNTIF(Z401,\"No\")*3","v":0}]
[{"$f":"HYPERLINK(\"http://sdlegislature.gov/Rules/DisplayRule.aspx?Rule=24:05:27:01.03\",\"Participation with Non-disabled Peers\n(24:05:27:01.03)\")","v":"Participation with Non-disabled Peers\n(24:05:27:01.03)"},null,null,null,null,null,{"$f":"HYPERLINK(\"https://gosynth.com/p/s/wjqcuh\",\"Document opportunities to participate with non-disabled peers.\")","v":"Document opportunities to participate with non-disabled peers."},null,null,null,null,null,null,null,null,null,null,null,"Select",null,null,null,null,null,{"$f":"S403","v":"Select"},{"$f":"S403","v":"Select"}]
[null,null,null,null,null,null,null,null,null,null,null,null,null,null,null,null,null,null,null,null,null,null,null,{"$f":"Y404+Z404","v":0},{"$f":"COUNTIF(Y403,\"Yes\")*3","v":0},{"$f":"COUNTIF(Z403,\"No\")*3","v":0}]
[{"$f":"HYPERLINK(\"http://sdlegislature.gov/Rules/DisplayRule.aspx?Rule=24:05:28:03\",\"Justification for Placement \n(24:05:28:03)\")","v":"Justification for Placement \n(24:05:28:03)"},null,null,null,null,null,{"$f":"HYPERLINK(\"https://gosynth.com/p/s/rjxcoc\",\"                  Select from the following:\")","v":"                  Select from the following:"},null,null,null,null,null,null,null,null,null,null,null,"Select",null,null,null,null,null,{"$f":"S405","v":"Select"},{"$f":"S405","v":"Select"}]
[null,null,null,null,null,null,null,null,null,null,null,null,null,null,null,null,null,null,null,null,null,null,null,{"$f":"Y406+Z406","v":0},{"$f":"COUNTIF(Y405,\"Yes\")*3","v":0},{"$f":"COUNTIF(Z405,\"No\")*3","v":0}]
[{"$f":"HYPERLINK(\"http://sdlegislature.gov/Rules/DisplayRule.aspx?Rule=24:05:25:26\",\"Extended School Year\n(24:05:25:26)\")","v":"Extended School Year\n(24:05:25:26)"},null,null,null,null,null,{"$f":"HYPERLINK(\"https://gosynth.com/p/s/bbepxx\",\"                  Check the following:\")","v":"                  Check the following:"},null,null,null,null,null,null,null,null,null,null,null,"Select","V358",null,null,null,null,{"$f":"S407","v":"Select"},{"$f":"S407","v":"Select"}]
[null,null,null,null,null,null,null,null,null,null,null,null,null,null,null,null,null,null,null,null,null,null,null,{"$f":"Y408+Z408","v":0},{"$f":"COUNTIF(Y407,\"Yes\")*3","v":0},{"$f":"COUNTIF(Z407,\"No\")*3","v":0}]
[null,null,null,null,null,null,null,null,"Determination",null,null,null,"Beginning/end dates"]
[null,null,null,null,null,null,null,null,"Goals",null,null,null,"Amount of service"]
[]
[]
[]
[{"$f":"HYPERLINK(\"https://gosynth.com/p/s/acbbuk\",\"Prior Parental Written Notice\")","v":"Prior Parental Written Notice"},null,null,null,null,null,null,null,null,null,null,null,null,null,null,null,null,null,{"$f":"IFERROR(Y414/X414,\"N/A\")","v":"N/A"},null,null,null,null,{"$f":"(X416+X421)/2","v":0},{"$f":"(Y416+Y421)/2","v":0}]
[{"$f":"HYPERLINK(\"http://sdlegislature.gov/Rules/DisplayRule.aspx?Rule=24:05:30:04\",\"Prior Written Notice Sent to Parent Regarding IEP Implementation\n(24:05:30:04)\")","v":"Prior Written Notice Sent to Parent Regarding IEP Implementation\n(24:05:30:04)"},null,null,null,null,null,"Date the district sent the PPWN:",null,null,null,null,null,null,null,"The implementation date documented on the PPWN must be reflected on IEP.\n\nThe five-day notice requirement may be waived by the parents.",null,null,null,"Select","V366",null,null,null,null,{"$f":"S415","v":"Select"},{"$f":"S415","v":"Select"}]
[null,null,null,null,null,null,"District proposed at least 5 calendar days to begin implementation:",null,null,null,null,null,{"$f":"M415+5","v":"1900-01-05"},null,null,null,null,null,null,null,null,null,null,{"$f":"Y416+Z416","v":0},{"$f":"COUNTIF(Y415,\"Yes\")*3","v":0},{"$f":"COUNTIF(Z415,\"No\")*3","v":0}]
[]
[null,null,null,null,null,null,"Was the 5 calendar day notice requirement met?",null,null,null,null,null,null,"Yes"]
[null,null,null,null,null,null,null,null,null,null,null,null,null,"No"]
[{"$f":"HYPERLINK(\"http://sdlegislature.gov/Rules/DisplayRule.aspx?Rule=24:05:30:05\",\"Content of PPWN\n(24:05:30:05)\")","v":"Content of PPWN\n(24:05:30:05)"},null,null,null,null,null,"Check the following:",null,null,null,null,null,null,null,null,null,null,null,"Select","V371",null,null,null,null,{"$f":"S420","v":"Select"},{"$f":"S420","v":"Select"}]
[null,null,null,null,null,null,"PPWN must be individualized to the student, IEP team discussions and situation.",null,null,null,null,null,null,null,null,null,null,null,null,null,null,null,null,{"$f":"Y421+Z421","v":0},{"$f":"COUNTIF(Y420,\"Yes\")*3","v":0},{"$f":"COUNTIF(Z420,\"No\")*3","v":0}]
[]
[null,null,null,null,null,null,null,"Explanation of why the district proposed or refused to take the action"]
[null,null,null,null,null,null,null,"Description of other options considered and why they were rejected "]
[null,null,null,null,null,null,null,"Description of evidence used for the proposed or refused action"]
[null,null,null,null,null,null,null,"Description of other factors that are relevant to proposal or refusal"]
[]
[null,null,null,null,null,null,"To skip back to Eligibility section click ",null,null,null,null,"HERE."]
[]
[{"$f":"HYPERLINK(\"https://gosynth.com/p/s/iwvzyu\",\"Amendment to IEP\")","v":"Amendment to IEP"},null,null,null,null,null,null,null,null,null,null,null,null,null,null,null,null,null,{"$f":"IFERROR(Z430/Y430,\"N/A\")","v":"N/A"},null,null,null,null,null,{"$f":"(X432+X434)/2","v":0},{"$f":"(Y432+Y434)/2","v":0}]
["Amendment to IEP",null,null,null,null,null,null,null,null,null,null,null,null,null,null,null,null,null,"Select","V381",null,null,null,null,{"$f":"S431","v":"Select"},{"$f":"S431","v":"Select"}]
[{"$f":"HYPERLINK(\"http://sdlegislature.gov/Rules/DisplayRule.aspx?Rule=24:05:27:08.01\",\"(24:05:27:08.01)\")","v":"(24:05:27:08.01)"},null,null,{"$f":"HYPERLINK(\"http://sdlegislature.gov/Rules/DisplayRule.aspx?Rule=24:05:27:08.02\",\"(24:05:27:08.02)\")","v":"(24:05:27:08.02)"},null,null,null,null,null,null,null,null,null,null,null,null,null,null,null,null,null,null,null,{"$f":"Y432+Z432","v":0},{"$f":"COUNTIF(Y431,\"Yes\")*3","v":0},{"$f":"COUNTIF(Z431,\"No\")*3","v":0}]
[{"$f":"HYPERLINK(\"http://sdlegislature.gov/Rules/DisplayRule.aspx?Rule=24:05:30:04\",\"Prior Notice\n(24:05:30:04)\")","v":"Prior Notice\n(24:05:30:04)"},null,null,null,null,null,"Document if the amendment was made with or without a meeting.",null,null,null,null,null,null,null,null,null,null,null,"Select",null,null,null,null,null,{"$f":"S433","v":"Select"},{"$f":"S433","v":"Select"}]
[null,null,null,null,null,null,null,null,null,null,null,null,null,null,null,null,null,null,null,null,null,null,null,{"$f":"Y434+Z434","v":0},{"$f":"COUNTIF(Y433,\"Yes\")*3","v":0},{"$f":"COUNTIF(Z433,\"No\")*3","v":0}]
[]
[{"$f":"HYPERLINK(\"https://gosynth.com/p/s/jdtswp\",\"Additional Items\")","v":"Additional Items"},null,null,null,null,null,null,null,null,null,null,null,null,null,null,null,null,null,{"$f":"IFERROR(AB436/AA436,\"N/A\")","v":"N/A"},null,null,null,null,null,{"$f":"S437","v":"Select"},{"$f":"S437","v":"Select"},{"$f":"(X437+X439+X441+X443)/4","v":0},{"$f":"(Y437+Y439+Y441+Y443)/4","v":0}]
["Parent Declined/\nWithdrew Consent for Services ",null,null,null,null,null,"Revocation signed:",null,null,null,null,null,null,{"$f":"HYPERLINK(\"http://sdlegislature.gov/Rules/DisplayRule.aspx?Rule=24:05:27:04.02\",\"(24:05:27:04.02)\")","v":"(24:05:27:04.02)"},null,null,null,null,"Select","V387",null,null,null,{"$f":"Y437+Z437","v":0},{"$f":"COUNTIF(Y436,\"Yes\")*3","v":0},{"$f":"COUNTIF(Z436,\"No\")*3","v":0}]
[null,null,null,null,null,null,"Date prior notice was sent:",null,null,null,null,null,null,null,null,null,null,null,null,null,null,null,null,null,{"$f":"S439","v":"Select"},{"$f":"S439","v":"Select"}]
["Surrogate Parent",null,null,null,null,null,null,null,null,null,null,null,null,null,null,null,null,null,"Select",null,null,null,null,{"$f":"Y439+Z439","v":0},{"$f":"COUNTIF(Y438,\"Yes\")*3","v":0},{"$f":"COUNTIF(Z438,\"No\")*3","v":0}]
["Transfer Students Provided with  FAPE/Comparable Services ",null,null,null,null,null,"Date prior notice was sent:",null,null,null,null,null,null,{"$f":"HYPERLINK(\"http://sdlegislature.gov/Rules/DisplayRule.aspx?Rule=24:05:27:15.01\",\"In-state (24:05:27:15.01)\")","v":"In-state (24:05:27:15.01)"},null,null,null,null,"Select",null,null,null,null,null,{"$f":"S440","v":"Select"},{"$f":"S440","v":"Select"}]
[null,null,null,null,null,null,null,null,null,null,null,null,null,{"$f":"HYPERLINK(\"http://sdlegislature.gov/Rules/DisplayRule.aspx?Rule=24:05:27:15.02\",\"Out-of-state (24:05:27:15.02)\")","v":"Out-of-state (24:05:27:15.02)"},null,null,null,null,null,null,null,null,null,{"$f":"Y441+Z441","v":0},{"$f":"COUNTIF(Y440,\"Yes\")*3","v":0},{"$f":"COUNTIF(Z440,\"No\")*3","v":0}]
["Transfer Students Evaluated for \nSouth Dakota Eligibility",null,null,null,null,null,"Eligibility determination date:",null,null,null,null,null,null,null,null,null,null,null,"Select",null,null,null,null,null,{"$f":"S442","v":"Select"},{"$f":"S442","v":"Select"}]
[null,null,null,null,null,null,"IEP date:",null,null,null,null,null,null,null,null,null,null,null,null,null,null,null,null,{"$f":"Y443+Z443","v":0},{"$f":"COUNTIF(Y442,\"Yes\")*3","v":0},{"$f":"COUNTIF(Z442,\"No\")*3","v":0}]
[null,null,null,null,null,null,"PPWN Implementing IEP sent:"]

{"sheet":"File 8","index":11,"n_rows":444,"n_cols":28,"rows_kept":444,"cut":false,"hidden":false,"merged":[[436,18,437,18],[437,6,437,10],[437,11,437,12],[438,6,438,17],[442,6,442,10],[442,11,442,12],[413,19,413,21],[414,6,414,11],[414,12,414,13],[414,14,418,17],[414,18,418,18],[414,19,418,21],[417,6,418,11],[419,6,419,17],[420,6,420,17],[216,14,216,16],[443,6,443,10],[443,11,443,12],[446,11,447,12],[439,6,440,10],[439,11,440,12],[439,13,439,17],[440,13,440,17],[441,6,441,10],[441,11,441,12],[441,13,443,17],[415,6,416,11],[415,12,416,13],[413,0,413,17],[422,7,422,17],[423,7,423,17],[424,7,424,17],[425,7,425,17],[426,6,426,17],[427,6,427,10],[427,11,427,17],[436,6,436,10],[436,11,436,12],[436,13,437,17],[216,6,216,7],[216,8,216,10],[205,0,206,5],[207,0,209,5],[216,11,216,13],[231,7,231,10],[209,6,209,13],[210,0,210,17],[211,0,213,5],[211,6,213,16],[214,0,215,5],[214,6,215,16],[216,0,233,5],[225,12,225,13],[225,15,225,16],[226,7,226,10],[227,6,227,10],[228,6,228,7],[228,8,228,10],[228,11,228,13],[228,14,228,16],[230,7,230,10],[230,12,230,13],[230,15,230,16],[196,0,200,5],[196,6,200,17],[196,18,200,18],[201,0,201,21],[202,0,202,17],[202,19,202,21],[203,0,204,5],[188,7,188,9],[188,10,188,12],[189,7,189,9],[189,10,189,12],[186,0,189,5],[186,7,186,9],[186,10,186,12],[192,7,192,9],[193,7,193,9],[193,10,193,12],[194,7,194,9],[190,0,190,5],[190,7,190,9],[190,10,190,12],[191,0,195,5],[191,7,191,9],[191,10,191,12],[152,12,156,15],[154,7,156,10],[145,7,146,10],[145,12,146,15],[149,18,162,18],[149,19,162,21],[150,6,150,15],[150,17,160,17],[158,12,159,15],[151,6,151,15],[152,7,153,10],[157,7,158,10],[157,12,157,15],[210,19,210,21],[211,19,215,21],[214,18,215,18],[196,19,200,21],[203,19,209,21],[205,18,206,18],[207,14,208,17],[207,18,209,18],[209,14,209,17],[211,18,213,18],[205,6,206,17],[207,6,207,10],[207,11,207,13],[208,6,208,10],[208,11,208,13],[203,6,204,17],[203,18,204,18],[190,13,190,16],[191,13,191,16],[192,13,192,16],[193,13,193,16],[194,13,194,16],[176,12,177,17],[184,13,185,16],[186,13,186,16],[184,10,185,12],[194,10,194,12],[180,6,180,17],[182,7,183,16],[187,7,187,9],[187,10,187,12],[187,13,187,16],[188,13,188,16],[192,10,192,12],[172,12,173,17],[172,18,173,18],[172,19,173,21],[177,0,177,2],[177,3,177,5],[177,6,177,8],[177,9,177,11],[178,0,178,5],[178,6,179,17],[179,0,179,2],[179,3,179,5],[176,18,177,18],[176,19,195,21],[178,18,179,18],[180,18,195,18],[176,0,176,5],[176,6,176,8],[176,9,176,11],[174,0,174,21],[175,0,175,17],[175,19,175,21],[180,0,185,5],[184,7,185,9],[189,13,189,16],[216,18,221,18],[216,19,233,21],[222,18,227,18],[228,18,233,18],[218,7,218,10],[218,12,218,13],[220,7,220,10],[221,6,221,10],[222,6,222,7],[222,8,222,10],[222,11,222,13],[222,14,222,16],[231,12,231,13],[231,15,231,16],[232,7,232,10],[233,6,233,10],[218,15,218,16],[219,7,219,10],[219,12,219,13],[219,15,219,16],[224,7,224,10],[224,12,224,13],[224,15,224,16],[225,7,225,10],[117,6,117,13],[117,14,117,17],[118,6,119,17],[120,0,120,21],[118,0,119,5],[130,18,148,18],[130,19,148,21],[133,12,134,15],[135,7,137,10],[135,12,136,15],[137,12,138,15],[138,7,141,10],[139,12,144,15],[142,7,144,10],[121,0,121,17],[121,19,121,21],[122,0,122,17],[122,18,129,18],[122,19,129,21],[123,0,129,5],[123,6,123,17],[124,6,124,17],[125,7,125,11],[126,7,126,11],[165,12,169,17],[167,7,167,11],[168,7,168,11],[110,18,112,18],[110,19,119,21],[113,18,114,18],[115,18,117,18],[118,18,119,18],[104,18,105,18],[106,18,107,18],[169,7,169,11],[162,0,162,17],[163,0,166,5],[163,6,163,17],[163,18,171,18],[163,19,171,21],[164,6,164,17],[167,0,173,5],[165,7,165,11],[166,7,166,11],[170,7,170,13],[171,7,171,11],[172,6,173,10],[172,11,173,11],[98,18,101,18],[98,19,101,21],[99,11,99,13],[106,6,107,17],[84,18,97,18],[84,19,97,21],[86,6,86,8],[86,9,86,12],[87,15,87,17],[100,11,100,13],[101,11,101,13],[102,6,103,17],[102,18,103,18],[94,13,94,14],[94,15,94,17],[95,15,95,17],[96,13,96,14],[96,15,96,17],[99,6,99,10],[100,6,100,10],[102,19,109,21],[108,18,109,18],[89,13,89,14],[89,15,89,17],[91,13,91,14],[91,15,91,17],[92,13,92,14],[92,15,92,17],[97,13,97,14],[97,15,97,17],[98,11,98,13],[98,14,101,17],[93,15,93,17],[93,13,93,14],[110,0,112,5],[110,6,110,10],[111,6,111,10],[113,0,114,5],[115,0,117,5],[115,6,115,12],[116,6,116,12],[98,0,101,5],[98,6,98,10],[101,6,101,10],[102,0,103,5],[104,0,105,5],[106,0,107,5],[108,0,109,5],[104,6,105,17],[108,6,109,17],[110,11,110,13],[110,14,111,17],[111,11,111,13],[112,6,112,13],[112,14,112,17],[113,6,114,17],[115,13,115,15],[116,13,116,15],[90,6,90,8],[90,9,90,12],[78,6,78,8],[78,9,78,12],[80,0,83,5],[80,6,80,8],[80,9,80,12],[81,9,81,12],[84,0,90,5],[83,9,83,12],[96,6,96,8],[96,9,96,12],[91,0,91,5],[91,6,91,8],[91,9,91,12],[92,0,97,5],[92,9,92,12],[93,9,93,12],[94,9,94,12],[93,6,93,8],[94,6,94,8],[92,6,92,8],[97,6,97,8],[97,9,97,12],[74,19,83,21],[76,6,76,8],[76,9,76,12],[76,13,76,14],[76,15,76,17],[77,6,77,8],[77,9,77,12],[77,13,77,14],[77,15,77,17],[82,6,82,8],[82,9,82,12],[82,13,82,14],[82,15,82,17],[83,15,83,17],[78,13,78,14],[78,15,78,17],[80,13,80,14],[80,15,80,17],[81,13,81,14],[81,15,81,17],[83,13,83,14],[74,18,83,18],[81,6,81,8],[83,6,83,8],[150,0,161,5],[159,6,160,6],[159,7,160,10],[161,6,161,15],[89,6,89,8],[89,9,89,12],[90,13,90,14],[90,15,90,17],[95,9,95,12],[147,6,147,15],[148,0,148,17],[149,0,149,17],[128,7,128,11],[128,13,128,17],[131,0,147,5],[131,6,131,15],[131,17,147,17],[132,6,132,15],[133,7,134,10],[95,6,95,8],[127,7,127,11],[127,13,127,17],[129,6,129,17],[130,0,130,17],[84,15,85,17],[84,6,85,8],[86,13,86,14],[86,15,86,17],[87,9,87,12],[87,13,87,14],[88,6,88,8],[88,9,88,12],[84,13,85,14],[88,13,88,14],[88,15,88,17],[84,9,85,12],[87,6,87,8],[125,13,125,17],[126,13,126,17],[66,15,66,17],[66,13,66,14],[67,0,67,5],[67,6,67,8],[67,9,67,12],[67,13,67,14],[67,15,67,17],[68,0,73,5],[79,0,79,5],[79,6,79,8],[79,9,79,12],[79,13,79,14],[79,15,79,17],[72,6,72,8],[72,9,72,12],[74,0,78,5],[74,6,75,8],[74,9,75,12],[74,13,75,14],[74,15,75,17],[68,13,68,14],[73,6,73,8],[60,13,61,14],[60,15,61,17],[62,13,62,14],[62,15,62,17],[63,13,63,14],[63,15,63,17],[64,13,64,14],[64,15,64,17],[65,13,65,14],[65,15,65,17],[54,0,59,5],[54,6,54,9],[54,10,54,12],[55,6,55,9],[55,10,55,12],[45,19,53,21],[54,19,59,21],[58,13,59,17],[56,6,56,9],[56,10,56,12],[57,6,57,9],[57,10,57,12],[58,6,58,9],[58,10,58,12],[59,6,59,9],[59,10,59,12],[62,9,62,12],[63,9,63,12],[64,9,64,12],[65,9,65,12],[66,9,66,12],[60,0,66,5],[60,6,61,8],[62,6,62,8],[63,6,63,8],[64,6,64,8],[65,6,65,8],[66,6,66,8],[60,9,61,12],[21,10,21,13],[21,14,21,17],[27,9,27,11],[27,12,27,17],[52,6,52,17],[53,6,53,17],[45,6,45,17],[46,6,46,17],[47,6,47,17],[48,7,48,17],[49,7,49,17],[50,7,50,17],[51,7,51,17],[39,6,40,17],[22,6,22,9],[22,10,22,13],[25,0,25,21],[26,0,26,17],[26,19,26,21],[22,14,22,17],[23,6,23,9],[23,10,23,13],[23,14,23,17],[45,0,53,5],[17,0,17,21],[18,0,18,17],[19,0,24,5],[19,9,19,11],[19,12,19,17],[20,14,20,17],[24,6,24,17],[8,3,8,6],[8,7,8,9],[9,0,9,21],[8,0,8,2],[10,0,12,5],[10,10,11,10],[10,11,11,13],[10,14,11,17],[10,18,11,18],[10,19,11,21],[18,19,18,21],[19,18,24,18],[19,19,24,21],[20,6,20,9],[20,10,20,13],[19,6,19,8],[21,6,21,9],[10,6,10,9],[11,6,11,9],[12,6,12,21],[13,0,13,21],[14,0,14,17],[14,19,14,21],[15,0,16,5],[15,18,16,18],[15,19,16,21],[15,6,16,17],[6,0,6,2],[6,10,6,13],[7,14,7,18],[8,14,8,18],[8,19,8,21],[4,14,4,18],[4,19,4,21],[5,14,5,18],[5,19,5,21],[6,14,6,18],[6,19,6,21],[7,19,7,21],[6,3,6,6],[6,7,6,9],[7,0,7,2],[7,3,7,6],[7,7,7,9],[7,10,7,13],[8,10,8,13],[3,0,3,21],[4,0,4,2],[4,3,4,6],[4,7,4,9],[4,10,4,13],[5,0,5,2],[5,3,5,6],[5,7,5,9],[5,11,5,13],[0,0,0,3],[0,4,0,5],[0,6,0,8],[0,9,0,11],[0,12,0,14],[0,15,0,17],[0,19,0,21],[1,0,2,13],[1,14,2,17],[1,18,2,18],[1,19,2,21],[73,9,73,12],[73,13,73,14],[73,15,73,17],[68,6,68,8],[68,9,68,12],[69,6,69,8],[69,9,69,12],[69,13,69,14],[69,15,69,17],[70,6,70,8],[70,9,70,12],[70,13,70,14],[70,15,70,17],[71,6,71,8],[71,9,71,12],[71,13,71,14],[71,15,71,17],[68,15,68,17],[72,13,72,14],[72,15,72,17],[41,0,42,5],[41,6,42,17],[43,6,44,17],[27,18,29,18],[27,19,29,21],[30,18,32,18],[30,19,32,21],[35,18,38,18],[35,19,44,21],[39,18,40,18],[43,0,44,5],[27,6,27,8],[28,6,29,17],[30,6,30,17],[31,8,32,17],[408,8,408,10],[408,12,408,15],[409,8,409,10],[411,0,411,16],[412,0,412,21],[27,0,29,5],[30,0,32,5],[31,6,32,7],[35,0,36,5],[35,6,35,9],[33,0,33,21],[34,0,34,17],[34,19,34,21],[35,10,35,12],[35,13,35,17],[41,18,42,18],[43,18,44,18],[45,18,53,18],[54,18,59,18],[60,18,73,18],[60,19,73,21],[36,6,38,17],[37,0,38,5],[39,0,40,5],[397,6,397,16],[398,6,398,16],[399,6,399,16],[400,6,400,16],[401,6,401,16],[402,6,403,16],[404,6,404,16],[405,6,405,16],[406,6,406,16],[391,6,391,16],[392,11,392,12],[392,14,392,16],[393,6,393,16],[394,6,394,8],[394,9,394,16],[395,6,395,16],[396,11,396,12],[396,14,396,16],[385,6,385,16],[386,6,386,8],[386,9,386,16],[387,6,387,16],[388,11,388,12],[388,14,388,16],[389,6,389,16],[390,6,390,8],[390,9,390,16],[382,17,411,17],[406,19,411,21],[419,19,427,21],[430,19,433,21],[436,19,443,21],[372,19,380,21],[377,18,380,18],[382,19,397,21],[390,18,393,18],[394,18,397,18],[398,19,405,21],[400,18,401,18],[380,0,380,17],[381,0,381,17],[381,19,381,21],[382,9,382,16],[383,6,383,16],[384,8,384,9],[388,8,388,9],[392,8,392,9],[396,8,396,9],[382,6,382,8],[384,11,384,12],[384,14,384,16],[402,18,403,18],[404,18,405,18],[398,18,399,18],[406,18,411,18],[419,18,427,18],[432,18,433,18],[439,18,440,18],[441,18,443,18],[341,18,342,18],[343,18,344,18],[354,18,358,18],[360,18,361,18],[372,18,376,18],[428,0,428,21],[429,0,429,17],[429,19,429,21],[430,18,431,18],[430,6,431,17],[431,0,431,2],[431,3,431,5],[432,6,433,17],[434,0,434,21],[435,0,435,17],[435,19,435,21],[341,19,346,21],[345,18,346,18],[353,18,353,21],[354,19,358,21],[359,18,359,21],[360,19,370,21],[362,18,363,18],[382,18,385,18],[386,18,389,18],[371,19,371,21],[439,0,440,5],[441,0,443,5],[406,0,410,5],[414,0,418,5],[419,0,427,5],[430,0,430,5],[432,0,433,5],[436,0,437,5],[438,0,438,5],[359,0,359,5],[360,0,361,5],[362,0,363,5],[364,0,366,5],[372,0,379,5],[382,0,397,5],[398,0,401,5],[402,0,403,5],[404,0,405,5],[367,0,369,5],[353,6,353,16],[354,6,354,10],[354,13,354,16],[355,13,355,16],[356,13,356,16],[341,0,346,5],[347,0,347,5],[348,0,352,5],[353,0,353,5],[354,0,358,5],[334,18,335,18],[317,18,318,18],[317,19,322,21],[319,18,320,18],[321,18,322,18],[323,18,323,21],[324,19,325,21],[326,18,326,21],[327,19,332,21],[329,18,330,18],[331,18,332,18],[327,0,332,5],[327,6,328,6],[329,6,330,6],[329,7,330,16],[331,7,331,16],[332,6,332,16],[306,18,307,18],[306,19,315,21],[308,18,309,18],[309,6,310,6],[310,18,311,18],[314,18,315,18],[319,6,320,6],[319,7,320,16],[321,6,322,6],[321,7,322,16],[324,18,325,18],[327,18,328,18],[314,0,315,5],[314,6,315,16],[316,0,316,5],[316,6,316,16],[317,0,322,5],[317,6,318,6],[317,7,318,16],[323,0,323,5],[323,6,323,16],[364,6,364,12],[364,13,364,16],[365,6,366,16],[364,18,366,18],[367,18,370,18],[375,7,375,8],[375,10,375,11],[367,6,369,16],[370,0,370,17],[371,0,371,17],[359,6,359,16],[360,6,360,12],[360,13,360,16],[361,6,361,12],[361,13,361,16],[362,6,362,12],[362,13,362,16],[363,6,363,12],[363,13,363,16],[340,0,340,5],[340,6,340,16],[376,6,376,11],[376,12,379,16],[377,6,377,11],[378,7,378,8],[379,7,379,8],[372,17,379,17],[378,10,378,11],[379,10,379,11],[373,6,373,11],[374,7,374,8],[374,10,374,11],[372,6,372,11],[372,12,375,16],[340,18,340,21],[341,7,342,16],[343,7,344,16],[345,7,345,16],[346,6,346,16],[357,13,357,16],[358,13,358,16],[350,7,350,10],[351,7,351,10],[347,6,347,16],[347,18,347,21],[348,6,348,10],[348,11,352,16],[348,18,352,18],[348,19,352,21],[349,6,349,10],[352,6,352,10],[355,6,356,10],[357,6,357,10],[357,11,357,12],[358,6,358,10],[358,11,358,12],[341,6,342,6],[343,6,344,6],[282,14,282,16],[283,14,283,16],[336,7,337,16],[338,7,338,16],[333,0,333,5],[334,0,339,5],[334,6,335,6],[334,7,335,16],[334,19,339,21],[336,6,337,6],[336,18,337,18],[338,18,339,18],[339,6,339,16],[333,18,333,21],[333,6,333,16],[324,0,325,5],[324,6,325,16],[326,0,326,5],[326,6,326,16],[327,7,328,16],[309,7,310,16],[311,7,311,16],[305,6,305,16],[306,6,307,16],[257,9,257,12],[258,6,258,8],[292,7,293,16],[281,10,281,13],[282,10,282,13],[283,10,283,13],[289,18,303,18],[289,19,303,21],[300,12,302,12],[300,13,300,16],[302,13,302,15],[283,6,283,9],[284,6,284,9],[286,6,288,11],[264,18,288,18],[264,19,288,21],[255,17,298,17],[284,14,284,16],[272,14,272,16],[273,14,273,16],[279,14,279,16],[280,14,280,16],[281,14,281,16],[285,14,285,16],[279,6,279,9],[280,6,280,9],[281,6,281,9],[282,6,282,9],[285,6,285,9],[274,6,274,9],[274,10,274,13],[277,6,277,9],[278,6,278,9],[278,10,278,13],[284,10,284,13],[285,10,285,13],[279,10,279,13],[280,10,280,13],[276,10,276,13],[276,14,276,16],[277,10,277,13],[277,14,277,16],[262,6,262,8],[262,9,262,11],[262,12,262,16],[263,6,263,8],[263,9,263,12],[263,13,263,16],[265,7,265,10],[266,6,266,16],[267,6,268,16],[269,10,271,13],[275,6,275,9],[275,10,275,13],[269,6,271,9],[272,6,272,9],[272,10,272,13],[273,6,273,9],[273,10,273,13],[254,19,254,21],[255,0,263,5],[255,9,256,16],[255,18,263,18],[255,19,263,21],[258,9,258,13],[259,6,259,8],[239,19,253,21],[245,7,248,9],[259,9,259,11],[259,12,259,16],[260,6,260,8],[260,9,260,13],[260,14,260,16],[261,6,261,8],[261,9,261,15],[241,7,241,8],[241,11,241,16],[243,6,244,10],[243,11,243,16],[244,11,244,16],[245,11,245,16],[255,6,256,8],[257,6,257,8],[289,0,302,5],[306,0,307,5],[309,0,313,5],[301,13,301,15],[301,16,302,16],[303,0,303,17],[304,0,304,17],[304,18,305,18],[304,19,305,21],[305,0,305,5],[312,7,312,16],[312,18,313,18],[313,6,313,16],[294,6,295,6],[294,7,295,16],[296,6,297,6],[296,7,297,16],[298,6,298,16],[299,6,299,16],[300,6,302,11],[289,6,289,16],[290,6,290,16],[291,7,291,16],[292,6,293,6],[234,18,238,18],[234,19,238,21],[235,6,235,16],[236,7,236,10],[236,12,236,15],[239,11,239,16],[246,11,246,16],[239,18,253,18],[253,0,253,17],[240,7,240,8],[240,11,240,16],[240,9,242,10],[242,11,242,16],[247,11,247,16],[250,11,250,16],[251,6,252,10],[251,11,251,16],[252,11,252,16],[264,0,288,5],[237,7,237,10],[238,6,238,10],[239,0,252,5],[239,6,239,10],[286,12,288,12],[286,13,286,16],[287,13,287,15],[287,16,288,16],[288,13,288,15],[248,11,248,16],[249,11,249,16],[257,13,257,16],[258,14,258,16],[265,12,265,16],[269,14,271,16],[264,6,264,16],[234,0,238,5],[234,6,234,16],[254,0,254,16],[278,14,278,16],[274,14,274,16],[275,14,275,16],[276,6,276,9]]}
[{"$f":"'Caseload Files'!B2","v":"Teacher Caseload Review"},null,null,null,{"$f":"'Caseload Files'!D18","v":"File 8"},null,"Reviewer:",null,null,{"$f":"'Caseload Files'!F18","v":"Reviewer 8"},null,null,"Staff Reviewed:",null,null,{"$f":"'Caseload Files'!I18","v":"Staff 8"},null,null,"Score","Findings/Notes"]
[{"$f":"'Caseload Files'!B2","v":"Teacher Caseload Review"},null,null,null,null,null,null,null,null,null,null,null,null,null,null,null,null,null,"Rating","Record notes\nand/or findings."]
[]
[]
["Student Name:",null,null,{"$f":"'Caseload Files'!$L$18","v":"Student 8"},null,null,null,"Date of Birth:",null,null,{"$f":"'Caseload Files'!$R$18","v":"2008-08-08"},null,null,null,"Current IEP Meeting Date:"]
["SIMS Numer:",null,null,{"$f":"'Caseload Files'!$O$18","v":80123456},null,null,null,"Age/Grade:",null,null,{"$f":"INT(YEARFRAC(K5,TODAY()))","v":12},"/Sophomore",null,null,"Previous IEP Meeting Date:"]
["School District:",null,null,{"$f":"'Caseload Files'!B3","v":"District 00-0"},null,null,null,"Disability Code:",null,null,{"$f":"'Caseload Files'!$W$18","v":"DisCode 8"},null,null,null,"Current Eligibility Determination Date:"]
["School Name:",null,null,{"$f":"'Caseload Files'!E6","v":"School Name"},null,null,null,"Race/Ethnicity:",null,null,{"$f":"'Caseload Files'!T18","v":"Race 8"},null,null,null,"Previous Eligibility Determination Date:"]
["School Year:",null,null,{"$f":"'Caseload Files'!E7","v":"1998-1999"},null,null,null,"Type of Review:",null,null,{"$f":"'Caseload Files'!Z18","v":"Type 8"},null,null,null,"Date of Review:"]
[]
[{"$f":"HYPERLINK(\"http://sdlegislature.gov/Rules/DisplayRule.aspx?Rule=24:05\",\"Subsection Title and \nCorresponding ARSD Links \")","v":"Subsection Title and \nCorresponding ARSD Links "},null,null,null,null,null,"Yellow boxes are prompts",null,null,null,null,"Use checkboxes to help record findings.",null,null,"Voided space and/or clarifying information.",null,null,null,"\"N/A\" may be appropriate for certain sections.","Findings/Notes"]
[null,null,null,null,null,null,"for information."]
[]
[]
[{"$f":"HYPERLINK(\"https://gosynth.com/p/s/aboqwv\",\"Record of Access\")","v":"Record of Access"},null,null,null,null,null,null,null,null,null,null,null,null,null,null,null,null,null,{"$f":"IFERROR(Y17/X17,\"N/A\")","v":"N/A"},"Findings/Notes"]
[{"$f":"HYPERLINK(\"http://sdlegislature.gov/Rules/DisplayRule.aspx?Rule=24:05:29:15\",\"Record of Access\n(24:05:29:15)\")","v":"Record of Access\n(24:05:29:15)"},null,null,null,null,null,null,null,null,null,null,null,null,null,null,null,null,null,"Select","V16",null,null,null,null,{"$f":"S16","v":"Select"},{"$f":"S16","v":"Select"}]
[null,null,null,null,null,null,null,null,null,null,null,null,null,null,null,null,null,null,null,null,null,null,null,{"$f":"Y17+Z17","v":0},{"$f":"COUNTIF(Y16,\"Yes\")*3","v":0},{"$f":"COUNTIF(Z16,\"No\")*3","v":0}]
[]
[{"$f":"HYPERLINK(\"https://gosynth.com/p/s/grdmsy\",\"Referral\")","v":"Referral"},null,null,null,null,null,null,null,null,null,null,null,null,null,null,null,null,null,{"$f":"IFERROR(Y21/X21,\"N/A\")","v":"N/A"}]
[{"$f":"HYPERLINK(\"http://sdlegislature.gov/Rules/DisplayRule.aspx?Rule=24:05:24:01\",\"Referral Document\n(initial only)\n(24:05:24:01)\")","v":"Referral Document\n(initial only)\n(24:05:24:01)"},null,null,null,null,null,"Date of referral:",null,null,null,null,null,"The top two spaces are available to type in.",null,null,null,null,null,"Select","V20",null,null,null,null,{"$f":"S20","v":"Select"},{"$f":"S20","v":"Select"}]
[null,null,null,null,null,null,"List all areas of referral:",null,null,null,null,null,null,null,null,null,null,null,null,null,null,null,null,{"$f":"Y21+Z21","v":0},{"$f":"COUNTIF(Y20,\"Yes\")*3","v":0},{"$f":"COUNTIF(Z20,\"No\")*3","v":0}]
[]
[]
[]
[null,null,null,null,null,null,"If referral can not be found and is older than three years, N/A is appropriate."]
[]
[{"$f":"HYPERLINK(\"https://gosynth.com/p/s/lihblf\",\"Initial Placement\")","v":"Initial Placement"},null,null,null,null,null,null,null,null,null,null,null,null,null,null,null,null,null,{"$f":"IFERROR(Y33/X33,\"N/A\")","v":"N/A"}]
[{"$f":"HYPERLINK(\"http://sdlegislature.gov/rules/DisplayRule.aspx?Rule=24:05:27:04.01\",\"Consent Signed for Initial Placement \ninto Special Education\n(24:05:27:04.01)\")","v":"Consent Signed for Initial Placement \ninto Special Education\n(24:05:27:04.01)"},null,null,null,null,null,"Date Signed:",null,null,null,null,null,null,null,null,null,null,null,"Select","V28",null,null,null,null,{"$f":"S28","v":"Select"},{"$f":"S28","v":"Select"}]
[null,null,null,null,null,null,"(The Consent Signed for Initial Placement into Special Education form is a separate document.  In the past, it may have been found at the end of the IEP.",null,null,null,null,null,null,null,null,null,null,null,null,null,null,null,null,{"$f":"Y29+Z29","v":0},{"$f":"COUNTIF(Y28,\"Yes\")*3","v":0},{"$f":"COUNTIF(Z28,\"No\")*3","v":0}]
[]
[{"$f":"HYPERLINK(\"https://sdlegislature.gov/Rules/DisplayRule.aspx?Rule=24:05:25:04.02\",\"Determination of Needed \nEvaluation Data\n(24:05:25:04.02)\")","v":"Determination of Needed \nEvaluation Data\n(24:05:25:04.02)"},null,null,null,null,null,"Did the team review existing data before completing the PPWN Consent?",null,null,null,null,null,null,null,null,null,null,null,"Select","V31",null,null,null,null,{"$f":"S31","v":"Select"},{"$f":"S31","v":"Select"}]
[null,null,null,null,null,null,"Select",null,"The existing data includes evaluations and information provided by the parents, current classroom-based local or state assessments, and observations by teachers and related services providers.",null,null,null,null,null,null,null,null,null,null,null,null,null,null,{"$f":"Y32+Z32","v":0},{"$f":"COUNTIF(Y31,\"Yes\")*3","v":0},{"$f":"COUNTIF(Z31,\"No\")*3","v":0}]
[null,null,null,null,null,null,null,null,null,null,null,null,null,null,null,null,null,null,null,null,null,null,null,{"$f":"(X32+X29)/2","v":0},{"$f":"(Y32+Y29)/2","v":0}]
[]
[{"$f":"HYPERLINK(\"https://gosynth.com/p/s/qxevgy\",\"Evaluation\")","v":"Evaluation"},null,null,null,null,null,null,null,null,null,null,null,null,null,null,null,null,null,{"$f":"IFERROR(Y38/X38,\"N/A\")","v":"N/A"},{"$f":"IFERROR(Y58/X58,\"N/A\")","v":"N/A"}]
[{"$f":"HYPERLINK(\"http://sdlegislature.gov/rules/DisplayRule.aspx?Rule=24:05:25:02.01\",\"Initial Evaluation \n(24:05:25:02.01)\")","v":"Initial Evaluation \n(24:05:25:02.01)"},null,null,null,null,null,"PPWN Consent was Sent:",null,null,null,null,null,null,"Use the most recent evaluation. ",null,null,null,null,"Select","V36",null,null,null,null,{"$f":"S36","v":"Select"},{"$f":"S36","v":"Select"}]
[null,null,null,null,null,null,{"$f":"HYPERLINK(\"https://gosynth.com/p/s/qxevgy\",\"Consent was acquired for initial evaluation. \n\nIf consent was not given by the parent for reevaluation, evidence of  attempts were made to elicit parent.\")","v":"Consent was acquired for initial evaluation. \n\nIf consent was not given by the parent for reevaluation, evidence of  attempts were made to elicit parent."},null,null,null,null,null,null,null,null,null,null,null,null,null,null,null,null,{"$f":"Y37+Z37","v":0},{"$f":"COUNTIF(Y36,\"Yes\")*3","v":0},{"$f":"COUNTIF(Z36,\"No\")*3","v":0}]
[{"$f":"HYPERLINK(\"http://sdlegislature.gov/Rules/DisplayRule.aspx?Rule=24:05:25:06.01\",\"Reevaluation\n(24:05:25:06.01)\")","v":"Reevaluation\n(24:05:25:06.01)"},null,null,null,null,null,null,null,null,null,null,null,null,null,null,null,null,null,null,null,null,null,null,{"$f":"(X37+X41+X43+X45+X47+X56+X62+X76+X86+X100+X104+X106+X108+X110+X112+X115+X117+X120)/18","v":0},{"$f":"(Y37+Y41+Y43+Y45+Y47+Y56+Y62+Y76+Y86+Y100+Y104+Y106+Y108+Y110+Y112+Y115+Y117+Y120)/18","v":0}]
[]
[{"$f":"HYPERLINK(\"http://sdlegislature.gov/Rules/DisplayRule.aspx?Rule=24:05:25:16\",\"Parent Input into Evalaution\n(24:05:25:16)\")","v":"Parent Input into Evalaution\n(24:05:25:16)"},null,null,null,null,null,{"$f":"HYPERLINK(\"https://gosynth.com/p/s/ycomsx\",\"Parent input must be documented in the PPWN Consent on input exiting data and \nupcoming evaluation.   (refer to phone logs, progress notes, prior notice)\")","v":"Parent input must be documented in the PPWN Consent on input exiting data and \nupcoming evaluation.   (refer to phone logs, progress notes, prior notice)"},null,null,null,null,null,null,null,null,null,null,null,"Select",null,null,null,null,null,{"$f":"S40","v":"Select"},{"$f":"S40","v":"Select"}]
[null,null,null,null,null,null,null,null,null,null,null,null,null,null,null,null,null,null,null,null,null,null,null,{"$f":"Y41+Z41","v":0},{"$f":"COUNTIF(Y40,\"Yes\")*3","v":0},{"$f":"COUNTIF(Z40,\"No\")*3","v":0}]
[{"$f":"HYPERLINK(\"http://sdlegislature.gov/Rules/DisplayRule.aspx?Rule=24:05:30:06.01\",\"Procedural Safeguards\n(24:05:30:06.01)\")","v":"Procedural Safeguards\n(24:05:30:06.01)"},null,null,null,null,null,{"$f":"HYPERLINK(\"https://gosynth.com/p/s/tdkmfj\",\"[INCLUDE LANGUAGE FOR THIS SECTION]\")","v":"[INCLUDE LANGUAGE FOR THIS SECTION]"},null,null,null,null,null,null,null,null,null,null,null,"Select",null,null,null,null,null,{"$f":"S42","v":"Select"},{"$f":"S42","v":"Select"}]
[null,null,null,null,null,null,null,null,null,null,null,null,null,null,null,null,null,null,null,null,null,null,null,{"$f":"Y43+Z43","v":0},{"$f":"COUNTIF(Y42,\"Yes\")*3","v":0},{"$f":"COUNTIF(Z42,\"No\")*3","v":0}]
[{"$f":"HYPERLINK(\"http://sdlegislature.gov/Rules/DisplayRule.aspx?Rule=24:05:25:03\",\"Extension on 25 Day Timeline\n(24:05:25:03)\")","v":"Extension on 25 Day Timeline\n(24:05:25:03)"},null,null,null,null,null,{"$f":"HYPERLINK(\"https://gosynth.com/p/s/wcheia\",\"Documented agreement with parent and district on new extension date.  \nEligibility and IEP developed 30 days after the agreed extension date.\")","v":"Documented agreement with parent and district on new extension date.  \nEligibility and IEP developed 30 days after the agreed extension date."},null,null,null,null,null,null,null,null,null,null,null,"Select",null,null,null,null,null,{"$f":"S44","v":"Select"},{"$f":"S44","v":"Select"}]
[null,null,null,null,null,null,null,null,null,null,null,null,null,null,null,null,null,null,null,null,null,null,null,{"$f":"Y45+Z45","v":0},{"$f":"COUNTIF(Y44,\"Yes\")*3","v":0},{"$f":"COUNTIF(Z44,\"No\")*3","v":0}]
[{"$f":"HYPERLINK(\"http://sdlegislature.gov/Rules/DisplayRule.aspx?Rule=24:05:30:05\",\"Content of Prior Written Notice/\nConsent for Evaluation\n (24:05:30:05)\")","v":"Content of Prior Written Notice/\nConsent for Evaluation\n (24:05:30:05)"},null,null,null,null,null,{"$f":"HYPERLINK(\"https://gosynth.com/p/s/xymlpn\",\"Check the following:\")","v":"Check the following:"},null,null,null,null,null,null,null,null,null,null,null,"Select","V46",null,null,null,null,{"$f":"S46","v":"Select"},{"$f":"S46","v":"Select"}]
[null,null,null,null,null,null,"PPWN must be individualized to the student, IEP team discussions and situation.",null,null,null,null,null,null,null,null,null,null,null,null,null,null,null,null,{"$f":"Y47+Z47","v":0},{"$f":"COUNTIF(Y46,\"Yes\")*3","v":0},{"$f":"COUNTIF(Z46,\"No\")*3","v":0}]
[]
[null,null,null,null,null,null,null,"Explanation of why the district proposed or refused to take the action"]
[null,null,null,null,null,null,null,"Description of other options considered and why they were rejected "]
[null,null,null,null,null,null,null,"Description of evidence used for the proposed or refused action"]
[null,null,null,null,null,null,null,"Description of other factors that are relevant to proposal or refusal"]
[]
[null,null,null,null,null,null,"All components should be completed and have a clear description."]
[{"$f":"HYPERLINK(\"http://sdlegislature.gov/Rules/DisplayRule.aspx?Rule=24:05:30:05\",\"Timeline of Prior Written Notice/\nConsent for Evaluation\n(24:05:25:03)\")","v":"Timeline of Prior Written Notice/\nConsent for Evaluation\n(24:05:25:03)"},null,null,null,null,null,{"$f":"HYPERLINK(\"https://gosynth.com/p/s/xylthm\",\"Date sent:\")","v":"Date sent:"},null,null,null,"2020-01-18",null,null,null,null,null,null,null,"Select","V54",null,null,null,null,{"$f":"S55","v":"Select"},{"$f":"S55","v":"Select"}]
[null,null,null,null,null,null,"Date signed:",null,null,null,"2020-01-19",null,null,null,null,null,null,null,null,null,null,null,null,{"$f":"Y56+Z56","v":0},{"$f":"COUNTIF(Y55,\"Yes\")*3","v":0},{"$f":"COUNTIF(Z55,\"No\")*3","v":0}]
[null,null,null,null,null,null,"Date received:",null,null,null,"2020-01-20"]
[null,null,null,null,null,null,"25 school days:",null,null,null,{"$f":"WORKDAY(K57,25)","v":"2020-02-24"}]
[null,null,null,null,null,null,"30 calendar days:"]
[null,null,null,null,null,null,"Extension on 25 day:"]
[{"$f":"HYPERLINK(\"http://sdlegislature.gov/Rules/DisplayRule.aspx?Rule=24:05:25:04.02\",\"Evaluations to be Completed by the District per Parental Prior Written/Consent for Evaluation\n(24:05:25:04.02)\")","v":"Evaluations to be Completed by the District per Parental Prior Written/Consent for Evaluation\n(24:05:25:04.02)"},null,null,null,null,null,{"$f":"HYPERLINK(\"https://gosynth.com/p/s/zgdeev\",\"List areas:\")","v":"List areas:"},null,null,"Test administered:",null,null,null,"Test date:",null,"Evaluator:",null,null,"Select","V60",null,null,null,null,{"$f":"S61","v":"Select"},{"$f":"S61","v":"Select"}]
[null,null,null,null,null,null,null,null,null,null,null,null,null,null,null,null,null,null,null,null,null,null,null,{"$f":"Y62+Z62","v":0},{"$f":"COUNTIF(Y61,\"Yes\")*3","v":0},{"$f":"COUNTIF(Z61,\"No\")*3","v":0}]
[]
[]
[]
[]
[]
["For more evaluations requested click the [+]"]
[]
[]
[]
[]
[]
[]
[{"$f":"HYPERLINK(\"http://sdlegislature.gov/Rules/DisplayRule.aspx?Rule=24:05:25:04.02\",\"Existing Evaluation Data\nto be Pulled Forward\n(24:05:25:04.02)\")","v":"Existing Evaluation Data\nto be Pulled Forward\n(24:05:25:04.02)"},null,null,null,null,null,{"$f":"HYPERLINK(\"https://gosynth.com/p/s/pfohnr\",\"List areas:\")","v":"List areas:"},null,null,"Test administered:",null,null,null,"Test date:",null,"Evaluator:",null,null,"Select","V74",null,null,null,null,{"$f":"S75","v":"Select"},{"$f":"S75","v":"Select"}]
[null,null,null,null,null,null,null,null,null,null,null,null,null,null,null,null,null,null,null,null,null,null,null,{"$f":"Y76+Z76","v":0},{"$f":"COUNTIF(Y75,\"Yes\")*3","v":0},{"$f":"COUNTIF(Z75,\"No\")*3","v":0}]
[]
[]
[]
["For more existing data requested click the [+]"]
[]
[]
[]
[]
[{"$f":"HYPERLINK(\"http://sdlegislature.gov/Rules/DisplayRule.aspx?Rule=24:05:25:04.02\",\"Skills Based Assessment and Report\n(24:05:25:04.02)\")","v":"Skills Based Assessment and Report\n(24:05:25:04.02)"},null,null,null,null,null,{"$f":"HYPERLINK(\"https://gosynth.com/p/s/tbqnts\",\"List areas:\")","v":"List areas:"},null,null,"Test administered:",null,null,null,"Test date:",null,"Evaluator:",null,null,"Select","V84",null,null,null,null,{"$f":"S85","v":"Select"},{"$f":"S85","v":"Select"}]
[null,null,null,null,null,null,null,null,null,null,null,null,null,null,null,null,null,null,null,null,null,null,null,{"$f":"Y86+Z86","v":0},{"$f":"COUNTIF(Y85,\"Yes\")*3","v":0},{"$f":"COUNTIF(Z85,\"No\")*3","v":0}]
[]
[null,null,null,null,null,null,null,null,null,null,null,null,null,null,null,null,null,null,null,null,null,null,null,{"$f":"(X86+X100+X104+X106+X108+X110+X112+X115+X117+X120)/10","v":0},{"$f":"(Y86+Y100+Y104+Y106+Y108+Y110+Y112+Y115+Y117+Y120)/10","v":0}]
[]
[]
[]
["For more skills based requested click the [+]"]
[]
[]
[]
[]
[]
[]
[{"$f":"HYPERLINK(\"http://sdlegislature.gov/Rules/DisplayRule.aspx?Rule=24:05:25:03\",\"Consent Received\n(24:05:25:03)\")","v":"Consent Received\n(24:05:25:03)"},null,null,null,null,null,{"$f":"HYPERLINK(\"https://gosynth.com/p/s/ctcnlr\",\"Consent received date:\")","v":"Consent received date:"},null,null,null,null,{"$f":"K57","v":"2020-01-20"},null,null,"Mark \"No\" if dates are outside of \"consent received\" and/or \"25 school days\".",null,null,null,"Select","V98",null,null,null,null,{"$f":"S99","v":"Select"},{"$f":"S99","v":"Select"}]
[null,null,null,null,null,null,"Earliest testing date:",null,null,null,null,{"$f":"MIN(N63:O74,N87:O98)","v":"00:00:00"},null,null,null,null,null,null,null,null,null,null,null,{"$f":"Y100+Z100","v":0},{"$f":"COUNTIF(Y99,\"Yes\")*3","v":0},{"$f":"COUNTIF(Z99,\"No\")*3","v":0}]
[null,null,null,null,null,null,"Latest testing date:",null,null,null,null,{"$f":"MAX(N63:O74,N87:O98)","v":"00:00:00"}]
[null,null,null,null,null,null,"Within 25 School Days:",null,null,null,null,{"$f":"IF(ISBLANK(K60),K58,K60)","v":"2020-02-24"}]
[{"$f":"HYPERLINK(\"http://sdlegislature.gov/Rules/DisplayRule.aspx?Rule=24:05:25:20\",\"All Evaluations Administered \n(24:05:25:20)\")","v":"All Evaluations Administered \n(24:05:25:20)"},null,null,null,null,null,{"$f":"HYPERLINK(\"https://gosynth.com/p/s/mkcdef\",\"All evaluations marked on the PWWN/Consent for Evaluation form must be administered.\")","v":"All evaluations marked on the PWWN/Consent for Evaluation form must be administered."},null,null,null,null,null,null,null,null,null,null,null,"Select","V102",null,null,null,null,{"$f":"S103","v":"Select"},{"$f":"S103","v":"Select"}]
[null,null,null,null,null,null,null,null,null,null,null,null,null,null,null,null,null,null,null,null,null,null,null,{"$f":"Y104+Z104","v":0},{"$f":"COUNTIF(Y103,\"Yes\")*3","v":0},{"$f":"COUNTIF(Z103,\"No\")*3","v":0}]
[{"$f":"HYPERLINK(\"http://sdlegislature.gov/Rules/DisplayRule.aspx?Rule=24:05:25:06.01\",\"Consent was Acquired\n(24:05:25:06.01)\")","v":"Consent was Acquired\n(24:05:25:06.01)"},null,null,null,null,null,{"$f":"HYPERLINK(\"https://gosynth.com/p/s/mkcdef\",\"All evaluations administered must be requested on the PWWN/Consent for Evaluation \nform.\")","v":"All evaluations administered must be requested on the PWWN/Consent for Evaluation \nform."},null,null,null,null,null,null,null,null,null,null,null,"Select",null,null,null,null,null,{"$f":"S105","v":"Select"},{"$f":"S105","v":"Select"}]
[null,null,null,null,null,null,null,null,null,null,null,null,null,null,null,null,null,null,null,null,null,null,null,{"$f":"Y106+Z106","v":0},{"$f":"COUNTIF(Y105,\"Yes\")*3","v":0},{"$f":"COUNTIF(Z105,\"No\")*3","v":0}]
[{"$f":"HYPERLINK(\"http://sdlegislature.gov/Rules/DisplayRule.aspx?Rule=24:05:25:04\",\"Variety of Sources \n(24:05:25:04)\")","v":"Variety of Sources \n(24:05:25:04)"},null,null,null,null,null,{"$f":"HYPERLINK(\"https://gosynth.com/p/s/mkcdef\",\"Appropritate means to provide evaluations for accurate data were used. \")","v":"Appropritate means to provide evaluations for accurate data were used. "},null,null,null,null,null,null,null,null,null,null,null,"Select",null,null,null,null,null,{"$f":"S107","v":"Select"},{"$f":"S107","v":"Select"}]
[null,null,null,null,null,null,null,null,null,null,null,null,null,null,null,null,null,null,null,null,null,null,null,{"$f":"Y108+Z108","v":0},{"$f":"COUNTIF(Y107,\"Yes\")*3","v":0},{"$f":"COUNTIF(Z107,\"No\")*3","v":0}]
[{"$f":"HYPERLINK(\"http://sdlegislature.gov/Rules/DisplayRule.aspx?Rule=24:05:25:04\",\"Met Requirements for the Disability\n(24:05:25:04) \")","v":"Met Requirements for the Disability\n(24:05:25:04) "},null,null,null,null,null,{"$f":"HYPERLINK(\"https://gosynth.com/p/s/mkcdef\",\"Comprehensive Evaluations in all areas required for the disability. \")","v":"Comprehensive Evaluations in all areas required for the disability. "},null,null,null,null,null,null,null,null,null,null,null,"Select",null,null,null,null,null,{"$f":"S109","v":"Select"},{"$f":"S109","v":"Select"}]
[null,null,null,null,null,null,null,null,null,null,null,null,null,null,null,null,null,null,null,null,null,null,null,{"$f":"Y110+Z110","v":0},{"$f":"COUNTIF(Y109,\"Yes\")*3","v":0},{"$f":"COUNTIF(Z109,\"No\")*3","v":0}]
[{"$f":"HYPERLINK(\"http://sdlegislature.gov/Rules/DisplayRule.aspx?Rule=24:05:25:03\",\"Eligibility within 30 Calendar Days \n(24:05:25:03)\")","v":"Eligibility within 30 Calendar Days \n(24:05:25:03)"},null,null,null,null,null,{"$f":"HYPERLINK(\"https://gosynth.com/p/s/mkcdef\",\"Day 26 was on:\")","v":"Day 26 was on:"},null,null,null,null,{"$f":"WORKDAY(L102,1)","v":"2020-02-25"},null,null,null,null,null,null,"Select","V110",null,null,null,null,{"$f":"S111","v":"Select"},{"$f":"S111","v":"Select"}]
[null,null,null,null,null,null,"Eligibility Determination Date:",null,null,null,null,{"$f":"T7","v":"00:00:00"},null,null,null,null,null,null,null,null,null,null,null,{"$f":"Y112+Z112","v":0},{"$f":"COUNTIF(Y111,\"Yes\")*3","v":0},{"$f":"COUNTIF(Z111,\"No\")*3","v":0}]
[null,null,null,null,null,null,"Eligibility meeting date should have been by:",null,null,null,null,null,null,null,{"$f":"K59","v":"00:00:00"}]
[{"$f":"HYPERLINK(\"http://sdlegislature.gov/Rules/DisplayRule.aspx?Rule=24:05:25:04.03\",\"Student Eligible for Special Education \n(24:05:25:04.03)\")","v":"Student Eligible for Special Education \n(24:05:25:04.03)"},null,null,null,null,null,null,null,null,null,null,null,null,null,null,null,null,null,"Select",null,null,null,null,null,{"$f":"S114","v":"Select"},{"$f":"S114","v":"Select"}]
[null,null,null,null,null,null,null,null,null,null,null,null,null,null,null,null,null,null,null,null,null,null,null,{"$f":"Y115+Z115","v":0},{"$f":"COUNTIF(Y114,\"Yes\")*3","v":0},{"$f":"COUNTIF(Z114,\"No\")*3","v":0}]
[{"$f":"HYPERLINK(\"http://sdlegislature.gov/Rules/DisplayRule.aspx?Rule=24:05:25:06\",\"Three Year Re-Evaluation\n(24:05:25:06)\")","v":"Three Year Re-Evaluation\n(24:05:25:06)"},null,null,null,null,null,{"$f":"HYPERLINK(\"https://gosynth.com/p/s/mkcdef\",\"Current Eligibility Determination Date:\")","v":"Current Eligibility Determination Date:"},null,null,null,null,null,null,{"$f":"L112","v":"00:00:00"},null,null,null,null,"Select",null,null,null,null,null,{"$f":"S116","v":"Select"},{"$f":"S116","v":"Select"}]
[null,null,null,null,null,null,"Previous Eligibility Determination Date:",null,null,null,null,null,null,{"$f":"T8","v":"00:00:00"},null,null,null,null,null,null,null,null,null,{"$f":"Y117+Z117","v":0},{"$f":"COUNTIF(Y116,\"Yes\")*3","v":0},{"$f":"COUNTIF(Z116,\"No\")*3","v":0}]
[]
[{"$f":"HYPERLINK(\"https://gosynth.com/p/s/mkcdef\",\"Evaluated to Dismiss from Services  \")","v":"Evaluated to Dismiss from Services  "},null,null,null,null,null,null,null,null,null,null,null,null,null,null,null,null,null,"Select",null,null,null,null,null,{"$f":"S119","v":"Select"},{"$f":"S119","v":"Select"}]
[null,null,null,null,null,null,null,null,null,null,null,null,null,null,null,null,null,null,null,null,null,null,null,{"$f":"Y120+Z120","v":0},{"$f":"COUNTIF(Y119,\"Yes\")*3","v":0},{"$f":"COUNTIF(Z119,\"No\")*3","v":0}]
[]
[{"$f":"HYPERLINK(\"https://gosynth.com/p/s/giwoma\",\"Eligibility Document for Specific Learning Disability\")","v":"Eligibility Document for Specific Learning Disability"},null,null,null,null,null,null,null,null,null,null,null,null,null,null,null,null,null,{"$f":"IFERROR(Y126/X126,\"N/A\")","v":"N/A"}]
["If student is not eligible for Specific Learning Disability, skip this section.  Click on the [+] button if section is not visible. ",null,null,null,null,null,null,null,null,null,null,null,null,null,null,null,null,null,"Select","V122",null,null,null,null,{"$f":"S123","v":"Select"},{"$f":"S123","v":"Select"}]
[{"$f":"HYPERLINK(\"http://sdlegislature.gov/Rules/DisplayRule.aspx?Rule=24:05:24.01:19\",\"Specific Learning Disabilities\n(24:05:24.01:19)\")","v":"Specific Learning Disabilities\n(24:05:24.01:19)"},null,null,null,null,null,"Check the following:",null,null,null,null,null,null,null,null,null,null,null,null,null,null,null,null,{"$f":"Y124+Z124","v":0},{"$f":"COUNTIF(Y123,\"Yes\")*3","v":0},{"$f":"COUNTIF(Z123,\"No\")*3","v":0}]
[]
[null,null,null,null,null,null,null,"Reading Comprehension",null,null,null,null,null,"Math Calculation",null,null,null,null,null,null,null,null,null,{"$f":"(X124+X132+X151+X165+X174)/5","v":0},{"$f":"(Y124+Y132+Y151+Y165+Y174)/5","v":0}]
[null,null,null,null,null,null,null,"Basic Reading Skills",null,null,null,null,null,"Math Problem Solving"]
[null,null,null,null,null,null,null,"Reading Fluency",null,null,null,null,null,"Listening Comprehension"]
[null,null,null,null,null,null,null,"Written Expression",null,null,null,null,null,"Oral Expression"]
[]
["For Initial Determination of Eligibility Only",null,null,null,null,null,null,null,null,null,null,null,null,null,null,null,null,null,"Select","V130",null,null,null,null,{"$f":"S131","v":"Select"},{"$f":"S131","v":"Select"}]
[{"$f":"HYPERLINK(\"http://sdlegislature.gov/Rules/DisplayRule.aspx?Rule=24:05:24.01:19\",\"Initial Eligibility\n(24:05:24.01:19)\")","v":"Initial Eligibility\n(24:05:24.01:19)"},null,null,null,null,null,"Written report must include:",null,null,null,null,null,null,null,null,null,null,null,null,null,null,null,null,{"$f":"Y132+Z132","v":0},{"$f":"COUNTIF(Y131,\"Yes\")*3","v":0},{"$f":"COUNTIF(Z131,\"No\")*3","v":0}]
[]
[null,null,null,null,null,null,null,"Student achieves adequately",null,null,null,null,"Lack of appropriate instruction"]
[]
[null,null,null,null,null,null,null,"Student exhibits pattern of strengths & weaknesses",null,null,null,null,"Observation of the student"]
[]
[null,null,null,null,null,null,null,null,null,null,null,null,"Relevant medical findings (if any)"]
[null,null,null,null,null,null,null,"Student was provided appropriate instruction in regular education settings by qualified personnel"]
[null,null,null,null,null,null,null,null,null,null,null,null,"Achievement level problem is/is not primarily the result of another factor (e.g. emotional disturbance, cognitive impairment, etc.)"]
[]
[]
[null,null,null,null,null,null,null,"Repeated assessment of achievement reflecting student progress"]
[]
[]
[null,null,null,null,null,null,null,"Attendance record",null,null,null,null,"Adverse effect on educational performance"]
[]
[]
["Click on the [+] button to expand or the [-] button to collapse."]
["For Reevaluation of Eligibility Only",null,null,null,null,null,null,null,null,null,null,null,null,null,null,null,null,null,"Select","V149",null,null,null,null,{"$f":"S150","v":"Select"},{"$f":"S150","v":"Select"}]
[{"$f":"HYPERLINK(\"http://sdlegislature.gov/Rules/DisplayRule.aspx?Rule=24:05:24.01:19\",\"Reevaluation of Eligibility\n(24:05:24.01:19)\")","v":"Reevaluation of Eligibility\n(24:05:24.01:19)"},null,null,null,null,null,"Written report must include:",null,null,null,null,null,null,null,null,null,null,null,null,null,null,null,null,{"$f":"Y151+Z151","v":0},{"$f":"COUNTIF(Y150,\"Yes\")*3","v":0},{"$f":"COUNTIF(Z150,\"No\")*3","v":0}]
[]
[null,null,null,null,null,null,null,"Student achieves adequately",null,null,null,null,"Achievement level problem is/is not primarily the result of another factor (e.g. emotional disturbance, cognitive impairment, etc.)"]
[]
[null,null,null,null,null,null,null,"Student exhibits pattern of strengths & weaknesses"]
[]
[]
[null,null,null,null,null,null,null,"Observation of the student"]
[null,null,null,null,null,null,null,null,null,null,null,null,"Adverse effect on educational performance"]
[null,null,null,null,null,null,null,"Relevant medical findings (if any)"]
[]
[]
["Click on the [+] button to expand or the [-] button to collapse."]
[{"$f":"HYPERLINK(\"http://sdlegislature.gov/Rules/DisplayRule.aspx?Rule=24:05:25:08\",\"Team Member Signatures \n(24:05:25:08)\")","v":"Team Member Signatures \n(24:05:25:08)"},null,null,null,null,null,"Check the following:",null,null,null,null,null,null,null,null,null,null,null,"Select","V163",null,null,null,null,{"$f":"S164","v":"Select"},{"$f":"S164","v":"Select"}]
[null,null,null,null,null,null,null,null,null,null,null,null,null,null,null,null,null,null,null,null,null,null,null,{"$f":"Y165+Z165","v":0},{"$f":"COUNTIF(Y164,\"Yes\")*3","v":0},{"$f":"COUNTIF(Z164,\"No\")*3","v":0}]
[null,null,null,null,null,null,null,"Parent",null,null,null,null,"Each group member shall certify in writing whether the report reflects the group member's conclusion. If it does not reflect the group member's conclusion, the group member must submit the conclusion in a separate statement."]
[null,null,null,null,null,null,null,"General Education Teacher"]
[{"$f":"HYPERLINK(\"http://sdlegislature.gov/Rules/DisplayRule.aspx?Rule=24:05:25:13\",\"Group Members to Certify \nReport in Writing \n(24:05:25:13)\")","v":"Group Members to Certify \nReport in Writing \n(24:05:25:13)"},null,null,null,null,null,null,"Special Education Teacher"]
[null,null,null,null,null,null,null,"Qualified interpreter of results"]
[null,null,null,null,null,null,null,"LEA Representative"]
[null,null,null,null,null,null,null,"If disagreed, written input was provided"]
[]
[null,null,null,null,null,null,"Check PWWN for eligibility decisions.                         ",null,null,null,null,"Skip to","PPWN.",null,null,null,null,null,"Select",null,null,null,null,null,{"$f":"S173","v":"Select"},{"$f":"S173","v":"Select"}]
[null,null,null,null,null,null,null,null,null,null,null,null,null,null,null,null,null,null,null,null,null,null,null,{"$f":"Y174+Z174","v":0},{"$f":"COUNTIF(Y173,\"Yes\")*3","v":0},{"$f":"COUNTIF(Z173,\"No\")*3","v":0}]
[]
[{"$f":"HYPERLINK(\"https://gosynth.com/p/s/mzphio\",\"Meeting Notice\")","v":"Meeting Notice"},null,null,null,null,null,null,null,null,null,null,null,null,null,null,null,null,null,{"$f":"IFERROR(Y184/X184,\"N/A\")","v":"N/A"}]
["Meeting Notice",null,null,null,null,null,"Date sent:",null,null,null,null,null,"From this point on use the current IEP's documentation.",null,null,null,null,null,"Select","V174",null,null,null,null,{"$f":"S177","v":"Select"},{"$f":"S177","v":"Select"}]
[{"$f":"HYPERLINK(\"http://sdlegislature.gov/Rules/DisplayRule.aspx?Rule=24:05:30:02.01\",\"(24:05:30:02.01)\")","v":"(24:05:30:02.01)"},null,null,{"$f":"HYPERLINK(\"http://sdlegislature.gov/Rules/DisplayRule.aspx?Rule=24:05:25:16\",\"(24:05:25:16)\")","v":"(24:05:25:16)"},null,null,"Meeting date:",null,null,{"$f":"T5","v":"00:00:00"},null,null,null,null,null,null,null,null,null,null,null,null,null,{"$f":"Y178+Z178","v":0},{"$f":"COUNTIF(Y177,\"Yes\")*3","v":0},{"$f":"COUNTIF(Z177,\"No\")*3","v":0}]
["Procedural Safeguards",null,null,null,null,null,"Must be given to parents annually.",null,null,null,null,null,null,null,null,null,null,null,"Select",null,null,null,null,null,{"$f":"S179","v":"Select"},{"$f":"S179","v":"Select"}]
[{"$f":"HYPERLINK(\"http://sdlegislature.gov/Rules/DisplayRule.aspx?Rule=24:05:30:06.01\",\"(24:05:30:06.01)\")","v":"(24:05:30:06.01)"},null,null,{"$f":"HYPERLINK(\"http://sdlegislature.gov/Rules/DisplayRule.aspx?Rule=24:05:30:06.02\",\"(24:05:30:06.02)\")","v":"(24:05:30:06.02)"},null,null,null,null,null,null,null,null,null,null,null,null,null,null,null,null,null,null,null,{"$f":"Y180+Z180","v":0},{"$f":"COUNTIF(Y179,\"Yes\")*3","v":0},{"$f":"COUNTIF(Z179,\"No\")*3","v":0}]
["IEP Team",null,null,null,null,null,"Complete the following:",null,null,null,null,null,null,null,null,null,null,null,"Select",null,null,null,null,null,{"$f":"S181","v":"Select"},{"$f":"S181","v":"Select"}]
[null,null,null,null,null,null,null,null,null,null,null,null,null,null,null,null,null,null,null,null,null,null,null,{"$f":"Y182+Z182","v":0},{"$f":"COUNTIF(Y181,\"Yes\")*3","v":0},{"$f":"COUNTIF(Z181,\"No\")*3","v":0}]
[null,null,null,null,null,null,null,"The documentation of people attending the IEP meeting on front page of the IEP does not imply agreement, it is for participation purposes only."]
[null,null,null,null,null,null,null,null,null,null,null,null,null,null,null,null,null,null,null,null,null,null,null,{"$f":"(X178+X180+X182+X198)/4","v":0},{"$f":"(Y178+Y180+Y182+Y198)/4","v":0}]
[null,null,null,null,null,null,null,"Identified on the meeting notice:",null,null,"Attended the meeting:",null,null,"Did not attend\nthe meeting:"]
[]
[{"$f":"HYPERLINK(\"http://sdlegislature.gov/Rules/DisplayRule.aspx?Rule=24:05:25:16\",\"(24:05:25:16)\")","v":"(24:05:25:16)"},null,null,null,null,null,null,"Parent/Guardian"]
[null,null,null,null,null,null,null,"Student"]
[null,null,null,null,null,null,null,"Gen. Ed. Teacher"]
[null,null,null,null,null,null,null,"Sp. Ed. Teacher"]
["Parent Participation",null,null,null,null,null,null,"Eval Interpreter"]
[{"$f":"HYPERLINK(\"http://sdlegislature.gov/Rules/DisplayRule.aspx?Rule=24:05:25:16\",\"(24:05:25:16)\")","v":"(24:05:25:16)"},null,null,null,null,null,null,"LEA Representative"]
[null,null,null,null,null,null,null,"List Others"]
[null,null,null,null,null,null,null,"List Others"]
[null,null,null,null,null,null,null,"List Others"]
[]
["IEP Team Attendance \n (24:05:27:01.05)",null,null,null,null,null,"A member of the IEP team may be excused from attending, in whole or in part, an IEP team meeting that involves a modification to or discussion of the member's area of the curriculum or related services, if:\n   (1) The parent and school district consent in writing to the excusal; and\n   (2) The member submits, in writing to the parent and the IEP team, input into the development of the IEP before the meeting.",null,null,null,null,null,null,null,null,null,null,null,"Select","V194",null,null,null,null,{"$f":"S197","v":"Select"},{"$f":"S197","v":"Select"}]
[null,null,null,null,null,null,null,null,null,null,null,null,null,null,null,null,null,null,null,null,null,null,null,{"$f":"Y198+Z198","v":0},{"$f":"COUNTIF(Y197,\"Yes\")*3","v":0},{"$f":"COUNTIF(Z197,\"No\")*3","v":0}]
[]
[]
[]
[]
[{"$f":"HYPERLINK(\"https://gosynth.com/p/s/jshfqs\",\"          Individual Education Plan (Use the most recent IEP.)\n\")","v":"          Individual Education Plan (Use the most recent IEP.)\n"},null,null,null,null,null,null,null,null,null,null,null,null,null,null,null,null,null,{"$f":"IFERROR(Y210/X210,\"N/A\")","v":"N/A"}]
[{"$f":"HYPERLINK(\"http://sdlegislature.gov/Rules/DisplayRule.aspx?Rule=24:05:25:04.03\",\"Evaluation Reports Given to Parents \n(24:05:25:04.03)\")","v":"Evaluation Reports Given to Parents \n(24:05:25:04.03)"},null,null,null,null,null,"Evidence the parent received a copy of the reports (e.g.  initials on the front page IEP or other evidence). ",null,null,null,null,null,null,null,null,null,null,null,"Select","V201",null,null,null,null,{"$f":"S204","v":"Select"},{"$f":"S204","v":"Select"}]
[null,null,null,null,null,null,null,null,null,null,null,null,null,null,null,null,null,null,null,null,null,null,null,{"$f":"Y205+Z205","v":0},{"$f":"COUNTIF(Y204,\"Yes\")*3","v":0},{"$f":"COUNTIF(Z204,\"No\")*3","v":0}]
[{"$f":"HYPERLINK(\"http://sdlegislature.gov/Rules/DisplayRule.aspx?Rule=24:05:25:19\",\"Copy of IEP Given to Parents \n(24:05:25:19)\")","v":"Copy of IEP Given to Parents \n(24:05:25:19)"},null,null,null,null,null,"Evidence copy of the IEP was given to parents (e.g.  initials on the front page, addressed in PPWN, or other evidence).",null,null,null,null,null,null,null,null,null,null,null,"Select",null,null,null,null,null,{"$f":"S206","v":"Select"},{"$f":"S206","v":"Select"}]
[null,null,null,null,null,null,null,null,null,null,null,null,null,null,null,null,null,null,null,null,null,null,null,{"$f":"Y207+Z207","v":0},{"$f":"COUNTIF(Y206,\"Yes\")*3","v":0},{"$f":"COUNTIF(Z206,\"No\")*3","v":0}]
[{"$f":"HYPERLINK(\"http://sdlegislature.gov/Rules/DisplayRule.aspx?Rule=24:05:27:08\",\"Met Annually\n(24:05:27:08)\")","v":"Met Annually\n(24:05:27:08)"},null,null,null,null,null,"Current IEP Meeting Date:",null,null,null,null,{"$f":"T5","v":"00:00:00"},null,null,null,null,null,null,"Select",null,null,null,null,null,{"$f":"S208","v":"Select"},{"$f":"S208","v":"Select"}]
[null,null,null,null,null,null,"Previous IEP Meeting Date:",null,null,null,null,{"$f":"T6","v":"00:00:00"},null,null,null,null,null,null,null,null,null,null,null,{"$f":"Y209+Z209","v":0},{"$f":"COUNTIF(Y208,\"Yes\")*3","v":0},{"$f":"COUNTIF(Z208,\"No\")*3","v":0}]
[null,null,null,null,null,null,null,null,null,null,null,null,null,null,null,null,null,null,null,null,null,null,null,{"$f":"(X205+X207+X209)/3","v":0},{"$f":"(Y205+Y207+Y209)/3","v":0}]
[{"$f":"HYPERLINK(\"https://gosynth.com/p/s/eypdgf\",\"Present Levels of Academic Achievement & Functional Performance\")","v":"Present Levels of Academic Achievement & Functional Performance"},null,null,null,null,null,null,null,null,null,null,null,null,null,null,null,null,null,{"$f":"IFERROR(Y243/X243,\"N/A\")","v":"N/A"}]
[{"$f":"HYPERLINK(\"http://sdlegislature.gov/Rules/DisplayRule.aspx?Rule=24:05:27:01.03\",\"Progress/Involvement in \nGeneral Education Curriculum\n(24:05:27:01.03)\")","v":"Progress/Involvement in \nGeneral Education Curriculum\n(24:05:27:01.03)"},null,null,null,null,null,"A statement of the student's present levels of academic achievement and functional performance, including:\n   (a)  How the student's disability affects the student's involvement and progress in the general education curriculum (i.e., the same curriculum as for nondisabled students); or\n   (b)  For preschool student, as appropriate, how the disability affects the student's participation in appropriate activities;\nis found in the document.",null,null,null,null,null,null,null,null,null,null,null,"Select","V209",null,null,null,null,{"$f":"S212","v":"Select"},{"$f":"S212","v":"Select"}]
[null,null,null,null,null,null,null,null,null,null,null,null,null,null,null,null,null,null,null,null,null,null,null,{"$f":"Y213+Z213","v":0},{"$f":"COUNTIF(Y212,\"Yes\")*3","v":0},{"$f":"COUNTIF(Z212,\"No\")*3","v":0}]
[]
[{"$f":"HYPERLINK(\"https://sdlegislature.gov/Rules/DisplayRule.aspx?Rule=24:05:25:16\",\"Parent Participation\n(24:05:25:16)\")","v":"Parent Participation\n(24:05:25:16)"},null,null,null,null,null,"The purpose of this area for parent to provide IEP team information about how the child’s disability is impacted at home. Parents can also provide input on types of strategies and supports they provide at home.",null,null,null,null,null,null,null,null,null,null,null,"Select",null,null,null,null,null,{"$f":"S215","v":"Select"},{"$f":"S215","v":"Select"}]
[null,null,null,null,null,null,null,null,null,null,null,null,null,null,null,null,null,null,null,null,null,null,null,{"$f":"Y216+Z216","v":0},{"$f":"COUNTIF(Y215,\"Yes\")*3","v":0},{"$f":"COUNTIF(Z215,\"No\")*3","v":0}]
[{"$f":"HYPERLINK(\"http://sdlegislature.gov/Rules/DisplayRule.aspx?Rule=24:05:27:01.03\",\"Present Levels of \nAcademic Achievement \n& Functional Performance\nLinked to Annual Goals\n(24:05:27:01.03)\")","v":"Present Levels of \nAcademic Achievement \n& Functional Performance\nLinked to Annual Goals\n(24:05:27:01.03)"},null,null,null,null,null,"Skill Area:",null,null,null,null,"Measuarable Goal:",null,null,null,null,null,null,"Select","V214",null,null,null,null,{"$f":"S217","v":"Select"},{"$f":"S217","v":"Select"}]
[null,null,null,null,null,null,null,null,null,null,null,null,null,null,null,null,null,null,null,null,null,null,null,{"$f":"Y218+Z218","v":0},{"$f":"COUNTIF(Y217,\"Yes\")*3","v":0},{"$f":"COUNTIF(Z217,\"No\")*3","v":0}]
[null,null,null,null,null,null,null,"Strengths",null,null,null,null,"Condition",null,null,"How well"]
[null,null,null,null,null,null,null,"Needs",null,null,null,null,"Performance",null,null,"How often"]
[null,null,null,null,null,null,null,"Link to evaluation"]
[]
[null,null,null,null,null,null,"Skill Area:",null,null,null,null,"Measuarable Goal:",null,null,null,null,null,null,"Select",null,null,null,null,null,{"$f":"S223","v":"Select"},{"$f":"S223","v":"Select"}]
[null,null,null,null,null,null,null,null,null,null,null,null,null,null,null,null,null,null,null,null,null,null,null,{"$f":"Y224+Z224","v":0},{"$f":"COUNTIF(Y223,\"Yes\")*3","v":0},{"$f":"COUNTIF(Z223,\"No\")*3","v":0}]
[null,null,null,null,null,null,null,"Strengths",null,null,null,null,"Condition",null,null,"How well"]
[null,null,null,null,null,null,null,"Needs",null,null,null,null,"Performance",null,null,"How often"]
[null,null,null,null,null,null,null,"Link to evaluation"]
[]
[null,null,null,null,null,null,"Skill Area:",null,null,null,null,"Measuarable Goal:",null,null,null,null,null,null,"Select",null,null,null,null,null,{"$f":"S229","v":"Select"},{"$f":"S229","v":"Select"}]
[null,null,null,null,null,null,null,null,null,null,null,null,null,null,null,null,null,null,null,null,null,null,null,{"$f":"Y230+Z230","v":0},{"$f":"COUNTIF(Y229,\"Yes\")*3","v":0},{"$f":"COUNTIF(Z229,\"No\")*3","v":0}]
[null,null,null,null,null,null,null,"Strengths",null,null,null,null,"Condition",null,null,"How well"]
[null,null,null,null,null,null,null,"Needs",null,null,null,null,"Performance",null,null,"How often"]
[null,null,null,null,null,null,null,"Link to evaluation"]
[]
[{"$f":"HYPERLINK(\"http://sdlegislature.gov/Rules/DisplayRule.aspx?Rule=24:05:27:01.03\",\"How Progress will be Measured\n(24:05:27:01.03)\")","v":"How Progress will be Measured\n(24:05:27:01.03)"},null,null,null,null,null,{"$f":"HYPERLINK(\"https://gosynth.com/p/s/psaxcx\",\"         Check the following:\")","v":"         Check the following:"},null,null,null,null,null,null,null,null,null,null,null,"Select","V232",null,null,null,null,{"$f":"S235","v":"Select"},{"$f":"S235","v":"Select"}]
[null,null,null,null,null,null,null,null,null,null,null,null,null,null,null,null,null,null,null,null,null,null,null,{"$f":"Y236+Z236","v":0},{"$f":"COUNTIF(Y235,\"Yes\")*3","v":0},{"$f":"COUNTIF(Z235,\"No\")*3","v":0}]
[null,null,null,null,null,null,null,"Reporting frequency",null,null,null,null,"Extent of progress"]
[null,null,null,null,null,null,null,"Reporting method"]
[]
[{"$f":"HYPERLINK(\"http://sdlegislature.gov/Rules/DisplayRule.aspx?Rule=24:05:27:01.03\",\"Accommodations/Modifications\n(24:05:27:01.03)\")","v":"Accommodations/Modifications\n(24:05:27:01.03)"},null,null,null,null,null,{"$f":"HYPERLINK(\"https://gosynth.com/p/s/rtpvrq\",\"         Check the following:\")","v":"         Check the following:"},null,null,null,null,"List Instructional Accommodations:",null,null,null,null,null,null,"Select","V237",null,null,null,null,{"$f":"S240","v":"Select"},{"$f":"S240","v":"Select"}]
[null,null,null,null,null,null,null,"Frequency",null,null,null,null,null,null,null,null,null,null,null,null,null,null,null,{"$f":"Y241+Z241","v":0},{"$f":"COUNTIF(Y240,\"Yes\")*3","v":0},{"$f":"COUNTIF(Z240,\"No\")*3","v":0}]
[null,null,null,null,null,null,null,"Duration"]
[null,null,null,null,null,null,null,"Location",null,null,null,null,null,null,null,null,null,null,null,null,null,null,null,{"$f":"(X241+X236+X230+X224+X218+X216+X213)/7","v":0},{"$f":"(Y241+Y236+Y230+Y224+Y218+Y216+Y213)/7","v":0}]
[]
[]
[null,null,null,null,null,null,null,"Are the accommodations appropriate for the skill areas affected by the diability?"]
[]
[]
[]
[null,null,null,null,null,null,null,null,"Yes"]
[null,null,null,null,null,null,null,null,"No"]
[]
[]
[]
[{"$f":"HYPERLINK(\"https://gosynth.com/p/s/ygpazf\",\"Special Factors\")","v":"Special Factors"},null,null,null,null,null,null,null,null,null,null,null,null,null,null,null,null,null,{"$f":"IFERROR(Y294/X294,\"N/A\")","v":"N/A"}]
[{"$f":"HYPERLINK(\"http://sdlegislature.gov/Rules/DisplayRule.aspx?Rule=24:05:27:01.02\",\"Considerations\n(24:05:27:01.02)\")","v":"Considerations\n(24:05:27:01.02)"},null,null,null,null,null,"Select for each:",null,null,"Determine if data supports the selection for each special factor; if not addressed, check \"N\"  for score.",null,null,null,null,null,null,null,null,"Select","V243",null,null,null,null,{"$f":"S256","v":"Select"},{"$f":"S256","v":"Select"}]
[null,null,null,null,null,null,null,null,null,null,null,null,null,null,null,null,null,null,null,null,null,null,null,{"$f":"Y257+Z257","v":0},{"$f":"COUNTIF(Y256,\"Yes\")*3","v":0},{"$f":"COUNTIF(Z256,\"No\")*3","v":0}]
[null,null,null,null,null,null,null,null,null,"Limited English proficient"]
[null,null,null,null,null,null,null,null,null,"Special communication needs"]
[null,null,null,null,null,null,null,null,null,"Requires Braille"]
[null,null,null,null,null,null,null,null,null,"Behavior impedes learning"]
[null,null,null,null,null,null,null,null,null,"Requires assistive technology & services"]
[null,null,null,null,null,null,null,null,null,"Physical education"]
[null,null,null,null,null,null,null,null,null,"Hearing aid maintenance"]
[{"$f":"HYPERLINK(\"http://sdlegislature.gov/Rules/DisplayRule.aspx?Rule=24:05:27:01.03\",\"State/District Assessments\n(24:05:27:01.03)\")","v":"State/District Assessments\n(24:05:27:01.03)"},null,null,null,null,null,{"$f":"HYPERLINK(\"https://gosynth.com/p/s/jdbbir\",\"             Students will be taking state and district-wide assessments:\")","v":"             Students will be taking state and district-wide assessments:"},null,null,null,null,null,null,null,null,null,null,null,"Select","V263",null,null,null,null,{"$f":"S265","v":"Select"},{"$f":"S265","v":"Select"}]
[null,null,null,null,null,null,null,"With accommodations",null,null,null,null,"Without accommodations",null,null,null,null,null,null,null,null,null,null,{"$f":"Y266+Z266","v":0},{"$f":"COUNTIF(Y265,\"Yes\")*3","v":0},{"$f":"COUNTIF(Z265,\"No\")*3","v":0}]
[null,null,null,null,null,null,"Testing accommodations must reflect instructional accommodations."]
[null,null,null,null,null,null,"Do the accommodations for the state/district assesment(s) \nmatch the instructional accommodations?"]
[]
[null,null,null,null,null,null,"Instructional \nAccommodations",null,null,null,"State/District\nAssessment\nAccommodations",null,null,null,"Select\nyes or no:"]
[]
[]
[null,null,null,null,null,null,{"$f":"L241","v":0},null,null,null,null,null,null,null,"- Select -"]
[null,null,null,null,null,null,0,null,null,null,null,null,null,null,"- Select -"]
[null,null,null,null,null,null,0,null,null,null,null,null,null,null,"- Select -"]
[null,null,null,null,null,null,0,null,null,null,null,null,null,null,"- Select -"]
[null,null,null,null,null,null,0]
[null,null,null,null,null,null,0,null,null,null,null,null,null,null,"- Select -"]
[null,null,null,null,null,null,0,null,null,null,null,null,null,null,"- Select -"]
[null,null,null,null,null,null,0]
[null,null,null,null,null,null,0]
[null,null,null,null,null,null,0,null,null,null,null,null,null,null,"- Select -"]
[null,null,null,null,null,null,0,null,null,null,null,null,null,null,"- Select -"]
[null,null,null,null,null,null,0,null,null,null,null,null,null,null,"- Select -"]
[null,null,null,null,null,null,0,null,null,null,null,null,null,null,"- Select -"]
[null,null,null,null,null,null,0,null,null,null,null,null,null,null,"- Select -"]
[null,null,null,null,null,null,"Were the accommodations for\n the state assessment identified \non the IEP provided according to \nthe assessment data sheet?"]
[null,null,null,null,null,null,null,null,null,null,null,null,null,"- Select -"]
[]
[{"$f":"HYPERLINK(\"http://sdlegislature.gov/Rules/DisplayRule.aspx?Rule=24:05:27:01.03\",\"Alternate Assessments\n(24:05:27:01.03)\")","v":"Alternate Assessments\n(24:05:27:01.03)"},null,null,null,null,null,{"$f":"HYPERLINK(\"https://gosynth.com/p/s/bjlejx\",\"                  The following must be met:\")","v":"                  The following must be met:"},null,null,null,null,null,null,null,null,null,null,null,"Select","V257",null,null,null,null,{"$f":"S290","v":"Select"},{"$f":"S290","v":"Select"}]
[null,null,null,null,null,null,null,null,null,null,null,null,null,null,null,null,null,null,null,null,null,null,null,{"$f":"Y291+Z291","v":0},{"$f":"COUNTIF(Y290,\"Yes\")*3","v":0},{"$f":"COUNTIF(Z290,\"No\")*3","v":0}]
[null,null,null,null,null,null,null,"Student meets the significant cognitive disability criteria"]
[null,null,null,null,null,null,null,"Explanation for why student cannot participate in the regular assessment"]
[null,null,null,null,null,null,null,null,null,null,null,null,null,null,null,null,null,null,null,null,null,null,null,{"$f":"(X291+X266+X257)/3","v":0},{"$f":"(Y291+Y266+Y257)/3","v":0}]
[null,null,null,null,null,null,null,"Explanation for why the alternate assessment selected is appropriate"]
[]
[null,null,null,null,null,null,null,"The alternate assessment is for students working in the alternate achievement standards.  Annual goals and short term objectives are required.                                                                         \n                                                                        "]
[]
[]
[null,null,null,null,null,null,"Does the PPWN explain why IEP team decided alternate assessment for the student?"]
[null,null,null,null,null,null,"Does the student taking the\n alternate assessment meet\n the criteria, has it been \ndocumented on the IEP?"]
[null,null,null,null,null,null,null,null,null,null,null,null,null,"- Select -"]
[]
[]
[{"$f":"HYPERLINK(\"https://gosynth.com/p/s/itwkve\",\"Transition\")","v":"Transition"},null,null,null,null,null,null,null,null,null,null,null,null,null,null,null,null,null,{"$f":"IFERROR(Y306/X306,\"N/A\")","v":"N/A"}]
["Indicator 13 Item 1",null,null,null,null,null,null,null,null,null,null,null,null,null,null,null,null,null,null,null,null,null,null,{"$f":"(X308+X310+X312+X314+X316+X319+X321+X323+X326+X329+X331+X333+X336+X338+X340+X343+X345+X347+X350+X356+X362+X364+X366+X369)/24","v":0},{"$f":"(Y308+Y310+Y312+Y314+Y316+Y319+Y321+Y323+Y326+Y329+Y331+Y333+Y336+Y338+Y340+Y343+Y345+Y347+Y350+Y356+Y362+Y364+Y366+Y369)/24","v":0}]
[{"$f":"HYPERLINK(\"http://sdlegislature.gov/Rules/DisplayRule.aspx?Rule=24:05:27:01.03\",\"Transition IEP*\n(24:05:27:01.03)\")","v":"Transition IEP*\n(24:05:27:01.03)"},null,null,null,null,null,{"$f":"HYPERLINK(\"https://gosynth.com/p/s/itwkve\",\"Transition IEP must be in effect for all students on their 16 birthday or for younger students if it is addressed in the IEP.   \n*This is not on the Indicator 13 checklist, but it is a compliance requirement. \")","v":"Transition IEP must be in effect for all students on their 16 birthday or for younger students if it is addressed in the IEP.   \n*This is not on the Indicator 13 checklist, but it is a compliance requirement. "},null,null,null,null,null,null,null,null,null,null,null,"Select","V269",null,null,null,null,{"$f":"S307","v":"Select"},{"$f":"S307","v":"Select"}]
[null,null,null,null,null,null,null,null,null,null,null,null,null,null,null,null,null,null,null,null,null,null,null,{"$f":"Y308+Z308","v":0},{"$f":"COUNTIF(Y307,\"Yes\")*3","v":0},{"$f":"COUNTIF(Z307,\"No\")*3","v":0}]
[null,null,null,null,null,null,null,null,null,null,null,null,null,null,null,null,null,null,"Select",null,null,null,null,null,{"$f":"S309","v":"Select"},{"$f":"S309","v":"Select"}]
[{"$f":"HYPERLINK(\"http://sdlegislature.gov/Rules/DisplayRule.aspx?Rule=24:05:27:01.03\",\"Transition Assessments\n(24:05:27:01.03)\")","v":"Transition Assessments\n(24:05:27:01.03)"},null,null,null,null,null,null,"Employment",null,null,null,null,null,null,null,null,null,null,null,null,null,null,null,{"$f":"Y310+Z310","v":0},{"$f":"COUNTIF(Y309,\"Yes\")*3","v":0},{"$f":"COUNTIF(Z309,\"No\")*3","v":0}]
[null,null,null,null,null,null,null,null,null,null,null,null,null,null,null,null,null,null,"Select",null,null,null,null,null,{"$f":"S311","v":"Select"},{"$f":"S311","v":"Select"}]
[null,null,null,null,null,null,null,"Education/Training",null,null,null,null,null,null,null,null,null,null,null,null,null,null,null,{"$f":"Y312+Z312","v":0},{"$f":"COUNTIF(Y311,\"Yes\")*3","v":0},{"$f":"COUNTIF(Z311,\"No\")*3","v":0}]
[null,null,null,null,null,null,null,"Independent Living",null,null,null,null,null,null,null,null,null,null,"Select",null,null,null,null,null,{"$f":"S313","v":"Select"},{"$f":"S313","v":"Select"}]
[null,null,null,null,null,null,{"$f":"HYPERLINK(\"https://gosynth.com/p/s/itwkve\",\"The transition assessment must be completed prior to the age of 16 and updated annually.  Evidence of transition strengths/ needs are document on the PLAAFPs.  \")","v":"The transition assessment must be completed prior to the age of 16 and updated annually.  Evidence of transition strengths/ needs are document on the PLAAFPs.  "},null,null,null,null,null,null,null,null,null,null,null,null,null,null,null,null,{"$f":"Y314+Z314","v":0},{"$f":"COUNTIF(Y313,\"Yes\")*3","v":0},{"$f":"COUNTIF(Z313,\"No\")*3","v":0}]
["Transition Evaluation Report*\n",null,null,null,null,null,{"$f":"HYPERLINK(\"https://gosynth.com/p/s/itwkve\",\"A transition evaluation report is located in the file.\n\n*This is not on the Indicator 13 checklist, but it is a compliance requirement. \")","v":"A transition evaluation report is located in the file.\n\n*This is not on the Indicator 13 checklist, but it is a compliance requirement. "},null,null,null,null,null,null,null,null,null,null,null,"Select",null,null,null,null,null,{"$f":"S315","v":"Select"},{"$f":"S315","v":"Select"}]
[null,null,null,null,null,null,null,null,null,null,null,null,null,null,null,null,null,null,null,null,null,null,null,{"$f":"Y316+Z316","v":0},{"$f":"COUNTIF(Y315,\"Yes\")*3","v":0},{"$f":"COUNTIF(Z315,\"No\")*3","v":0}]
[{"$f":"HYPERLINK(\"https://gosynth.com/p/s/itwkve\",\"Indicator 13 Item 2\")","v":"Indicator 13 Item 2"}]
[{"$f":"HYPERLINK(\"http://sdlegislature.gov/Rules/DisplayRule.aspx?Rule=24:05:27:01.03\",\"Age-Appropriate Measurable \nPost-Secondary Goals \n(24:05:27:01.03)\")","v":"Age-Appropriate Measurable \nPost-Secondary Goals \n(24:05:27:01.03)"},null,null,null,null,null,null,"Employment",null,null,null,null,null,null,null,null,null,null,"Select","V278",null,null,null,null,{"$f":"S318","v":"Select"},{"$f":"S318","v":"Select"}]
[null,null,null,null,null,null,null,null,null,null,null,null,null,null,null,null,null,null,null,null,null,null,null,{"$f":"Y319+Z319","v":0},{"$f":"COUNTIF(Y318,\"Yes\")*3","v":0},{"$f":"COUNTIF(Z318,\"No\")*3","v":0}]
[null,null,null,null,null,null,null,"Education/Training",null,null,null,null,null,null,null,null,null,null,"Select",null,null,null,null,null,{"$f":"S320","v":"Select"},{"$f":"S320","v":"Select"}]
[null,null,null,null,null,null,null,null,null,null,null,null,null,null,null,null,null,null,null,null,null,null,null,{"$f":"Y321+Z321","v":0},{"$f":"COUNTIF(Y320,\"Yes\")*3","v":0},{"$f":"COUNTIF(Z320,\"No\")*3","v":0}]
[null,null,null,null,null,null,null,"Independent Living",null,null,null,null,null,null,null,null,null,null,"Select",null,null,null,null,null,{"$f":"S322","v":"Select"},{"$f":"S322","v":"Select"}]
[null,null,null,null,null,null,null,null,null,null,null,null,null,null,null,null,null,null,null,null,null,null,null,{"$f":"Y323+Z323","v":0},{"$f":"COUNTIF(Y322,\"Yes\")*3","v":0},{"$f":"COUNTIF(Z322,\"No\")*3","v":0}]
[{"$f":"HYPERLINK(\"https://gosynth.com/p/s/itwkve\",\"Indicator 13 Item 3\")","v":"Indicator 13 Item 3"}]
["MPSGs Updated Annually",null,null,null,null,null,null,null,null,null,null,null,null,null,null,null,null,null,"Select","V282",null,null,null,null,{"$f":"S325","v":"Select"},{"$f":"S325","v":"Select"}]
[null,null,null,null,null,null,null,null,null,null,null,null,null,null,null,null,null,null,null,null,null,null,null,{"$f":"Y326+Z326","v":0},{"$f":"COUNTIF(Y325,\"Yes\")*3","v":0},{"$f":"COUNTIF(Z325,\"No\")*3","v":0}]
["Indicator 13 Item 4"]
[{"$f":"HYPERLINK(\"http://sdlegislature.gov/Rules/DisplayRule.aspx?Rule=24:05:27:01.03\",\"Course of Study Aligns to \nPost-Secondary Goals\n(24:05:27:01.03)\")","v":"Course of Study Aligns to \nPost-Secondary Goals\n(24:05:27:01.03)"},null,null,null,null,null,null,"Employment",null,null,null,null,null,null,null,null,null,null,"Select","V285",null,null,null,null,{"$f":"S328","v":"Select"},{"$f":"S328","v":"Select"}]
[null,null,null,null,null,null,null,null,null,null,null,null,null,null,null,null,null,null,null,null,null,null,null,{"$f":"Y329+Z329","v":0},{"$f":"COUNTIF(Y328,\"Yes\")*3","v":0},{"$f":"COUNTIF(Z328,\"No\")*3","v":0}]
[null,null,null,null,null,null,null,"Education/Training",null,null,null,null,null,null,null,null,null,null,"Select",null,null,null,null,null,{"$f":"S330","v":"Select"},{"$f":"S330","v":"Select"}]
[null,null,null,null,null,null,null,null,null,null,null,null,null,null,null,null,null,null,null,null,null,null,null,{"$f":"Y331+Z331","v":0},{"$f":"COUNTIF(Y330,\"Yes\")*3","v":0},{"$f":"COUNTIF(Z330,\"No\")*3","v":0}]
[null,null,null,null,null,null,null,"Independent Living",null,null,null,null,null,null,null,null,null,null,"Select",null,null,null,null,null,{"$f":"S332","v":"Select"},{"$f":"S332","v":"Select"}]
[null,null,null,null,null,null,"Completed by age 16, or younger if transition has been addressed in the IEP, and updated annually through graduation or ‘age out’.",null,null,null,null,null,null,null,null,null,null,null,null,null,null,null,null,{"$f":"Y333+Z333","v":0},{"$f":"COUNTIF(Y332,\"Yes\")*3","v":0},{"$f":"COUNTIF(Z332,\"No\")*3","v":0}]
[{"$f":"HYPERLINK(\"https://gosynth.com/p/s/itwkve\",\"Indicator 13 Item 5\")","v":"Indicator 13 Item 5"}]
[{"$f":"HYPERLINK(\"http://sdlegislature.gov/Rules/DisplayRule.aspx?Rule=24:05:27:13.02\",\"Transition Services/Activities\n(24:05:27:13.02)\")","v":"Transition Services/Activities\n(24:05:27:13.02)"},null,null,null,null,null,null,"Employment",null,null,null,null,null,null,null,null,null,null,"Select","V290",null,null,null,null,{"$f":"S335","v":"Select"},{"$f":"S335","v":"Select"}]
[null,null,null,null,null,null,null,null,null,null,null,null,null,null,null,null,null,null,null,null,null,null,null,{"$f":"Y336+Z336","v":0},{"$f":"COUNTIF(Y335,\"Yes\")*3","v":0},{"$f":"COUNTIF(Z335,\"No\")*3","v":0}]
[null,null,null,null,null,null,null,"Education/Training",null,null,null,null,null,null,null,null,null,null,"Select",null,null,null,null,null,{"$f":"S337","v":"Select"},{"$f":"S337","v":"Select"}]
[null,null,null,null,null,null,null,null,null,null,null,null,null,null,null,null,null,null,null,null,null,null,null,{"$f":"Y338+Z338","v":0},{"$f":"COUNTIF(Y337,\"Yes\")*3","v":0},{"$f":"COUNTIF(Z337,\"No\")*3","v":0}]
[null,null,null,null,null,null,null,"Independent Living",null,null,null,null,null,null,null,null,null,null,"Select",null,null,null,null,null,{"$f":"S339","v":"Select"},{"$f":"S339","v":"Select"}]
[null,null,null,null,null,null,"Services/activities will reasonably enable the student to meet post-secondary goals and have at least one activity per MPSG addressed.",null,null,null,null,null,null,null,null,null,null,null,null,null,null,null,null,{"$f":"Y340+Z340","v":0},{"$f":"COUNTIF(Y339,\"Yes\")*3","v":0},{"$f":"COUNTIF(Z339,\"No\")*3","v":0}]
[{"$f":"HYPERLINK(\"https://gosynth.com/p/s/itwkve\",\"Indicator 13 Item 6\")","v":"Indicator 13 Item 6"}]
[{"$f":"HYPERLINK(\"http://sdlegislature.gov/Rules/DisplayRule.aspx?Rule=24:05:27:13.02\",\"Annual Goal Related to Student’s Transition Service needs in\n(24:05:27:13.02)\")","v":"Annual Goal Related to Student’s Transition Service needs in\n(24:05:27:13.02)"},null,null,null,null,null,null,"Employment",null,null,null,null,null,null,null,null,null,null,"Select","V295",null,null,null,null,{"$f":"S342","v":"Select"},{"$f":"S342","v":"Select"}]
[null,null,null,null,null,null,null,null,null,null,null,null,null,null,null,null,null,null,null,null,null,null,null,{"$f":"Y343+Z343","v":0},{"$f":"COUNTIF(Y342,\"Yes\")*3","v":0},{"$f":"COUNTIF(Z342,\"No\")*3","v":0}]
[null,null,null,null,null,null,null,"Education/Training",null,null,null,null,null,null,null,null,null,null,"Select",null,null,null,null,null,{"$f":"S344","v":"Select"},{"$f":"S344","v":"Select"}]
[null,null,null,null,null,null,null,null,null,null,null,null,null,null,null,null,null,null,null,null,null,null,null,{"$f":"Y345+Z345","v":0},{"$f":"COUNTIF(Y344,\"Yes\")*3","v":0},{"$f":"COUNTIF(Z344,\"No\")*3","v":0}]
[null,null,null,null,null,null,null,"Independent Living",null,null,null,null,null,null,null,null,null,null,"Select",null,null,null,null,null,{"$f":"S346","v":"Select"},{"$f":"S346","v":"Select"}]
[null,null,null,null,null,null,{"$f":"HYPERLINK(\"https://gosynth.com/p/s/itwkve\",\"Annual goals are linked to the MPSGs.\")","v":"Annual goals are linked to the MPSGs."},null,null,null,null,null,null,null,null,null,null,null,null,null,null,null,null,{"$f":"Y347+Z347","v":0},{"$f":"COUNTIF(Y346,\"Yes\")*3","v":0},{"$f":"COUNTIF(Z346,\"No\")*3","v":0}]
[{"$f":"HYPERLINK(\"https://gosynth.com/p/s/pisllo\",\"Indicator 13 Item 7\")","v":"Indicator 13 Item 7"}]
[{"$f":"HYPERLINK(\"http://sdlegislature.gov/Rules/DisplayRule.aspx?Rule=24:05:25:16.01\",\"Student Invitation/Participation\n(24:05:25:16.01)\")","v":"Student Invitation/Participation\n(24:05:25:16.01)"},null,null,null,null,null,"How the student invited?",null,null,null,null,{"$f":"HYPERLINK(\"https://gosynth.com/p/s/pisllo\",\"If student was not in attendance at the meeting, the IEP should show evidence that student's preferences and interests were taken into account. *\")","v":"If student was not in attendance at the meeting, the IEP should show evidence that student's preferences and interests were taken into account. *"},null,null,null,null,null,null,"Select","V300",null,null,null,null,{"$f":"S349","v":"Select"},{"$f":"S349","v":"Select"}]
[null,null,null,null,null,null,null,null,null,null,null,null,null,null,null,null,null,null,null,null,null,null,null,{"$f":"Y350+Z350","v":0},{"$f":"COUNTIF(Y349,\"Yes\")*3","v":0},{"$f":"COUNTIF(Z349,\"No\")*3","v":0}]
[null,null,null,null,null,null,null,"Meeting notice"]
[null,null,null,null,null,null,null,"Individual student invite"]
[]
[{"$f":"HYPERLINK(\"https://gosynth.com/p/s/pisllo\",\"Indicator 13 Item 8\")","v":"Indicator 13 Item 8"}]
[{"$f":"HYPERLINK(\"http://sdlegislature.gov/Rules/DisplayRule.aspx?Rule=24:05:25:16.01\",\"Consent to Invite Outside Agency\n(24:05:25:16.01)\")","v":"Consent to Invite Outside Agency\n(24:05:25:16.01)"},null,null,null,null,null,{"$f":"HYPERLINK(\"https://gosynth.com/p/s/pisllo\",\" Written Consent to invite:\")","v":" Written Consent to invite:"},null,null,null,null,null,null,"List of agencies invited:",null,null,null,null,"Select","V306",null,null,null,null,{"$f":"S355","v":"Select"},{"$f":"S355","v":"Select"}]
[null,null,null,null,null,null,"Invited on Meeting Notice:",null,null,null,null,null,"Yes",null,null,null,null,null,null,null,null,null,null,{"$f":"Y356+Z356","v":0},{"$f":"COUNTIF(Y355,\"Yes\")*3","v":0},{"$f":"COUNTIF(Z355,\"No\")*3","v":0}]
[null,null,null,null,null,null,null,null,null,null,null,null,"No"]
[null,null,null,null,null,null,"Meeting Notice Date:",null,null,null,null,{"$f":"J177","v":"00:00:00"}]
[null,null,null,null,null,null,"Date of Current IEP Meeting:",null,null,null,null,{"$f":"T5","v":"00:00:00"}]
[{"$f":"HYPERLINK(\"https://gosynth.com/p/s/pisllo\",\"Other Transition Areas *\")","v":"Other Transition Areas *"}]
[{"$f":"HYPERLINK(\"http://sdlegislature.gov/Rules/DisplayRule.aspx?Rule=24:05:30:16.01\",\"Transfer of Parental Rights:\n(24:05:30:16.01)\")","v":"Transfer of Parental Rights:\n(24:05:30:16.01)"},null,null,null,null,null,"Turned 17 on:",null,null,null,null,null,null,null,null,null,null,null,"Select","V312",null,null,null,null,{"$f":"S361","v":"Select"},{"$f":"S361","v":"Select"}]
[null,null,null,null,null,null,"Rights reviewed on:",null,null,null,null,null,null,null,null,null,null,null,null,null,null,null,null,{"$f":"Y362+Z362","v":0},{"$f":"COUNTIF(Y361,\"Yes\")*3","v":0},{"$f":"COUNTIF(Z361,\"No\")*3","v":0}]
[{"$f":"HYPERLINK(\"http://sdlegislature.gov/Rules/DisplayRule.aspx?Rule=24:05:27:12\",\"Specific Graduation Requirements:\n(24:05:27:12)\")","v":"Specific Graduation Requirements:\n(24:05:27:12)"},null,null,null,null,null,"Graduation requirements addressed on:",null,null,null,null,null,null,null,null,null,null,null,"Select",null,null,null,null,null,{"$f":"S363","v":"Select"},{"$f":"S363","v":"Select"}]
[null,null,null,null,null,null,"Student is projected to graduate:",null,null,null,null,null,null,null,null,null,null,null,null,null,null,null,null,{"$f":"Y364+Z364","v":0},{"$f":"COUNTIF(Y363,\"Yes\")*3","v":0},{"$f":"COUNTIF(Z363,\"No\")*3","v":0}]
[{"$f":"HYPERLINK(\"http://sdlegislature.gov/Rules/DisplayRule.aspx?Rule=24:05:27:12\",\"When Student has Graduated\n(24:05:27:12)\")","v":"When Student has Graduated\n(24:05:27:12)"},null,null,null,null,null,"Written prior notice was sent:",null,null,null,null,null,null,null,null,null,null,null,"Select",null,null,null,null,null,{"$f":"S365","v":"Select"},{"$f":"S365","v":"Select"}]
[null,null,null,null,null,null,{"$f":"HYPERLINK(\"https://gosynth.com/p/s/pisllo\",\"When a student graduates, it is a change in placement. It must have a written\n prior notice sent.  If student has \"\"aged-out\"\", a PPWN is required.  \")","v":"When a student graduates, it is a change in placement. It must have a written\n prior notice sent.  If student has \"aged-out\", a PPWN is required.  "},null,null,null,null,null,null,null,null,null,null,null,null,null,null,null,null,{"$f":"Y366+Z366","v":0},{"$f":"COUNTIF(Y365,\"Yes\")*3","v":0},{"$f":"COUNTIF(Z365,\"No\")*3","v":0}]
[]
[{"$f":"HYPERLINK(\"http://sdlegislature.gov/Rules/DisplayRule.aspx?Rule=24:05:27:12\",\"Summary of Performance was provided to the Student/Parent/Guardian\n(24:05:27:12)\")","v":"Summary of Performance was provided to the Student/Parent/Guardian\n(24:05:27:12)"},null,null,null,null,null,{"$f":"HYPERLINK(\"https://gosynth.com/p/s/pisllo\",\"Summary of Performance (SOP) is required for students who graduated and\n aged out. A copy of the SOP should remain in the file.\")","v":"Summary of Performance (SOP) is required for students who graduated and\n aged out. A copy of the SOP should remain in the file."},null,null,null,null,null,null,null,null,null,null,null,"Select",null,null,null,null,null,{"$f":"S368","v":"Select"},{"$f":"S368","v":"Select"}]
[null,null,null,null,null,null,null,null,null,null,null,null,null,null,null,null,null,null,null,null,null,null,null,{"$f":"Y369+Z369","v":0},{"$f":"COUNTIF(Y368,\"Yes\")*3","v":0},{"$f":"COUNTIF(Z368,\"No\")*3","v":0}]
[]
["Click on the [+] button to expand or the [-] button to collapse."]
[{"$f":"HYPERLINK(\"https://gosynth.com/p/s/kldkzb\",\"Related Services\")","v":"Related Services"},null,null,null,null,null,null,null,null,null,null,null,null,null,null,null,null,null,{"$f":"IFERROR(Y375/X375,\"N/A\")","v":"N/A"}]
[{"$f":"HYPERLINK(\"http://sdlegislature.gov/Rules/DisplayRule.aspx?Rule=24:05:27:16\",\"Related Services\n(24:05:27)\")","v":"Related Services\n(24:05:27)"},null,null,null,null,null,"Service Provided:",null,null,null,null,null,"If student will receive services in a different location, then must break it out to calculate the Least Restrictive Environment.",null,null,null,null,null,"Select","V324",null,null,null,null,{"$f":"S373","v":"Select"},{"$f":"S373","v":"Select"}]
[null,null,null,null,null,null,null,null,null,null,null,null,null,null,null,null,null,null,null,null,null,null,null,{"$f":"Y374+Z374","v":0},{"$f":"COUNTIF(Y373,\"Yes\")*3","v":0},{"$f":"COUNTIF(Z373,\"No\")*3","v":0}]
[null,null,null,null,null,null,null,"Frequency",null,null,"Location",null,null,null,null,null,null,null,null,null,null,null,null,{"$f":"(X374+X379)/2","v":0},{"$f":"(Y374+Y379)/2","v":0}]
[null,null,null,null,null,null,null,"Duration",null,null,"Other"]
[null,null,null,null,null,null,"Service Provided:",null,null,null,null,null,"At a minimum, all areas student qualifies and has an annual goal must have service time documented. If not addressed, then PPWN must explain reason."]
[null,null,null,null,null,null,null,null,null,null,null,null,null,null,null,null,null,null,"Select",null,null,null,null,null,{"$f":"S378","v":"Select"},{"$f":"S378","v":"Select"}]
[null,null,null,null,null,null,null,"Frequency",null,null,"Location",null,null,null,null,null,null,null,null,null,null,null,null,{"$f":"Y379+Z379","v":0},{"$f":"COUNTIF(Y378,\"Yes\")*3","v":0},{"$f":"COUNTIF(Z378,\"No\")*3","v":0}]
[null,null,null,null,null,null,null,"Duration",null,null,"Other"]
[]
["Least Restrictive Environment ",null,null,null,null,null,null,null,null,null,null,null,null,null,null,null,null,null,{"$f":"IFERROR(Y382/X382,\"N/A\")","v":"N/A"},null,null,null,null,{"$f":"(X384+X388+X392+X396+X400+X402+X404+X406+X408)/9","v":0},{"$f":"(Y384+Y388+Y392+Y396+Y400+Y402+Y404+Y406+Y408)/9","v":0}]
[{"$f":"HYPERLINK(\"https://sdlegislature.gov/Rules/DisplayRule.aspx?Rule=24:05:28\",\"Least Restrictive Enviornment \n(Chapter 24:05:28)\")","v":"Least Restrictive Enviornment \n(Chapter 24:05:28)"},null,null,null,null,null,{"$f":"HYPERLINK(\"https://gosynth.com/p/s/llxjsq\",\"Skill area:\")","v":"Skill area:"},null,null,null,null,null,null,null,null,null,null,null,"Select","V334",null,null,null,null,{"$f":"S383","v":"Select"},{"$f":"S383","v":"Select"}]
[null,null,null,null,null,null,null,null,null,null,null,null,null,null,null,null,null,null,null,null,null,null,null,{"$f":"Y384+Z384","v":0},{"$f":"COUNTIF(Y383,\"Yes\")*3","v":0},{"$f":"COUNTIF(Z383,\"No\")*3","v":0}]
[null,null,null,null,null,null,null,null,"Frequency",null,null,"Duration",null,null,"Location"]
[]
[null,null,null,null,null,null,"Skill area:",null,null,null,null,null,null,null,null,null,null,null,"Select",null,null,null,null,null,{"$f":"S387","v":"Select"},{"$f":"S387","v":"Select"}]
[null,null,null,null,null,null,null,null,null,null,null,null,null,null,null,null,null,null,null,null,null,null,null,{"$f":"Y388+Z388","v":0},{"$f":"COUNTIF(Y387,\"Yes\")*3","v":0},{"$f":"COUNTIF(Z387,\"No\")*3","v":0}]
[null,null,null,null,null,null,null,null,"Frequency",null,null,"Duration",null,null,"Location"]
[]
[null,null,null,null,null,null,"Skill area:",null,null,null,null,null,null,null,null,null,null,null,"Select",null,null,null,null,null,{"$f":"S391","v":"Select"},{"$f":"S391","v":"Select"}]
[null,null,null,null,null,null,null,null,null,null,null,null,null,null,null,null,null,null,null,null,null,null,null,{"$f":"Y392+Z392","v":0},{"$f":"COUNTIF(Y391,\"Yes\")*3","v":0},{"$f":"COUNTIF(Z391,\"No\")*3","v":0}]
[null,null,null,null,null,null,null,null,"Frequency",null,null,"Duration",null,null,"Location"]
[]
[null,null,null,null,null,null,"Skill area:",null,null,null,null,null,null,null,null,null,null,null,"Select",null,null,null,null,null,{"$f":"S395","v":"Select"},{"$f":"S395","v":"Select"}]
[null,null,null,null,null,null,null,null,null,null,null,null,null,null,null,null,null,null,null,null,null,null,null,{"$f":"Y396+Z396","v":0},{"$f":"COUNTIF(Y395,\"Yes\")*3","v":0},{"$f":"COUNTIF(Z395,\"No\")*3","v":0}]
[null,null,null,null,null,null,null,null,"Frequency",null,null,"Duration",null,null,"Location"]
[]
[{"$f":"HYPERLINK(\"http://sdlegislature.gov/Rules/DisplayRule.aspx?Rule=24:05:28:02\",\"Continuum of Placement\n(24:05:28:02)\")","v":"Continuum of Placement\n(24:05:28:02)"},null,null,null,null,null,"Select:",null,null,null,null,null,null,null,null,null,null,null,"Select","V350",null,null,null,null,{"$f":"S399","v":"Select"},{"$f":"S399","v":"Select"}]
[null,null,null,null,null,null,null,null,null,null,null,null,null,null,null,null,null,null,null,null,null,null,null,{"$f":"Y400+Z400","v":0},{"$f":"COUNTIF(Y399,\"Yes\")*3","v":0},{"$f":"COUNTIF(Z399,\"No\")*3","v":0}]
[null,null,null,null,null,null,"Select for Early Childhood (Ages 3-5):",null,null,null,null,null,null,null,null,null,null,null,"Select",null,null,null,null,null,{"$f":"S401","v":"Select"},{"$f":"S401","v":"Select"}]
[null,null,null,null,null,null,null,null,null,null,null,null,null,null,null,null,null,null,null,null,null,null,null,{"$f":"Y402+Z402","v":0},{"$f":"COUNTIF(Y401,\"Yes\")*3","v":0},{"$f":"COUNTIF(Z401,\"No\")*3","v":0}]
[{"$f":"HYPERLINK(\"http://sdlegislature.gov/Rules/DisplayRule.aspx?Rule=24:05:27:01.03\",\"Participation with Non-disabled Peers\n(24:05:27:01.03)\")","v":"Participation with Non-disabled Peers\n(24:05:27:01.03)"},null,null,null,null,null,{"$f":"HYPERLINK(\"https://gosynth.com/p/s/wjqcuh\",\"Document opportunities to participate with non-disabled peers.\")","v":"Document opportunities to participate with non-disabled peers."},null,null,null,null,null,null,null,null,null,null,null,"Select",null,null,null,null,null,{"$f":"S403","v":"Select"},{"$f":"S403","v":"Select"}]
[null,null,null,null,null,null,null,null,null,null,null,null,null,null,null,null,null,null,null,null,null,null,null,{"$f":"Y404+Z404","v":0},{"$f":"COUNTIF(Y403,\"Yes\")*3","v":0},{"$f":"COUNTIF(Z403,\"No\")*3","v":0}]
[{"$f":"HYPERLINK(\"http://sdlegislature.gov/Rules/DisplayRule.aspx?Rule=24:05:28:03\",\"Justification for Placement \n(24:05:28:03)\")","v":"Justification for Placement \n(24:05:28:03)"},null,null,null,null,null,{"$f":"HYPERLINK(\"https://gosynth.com/p/s/rjxcoc\",\"                  Select from the following:\")","v":"                  Select from the following:"},null,null,null,null,null,null,null,null,null,null,null,"Select",null,null,null,null,null,{"$f":"S405","v":"Select"},{"$f":"S405","v":"Select"}]
[null,null,null,null,null,null,null,null,null,null,null,null,null,null,null,null,null,null,null,null,null,null,null,{"$f":"Y406+Z406","v":0},{"$f":"COUNTIF(Y405,\"Yes\")*3","v":0},{"$f":"COUNTIF(Z405,\"No\")*3","v":0}]
[{"$f":"HYPERLINK(\"http://sdlegislature.gov/Rules/DisplayRule.aspx?Rule=24:05:25:26\",\"Extended School Year\n(24:05:25:26)\")","v":"Extended School Year\n(24:05:25:26)"},null,null,null,null,null,{"$f":"HYPERLINK(\"https://gosynth.com/p/s/bbepxx\",\"                  Check the following:\")","v":"                  Check the following:"},null,null,null,null,null,null,null,null,null,null,null,"Select","V358",null,null,null,null,{"$f":"S407","v":"Select"},{"$f":"S407","v":"Select"}]
[null,null,null,null,null,null,null,null,null,null,null,null,null,null,null,null,null,null,null,null,null,null,null,{"$f":"Y408+Z408","v":0},{"$f":"COUNTIF(Y407,\"Yes\")*3","v":0},{"$f":"COUNTIF(Z407,\"No\")*3","v":0}]
[null,null,null,null,null,null,null,null,"Determination",null,null,null,"Beginning/end dates"]
[null,null,null,null,null,null,null,null,"Goals",null,null,null,"Amount of service"]
[]
[]
[]
[{"$f":"HYPERLINK(\"https://gosynth.com/p/s/acbbuk\",\"Prior Parental Written Notice\")","v":"Prior Parental Written Notice"},null,null,null,null,null,null,null,null,null,null,null,null,null,null,null,null,null,{"$f":"IFERROR(Y414/X414,\"N/A\")","v":"N/A"},null,null,null,null,{"$f":"(X416+X421)/2","v":0},{"$f":"(Y416+Y421)/2","v":0}]
[{"$f":"HYPERLINK(\"http://sdlegislature.gov/Rules/DisplayRule.aspx?Rule=24:05:30:04\",\"Prior Written Notice Sent to Parent Regarding IEP Implementation\n(24:05:30:04)\")","v":"Prior Written Notice Sent to Parent Regarding IEP Implementation\n(24:05:30:04)"},null,null,null,null,null,"Date the district sent the PPWN:",null,null,null,null,null,null,null,"The implementation date documented on the PPWN must be reflected on IEP.\n\nThe five-day notice requirement may be waived by the parents.",null,null,null,"Select","V366",null,null,null,null,{"$f":"S415","v":"Select"},{"$f":"S415","v":"Select"}]
[null,null,null,null,null,null,"District proposed at least 5 calendar days to begin implementation:",null,null,null,null,null,{"$f":"M415+5","v":"1900-01-05"},null,null,null,null,null,null,null,null,null,null,{"$f":"Y416+Z416","v":0},{"$f":"COUNTIF(Y415,\"Yes\")*3","v":0},{"$f":"COUNTIF(Z415,\"No\")*3","v":0}]
[]
[null,null,null,null,null,null,"Was the 5 calendar day notice requirement met?",null,null,null,null,null,null,"Yes"]
[null,null,null,null,null,null,null,null,null,null,null,null,null,"No"]
[{"$f":"HYPERLINK(\"http://sdlegislature.gov/Rules/DisplayRule.aspx?Rule=24:05:30:05\",\"Content of PPWN\n(24:05:30:05)\")","v":"Content of PPWN\n(24:05:30:05)"},null,null,null,null,null,"Check the following:",null,null,null,null,null,null,null,null,null,null,null,"Select","V371",null,null,null,null,{"$f":"S420","v":"Select"},{"$f":"S420","v":"Select"}]
[null,null,null,null,null,null,"PPWN must be individualized to the student, IEP team discussions and situation.",null,null,null,null,null,null,null,null,null,null,null,null,null,null,null,null,{"$f":"Y421+Z421","v":0},{"$f":"COUNTIF(Y420,\"Yes\")*3","v":0},{"$f":"COUNTIF(Z420,\"No\")*3","v":0}]
[]
[null,null,null,null,null,null,null,"Explanation of why the district proposed or refused to take the action"]
[null,null,null,null,null,null,null,"Description of other options considered and why they were rejected "]
[null,null,null,null,null,null,null,"Description of evidence used for the proposed or refused action"]
[null,null,null,null,null,null,null,"Description of other factors that are relevant to proposal or refusal"]
[]
[null,null,null,null,null,null,"To skip back to Eligibility section click ",null,null,null,null,"HERE."]
[]
[{"$f":"HYPERLINK(\"https://gosynth.com/p/s/iwvzyu\",\"Amendment to IEP\")","v":"Amendment to IEP"},null,null,null,null,null,null,null,null,null,null,null,null,null,null,null,null,null,{"$f":"IFERROR(Z430/Y430,\"N/A\")","v":"N/A"},null,null,null,null,null,{"$f":"(X432+X434)/2","v":0},{"$f":"(Y432+Y434)/2","v":0}]
["Amendment to IEP",null,null,null,null,null,null,null,null,null,null,null,null,null,null,null,null,null,"Select","V381",null,null,null,null,{"$f":"S431","v":"Select"},{"$f":"S431","v":"Select"}]
[{"$f":"HYPERLINK(\"http://sdlegislature.gov/Rules/DisplayRule.aspx?Rule=24:05:27:08.01\",\"(24:05:27:08.01)\")","v":"(24:05:27:08.01)"},null,null,{"$f":"HYPERLINK(\"http://sdlegislature.gov/Rules/DisplayRule.aspx?Rule=24:05:27:08.02\",\"(24:05:27:08.02)\")","v":"(24:05:27:08.02)"},null,null,null,null,null,null,null,null,null,null,null,null,null,null,null,null,null,null,null,{"$f":"Y432+Z432","v":0},{"$f":"COUNTIF(Y431,\"Yes\")*3","v":0},{"$f":"COUNTIF(Z431,\"No\")*3","v":0}]
[{"$f":"HYPERLINK(\"http://sdlegislature.gov/Rules/DisplayRule.aspx?Rule=24:05:30:04\",\"Prior Notice\n(24:05:30:04)\")","v":"Prior Notice\n(24:05:30:04)"},null,null,null,null,null,"Document if the amendment was made with or without a meeting.",null,null,null,null,null,null,null,null,null,null,null,"Select",null,null,null,null,null,{"$f":"S433","v":"Select"},{"$f":"S433","v":"Select"}]
[null,null,null,null,null,null,null,null,null,null,null,null,null,null,null,null,null,null,null,null,null,null,null,{"$f":"Y434+Z434","v":0},{"$f":"COUNTIF(Y433,\"Yes\")*3","v":0},{"$f":"COUNTIF(Z433,\"No\")*3","v":0}]
[]
[{"$f":"HYPERLINK(\"https://gosynth.com/p/s/jdtswp\",\"Additional Items\")","v":"Additional Items"},null,null,null,null,null,null,null,null,null,null,null,null,null,null,null,null,null,{"$f":"IFERROR(AB436/AA436,\"N/A\")","v":"N/A"},null,null,null,null,null,{"$f":"S437","v":"Select"},{"$f":"S437","v":"Select"},{"$f":"(X437+X439+X441+X443)/4","v":0},{"$f":"(Y437+Y439+Y441+Y443)/4","v":0}]
["Parent Declined/\nWithdrew Consent for Services ",null,null,null,null,null,"Revocation signed:",null,null,null,null,null,null,{"$f":"HYPERLINK(\"http://sdlegislature.gov/Rules/DisplayRule.aspx?Rule=24:05:27:04.02\",\"(24:05:27:04.02)\")","v":"(24:05:27:04.02)"},null,null,null,null,"Select","V387",null,null,null,{"$f":"Y437+Z437","v":0},{"$f":"COUNTIF(Y436,\"Yes\")*3","v":0},{"$f":"COUNTIF(Z436,\"No\")*3","v":0}]
[null,null,null,null,null,null,"Date prior notice was sent:",null,null,null,null,null,null,null,null,null,null,null,null,null,null,null,null,null,{"$f":"S439","v":"Select"},{"$f":"S439","v":"Select"}]
["Surrogate Parent",null,null,null,null,null,null,null,null,null,null,null,null,null,null,null,null,null,"Select",null,null,null,null,{"$f":"Y439+Z439","v":0},{"$f":"COUNTIF(Y438,\"Yes\")*3","v":0},{"$f":"COUNTIF(Z438,\"No\")*3","v":0}]
["Transfer Students Provided with  FAPE/Comparable Services ",null,null,null,null,null,"Date prior notice was sent:",null,null,null,null,null,null,{"$f":"HYPERLINK(\"http://sdlegislature.gov/Rules/DisplayRule.aspx?Rule=24:05:27:15.01\",\"In-state (24:05:27:15.01)\")","v":"In-state (24:05:27:15.01)"},null,null,null,null,"Select",null,null,null,null,null,{"$f":"S440","v":"Select"},{"$f":"S440","v":"Select"}]
[null,null,null,null,null,null,null,null,null,null,null,null,null,{"$f":"HYPERLINK(\"http://sdlegislature.gov/Rules/DisplayRule.aspx?Rule=24:05:27:15.02\",\"Out-of-state (24:05:27:15.02)\")","v":"Out-of-state (24:05:27:15.02)"},null,null,null,null,null,null,null,null,null,{"$f":"Y441+Z441","v":0},{"$f":"COUNTIF(Y440,\"Yes\")*3","v":0},{"$f":"COUNTIF(Z440,\"No\")*3","v":0}]
["Transfer Students Evaluated for \nSouth Dakota Eligibility",null,null,null,null,null,"Eligibility determination date:",null,null,null,null,null,null,null,null,null,null,null,"Select",null,null,null,null,null,{"$f":"S442","v":"Select"},{"$f":"S442","v":"Select"}]
[null,null,null,null,null,null,"IEP date:",null,null,null,null,null,null,null,null,null,null,null,null,null,null,null,null,{"$f":"Y443+Z443","v":0},{"$f":"COUNTIF(Y442,\"Yes\")*3","v":0},{"$f":"COUNTIF(Z442,\"No\")*3","v":0}]
[null,null,null,null,null,null,"PPWN Implementing IEP sent:"]

{"sheet":"File 9","index":12,"n_rows":444,"n_cols":28,"rows_kept":444,"cut":false,"hidden":false,"merged":[[436,18,437,18],[437,6,437,10],[437,11,437,12],[438,6,438,17],[442,6,442,10],[442,11,442,12],[413,19,413,21],[414,6,414,11],[414,12,414,13],[414,14,418,17],[414,18,418,18],[414,19,418,21],[417,6,418,11],[419,6,419,17],[420,6,420,17],[216,14,216,16],[443,6,443,10],[443,11,443,12],[446,11,447,12],[439,6,440,10],[439,11,440,12],[439,13,439,17],[440,13,440,17],[441,6,441,10],[441,11,441,12],[441,13,443,17],[415,6,416,11],[415,12,416,13],[413,0,413,17],[422,7,422,17],[423,7,423,17],[424,7,424,17],[425,7,425,17],[426,6,426,17],[427,6,427,10],[427,11,427,17],[436,6,436,10],[436,11,436,12],[436,13,437,17],[216,6,216,7],[216,8,216,10],[205,0,206,5],[207,0,209,5],[216,11,216,13],[231,7,231,10],[209,6,209,13],[210,0,210,17],[211,0,213,5],[211,6,213,16],[214,0,215,5],[214,6,215,16],[216,0,233,5],[225,12,225,13],[225,15,225,16],[226,7,226,10],[227,6,227,10],[228,6,228,7],[228,8,228,10],[228,11,228,13],[228,14,228,16],[230,7,230,10],[230,12,230,13],[230,15,230,16],[196,0,200,5],[196,6,200,17],[196,18,200,18],[201,0,201,21],[202,0,202,17],[202,19,202,21],[203,0,204,5],[188,7,188,9],[188,10,188,12],[189,7,189,9],[189,10,189,12],[186,0,189,5],[186,7,186,9],[186,10,186,12],[192,7,192,9],[193,7,193,9],[193,10,193,12],[194,7,194,9],[190,0,190,5],[190,7,190,9],[190,10,190,12],[191,0,195,5],[191,7,191,9],[191,10,191,12],[152,12,156,15],[154,7,156,10],[145,7,146,10],[145,12,146,15],[149,18,162,18],[149,19,162,21],[150,6,150,15],[150,17,160,17],[158,12,159,15],[151,6,151,15],[152,7,153,10],[157,7,158,10],[157,12,157,15],[210,19,210,21],[211,19,215,21],[214,18,215,18],[196,19,200,21],[203,19,209,21],[205,18,206,18],[207,14,208,17],[207,18,209,18],[209,14,209,17],[211,18,213,18],[205,6,206,17],[207,6,207,10],[207,11,207,13],[208,6,208,10],[208,11,208,13],[203,6,204,17],[203,18,204,18],[190,13,190,16],[191,13,191,16],[192,13,192,16],[193,13,193,16],[194,13,194,16],[176,12,177,17],[184,13,185,16],[186,13,186,16],[184,10,185,12],[194,10,194,12],[180,6,180,17],[182,7,183,16],[187,7,187,9],[187,10,187,12],[187,13,187,16],[188,13,188,16],[192,10,192,12],[172,12,173,17],[172,18,173,18],[172,19,173,21],[177,0,177,2],[177,3,177,5],[177,6,177,8],[177,9,177,11],[178,0,178,5],[178,6,179,17],[179,0,179,2],[179,3,179,5],[176,18,177,18],[176,19,195,21],[178,18,179,18],[180,18,195,18],[176,0,176,5],[176,6,176,8],[176,9,176,11],[174,0,174,21],[175,0,175,17],[175,19,175,21],[180,0,185,5],[184,7,185,9],[189,13,189,16],[216,18,221,18],[216,19,233,21],[222,18,227,18],[228,18,233,18],[218,7,218,10],[218,12,218,13],[220,7,220,10],[221,6,221,10],[222,6,222,7],[222,8,222,10],[222,11,222,13],[222,14,222,16],[231,12,231,13],[231,15,231,16],[232,7,232,10],[233,6,233,10],[218,15,218,16],[219,7,219,10],[219,12,219,13],[219,15,219,16],[224,7,224,10],[224,12,224,13],[224,15,224,16],[225,7,225,10],[117,6,117,13],[117,14,117,17],[118,6,119,17],[120,0,120,21],[118,0,119,5],[130,18,148,18],[130,19,148,21],[133,12,134,15],[135,7,137,10],[135,12,136,15],[137,12,138,15],[138,7,141,10],[139,12,144,15],[142,7,144,10],[121,0,121,17],[121,19,121,21],[122,0,122,17],[122,18,129,18],[122,19,129,21],[123,0,129,5],[123,6,123,17],[124,6,124,17],[125,7,125,11],[126,7,126,11],[165,12,169,17],[167,7,167,11],[168,7,168,11],[110,18,112,18],[110,19,119,21],[113,18,114,18],[115,18,117,18],[118,18,119,18],[104,18,105,18],[106,18,107,18],[169,7,169,11],[162,0,162,17],[163,0,166,5],[163,6,163,17],[163,18,171,18],[163,19,171,21],[164,6,164,17],[167,0,173,5],[165,7,165,11],[166,7,166,11],[170,7,170,13],[171,7,171,11],[172,6,173,10],[172,11,173,11],[98,18,101,18],[98,19,101,21],[99,11,99,13],[106,6,107,17],[84,18,97,18],[84,19,97,21],[86,6,86,8],[86,9,86,12],[87,15,87,17],[100,11,100,13],[101,11,101,13],[102,6,103,17],[102,18,103,18],[94,13,94,14],[94,15,94,17],[95,15,95,17],[96,13,96,14],[96,15,96,17],[99,6,99,10],[100,6,100,10],[102,19,109,21],[108,18,109,18],[89,13,89,14],[89,15,89,17],[91,13,91,14],[91,15,91,17],[92,13,92,14],[92,15,92,17],[97,13,97,14],[97,15,97,17],[98,11,98,13],[98,14,101,17],[93,15,93,17],[93,13,93,14],[110,0,112,5],[110,6,110,10],[111,6,111,10],[113,0,114,5],[115,0,117,5],[115,6,115,12],[116,6,116,12],[98,0,101,5],[98,6,98,10],[101,6,101,10],[102,0,103,5],[104,0,105,5],[106,0,107,5],[108,0,109,5],[104,6,105,17],[108,6,109,17],[110,11,110,13],[110,14,111,17],[111,11,111,13],[112,6,112,13],[112,14,112,17],[113,6,114,17],[115,13,115,15],[116,13,116,15],[90,6,90,8],[90,9,90,12],[78,6,78,8],[78,9,78,12],[80,0,83,5],[80,6,80,8],[80,9,80,12],[81,9,81,12],[84,0,90,5],[83,9,83,12],[96,6,96,8],[96,9,96,12],[91,0,91,5],[91,6,91,8],[91,9,91,12],[92,0,97,5],[92,9,92,12],[93,9,93,12],[94,9,94,12],[93,6,93,8],[94,6,94,8],[92,6,92,8],[97,6,97,8],[97,9,97,12],[74,19,83,21],[76,6,76,8],[76,9,76,12],[76,13,76,14],[76,15,76,17],[77,6,77,8],[77,9,77,12],[77,13,77,14],[77,15,77,17],[82,6,82,8],[82,9,82,12],[82,13,82,14],[82,15,82,17],[83,15,83,17],[78,13,78,14],[78,15,78,17],[80,13,80,14],[80,15,80,17],[81,13,81,14],[81,15,81,17],[83,13,83,14],[74,18,83,18],[81,6,81,8],[83,6,83,8],[150,0,161,5],[159,6,160,6],[159,7,160,10],[161,6,161,15],[89,6,89,8],[89,9,89,12],[90,13,90,14],[90,15,90,17],[95,9,95,12],[147,6,147,15],[148,0,148,17],[149,0,149,17],[128,7,128,11],[128,13,128,17],[131,0,147,5],[131,6,131,15],[131,17,147,17],[132,6,132,15],[133,7,134,10],[95,6,95,8],[127,7,127,11],[127,13,127,17],[129,6,129,17],[130,0,130,17],[84,15,85,17],[84,6,85,8],[86,13,86,14],[86,15,86,17],[87,9,87,12],[87,13,87,14],[88,6,88,8],[88,9,88,12],[84,13,85,14],[88,13,88,14],[88,15,88,17],[84,9,85,12],[87,6,87,8],[125,13,125,17],[126,13,126,17],[66,15,66,17],[66,13,66,14],[67,0,67,5],[67,6,67,8],[67,9,67,12],[67,13,67,14],[67,15,67,17],[68,0,73,5],[79,0,79,5],[79,6,79,8],[79,9,79,12],[79,13,79,14],[79,15,79,17],[72,6,72,8],[72,9,72,12],[74,0,78,5],[74,6,75,8],[74,9,75,12],[74,13,75,14],[74,15,75,17],[68,13,68,14],[73,6,73,8],[60,13,61,14],[60,15,61,17],[62,13,62,14],[62,15,62,17],[63,13,63,14],[63,15,63,17],[64,13,64,14],[64,15,64,17],[65,13,65,14],[65,15,65,17],[54,0,59,5],[54,6,54,9],[54,10,54,12],[55,6,55,9],[55,10,55,12],[45,19,53,21],[54,19,59,21],[58,13,59,17],[56,6,56,9],[56,10,56,12],[57,6,57,9],[57,10,57,12],[58,6,58,9],[58,10,58,12],[59,6,59,9],[59,10,59,12],[62,9,62,12],[63,9,63,12],[64,9,64,12],[65,9,65,12],[66,9,66,12],[60,0,66,5],[60,6,61,8],[62,6,62,8],[63,6,63,8],[64,6,64,8],[65,6,65,8],[66,6,66,8],[60,9,61,12],[21,10,21,13],[21,14,21,17],[27,9,27,11],[27,12,27,17],[52,6,52,17],[53,6,53,17],[45,6,45,17],[46,6,46,17],[47,6,47,17],[48,7,48,17],[49,7,49,17],[50,7,50,17],[51,7,51,17],[39,6,40,17],[22,6,22,9],[22,10,22,13],[25,0,25,21],[26,0,26,17],[26,19,26,21],[22,14,22,17],[23,6,23,9],[23,10,23,13],[23,14,23,17],[45,0,53,5],[17,0,17,21],[18,0,18,17],[19,0,24,5],[19,9,19,11],[19,12,19,17],[20,14,20,17],[24,6,24,17],[8,3,8,6],[8,7,8,9],[9,0,9,21],[8,0,8,2],[10,0,12,5],[10,10,11,10],[10,11,11,13],[10,14,11,17],[10,18,11,18],[10,19,11,21],[18,19,18,21],[19,18,24,18],[19,19,24,21],[20,6,20,9],[20,10,20,13],[19,6,19,8],[21,6,21,9],[10,6,10,9],[11,6,11,9],[12,6,12,21],[13,0,13,21],[14,0,14,17],[14,19,14,21],[15,0,16,5],[15,18,16,18],[15,19,16,21],[15,6,16,17],[6,0,6,2],[6,10,6,13],[7,14,7,18],[8,14,8,18],[8,19,8,21],[4,14,4,18],[4,19,4,21],[5,14,5,18],[5,19,5,21],[6,14,6,18],[6,19,6,21],[7,19,7,21],[6,3,6,6],[6,7,6,9],[7,0,7,2],[7,3,7,6],[7,7,7,9],[7,10,7,13],[8,10,8,13],[3,0,3,21],[4,0,4,2],[4,3,4,6],[4,7,4,9],[4,10,4,13],[5,0,5,2],[5,3,5,6],[5,7,5,9],[5,11,5,13],[0,0,0,3],[0,4,0,5],[0,6,0,8],[0,9,0,11],[0,12,0,14],[0,15,0,17],[0,19,0,21],[1,0,2,13],[1,14,2,17],[1,18,2,18],[1,19,2,21],[73,9,73,12],[73,13,73,14],[73,15,73,17],[68,6,68,8],[68,9,68,12],[69,6,69,8],[69,9,69,12],[69,13,69,14],[69,15,69,17],[70,6,70,8],[70,9,70,12],[70,13,70,14],[70,15,70,17],[71,6,71,8],[71,9,71,12],[71,13,71,14],[71,15,71,17],[68,15,68,17],[72,13,72,14],[72,15,72,17],[41,0,42,5],[41,6,42,17],[43,6,44,17],[27,18,29,18],[27,19,29,21],[30,18,32,18],[30,19,32,21],[35,18,38,18],[35,19,44,21],[39,18,40,18],[43,0,44,5],[27,6,27,8],[28,6,29,17],[30,6,30,17],[31,8,32,17],[408,8,408,10],[408,12,408,15],[409,8,409,10],[411,0,411,16],[412,0,412,21],[27,0,29,5],[30,0,32,5],[31,6,32,7],[35,0,36,5],[35,6,35,9],[33,0,33,21],[34,0,34,17],[34,19,34,21],[35,10,35,12],[35,13,35,17],[41,18,42,18],[43,18,44,18],[45,18,53,18],[54,18,59,18],[60,18,73,18],[60,19,73,21],[36,6,38,17],[37,0,38,5],[39,0,40,5],[397,6,397,16],[398,6,398,16],[399,6,399,16],[400,6,400,16],[401,6,401,16],[402,6,403,16],[404,6,404,16],[405,6,405,16],[406,6,406,16],[391,6,391,16],[392,11,392,12],[392,14,392,16],[393,6,393,16],[394,6,394,8],[394,9,394,16],[395,6,395,16],[396,11,396,12],[396,14,396,16],[385,6,385,16],[386,6,386,8],[386,9,386,16],[387,6,387,16],[388,11,388,12],[388,14,388,16],[389,6,389,16],[390,6,390,8],[390,9,390,16],[382,17,411,17],[406,19,411,21],[419,19,427,21],[430,19,433,21],[436,19,443,21],[372,19,380,21],[377,18,380,18],[382,19,397,21],[390,18,393,18],[394,18,397,18],[398,19,405,21],[400,18,401,18],[380,0,380,17],[381,0,381,17],[381,19,381,21],[382,9,382,16],[383,6,383,16],[384,8,384,9],[388,8,388,9],[392,8,392,9],[396,8,396,9],[382,6,382,8],[384,11,384,12],[384,14,384,16],[402,18,403,18],[404,18,405,18],[398,18,399,18],[406,18,411,18],[419,18,427,18],[432,18,433,18],[439,18,440,18],[441,18,443,18],[341,18,342,18],[343,18,344,18],[354,18,358,18],[360,18,361,18],[372,18,376,18],[428,0,428,21],[429,0,429,17],[429,19,429,21],[430,18,431,18],[430,6,431,17],[431,0,431,2],[431,3,431,5],[432,6,433,17],[434,0,434,21],[435,0,435,17],[435,19,435,21],[341,19,346,21],[345,18,346,18],[353,18,353,21],[354,19,358,21],[359,18,359,21],[360,19,370,21],[362,18,363,18],[382,18,385,18],[386,18,389,18],[371,19,371,21],[439,0,440,5],[441,0,443,5],[406,0,410,5],[414,0,418,5],[419,0,427,5],[430,0,430,5],[432,0,433,5],[436,0,437,5],[438,0,438,5],[359,0,359,5],[360,0,361,5],[362,0,363,5],[364,0,366,5],[372,0,379,5],[382,0,397,5],[398,0,401,5],[402,0,403,5],[404,0,405,5],[367,0,369,5],[353,6,353,16],[354,6,354,10],[354,13,354,16],[355,13,355,16],[356,13,356,16],[341,0,346,5],[347,0,347,5],[348,0,352,5],[353,0,353,5],[354,0,358,5],[334,18,335,18],[317,18,318,18],[317,19,322,21],[319,18,320,18],[321,18,322,18],[323,18,323,21],[324,19,325,21],[326,18,326,21],[327,19,332,21],[329,18,330,18],[331,18,332,18],[327,0,332,5],[327,6,328,6],[329,6,330,6],[329,7,330,16],[331,7,331,16],[332,6,332,16],[306,18,307,18],[306,19,315,21],[308,18,309,18],[309,6,310,6],[310,18,311,18],[314,18,315,18],[319,6,320,6],[319,7,320,16],[321,6,322,6],[321,7,322,16],[324,18,325,18],[327,18,328,18],[314,0,315,5],[314,6,315,16],[316,0,316,5],[316,6,316,16],[317,0,322,5],[317,6,318,6],[317,7,318,16],[323,0,323,5],[323,6,323,16],[364,6,364,12],[364,13,364,16],[365,6,366,16],[364,18,366,18],[367,18,370,18],[375,7,375,8],[375,10,375,11],[367,6,369,16],[370,0,370,17],[371,0,371,17],[359,6,359,16],[360,6,360,12],[360,13,360,16],[361,6,361,12],[361,13,361,16],[362,6,362,12],[362,13,362,16],[363,6,363,12],[363,13,363,16],[340,0,340,5],[340,6,340,16],[376,6,376,11],[376,12,379,16],[377,6,377,11],[378,7,378,8],[379,7,379,8],[372,17,379,17],[378,10,378,11],[379,10,379,11],[373,6,373,11],[374,7,374,8],[374,10,374,11],[372,6,372,11],[372,12,375,16],[340,18,340,21],[341,7,342,16],[343,7,344,16],[345,7,345,16],[346,6,346,16],[357,13,357,16],[358,13,358,16],[350,7,350,10],[351,7,351,10],[347,6,347,16],[347,18,347,21],[348,6,348,10],[348,11,352,16],[348,18,352,18],[348,19,352,21],[349,6,349,10],[352,6,352,10],[355,6,356,10],[357,6,357,10],[357,11,357,12],[358,6,358,10],[358,11,358,12],[341,6,342,6],[343,6,344,6],[282,14,282,16],[283,14,283,16],[336,7,337,16],[338,7,338,16],[333,0,333,5],[334,0,339,5],[334,6,335,6],[334,7,335,16],[334,19,339,21],[336,6,337,6],[336,18,337,18],[338,18,339,18],[339,6,339,16],[333,18,333,21],[333,6,333,16],[324,0,325,5],[324,6,325,16],[326,0,326,5],[326,6,326,16],[327,7,328,16],[309,7,310,16],[311,7,311,16],[305,6,305,16],[306,6,307,16],[257,9,257,12],[258,6,258,8],[292,7,293,16],[281,10,281,13],[282,10,282,13],[283,10,283,13],[289,18,303,18],[289,19,303,21],[300,12,302,12],[300,13,300,16],[302,13,302,15],[283,6,283,9],[284,6,284,9],[286,6,288,11],[264,18,288,18],[264,19,288,21],[255,17,298,17],[284,14,284,16],[272,14,272,16],[273,14,273,16],[279,14,279,16],[280,14,280,16],[281,14,281,16],[285,14,285,16],[279,6,279,9],[280,6,280,9],[281,6,281,9],[282,6,282,9],[285,6,285,9],[274,6,274,9],[274,10,274,13],[277,6,277,9],[278,6,278,9],[278,10,278,13],[284,10,284,13],[285,10,285,13],[279,10,279,13],[280,10,280,13],[276,10,276,13],[276,14,276,16],[277,10,277,13],[277,14,277,16],[262,6,262,8],[262,9,262,11],[262,12,262,16],[263,6,263,8],[263,9,263,12],[263,13,263,16],[265,7,265,10],[266,6,266,16],[267,6,268,16],[269,10,271,13],[275,6,275,9],[275,10,275,13],[269,6,271,9],[272,6,272,9],[272,10,272,13],[273,6,273,9],[273,10,273,13],[254,19,254,21],[255,0,263,5],[255,9,256,16],[255,18,263,18],[255,19,263,21],[258,9,258,13],[259,6,259,8],[239,19,253,21],[245,7,248,9],[259,9,259,11],[259,12,259,16],[260,6,260,8],[260,9,260,13],[260,14,260,16],[261,6,261,8],[261,9,261,15],[241,7,241,8],[241,11,241,16],[243,6,244,10],[243,11,243,16],[244,11,244,16],[245,11,245,16],[255,6,256,8],[257,6,257,8],[289,0,302,5],[306,0,307,5],[309,0,313,5],[301,13,301,15],[301,16,302,16],[303,0,303,17],[304,0,304,17],[304,18,305,18],[304,19,305,21],[305,0,305,5],[312,7,312,16],[312,18,313,18],[313,6,313,16],[294,6,295,6],[294,7,295,16],[296,6,297,6],[296,7,297,16],[298,6,298,16],[299,6,299,16],[300,6,302,11],[289,6,289,16],[290,6,290,16],[291,7,291,16],[292,6,293,6],[234,18,238,18],[234,19,238,21],[235,6,235,16],[236,7,236,10],[236,12,236,15],[239,11,239,16],[246,11,246,16],[239,18,253,18],[253,0,253,17],[240,7,240,8],[240,11,240,16],[240,9,242,10],[242,11,242,16],[247,11,247,16],[250,11,250,16],[251,6,252,10],[251,11,251,16],[252,11,252,16],[264,0,288,5],[237,7,237,10],[238,6,238,10],[239,0,252,5],[239,6,239,10],[286,12,288,12],[286,13,286,16],[287,13,287,15],[287,16,288,16],[288,13,288,15],[248,11,248,16],[249,11,249,16],[257,13,257,16],[258,14,258,16],[265,12,265,16],[269,14,271,16],[264,6,264,16],[234,0,238,5],[234,6,234,16],[254,0,254,16],[278,14,278,16],[274,14,274,16],[275,14,275,16],[276,6,276,9]]}
[{"$f":"'Caseload Files'!B2","v":"Teacher Caseload Review"},null,null,null,{"$f":"'Caseload Files'!D19","v":"File 9"},null,"Reviewer:",null,null,{"$f":"'Caseload Files'!F19","v":"Reviewer 9"},null,null,"Staff Reviewed:",null,null,{"$f":"'Caseload Files'!I19","v":"Staff 9"},null,null,"Score","Findings/Notes"]
[{"$f":"'Caseload Files'!B2","v":"Teacher Caseload Review"},null,null,null,null,null,null,null,null,null,null,null,null,null,null,null,null,null,"Rating","Record notes\nand/or findings."]
[]
[]
["Student Name:",null,null,{"$f":"'Caseload Files'!$L$19","v":"Student 9"},null,null,null,"Date of Birth:",null,null,{"$f":"'Caseload Files'!$R$19","v":"2009-09-09"},null,null,null,"Current IEP Meeting Date:"]
["SIMS Numer:",null,null,{"$f":"'Caseload Files'!$O$19","v":90123456},null,null,null,"Age/Grade:",null,null,{"$f":"INT(YEARFRAC(K5,TODAY()))","v":11},"/Sophomore",null,null,"Previous IEP Meeting Date:"]
["School District:",null,null,{"$f":"'Caseload Files'!B3","v":"District 00-0"},null,null,null,"Disability Code:",null,null,{"$f":"'Caseload Files'!$W$19","v":"DisCode 9"},null,null,null,"Current Eligibility Determination Date:"]
["School Name:",null,null,{"$f":"'Caseload Files'!E6","v":"School Name"},null,null,null,"Race/Ethnicity:",null,null,{"$f":"'Caseload Files'!T19","v":"Race 9"},null,null,null,"Previous Eligibility Determination Date:"]
["School Year:",null,null,{"$f":"'Caseload Files'!E7","v":"1998-1999"},null,null,null,"Type of Review:",null,null,{"$f":"'Caseload Files'!Z19","v":"Type 9"},null,null,null,"Date of Review:"]
[]
[{"$f":"HYPERLINK(\"http://sdlegislature.gov/Rules/DisplayRule.aspx?Rule=24:05\",\"Subsection Title and \nCorresponding ARSD Links \")","v":"Subsection Title and \nCorresponding ARSD Links "},null,null,null,null,null,"Yellow boxes are prompts",null,null,null,null,"Use checkboxes to help record findings.",null,null,"Voided space and/or clarifying information.",null,null,null,"\"N/A\" may be appropriate for certain sections.","Findings/Notes"]
[null,null,null,null,null,null,"for information."]
[]
[]
[{"$f":"HYPERLINK(\"https://gosynth.com/p/s/aboqwv\",\"Record of Access\")","v":"Record of Access"},null,null,null,null,null,null,null,null,null,null,null,null,null,null,null,null,null,{"$f":"IFERROR(Y17/X17,\"N/A\")","v":"N/A"},"Findings/Notes"]
[{"$f":"HYPERLINK(\"http://sdlegislature.gov/Rules/DisplayRule.aspx?Rule=24:05:29:15\",\"Record of Access\n(24:05:29:15)\")","v":"Record of Access\n(24:05:29:15)"},null,null,null,null,null,null,null,null,null,null,null,null,null,null,null,null,null,"Select","V16",null,null,null,null,{"$f":"S16","v":"Select"},{"$f":"S16","v":"Select"}]
[null,null,null,null,null,null,null,null,null,null,null,null,null,null,null,null,null,null,null,null,null,null,null,{"$f":"Y17+Z17","v":0},{"$f":"COUNTIF(Y16,\"Yes\")*3","v":0},{"$f":"COUNTIF(Z16,\"No\")*3","v":0}]
[]
[{"$f":"HYPERLINK(\"https://gosynth.com/p/s/grdmsy\",\"Referral\")","v":"Referral"},null,null,null,null,null,null,null,null,null,null,null,null,null,null,null,null,null,{"$f":"IFERROR(Y21/X21,\"N/A\")","v":"N/A"}]
[{"$f":"HYPERLINK(\"http://sdlegislature.gov/Rules/DisplayRule.aspx?Rule=24:05:24:01\",\"Referral Document\n(initial only)\n(24:05:24:01)\")","v":"Referral Document\n(initial only)\n(24:05:24:01)"},null,null,null,null,null,"Date of referral:",null,null,null,null,null,"The top two spaces are available to type in.",null,null,null,null,null,"Select","V20",null,null,null,null,{"$f":"S20","v":"Select"},{"$f":"S20","v":"Select"}]
[null,null,null,null,null,null,"List all areas of referral:",null,null,null,null,null,null,null,null,null,null,null,null,null,null,null,null,{"$f":"Y21+Z21","v":0},{"$f":"COUNTIF(Y20,\"Yes\")*3","v":0},{"$f":"COUNTIF(Z20,\"No\")*3","v":0}]
[]
[]
[]
[null,null,null,null,null,null,"If referral can not be found and is older than three years, N/A is appropriate."]
[]
[{"$f":"HYPERLINK(\"https://gosynth.com/p/s/lihblf\",\"Initial Placement\")","v":"Initial Placement"},null,null,null,null,null,null,null,null,null,null,null,null,null,null,null,null,null,{"$f":"IFERROR(Y33/X33,\"N/A\")","v":"N/A"}]
[{"$f":"HYPERLINK(\"http://sdlegislature.gov/rules/DisplayRule.aspx?Rule=24:05:27:04.01\",\"Consent Signed for Initial Placement \ninto Special Education\n(24:05:27:04.01)\")","v":"Consent Signed for Initial Placement \ninto Special Education\n(24:05:27:04.01)"},null,null,null,null,null,"Date Signed:",null,null,null,null,null,null,null,null,null,null,null,"Select","V28",null,null,null,null,{"$f":"S28","v":"Select"},{"$f":"S28","v":"Select"}]
[null,null,null,null,null,null,"(The Consent Signed for Initial Placement into Special Education form is a separate document.  In the past, it may have been found at the end of the IEP.",null,null,null,null,null,null,null,null,null,null,null,null,null,null,null,null,{"$f":"Y29+Z29","v":0},{"$f":"COUNTIF(Y28,\"Yes\")*3","v":0},{"$f":"COUNTIF(Z28,\"No\")*3","v":0}]
[]
[{"$f":"HYPERLINK(\"https://sdlegislature.gov/Rules/DisplayRule.aspx?Rule=24:05:25:04.02\",\"Determination of Needed \nEvaluation Data\n(24:05:25:04.02)\")","v":"Determination of Needed \nEvaluation Data\n(24:05:25:04.02)"},null,null,null,null,null,"Did the team review existing data before completing the PPWN Consent?",null,null,null,null,null,null,null,null,null,null,null,"Select","V31",null,null,null,null,{"$f":"S31","v":"Select"},{"$f":"S31","v":"Select"}]
[null,null,null,null,null,null,"Select",null,"The existing data includes evaluations and information provided by the parents, current classroom-based local or state assessments, and observations by teachers and related services providers.",null,null,null,null,null,null,null,null,null,null,null,null,null,null,{"$f":"Y32+Z32","v":0},{"$f":"COUNTIF(Y31,\"Yes\")*3","v":0},{"$f":"COUNTIF(Z31,\"No\")*3","v":0}]
[null,null,null,null,null,null,null,null,null,null,null,null,null,null,null,null,null,null,null,null,null,null,null,{"$f":"(X32+X29)/2","v":0},{"$f":"(Y32+Y29)/2","v":0}]
[]
[{"$f":"HYPERLINK(\"https://gosynth.com/p/s/qxevgy\",\"Evaluation\")","v":"Evaluation"},null,null,null,null,null,null,null,null,null,null,null,null,null,null,null,null,null,{"$f":"IFERROR(Y38/X38,\"N/A\")","v":"N/A"},{"$f":"IFERROR(Y58/X58,\"N/A\")","v":"N/A"}]
[{"$f":"HYPERLINK(\"http://sdlegislature.gov/rules/DisplayRule.aspx?Rule=24:05:25:02.01\",\"Initial Evaluation \n(24:05:25:02.01)\")","v":"Initial Evaluation \n(24:05:25:02.01)"},null,null,null,null,null,"PPWN Consent was Sent:",null,null,null,null,null,null,"Use the most recent evaluation. ",null,null,null,null,"Select","V36",null,null,null,null,{"$f":"S36","v":"Select"},{"$f":"S36","v":"Select"}]
[null,null,null,null,null,null,{"$f":"HYPERLINK(\"https://gosynth.com/p/s/qxevgy\",\"Consent was acquired for initial evaluation. \n\nIf consent was not given by the parent for reevaluation, evidence of  attempts were made to elicit parent.\")","v":"Consent was acquired for initial evaluation. \n\nIf consent was not given by the parent for reevaluation, evidence of  attempts were made to elicit parent."},null,null,null,null,null,null,null,null,null,null,null,null,null,null,null,null,{"$f":"Y37+Z37","v":0},{"$f":"COUNTIF(Y36,\"Yes\")*3","v":0},{"$f":"COUNTIF(Z36,\"No\")*3","v":0}]
[{"$f":"HYPERLINK(\"http://sdlegislature.gov/Rules/DisplayRule.aspx?Rule=24:05:25:06.01\",\"Reevaluation\n(24:05:25:06.01)\")","v":"Reevaluation\n(24:05:25:06.01)"},null,null,null,null,null,null,null,null,null,null,null,null,null,null,null,null,null,null,null,null,null,null,{"$f":"(X37+X41+X43+X45+X47+X56+X62+X76+X86+X100+X104+X106+X108+X110+X112+X115+X117+X120)/18","v":0},{"$f":"(Y37+Y41+Y43+Y45+Y47+Y56+Y62+Y76+Y86+Y100+Y104+Y106+Y108+Y110+Y112+Y115+Y117+Y120)/18","v":0}]
[]
[{"$f":"HYPERLINK(\"http://sdlegislature.gov/Rules/DisplayRule.aspx?Rule=24:05:25:16\",\"Parent Input into Evalaution\n(24:05:25:16)\")","v":"Parent Input into Evalaution\n(24:05:25:16)"},null,null,null,null,null,{"$f":"HYPERLINK(\"https://gosynth.com/p/s/ycomsx\",\"Parent input must be documented in the PPWN Consent on input exiting data and \nupcoming evaluation.   (refer to phone logs, progress notes, prior notice)\")","v":"Parent input must be documented in the PPWN Consent on input exiting data and \nupcoming evaluation.   (refer to phone logs, progress notes, prior notice)"},null,null,null,null,null,null,null,null,null,null,null,"Select",null,null,null,null,null,{"$f":"S40","v":"Select"},{"$f":"S40","v":"Select"}]
[null,null,null,null,null,null,null,null,null,null,null,null,null,null,null,null,null,null,null,null,null,null,null,{"$f":"Y41+Z41","v":0},{"$f":"COUNTIF(Y40,\"Yes\")*3","v":0},{"$f":"COUNTIF(Z40,\"No\")*3","v":0}]
[{"$f":"HYPERLINK(\"http://sdlegislature.gov/Rules/DisplayRule.aspx?Rule=24:05:30:06.01\",\"Procedural Safeguards\n(24:05:30:06.01)\")","v":"Procedural Safeguards\n(24:05:30:06.01)"},null,null,null,null,null,{"$f":"HYPERLINK(\"https://gosynth.com/p/s/tdkmfj\",\"[INCLUDE LANGUAGE FOR THIS SECTION]\")","v":"[INCLUDE LANGUAGE FOR THIS SECTION]"},null,null,null,null,null,null,null,null,null,null,null,"Select",null,null,null,null,null,{"$f":"S42","v":"Select"},{"$f":"S42","v":"Select"}]
[null,null,null,null,null,null,null,null,null,null,null,null,null,null,null,null,null,null,null,null,null,null,null,{"$f":"Y43+Z43","v":0},{"$f":"COUNTIF(Y42,\"Yes\")*3","v":0},{"$f":"COUNTIF(Z42,\"No\")*3","v":0}]
[{"$f":"HYPERLINK(\"http://sdlegislature.gov/Rules/DisplayRule.aspx?Rule=24:05:25:03\",\"Extension on 25 Day Timeline\n(24:05:25:03)\")","v":"Extension on 25 Day Timeline\n(24:05:25:03)"},null,null,null,null,null,{"$f":"HYPERLINK(\"https://gosynth.com/p/s/wcheia\",\"Documented agreement with parent and district on new extension date.  \nEligibility and IEP developed 30 days after the agreed extension date.\")","v":"Documented agreement with parent and district on new extension date.  \nEligibility and IEP developed 30 days after the agreed extension date."},null,null,null,null,null,null,null,null,null,null,null,"Select",null,null,null,null,null,{"$f":"S44","v":"Select"},{"$f":"S44","v":"Select"}]
[null,null,null,null,null,null,null,null,null,null,null,null,null,null,null,null,null,null,null,null,null,null,null,{"$f":"Y45+Z45","v":0},{"$f":"COUNTIF(Y44,\"Yes\")*3","v":0},{"$f":"COUNTIF(Z44,\"No\")*3","v":0}]
[{"$f":"HYPERLINK(\"http://sdlegislature.gov/Rules/DisplayRule.aspx?Rule=24:05:30:05\",\"Content of Prior Written Notice/\nConsent for Evaluation\n (24:05:30:05)\")","v":"Content of Prior Written Notice/\nConsent for Evaluation\n (24:05:30:05)"},null,null,null,null,null,{"$f":"HYPERLINK(\"https://gosynth.com/p/s/xymlpn\",\"Check the following:\")","v":"Check the following:"},null,null,null,null,null,null,null,null,null,null,null,"Select","V46",null,null,null,null,{"$f":"S46","v":"Select"},{"$f":"S46","v":"Select"}]
[null,null,null,null,null,null,"PPWN must be individualized to the student, IEP team discussions and situation.",null,null,null,null,null,null,null,null,null,null,null,null,null,null,null,null,{"$f":"Y47+Z47","v":0},{"$f":"COUNTIF(Y46,\"Yes\")*3","v":0},{"$f":"COUNTIF(Z46,\"No\")*3","v":0}]
[]
[null,null,null,null,null,null,null,"Explanation of why the district proposed or refused to take the action"]
[null,null,null,null,null,null,null,"Description of other options considered and why they were rejected "]
[null,null,null,null,null,null,null,"Description of evidence used for the proposed or refused action"]
[null,null,null,null,null,null,null,"Description of other factors that are relevant to proposal or refusal"]
[]
[null,null,null,null,null,null,"All components should be completed and have a clear description."]
[{"$f":"HYPERLINK(\"http://sdlegislature.gov/Rules/DisplayRule.aspx?Rule=24:05:30:05\",\"Timeline of Prior Written Notice/\nConsent for Evaluation\n(24:05:25:03)\")","v":"Timeline of Prior Written Notice/\nConsent for Evaluation\n(24:05:25:03)"},null,null,null,null,null,{"$f":"HYPERLINK(\"https://gosynth.com/p/s/xylthm\",\"Date sent:\")","v":"Date sent:"},null,null,null,"2020-01-18",null,null,null,null,null,null,null,"Select","V54",null,null,null,null,{"$f":"S55","v":"Select"},{"$f":"S55","v":"Select"}]
[null,null,null,null,null,null,"Date signed:",null,null,null,"2020-01-19",null,null,null,null,null,null,null,null,null,null,null,null,{"$f":"Y56+Z56","v":0},{"$f":"COUNTIF(Y55,\"Yes\")*3","v":0},{"$f":"COUNTIF(Z55,\"No\")*3","v":0}]
[null,null,null,null,null,null,"Date received:",null,null,null,"2020-01-20"]
[null,null,null,null,null,null,"25 school days:",null,null,null,{"$f":"WORKDAY(K57,25)","v":"2020-02-24"}]
[null,null,null,null,null,null,"30 calendar days:"]
[null,null,null,null,null,null,"Extension on 25 day:"]
[{"$f":"HYPERLINK(\"http://sdlegislature.gov/Rules/DisplayRule.aspx?Rule=24:05:25:04.02\",\"Evaluations to be Completed by the District per Parental Prior Written/Consent for Evaluation\n(24:05:25:04.02)\")","v":"Evaluations to be Completed by the District per Parental Prior Written/Consent for Evaluation\n(24:05:25:04.02)"},null,null,null,null,null,{"$f":"HYPERLINK(\"https://gosynth.com/p/s/zgdeev\",\"List areas:\")","v":"List areas:"},null,null,"Test administered:",null,null,null,"Test date:",null,"Evaluator:",null,null,"Select","V60",null,null,null,null,{"$f":"S61","v":"Select"},{"$f":"S61","v":"Select"}]
[null,null,null,null,null,null,null,null,null,null,null,null,null,null,null,null,null,null,null,null,null,null,null,{"$f":"Y62+Z62","v":0},{"$f":"COUNTIF(Y61,\"Yes\")*3","v":0},{"$f":"COUNTIF(Z61,\"No\")*3","v":0}]
[]
[]
[]
[]
[]
["For more evaluations requested click the [+]"]
[]
[]
[]
[]
[]
[]
[{"$f":"HYPERLINK(\"http://sdlegislature.gov/Rules/DisplayRule.aspx?Rule=24:05:25:04.02\",\"Existing Evaluation Data\nto be Pulled Forward\n(24:05:25:04.02)\")","v":"Existing Evaluation Data\nto be Pulled Forward\n(24:05:25:04.02)"},null,null,null,null,null,{"$f":"HYPERLINK(\"https://gosynth.com/p/s/pfohnr\",\"List areas:\")","v":"List areas:"},null,null,"Test administered:",null,null,null,"Test date:",null,"Evaluator:",null,null,"Select","V74",null,null,null,null,{"$f":"S75","v":"Select"},{"$f":"S75","v":"Select"}]
[null,null,null,null,null,null,null,null,null,null,null,null,null,null,null,null,null,null,null,null,null,null,null,{"$f":"Y76+Z76","v":0},{"$f":"COUNTIF(Y75,\"Yes\")*3","v":0},{"$f":"COUNTIF(Z75,\"No\")*3","v":0}]
[]
[]
[]
["For more existing data requested click the [+]"]
[]
[]
[]
[]
[{"$f":"HYPERLINK(\"http://sdlegislature.gov/Rules/DisplayRule.aspx?Rule=24:05:25:04.02\",\"Skills Based Assessment and Report\n(24:05:25:04.02)\")","v":"Skills Based Assessment and Report\n(24:05:25:04.02)"},null,null,null,null,null,{"$f":"HYPERLINK(\"https://gosynth.com/p/s/tbqnts\",\"List areas:\")","v":"List areas:"},null,null,"Test administered:",null,null,null,"Test date:",null,"Evaluator:",null,null,"Select","V84",null,null,null,null,{"$f":"S85","v":"Select"},{"$f":"S85","v":"Select"}]
[null,null,null,null,null,null,null,null,null,null,null,null,null,null,null,null,null,null,null,null,null,null,null,{"$f":"Y86+Z86","v":0},{"$f":"COUNTIF(Y85,\"Yes\")*3","v":0},{"$f":"COUNTIF(Z85,\"No\")*3","v":0}]
[]
[null,null,null,null,null,null,null,null,null,null,null,null,null,null,null,null,null,null,null,null,null,null,null,{"$f":"(X86+X100+X104+X106+X108+X110+X112+X115+X117+X120)/10","v":0},{"$f":"(Y86+Y100+Y104+Y106+Y108+Y110+Y112+Y115+Y117+Y120)/10","v":0}]
[]
[]
[]
["For more skills based requested click the [+]"]
[]
[]
[]
[]
[]
[]
[{"$f":"HYPERLINK(\"http://sdlegislature.gov/Rules/DisplayRule.aspx?Rule=24:05:25:03\",\"Consent Received\n(24:05:25:03)\")","v":"Consent Received\n(24:05:25:03)"},null,null,null,null,null,{"$f":"HYPERLINK(\"https://gosynth.com/p/s/ctcnlr\",\"Consent received date:\")","v":"Consent received date:"},null,null,null,null,{"$f":"K57","v":"2020-01-20"},null,null,"Mark \"No\" if dates are outside of \"consent received\" and/or \"25 school days\".",null,null,null,"Select","V98",null,null,null,null,{"$f":"S99","v":"Select"},{"$f":"S99","v":"Select"}]
[null,null,null,null,null,null,"Earliest testing date:",null,null,null,null,{"$f":"MIN(N63:O74,N87:O98)","v":"00:00:00"},null,null,null,null,null,null,null,null,null,null,null,{"$f":"Y100+Z100","v":0},{"$f":"COUNTIF(Y99,\"Yes\")*3","v":0},{"$f":"COUNTIF(Z99,\"No\")*3","v":0}]
[null,null,null,null,null,null,"Latest testing date:",null,null,null,null,{"$f":"MAX(N63:O74,N87:O98)","v":"00:00:00"}]
[null,null,null,null,null,null,"Within 25 School Days:",null,null,null,null,{"$f":"IF(ISBLANK(K60),K58,K60)","v":"2020-02-24"}]
[{"$f":"HYPERLINK(\"http://sdlegislature.gov/Rules/DisplayRule.aspx?Rule=24:05:25:20\",\"All Evaluations Administered \n(24:05:25:20)\")","v":"All Evaluations Administered \n(24:05:25:20)"},null,null,null,null,null,{"$f":"HYPERLINK(\"https://gosynth.com/p/s/mkcdef\",\"All evaluations marked on the PWWN/Consent for Evaluation form must be administered.\")","v":"All evaluations marked on the PWWN/Consent for Evaluation form must be administered."},null,null,null,null,null,null,null,null,null,null,null,"Select","V102",null,null,null,null,{"$f":"S103","v":"Select"},{"$f":"S103","v":"Select"}]
[null,null,null,null,null,null,null,null,null,null,null,null,null,null,null,null,null,null,null,null,null,null,null,{"$f":"Y104+Z104","v":0},{"$f":"COUNTIF(Y103,\"Yes\")*3","v":0},{"$f":"COUNTIF(Z103,\"No\")*3","v":0}]
[{"$f":"HYPERLINK(\"http://sdlegislature.gov/Rules/DisplayRule.aspx?Rule=24:05:25:06.01\",\"Consent was Acquired\n(24:05:25:06.01)\")","v":"Consent was Acquired\n(24:05:25:06.01)"},null,null,null,null,null,{"$f":"HYPERLINK(\"https://gosynth.com/p/s/mkcdef\",\"All evaluations administered must be requested on the PWWN/Consent for Evaluation \nform.\")","v":"All evaluations administered must be requested on the PWWN/Consent for Evaluation \nform."},null,null,null,null,null,null,null,null,null,null,null,"Select",null,null,null,null,null,{"$f":"S105","v":"Select"},{"$f":"S105","v":"Select"}]
[null,null,null,null,null,null,null,null,null,null,null,null,null,null,null,null,null,null,null,null,null,null,null,{"$f":"Y106+Z106","v":0},{"$f":"COUNTIF(Y105,\"Yes\")*3","v":0},{"$f":"COUNTIF(Z105,\"No\")*3","v":0}]
[{"$f":"HYPERLINK(\"http://sdlegislature.gov/Rules/DisplayRule.aspx?Rule=24:05:25:04\",\"Variety of Sources \n(24:05:25:04)\")","v":"Variety of Sources \n(24:05:25:04)"},null,null,null,null,null,{"$f":"HYPERLINK(\"https://gosynth.com/p/s/mkcdef\",\"Appropritate means to provide evaluations for accurate data were used. \")","v":"Appropritate means to provide evaluations for accurate data were used. "},null,null,null,null,null,null,null,null,null,null,null,"Select",null,null,null,null,null,{"$f":"S107","v":"Select"},{"$f":"S107","v":"Select"}]
[null,null,null,null,null,null,null,null,null,null,null,null,null,null,null,null,null,null,null,null,null,null,null,{"$f":"Y108+Z108","v":0},{"$f":"COUNTIF(Y107,\"Yes\")*3","v":0},{"$f":"COUNTIF(Z107,\"No\")*3","v":0}]
[{"$f":"HYPERLINK(\"http://sdlegislature.gov/Rules/DisplayRule.aspx?Rule=24:05:25:04\",\"Met Requirements for the Disability\n(24:05:25:04) \")","v":"Met Requirements for the Disability\n(24:05:25:04) "},null,null,null,null,null,{"$f":"HYPERLINK(\"https://gosynth.com/p/s/mkcdef\",\"Comprehensive Evaluations in all areas required for the disability. \")","v":"Comprehensive Evaluations in all areas required for the disability. "},null,null,null,null,null,null,null,null,null,null,null,"Select",null,null,null,null,null,{"$f":"S109","v":"Select"},{"$f":"S109","v":"Select"}]
[null,null,null,null,null,null,null,null,null,null,null,null,null,null,null,null,null,null,null,null,null,null,null,{"$f":"Y110+Z110","v":0},{"$f":"COUNTIF(Y109,\"Yes\")*3","v":0},{"$f":"COUNTIF(Z109,\"No\")*3","v":0}]
[{"$f":"HYPERLINK(\"http://sdlegislature.gov/Rules/DisplayRule.aspx?Rule=24:05:25:03\",\"Eligibility within 30 Calendar Days \n(24:05:25:03)\")","v":"Eligibility within 30 Calendar Days \n(24:05:25:03)"},null,null,null,null,null,{"$f":"HYPERLINK(\"https://gosynth.com/p/s/mkcdef\",\"Day 26 was on:\")","v":"Day 26 was on:"},null,null,null,null,{"$f":"WORKDAY(L102,1)","v":"2020-02-25"},null,null,null,null,null,null,"Select","V110",null,null,null,null,{"$f":"S111","v":"Select"},{"$f":"S111","v":"Select"}]
[null,null,null,null,null,null,"Eligibility Determination Date:",null,null,null,null,{"$f":"T7","v":"00:00:00"},null,null,null,null,null,null,null,null,null,null,null,{"$f":"Y112+Z112","v":0},{"$f":"COUNTIF(Y111,\"Yes\")*3","v":0},{"$f":"COUNTIF(Z111,\"No\")*3","v":0}]
[null,null,null,null,null,null,"Eligibility meeting date should have been by:",null,null,null,null,null,null,null,{"$f":"K59","v":"00:00:00"}]
[{"$f":"HYPERLINK(\"http://sdlegislature.gov/Rules/DisplayRule.aspx?Rule=24:05:25:04.03\",\"Student Eligible for Special Education \n(24:05:25:04.03)\")","v":"Student Eligible for Special Education \n(24:05:25:04.03)"},null,null,null,null,null,null,null,null,null,null,null,null,null,null,null,null,null,"Select",null,null,null,null,null,{"$f":"S114","v":"Select"},{"$f":"S114","v":"Select"}]
[null,null,null,null,null,null,null,null,null,null,null,null,null,null,null,null,null,null,null,null,null,null,null,{"$f":"Y115+Z115","v":0},{"$f":"COUNTIF(Y114,\"Yes\")*3","v":0},{"$f":"COUNTIF(Z114,\"No\")*3","v":0}]
[{"$f":"HYPERLINK(\"http://sdlegislature.gov/Rules/DisplayRule.aspx?Rule=24:05:25:06\",\"Three Year Re-Evaluation\n(24:05:25:06)\")","v":"Three Year Re-Evaluation\n(24:05:25:06)"},null,null,null,null,null,{"$f":"HYPERLINK(\"https://gosynth.com/p/s/mkcdef\",\"Current Eligibility Determination Date:\")","v":"Current Eligibility Determination Date:"},null,null,null,null,null,null,{"$f":"L112","v":"00:00:00"},null,null,null,null,"Select",null,null,null,null,null,{"$f":"S116","v":"Select"},{"$f":"S116","v":"Select"}]
[null,null,null,null,null,null,"Previous Eligibility Determination Date:",null,null,null,null,null,null,{"$f":"T8","v":"00:00:00"},null,null,null,null,null,null,null,null,null,{"$f":"Y117+Z117","v":0},{"$f":"COUNTIF(Y116,\"Yes\")*3","v":0},{"$f":"COUNTIF(Z116,\"No\")*3","v":0}]
[]
[{"$f":"HYPERLINK(\"https://gosynth.com/p/s/mkcdef\",\"Evaluated to Dismiss from Services  \")","v":"Evaluated to Dismiss from Services  "},null,null,null,null,null,null,null,null,null,null,null,null,null,null,null,null,null,"Select",null,null,null,null,null,{"$f":"S119","v":"Select"},{"$f":"S119","v":"Select"}]
[null,null,null,null,null,null,null,null,null,null,null,null,null,null,null,null,null,null,null,null,null,null,null,{"$f":"Y120+Z120","v":0},{"$f":"COUNTIF(Y119,\"Yes\")*3","v":0},{"$f":"COUNTIF(Z119,\"No\")*3","v":0}]
[]
[{"$f":"HYPERLINK(\"https://gosynth.com/p/s/giwoma\",\"Eligibility Document for Specific Learning Disability\")","v":"Eligibility Document for Specific Learning Disability"},null,null,null,null,null,null,null,null,null,null,null,null,null,null,null,null,null,{"$f":"IFERROR(Y126/X126,\"N/A\")","v":"N/A"}]
["If student is not eligible for Specific Learning Disability, skip this section.  Click on the [+] button if section is not visible. ",null,null,null,null,null,null,null,null,null,null,null,null,null,null,null,null,null,"Select","V122",null,null,null,null,{"$f":"S123","v":"Select"},{"$f":"S123","v":"Select"}]
[{"$f":"HYPERLINK(\"http://sdlegislature.gov/Rules/DisplayRule.aspx?Rule=24:05:24.01:19\",\"Specific Learning Disabilities\n(24:05:24.01:19)\")","v":"Specific Learning Disabilities\n(24:05:24.01:19)"},null,null,null,null,null,"Check the following:",null,null,null,null,null,null,null,null,null,null,null,null,null,null,null,null,{"$f":"Y124+Z124","v":0},{"$f":"COUNTIF(Y123,\"Yes\")*3","v":0},{"$f":"COUNTIF(Z123,\"No\")*3","v":0}]
[]
[null,null,null,null,null,null,null,"Reading Comprehension",null,null,null,null,null,"Math Calculation",null,null,null,null,null,null,null,null,null,{"$f":"(X124+X132+X151+X165+X174)/5","v":0},{"$f":"(Y124+Y132+Y151+Y165+Y174)/5","v":0}]
[null,null,null,null,null,null,null,"Basic Reading Skills",null,null,null,null,null,"Math Problem Solving"]
[null,null,null,null,null,null,null,"Reading Fluency",null,null,null,null,null,"Listening Comprehension"]
[null,null,null,null,null,null,null,"Written Expression",null,null,null,null,null,"Oral Expression"]
[]
["For Initial Determination of Eligibility Only",null,null,null,null,null,null,null,null,null,null,null,null,null,null,null,null,null,"Select","V130",null,null,null,null,{"$f":"S131","v":"Select"},{"$f":"S131","v":"Select"}]
[{"$f":"HYPERLINK(\"http://sdlegislature.gov/Rules/DisplayRule.aspx?Rule=24:05:24.01:19\",\"Initial Eligibility\n(24:05:24.01:19)\")","v":"Initial Eligibility\n(24:05:24.01:19)"},null,null,null,null,null,"Written report must include:",null,null,null,null,null,null,null,null,null,null,null,null,null,null,null,null,{"$f":"Y132+Z132","v":0},{"$f":"COUNTIF(Y131,\"Yes\")*3","v":0},{"$f":"COUNTIF(Z131,\"No\")*3","v":0}]
[]
[null,null,null,null,null,null,null,"Student achieves adequately",null,null,null,null,"Lack of appropriate instruction"]
[]
[null,null,null,null,null,null,null,"Student exhibits pattern of strengths & weaknesses",null,null,null,null,"Observation of the student"]
[]
[null,null,null,null,null,null,null,null,null,null,null,null,"Relevant medical findings (if any)"]
[null,null,null,null,null,null,null,"Student was provided appropriate instruction in regular education settings by qualified personnel"]
[null,null,null,null,null,null,null,null,null,null,null,null,"Achievement level problem is/is not primarily the result of another factor (e.g. emotional disturbance, cognitive impairment, etc.)"]
[]
[]
[null,null,null,null,null,null,null,"Repeated assessment of achievement reflecting student progress"]
[]
[]
[null,null,null,null,null,null,null,"Attendance record",null,null,null,null,"Adverse effect on educational performance"]
[]
[]
["Click on the [+] button to expand or the [-] button to collapse."]
["For Reevaluation of Eligibility Only",null,null,null,null,null,null,null,null,null,null,null,null,null,null,null,null,null,"Select","V149",null,null,null,null,{"$f":"S150","v":"Select"},{"$f":"S150","v":"Select"}]
[{"$f":"HYPERLINK(\"http://sdlegislature.gov/Rules/DisplayRule.aspx?Rule=24:05:24.01:19\",\"Reevaluation of Eligibility\n(24:05:24.01:19)\")","v":"Reevaluation of Eligibility\n(24:05:24.01:19)"},null,null,null,null,null,"Written report must include:",null,null,null,null,null,null,null,null,null,null,null,null,null,null,null,null,{"$f":"Y151+Z151","v":0},{"$f":"COUNTIF(Y150,\"Yes\")*3","v":0},{"$f":"COUNTIF(Z150,\"No\")*3","v":0}]
[]
[null,null,null,null,null,null,null,"Student achieves adequately",null,null,null,null,"Achievement level problem is/is not primarily the result of another factor (e.g. emotional disturbance, cognitive impairment, etc.)"]
[]
[null,null,null,null,null,null,null,"Student exhibits pattern of strengths & weaknesses"]
[]
[]
[null,null,null,null,null,null,null,"Observation of the student"]
[null,null,null,null,null,null,null,null,null,null,null,null,"Adverse effect on educational performance"]
[null,null,null,null,null,null,null,"Relevant medical findings (if any)"]
[]
[]
["Click on the [+] button to expand or the [-] button to collapse."]
[{"$f":"HYPERLINK(\"http://sdlegislature.gov/Rules/DisplayRule.aspx?Rule=24:05:25:08\",\"Team Member Signatures \n(24:05:25:08)\")","v":"Team Member Signatures \n(24:05:25:08)"},null,null,null,null,null,"Check the following:",null,null,null,null,null,null,null,null,null,null,null,"Select","V163",null,null,null,null,{"$f":"S164","v":"Select"},{"$f":"S164","v":"Select"}]
[null,null,null,null,null,null,null,null,null,null,null,null,null,null,null,null,null,null,null,null,null,null,null,{"$f":"Y165+Z165","v":0},{"$f":"COUNTIF(Y164,\"Yes\")*3","v":0},{"$f":"COUNTIF(Z164,\"No\")*3","v":0}]
[null,null,null,null,null,null,null,"Parent",null,null,null,null,"Each group member shall certify in writing whether the report reflects the group member's conclusion. If it does not reflect the group member's conclusion, the group member must submit the conclusion in a separate statement."]
[null,null,null,null,null,null,null,"General Education Teacher"]
[{"$f":"HYPERLINK(\"http://sdlegislature.gov/Rules/DisplayRule.aspx?Rule=24:05:25:13\",\"Group Members to Certify \nReport in Writing \n(24:05:25:13)\")","v":"Group Members to Certify \nReport in Writing \n(24:05:25:13)"},null,null,null,null,null,null,"Special Education Teacher"]
[null,null,null,null,null,null,null,"Qualified interpreter of results"]
[null,null,null,null,null,null,null,"LEA Representative"]
[null,null,null,null,null,null,null,"If disagreed, written input was provided"]
[]
[null,null,null,null,null,null,"Check PWWN for eligibility decisions.                         ",null,null,null,null,"Skip to","PPWN.",null,null,null,null,null,"Select",null,null,null,null,null,{"$f":"S173","v":"Select"},{"$f":"S173","v":"Select"}]
[null,null,null,null,null,null,null,null,null,null,null,null,null,null,null,null,null,null,null,null,null,null,null,{"$f":"Y174+Z174","v":0},{"$f":"COUNTIF(Y173,\"Yes\")*3","v":0},{"$f":"COUNTIF(Z173,\"No\")*3","v":0}]
[]
[{"$f":"HYPERLINK(\"https://gosynth.com/p/s/mzphio\",\"Meeting Notice\")","v":"Meeting Notice"},null,null,null,null,null,null,null,null,null,null,null,null,null,null,null,null,null,{"$f":"IFERROR(Y184/X184,\"N/A\")","v":"N/A"}]
["Meeting Notice",null,null,null,null,null,"Date sent:",null,null,null,null,null,"From this point on use the current IEP's documentation.",null,null,null,null,null,"Select","V174",null,null,null,null,{"$f":"S177","v":"Select"},{"$f":"S177","v":"Select"}]
[{"$f":"HYPERLINK(\"http://sdlegislature.gov/Rules/DisplayRule.aspx?Rule=24:05:30:02.01\",\"(24:05:30:02.01)\")","v":"(24:05:30:02.01)"},null,null,{"$f":"HYPERLINK(\"http://sdlegislature.gov/Rules/DisplayRule.aspx?Rule=24:05:25:16\",\"(24:05:25:16)\")","v":"(24:05:25:16)"},null,null,"Meeting date:",null,null,{"$f":"T5","v":"00:00:00"},null,null,null,null,null,null,null,null,null,null,null,null,null,{"$f":"Y178+Z178","v":0},{"$f":"COUNTIF(Y177,\"Yes\")*3","v":0},{"$f":"COUNTIF(Z177,\"No\")*3","v":0}]
["Procedural Safeguards",null,null,null,null,null,"Must be given to parents annually.",null,null,null,null,null,null,null,null,null,null,null,"Select",null,null,null,null,null,{"$f":"S179","v":"Select"},{"$f":"S179","v":"Select"}]
[{"$f":"HYPERLINK(\"http://sdlegislature.gov/Rules/DisplayRule.aspx?Rule=24:05:30:06.01\",\"(24:05:30:06.01)\")","v":"(24:05:30:06.01)"},null,null,{"$f":"HYPERLINK(\"http://sdlegislature.gov/Rules/DisplayRule.aspx?Rule=24:05:30:06.02\",\"(24:05:30:06.02)\")","v":"(24:05:30:06.02)"},null,null,null,null,null,null,null,null,null,null,null,null,null,null,null,null,null,null,null,{"$f":"Y180+Z180","v":0},{"$f":"COUNTIF(Y179,\"Yes\")*3","v":0},{"$f":"COUNTIF(Z179,\"No\")*3","v":0}]
["IEP Team",null,null,null,null,null,"Complete the following:",null,null,null,null,null,null,null,null,null,null,null,"Select",null,null,null,null,null,{"$f":"S181","v":"Select"},{"$f":"S181","v":"Select"}]
[null,null,null,null,null,null,null,null,null,null,null,null,null,null,null,null,null,null,null,null,null,null,null,{"$f":"Y182+Z182","v":0},{"$f":"COUNTIF(Y181,\"Yes\")*3","v":0},{"$f":"COUNTIF(Z181,\"No\")*3","v":0}]
[null,null,null,null,null,null,null,"The documentation of people attending the IEP meeting on front page of the IEP does not imply agreement, it is for participation purposes only."]
[null,null,null,null,null,null,null,null,null,null,null,null,null,null,null,null,null,null,null,null,null,null,null,{"$f":"(X178+X180+X182+X198)/4","v":0},{"$f":"(Y178+Y180+Y182+Y198)/4","v":0}]
[null,null,null,null,null,null,null,"Identified on the meeting notice:",null,null,"Attended the meeting:",null,null,"Did not attend\nthe meeting:"]
[]
[{"$f":"HYPERLINK(\"http://sdlegislature.gov/Rules/DisplayRule.aspx?Rule=24:05:25:16\",\"(24:05:25:16)\")","v":"(24:05:25:16)"},null,null,null,null,null,null,"Parent/Guardian"]
[null,null,null,null,null,null,null,"Student"]
[null,null,null,null,null,null,null,"Gen. Ed. Teacher"]
[null,null,null,null,null,null,null,"Sp. Ed. Teacher"]
["Parent Participation",null,null,null,null,null,null,"Eval Interpreter"]
[{"$f":"HYPERLINK(\"http://sdlegislature.gov/Rules/DisplayRule.aspx?Rule=24:05:25:16\",\"(24:05:25:16)\")","v":"(24:05:25:16)"},null,null,null,null,null,null,"LEA Representative"]
[null,null,null,null,null,null,null,"List Others"]
[null,null,null,null,null,null,null,"List Others"]
[null,null,null,null,null,null,null,"List Others"]
[]
["IEP Team Attendance \n (24:05:27:01.05)",null,null,null,null,null,"A member of the IEP team may be excused from attending, in whole or in part, an IEP team meeting that involves a modification to or discussion of the member's area of the curriculum or related services, if:\n   (1) The parent and school district consent in writing to the excusal; and\n   (2) The member submits, in writing to the parent and the IEP team, input into the development of the IEP before the meeting.",null,null,null,null,null,null,null,null,null,null,null,"Select","V194",null,null,null,null,{"$f":"S197","v":"Select"},{"$f":"S197","v":"Select"}]
[null,null,null,null,null,null,null,null,null,null,null,null,null,null,null,null,null,null,null,null,null,null,null,{"$f":"Y198+Z198","v":0},{"$f":"COUNTIF(Y197,\"Yes\")*3","v":0},{"$f":"COUNTIF(Z197,\"No\")*3","v":0}]
[]
[]
[]
[]
[{"$f":"HYPERLINK(\"https://gosynth.com/p/s/jshfqs\",\"          Individual Education Plan (Use the most recent IEP.)\n\")","v":"          Individual Education Plan (Use the most recent IEP.)\n"},null,null,null,null,null,null,null,null,null,null,null,null,null,null,null,null,null,{"$f":"IFERROR(Y210/X210,\"N/A\")","v":"N/A"}]
[{"$f":"HYPERLINK(\"http://sdlegislature.gov/Rules/DisplayRule.aspx?Rule=24:05:25:04.03\",\"Evaluation Reports Given to Parents \n(24:05:25:04.03)\")","v":"Evaluation Reports Given to Parents \n(24:05:25:04.03)"},null,null,null,null,null,"Evidence the parent received a copy of the reports (e.g.  initials on the front page IEP or other evidence). ",null,null,null,null,null,null,null,null,null,null,null,"Select","V201",null,null,null,null,{"$f":"S204","v":"Select"},{"$f":"S204","v":"Select"}]
[null,null,null,null,null,null,null,null,null,null,null,null,null,null,null,null,null,null,null,null,null,null,null,{"$f":"Y205+Z205","v":0},{"$f":"COUNTIF(Y204,\"Yes\")*3","v":0},{"$f":"COUNTIF(Z204,\"No\")*3","v":0}]
[{"$f":"HYPERLINK(\"http://sdlegislature.gov/Rules/DisplayRule.aspx?Rule=24:05:25:19\",\"Copy of IEP Given to Parents \n(24:05:25:19)\")","v":"Copy of IEP Given to Parents \n(24:05:25:19)"},null,null,null,null,null,"Evidence copy of the IEP was given to parents (e.g.  initials on the front page, addressed in PPWN, or other evidence).",null,null,null,null,null,null,null,null,null,null,null,"Select",null,null,null,null,null,{"$f":"S206","v":"Select"},{"$f":"S206","v":"Select"}]
[null,null,null,null,null,null,null,null,null,null,null,null,null,null,null,null,null,null,null,null,null,null,null,{"$f":"Y207+Z207","v":0},{"$f":"COUNTIF(Y206,\"Yes\")*3","v":0},{"$f":"COUNTIF(Z206,\"No\")*3","v":0}]
[{"$f":"HYPERLINK(\"http://sdlegislature.gov/Rules/DisplayRule.aspx?Rule=24:05:27:08\",\"Met Annually\n(24:05:27:08)\")","v":"Met Annually\n(24:05:27:08)"},null,null,null,null,null,"Current IEP Meeting Date:",null,null,null,null,{"$f":"T5","v":"00:00:00"},null,null,null,null,null,null,"Select",null,null,null,null,null,{"$f":"S208","v":"Select"},{"$f":"S208","v":"Select"}]
[null,null,null,null,null,null,"Previous IEP Meeting Date:",null,null,null,null,{"$f":"T6","v":"00:00:00"},null,null,null,null,null,null,null,null,null,null,null,{"$f":"Y209+Z209","v":0},{"$f":"COUNTIF(Y208,\"Yes\")*3","v":0},{"$f":"COUNTIF(Z208,\"No\")*3","v":0}]
[null,null,null,null,null,null,null,null,null,null,null,null,null,null,null,null,null,null,null,null,null,null,null,{"$f":"(X205+X207+X209)/3","v":0},{"$f":"(Y205+Y207+Y209)/3","v":0}]
[{"$f":"HYPERLINK(\"https://gosynth.com/p/s/eypdgf\",\"Present Levels of Academic Achievement & Functional Performance\")","v":"Present Levels of Academic Achievement & Functional Performance"},null,null,null,null,null,null,null,null,null,null,null,null,null,null,null,null,null,{"$f":"IFERROR(Y243/X243,\"N/A\")","v":"N/A"}]
[{"$f":"HYPERLINK(\"http://sdlegislature.gov/Rules/DisplayRule.aspx?Rule=24:05:27:01.03\",\"Progress/Involvement in \nGeneral Education Curriculum\n(24:05:27:01.03)\")","v":"Progress/Involvement in \nGeneral Education Curriculum\n(24:05:27:01.03)"},null,null,null,null,null,"A statement of the student's present levels of academic achievement and functional performance, including:\n   (a)  How the student's disability affects the student's involvement and progress in the general education curriculum (i.e., the same curriculum as for nondisabled students); or\n   (b)  For preschool student, as appropriate, how the disability affects the student's participation in appropriate activities;\nis found in the document.",null,null,null,null,null,null,null,null,null,null,null,"Select","V209",null,null,null,null,{"$f":"S212","v":"Select"},{"$f":"S212","v":"Select"}]
[null,null,null,null,null,null,null,null,null,null,null,null,null,null,null,null,null,null,null,null,null,null,null,{"$f":"Y213+Z213","v":0},{"$f":"COUNTIF(Y212,\"Yes\")*3","v":0},{"$f":"COUNTIF(Z212,\"No\")*3","v":0}]
[]
[{"$f":"HYPERLINK(\"https://sdlegislature.gov/Rules/DisplayRule.aspx?Rule=24:05:25:16\",\"Parent Participation\n(24:05:25:16)\")","v":"Parent Participation\n(24:05:25:16)"},null,null,null,null,null,"The purpose of this area for parent to provide IEP team information about how the child’s disability is impacted at home. Parents can also provide input on types of strategies and supports they provide at home.",null,null,null,null,null,null,null,null,null,null,null,"Select",null,null,null,null,null,{"$f":"S215","v":"Select"},{"$f":"S215","v":"Select"}]
[null,null,null,null,null,null,null,null,null,null,null,null,null,null,null,null,null,null,null,null,null,null,null,{"$f":"Y216+Z216","v":0},{"$f":"COUNTIF(Y215,\"Yes\")*3","v":0},{"$f":"COUNTIF(Z215,\"No\")*3","v":0}]
[{"$f":"HYPERLINK(\"http://sdlegislature.gov/Rules/DisplayRule.aspx?Rule=24:05:27:01.03\",\"Present Levels of \nAcademic Achievement \n& Functional Performance\nLinked to Annual Goals\n(24:05:27:01.03)\")","v":"Present Levels of \nAcademic Achievement \n& Functional Performance\nLinked to Annual Goals\n(24:05:27:01.03)"},null,null,null,null,null,"Skill Area:",null,null,null,null,"Measuarable Goal:",null,null,null,null,null,null,"Select","V214",null,null,null,null,{"$f":"S217","v":"Select"},{"$f":"S217","v":"Select"}]
[null,null,null,null,null,null,null,null,null,null,null,null,null,null,null,null,null,null,null,null,null,null,null,{"$f":"Y218+Z218","v":0},{"$f":"COUNTIF(Y217,\"Yes\")*3","v":0},{"$f":"COUNTIF(Z217,\"No\")*3","v":0}]
[null,null,null,null,null,null,null,"Strengths",null,null,null,null,"Condition",null,null,"How well"]
[null,null,null,null,null,null,null,"Needs",null,null,null,null,"Performance",null,null,"How often"]
[null,null,null,null,null,null,null,"Link to evaluation"]
[]
[null,null,null,null,null,null,"Skill Area:",null,null,null,null,"Measuarable Goal:",null,null,null,null,null,null,"Select",null,null,null,null,null,{"$f":"S223","v":"Select"},{"$f":"S223","v":"Select"}]
[null,null,null,null,null,null,null,null,null,null,null,null,null,null,null,null,null,null,null,null,null,null,null,{"$f":"Y224+Z224","v":0},{"$f":"COUNTIF(Y223,\"Yes\")*3","v":0},{"$f":"COUNTIF(Z223,\"No\")*3","v":0}]
[null,null,null,null,null,null,null,"Strengths",null,null,null,null,"Condition",null,null,"How well"]
[null,null,null,null,null,null,null,"Needs",null,null,null,null,"Performance",null,null,"How often"]
[null,null,null,null,null,null,null,"Link to evaluation"]
[]
[null,null,null,null,null,null,"Skill Area:",null,null,null,null,"Measuarable Goal:",null,null,null,null,null,null,"Select",null,null,null,null,null,{"$f":"S229","v":"Select"},{"$f":"S229","v":"Select"}]
[null,null,null,null,null,null,null,null,null,null,null,null,null,null,null,null,null,null,null,null,null,null,null,{"$f":"Y230+Z230","v":0},{"$f":"COUNTIF(Y229,\"Yes\")*3","v":0},{"$f":"COUNTIF(Z229,\"No\")*3","v":0}]
[null,null,null,null,null,null,null,"Strengths",null,null,null,null,"Condition",null,null,"How well"]
[null,null,null,null,null,null,null,"Needs",null,null,null,null,"Performance",null,null,"How often"]
[null,null,null,null,null,null,null,"Link to evaluation"]
[]
[{"$f":"HYPERLINK(\"http://sdlegislature.gov/Rules/DisplayRule.aspx?Rule=24:05:27:01.03\",\"How Progress will be Measured\n(24:05:27:01.03)\")","v":"How Progress will be Measured\n(24:05:27:01.03)"},null,null,null,null,null,{"$f":"HYPERLINK(\"https://gosynth.com/p/s/psaxcx\",\"         Check the following:\")","v":"         Check the following:"},null,null,null,null,null,null,null,null,null,null,null,"Select","V232",null,null,null,null,{"$f":"S235","v":"Select"},{"$f":"S235","v":"Select"}]
[null,null,null,null,null,null,null,null,null,null,null,null,null,null,null,null,null,null,null,null,null,null,null,{"$f":"Y236+Z236","v":0},{"$f":"COUNTIF(Y235,\"Yes\")*3","v":0},{"$f":"COUNTIF(Z235,\"No\")*3","v":0}]
[null,null,null,null,null,null,null,"Reporting frequency",null,null,null,null,"Extent of progress"]
[null,null,null,null,null,null,null,"Reporting method"]
[]
[{"$f":"HYPERLINK(\"http://sdlegislature.gov/Rules/DisplayRule.aspx?Rule=24:05:27:01.03\",\"Accommodations/Modifications\n(24:05:27:01.03)\")","v":"Accommodations/Modifications\n(24:05:27:01.03)"},null,null,null,null,null,{"$f":"HYPERLINK(\"https://gosynth.com/p/s/rtpvrq\",\"         Check the following:\")","v":"         Check the following:"},null,null,null,null,"List Instructional Accommodations:",null,null,null,null,null,null,"Select","V237",null,null,null,null,{"$f":"S240","v":"Select"},{"$f":"S240","v":"Select"}]
[null,null,null,null,null,null,null,"Frequency",null,null,null,null,null,null,null,null,null,null,null,null,null,null,null,{"$f":"Y241+Z241","v":0},{"$f":"COUNTIF(Y240,\"Yes\")*3","v":0},{"$f":"COUNTIF(Z240,\"No\")*3","v":0}]
[null,null,null,null,null,null,null,"Duration"]
[null,null,null,null,null,null,null,"Location",null,null,null,null,null,null,null,null,null,null,null,null,null,null,null,{"$f":"(X241+X236+X230+X224+X218+X216+X213)/7","v":0},{"$f":"(Y241+Y236+Y230+Y224+Y218+Y216+Y213)/7","v":0}]
[]
[]
[null,null,null,null,null,null,null,"Are the accommodations appropriate for the skill areas affected by the diability?"]
[]
[]
[]
[null,null,null,null,null,null,null,null,"Yes"]
[null,null,null,null,null,null,null,null,"No"]
[]
[]
[]
[{"$f":"HYPERLINK(\"https://gosynth.com/p/s/ygpazf\",\"Special Factors\")","v":"Special Factors"},null,null,null,null,null,null,null,null,null,null,null,null,null,null,null,null,null,{"$f":"IFERROR(Y294/X294,\"N/A\")","v":"N/A"}]
[{"$f":"HYPERLINK(\"http://sdlegislature.gov/Rules/DisplayRule.aspx?Rule=24:05:27:01.02\",\"Considerations\n(24:05:27:01.02)\")","v":"Considerations\n(24:05:27:01.02)"},null,null,null,null,null,"Select for each:",null,null,"Determine if data supports the selection for each special factor; if not addressed, check \"N\"  for score.",null,null,null,null,null,null,null,null,"Select","V243",null,null,null,null,{"$f":"S256","v":"Select"},{"$f":"S256","v":"Select"}]
[null,null,null,null,null,null,null,null,null,null,null,null,null,null,null,null,null,null,null,null,null,null,null,{"$f":"Y257+Z257","v":0},{"$f":"COUNTIF(Y256,\"Yes\")*3","v":0},{"$f":"COUNTIF(Z256,\"No\")*3","v":0}]
[null,null,null,null,null,null,null,null,null,"Limited English proficient"]
[null,null,null,null,null,null,null,null,null,"Special communication needs"]
[null,null,null,null,null,null,null,null,null,"Requires Braille"]
[null,null,null,null,null,null,null,null,null,"Behavior impedes learning"]
[null,null,null,null,null,null,null,null,null,"Requires assistive technology & services"]
[null,null,null,null,null,null,null,null,null,"Physical education"]
[null,null,null,null,null,null,null,null,null,"Hearing aid maintenance"]
[{"$f":"HYPERLINK(\"http://sdlegislature.gov/Rules/DisplayRule.aspx?Rule=24:05:27:01.03\",\"State/District Assessments\n(24:05:27:01.03)\")","v":"State/District Assessments\n(24:05:27:01.03)"},null,null,null,null,null,{"$f":"HYPERLINK(\"https://gosynth.com/p/s/jdbbir\",\"             Students will be taking state and district-wide assessments:\")","v":"             Students will be taking state and district-wide assessments:"},null,null,null,null,null,null,null,null,null,null,null,"Select","V263",null,null,null,null,{"$f":"S265","v":"Select"},{"$f":"S265","v":"Select"}]
[null,null,null,null,null,null,null,"With accommodations",null,null,null,null,"Without accommodations",null,null,null,null,null,null,null,null,null,null,{"$f":"Y266+Z266","v":0},{"$f":"COUNTIF(Y265,\"Yes\")*3","v":0},{"$f":"COUNTIF(Z265,\"No\")*3","v":0}]
[null,null,null,null,null,null,"Testing accommodations must reflect instructional accommodations."]
[null,null,null,null,null,null,"Do the accommodations for the state/district assesment(s) \nmatch the instructional accommodations?"]
[]
[null,null,null,null,null,null,"Instructional \nAccommodations",null,null,null,"State/District\nAssessment\nAccommodations",null,null,null,"Select\nyes or no:"]
[]
[]
[null,null,null,null,null,null,{"$f":"L241","v":0},null,null,null,null,null,null,null,"- Select -"]
[null,null,null,null,null,null,0,null,null,null,null,null,null,null,"- Select -"]
[null,null,null,null,null,null,0,null,null,null,null,null,null,null,"- Select -"]
[null,null,null,null,null,null,0,null,null,null,null,null,null,null,"- Select -"]
[null,null,null,null,null,null,0]
[null,null,null,null,null,null,0,null,null,null,null,null,null,null,"- Select -"]
[null,null,null,null,null,null,0,null,null,null,null,null,null,null,"- Select -"]
[null,null,null,null,null,null,0]
[null,null,null,null,null,null,0]
[null,null,null,null,null,null,0,null,null,null,null,null,null,null,"- Select -"]
[null,null,null,null,null,null,0,null,null,null,null,null,null,null,"- Select -"]
[null,null,null,null,null,null,0,null,null,null,null,null,null,null,"- Select -"]
[null,null,null,null,null,null,0,null,null,null,null,null,null,null,"- Select -"]
[null,null,null,null,null,null,0,null,null,null,null,null,null,null,"- Select -"]
[null,null,null,null,null,null,"Were the accommodations for\n the state assessment identified \non the IEP provided according to \nthe assessment data sheet?"]
[null,null,null,null,null,null,null,null,null,null,null,null,null,"- Select -"]
[]
[{"$f":"HYPERLINK(\"http://sdlegislature.gov/Rules/DisplayRule.aspx?Rule=24:05:27:01.03\",\"Alternate Assessments\n(24:05:27:01.03)\")","v":"Alternate Assessments\n(24:05:27:01.03)"},null,null,null,null,null,{"$f":"HYPERLINK(\"https://gosynth.com/p/s/bjlejx\",\"                  The following must be met:\")","v":"                  The following must be met:"},null,null,null,null,null,null,null,null,null,null,null,"Select","V257",null,null,null,null,{"$f":"S290","v":"Select"},{"$f":"S290","v":"Select"}]
[null,null,null,null,null,null,null,null,null,null,null,null,null,null,null,null,null,null,null,null,null,null,null,{"$f":"Y291+Z291","v":0},{"$f":"COUNTIF(Y290,\"Yes\")*3","v":0},{"$f":"COUNTIF(Z290,\"No\")*3","v":0}]
[null,null,null,null,null,null,null,"Student meets the significant cognitive disability criteria"]
[null,null,null,null,null,null,null,"Explanation for why student cannot participate in the regular assessment"]
[null,null,null,null,null,null,null,null,null,null,null,null,null,null,null,null,null,null,null,null,null,null,null,{"$f":"(X291+X266+X257)/3","v":0},{"$f":"(Y291+Y266+Y257)/3","v":0}]
[null,null,null,null,null,null,null,"Explanation for why the alternate assessment selected is appropriate"]
[]
[null,null,null,null,null,null,null,"The alternate assessment is for students working in the alternate achievement standards.  Annual goals and short term objectives are required.                                                                         \n                                                                        "]
[]
[]
[null,null,null,null,null,null,"Does the PPWN explain why IEP team decided alternate assessment for the student?"]
[null,null,null,null,null,null,"Does the student taking the\n alternate assessment meet\n the criteria, has it been \ndocumented on the IEP?"]
[null,null,null,null,null,null,null,null,null,null,null,null,null,"- Select -"]
[]
[]
[{"$f":"HYPERLINK(\"https://gosynth.com/p/s/itwkve\",\"Transition\")","v":"Transition"},null,null,null,null,null,null,null,null,null,null,null,null,null,null,null,null,null,{"$f":"IFERROR(Y306/X306,\"N/A\")","v":"N/A"}]
["Indicator 13 Item 1",null,null,null,null,null,null,null,null,null,null,null,null,null,null,null,null,null,null,null,null,null,null,{"$f":"(X308+X310+X312+X314+X316+X319+X321+X323+X326+X329+X331+X333+X336+X338+X340+X343+X345+X347+X350+X356+X362+X364+X366+X369)/24","v":0},{"$f":"(Y308+Y310+Y312+Y314+Y316+Y319+Y321+Y323+Y326+Y329+Y331+Y333+Y336+Y338+Y340+Y343+Y345+Y347+Y350+Y356+Y362+Y364+Y366+Y369)/24","v":0}]
[{"$f":"HYPERLINK(\"http://sdlegislature.gov/Rules/DisplayRule.aspx?Rule=24:05:27:01.03\",\"Transition IEP*\n(24:05:27:01.03)\")","v":"Transition IEP*\n(24:05:27:01.03)"},null,null,null,null,null,{"$f":"HYPERLINK(\"https://gosynth.com/p/s/itwkve\",\"Transition IEP must be in effect for all students on their 16 birthday or for younger students if it is addressed in the IEP.   \n*This is not on the Indicator 13 checklist, but it is a compliance requirement. \")","v":"Transition IEP must be in effect for all students on their 16 birthday or for younger students if it is addressed in the IEP.   \n*This is not on the Indicator 13 checklist, but it is a compliance requirement. "},null,null,null,null,null,null,null,null,null,null,null,"Select","V269",null,null,null,null,{"$f":"S307","v":"Select"},{"$f":"S307","v":"Select"}]
[null,null,null,null,null,null,null,null,null,null,null,null,null,null,null,null,null,null,null,null,null,null,null,{"$f":"Y308+Z308","v":0},{"$f":"COUNTIF(Y307,\"Yes\")*3","v":0},{"$f":"COUNTIF(Z307,\"No\")*3","v":0}]
[null,null,null,null,null,null,null,null,null,null,null,null,null,null,null,null,null,null,"Select",null,null,null,null,null,{"$f":"S309","v":"Select"},{"$f":"S309","v":"Select"}]
[{"$f":"HYPERLINK(\"http://sdlegislature.gov/Rules/DisplayRule.aspx?Rule=24:05:27:01.03\",\"Transition Assessments\n(24:05:27:01.03)\")","v":"Transition Assessments\n(24:05:27:01.03)"},null,null,null,null,null,null,"Employment",null,null,null,null,null,null,null,null,null,null,null,null,null,null,null,{"$f":"Y310+Z310","v":0},{"$f":"COUNTIF(Y309,\"Yes\")*3","v":0},{"$f":"COUNTIF(Z309,\"No\")*3","v":0}]
[null,null,null,null,null,null,null,null,null,null,null,null,null,null,null,null,null,null,"Select",null,null,null,null,null,{"$f":"S311","v":"Select"},{"$f":"S311","v":"Select"}]
[null,null,null,null,null,null,null,"Education/Training",null,null,null,null,null,null,null,null,null,null,null,null,null,null,null,{"$f":"Y312+Z312","v":0},{"$f":"COUNTIF(Y311,\"Yes\")*3","v":0},{"$f":"COUNTIF(Z311,\"No\")*3","v":0}]
[null,null,null,null,null,null,null,"Independent Living",null,null,null,null,null,null,null,null,null,null,"Select",null,null,null,null,null,{"$f":"S313","v":"Select"},{"$f":"S313","v":"Select"}]
[null,null,null,null,null,null,{"$f":"HYPERLINK(\"https://gosynth.com/p/s/itwkve\",\"The transition assessment must be completed prior to the age of 16 and updated annually.  Evidence of transition strengths/ needs are document on the PLAAFPs.  \")","v":"The transition assessment must be completed prior to the age of 16 and updated annually.  Evidence of transition strengths/ needs are document on the PLAAFPs.  "},null,null,null,null,null,null,null,null,null,null,null,null,null,null,null,null,{"$f":"Y314+Z314","v":0},{"$f":"COUNTIF(Y313,\"Yes\")*3","v":0},{"$f":"COUNTIF(Z313,\"No\")*3","v":0}]
["Transition Evaluation Report*\n",null,null,null,null,null,{"$f":"HYPERLINK(\"https://gosynth.com/p/s/itwkve\",\"A transition evaluation report is located in the file.\n\n*This is not on the Indicator 13 checklist, but it is a compliance requirement. \")","v":"A transition evaluation report is located in the file.\n\n*This is not on the Indicator 13 checklist, but it is a compliance requirement. "},null,null,null,null,null,null,null,null,null,null,null,"Select",null,null,null,null,null,{"$f":"S315","v":"Select"},{"$f":"S315","v":"Select"}]
[null,null,null,null,null,null,null,null,null,null,null,null,null,null,null,null,null,null,null,null,null,null,null,{"$f":"Y316+Z316","v":0},{"$f":"COUNTIF(Y315,\"Yes\")*3","v":0},{"$f":"COUNTIF(Z315,\"No\")*3","v":0}]
[{"$f":"HYPERLINK(\"https://gosynth.com/p/s/itwkve\",\"Indicator 13 Item 2\")","v":"Indicator 13 Item 2"}]
[{"$f":"HYPERLINK(\"http://sdlegislature.gov/Rules/DisplayRule.aspx?Rule=24:05:27:01.03\",\"Age-Appropriate Measurable \nPost-Secondary Goals \n(24:05:27:01.03)\")","v":"Age-Appropriate Measurable \nPost-Secondary Goals \n(24:05:27:01.03)"},null,null,null,null,null,null,"Employment",null,null,null,null,null,null,null,null,null,null,"Select","V278",null,null,null,null,{"$f":"S318","v":"Select"},{"$f":"S318","v":"Select"}]
[null,null,null,null,null,null,null,null,null,null,null,null,null,null,null,null,null,null,null,null,null,null,null,{"$f":"Y319+Z319","v":0},{"$f":"COUNTIF(Y318,\"Yes\")*3","v":0},{"$f":"COUNTIF(Z318,\"No\")*3","v":0}]
[null,null,null,null,null,null,null,"Education/Training",null,null,null,null,null,null,null,null,null,null,"Select",null,null,null,null,null,{"$f":"S320","v":"Select"},{"$f":"S320","v":"Select"}]
[null,null,null,null,null,null,null,null,null,null,null,null,null,null,null,null,null,null,null,null,null,null,null,{"$f":"Y321+Z321","v":0},{"$f":"COUNTIF(Y320,\"Yes\")*3","v":0},{"$f":"COUNTIF(Z320,\"No\")*3","v":0}]
[null,null,null,null,null,null,null,"Independent Living",null,null,null,null,null,null,null,null,null,null,"Select",null,null,null,null,null,{"$f":"S322","v":"Select"},{"$f":"S322","v":"Select"}]
[null,null,null,null,null,null,null,null,null,null,null,null,null,null,null,null,null,null,null,null,null,null,null,{"$f":"Y323+Z323","v":0},{"$f":"COUNTIF(Y322,\"Yes\")*3","v":0},{"$f":"COUNTIF(Z322,\"No\")*3","v":0}]
[{"$f":"HYPERLINK(\"https://gosynth.com/p/s/itwkve\",\"Indicator 13 Item 3\")","v":"Indicator 13 Item 3"}]
["MPSGs Updated Annually",null,null,null,null,null,null,null,null,null,null,null,null,null,null,null,null,null,"Select","V282",null,null,null,null,{"$f":"S325","v":"Select"},{"$f":"S325","v":"Select"}]
[null,null,null,null,null,null,null,null,null,null,null,null,null,null,null,null,null,null,null,null,null,null,null,{"$f":"Y326+Z326","v":0},{"$f":"COUNTIF(Y325,\"Yes\")*3","v":0},{"$f":"COUNTIF(Z325,\"No\")*3","v":0}]
["Indicator 13 Item 4"]
[{"$f":"HYPERLINK(\"http://sdlegislature.gov/Rules/DisplayRule.aspx?Rule=24:05:27:01.03\",\"Course of Study Aligns to \nPost-Secondary Goals\n(24:05:27:01.03)\")","v":"Course of Study Aligns to \nPost-Secondary Goals\n(24:05:27:01.03)"},null,null,null,null,null,null,"Employment",null,null,null,null,null,null,null,null,null,null,"Select","V285",null,null,null,null,{"$f":"S328","v":"Select"},{"$f":"S328","v":"Select"}]
[null,null,null,null,null,null,null,null,null,null,null,null,null,null,null,null,null,null,null,null,null,null,null,{"$f":"Y329+Z329","v":0},{"$f":"COUNTIF(Y328,\"Yes\")*3","v":0},{"$f":"COUNTIF(Z328,\"No\")*3","v":0}]
[null,null,null,null,null,null,null,"Education/Training",null,null,null,null,null,null,null,null,null,null,"Select",null,null,null,null,null,{"$f":"S330","v":"Select"},{"$f":"S330","v":"Select"}]
[null,null,null,null,null,null,null,null,null,null,null,null,null,null,null,null,null,null,null,null,null,null,null,{"$f":"Y331+Z331","v":0},{"$f":"COUNTIF(Y330,\"Yes\")*3","v":0},{"$f":"COUNTIF(Z330,\"No\")*3","v":0}]
[null,null,null,null,null,null,null,"Independent Living",null,null,null,null,null,null,null,null,null,null,"Select",null,null,null,null,null,{"$f":"S332","v":"Select"},{"$f":"S332","v":"Select"}]
[null,null,null,null,null,null,"Completed by age 16, or younger if transition has been addressed in the IEP, and updated annually through graduation or ‘age out’.",null,null,null,null,null,null,null,null,null,null,null,null,null,null,null,null,{"$f":"Y333+Z333","v":0},{"$f":"COUNTIF(Y332,\"Yes\")*3","v":0},{"$f":"COUNTIF(Z332,\"No\")*3","v":0}]
[{"$f":"HYPERLINK(\"https://gosynth.com/p/s/itwkve\",\"Indicator 13 Item 5\")","v":"Indicator 13 Item 5"}]
[{"$f":"HYPERLINK(\"http://sdlegislature.gov/Rules/DisplayRule.aspx?Rule=24:05:27:13.02\",\"Transition Services/Activities\n(24:05:27:13.02)\")","v":"Transition Services/Activities\n(24:05:27:13.02)"},null,null,null,null,null,null,"Employment",null,null,null,null,null,null,null,null,null,null,"Select","V290",null,null,null,null,{"$f":"S335","v":"Select"},{"$f":"S335","v":"Select"}]
[null,null,null,null,null,null,null,null,null,null,null,null,null,null,null,null,null,null,null,null,null,null,null,{"$f":"Y336+Z336","v":0},{"$f":"COUNTIF(Y335,\"Yes\")*3","v":0},{"$f":"COUNTIF(Z335,\"No\")*3","v":0}]
[null,null,null,null,null,null,null,"Education/Training",null,null,null,null,null,null,null,null,null,null,"Select",null,null,null,null,null,{"$f":"S337","v":"Select"},{"$f":"S337","v":"Select"}]
[null,null,null,null,null,null,null,null,null,null,null,null,null,null,null,null,null,null,null,null,null,null,null,{"$f":"Y338+Z338","v":0},{"$f":"COUNTIF(Y337,\"Yes\")*3","v":0},{"$f":"COUNTIF(Z337,\"No\")*3","v":0}]
[null,null,null,null,null,null,null,"Independent Living",null,null,null,null,null,null,null,null,null,null,"Select",null,null,null,null,null,{"$f":"S339","v":"Select"},{"$f":"S339","v":"Select"}]
[null,null,null,null,null,null,"Services/activities will reasonably enable the student to meet post-secondary goals and have at least one activity per MPSG addressed.",null,null,null,null,null,null,null,null,null,null,null,null,null,null,null,null,{"$f":"Y340+Z340","v":0},{"$f":"COUNTIF(Y339,\"Yes\")*3","v":0},{"$f":"COUNTIF(Z339,\"No\")*3","v":0}]
[{"$f":"HYPERLINK(\"https://gosynth.com/p/s/itwkve\",\"Indicator 13 Item 6\")","v":"Indicator 13 Item 6"}]
[{"$f":"HYPERLINK(\"http://sdlegislature.gov/Rules/DisplayRule.aspx?Rule=24:05:27:13.02\",\"Annual Goal Related to Student’s Transition Service needs in\n(24:05:27:13.02)\")","v":"Annual Goal Related to Student’s Transition Service needs in\n(24:05:27:13.02)"},null,null,null,null,null,null,"Employment",null,null,null,null,null,null,null,null,null,null,"Select","V295",null,null,null,null,{"$f":"S342","v":"Select"},{"$f":"S342","v":"Select"}]
[null,null,null,null,null,null,null,null,null,null,null,null,null,null,null,null,null,null,null,null,null,null,null,{"$f":"Y343+Z343","v":0},{"$f":"COUNTIF(Y342,\"Yes\")*3","v":0},{"$f":"COUNTIF(Z342,\"No\")*3","v":0}]
[null,null,null,null,null,null,null,"Education/Training",null,null,null,null,null,null,null,null,null,null,"Select",null,null,null,null,null,{"$f":"S344","v":"Select"},{"$f":"S344","v":"Select"}]
[null,null,null,null,null,null,null,null,null,null,null,null,null,null,null,null,null,null,null,null,null,null,null,{"$f":"Y345+Z345","v":0},{"$f":"COUNTIF(Y344,\"Yes\")*3","v":0},{"$f":"COUNTIF(Z344,\"No\")*3","v":0}]
[null,null,null,null,null,null,null,"Independent Living",null,null,null,null,null,null,null,null,null,null,"Select",null,null,null,null,null,{"$f":"S346","v":"Select"},{"$f":"S346","v":"Select"}]
[null,null,null,null,null,null,{"$f":"HYPERLINK(\"https://gosynth.com/p/s/itwkve\",\"Annual goals are linked to the MPSGs.\")","v":"Annual goals are linked to the MPSGs."},null,null,null,null,null,null,null,null,null,null,null,null,null,null,null,null,{"$f":"Y347+Z347","v":0},{"$f":"COUNTIF(Y346,\"Yes\")*3","v":0},{"$f":"COUNTIF(Z346,\"No\")*3","v":0}]
[{"$f":"HYPERLINK(\"https://gosynth.com/p/s/pisllo\",\"Indicator 13 Item 7\")","v":"Indicator 13 Item 7"}]
[{"$f":"HYPERLINK(\"http://sdlegislature.gov/Rules/DisplayRule.aspx?Rule=24:05:25:16.01\",\"Student Invitation/Participation\n(24:05:25:16.01)\")","v":"Student Invitation/Participation\n(24:05:25:16.01)"},null,null,null,null,null,"How the student invited?",null,null,null,null,{"$f":"HYPERLINK(\"https://gosynth.com/p/s/pisllo\",\"If student was not in attendance at the meeting, the IEP should show evidence that student's preferences and interests were taken into account. *\")","v":"If student was not in attendance at the meeting, the IEP should show evidence that student's preferences and interests were taken into account. *"},null,null,null,null,null,null,"Select","V300",null,null,null,null,{"$f":"S349","v":"Select"},{"$f":"S349","v":"Select"}]
[null,null,null,null,null,null,null,null,null,null,null,null,null,null,null,null,null,null,null,null,null,null,null,{"$f":"Y350+Z350","v":0},{"$f":"COUNTIF(Y349,\"Yes\")*3","v":0},{"$f":"COUNTIF(Z349,\"No\")*3","v":0}]
[null,null,null,null,null,null,null,"Meeting notice"]
[null,null,null,null,null,null,null,"Individual student invite"]
[]
[{"$f":"HYPERLINK(\"https://gosynth.com/p/s/pisllo\",\"Indicator 13 Item 8\")","v":"Indicator 13 Item 8"}]
[{"$f":"HYPERLINK(\"http://sdlegislature.gov/Rules/DisplayRule.aspx?Rule=24:05:25:16.01\",\"Consent to Invite Outside Agency\n(24:05:25:16.01)\")","v":"Consent to Invite Outside Agency\n(24:05:25:16.01)"},null,null,null,null,null,{"$f":"HYPERLINK(\"https://gosynth.com/p/s/pisllo\",\" Written Consent to invite:\")","v":" Written Consent to invite:"},null,null,null,null,null,null,"List of agencies invited:",null,null,null,null,"Select","V306",null,null,null,null,{"$f":"S355","v":"Select"},{"$f":"S355","v":"Select"}]
[null,null,null,null,null,null,"Invited on Meeting Notice:",null,null,null,null,null,"Yes",null,null,null,null,null,null,null,null,null,null,{"$f":"Y356+Z356","v":0},{"$f":"COUNTIF(Y355,\"Yes\")*3","v":0},{"$f":"COUNTIF(Z355,\"No\")*3","v":0}]
[null,null,null,null,null,null,null,null,null,null,null,null,"No"]
[null,null,null,null,null,null,"Meeting Notice Date:",null,null,null,null,{"$f":"J177","v":"00:00:00"}]
[null,null,null,null,null,null,"Date of Current IEP Meeting:",null,null,null,null,{"$f":"T5","v":"00:00:00"}]
[{"$f":"HYPERLINK(\"https://gosynth.com/p/s/pisllo\",\"Other Transition Areas *\")","v":"Other Transition Areas *"}]
[{"$f":"HYPERLINK(\"http://sdlegislature.gov/Rules/DisplayRule.aspx?Rule=24:05:30:16.01\",\"Transfer of Parental Rights:\n(24:05:30:16.01)\")","v":"Transfer of Parental Rights:\n(24:05:30:16.01)"},null,null,null,null,null,"Turned 17 on:",null,null,null,null,null,null,null,null,null,null,null,"Select","V312",null,null,null,null,{"$f":"S361","v":"Select"},{"$f":"S361","v":"Select"}]
[null,null,null,null,null,null,"Rights reviewed on:",null,null,null,null,null,null,null,null,null,null,null,null,null,null,null,null,{"$f":"Y362+Z362","v":0},{"$f":"COUNTIF(Y361,\"Yes\")*3","v":0},{"$f":"COUNTIF(Z361,\"No\")*3","v":0}]
[{"$f":"HYPERLINK(\"http://sdlegislature.gov/Rules/DisplayRule.aspx?Rule=24:05:27:12\",\"Specific Graduation Requirements:\n(24:05:27:12)\")","v":"Specific Graduation Requirements:\n(24:05:27:12)"},null,null,null,null,null,"Graduation requirements addressed on:",null,null,null,null,null,null,null,null,null,null,null,"Select",null,null,null,null,null,{"$f":"S363","v":"Select"},{"$f":"S363","v":"Select"}]
[null,null,null,null,null,null,"Student is projected to graduate:",null,null,null,null,null,null,null,null,null,null,null,null,null,null,null,null,{"$f":"Y364+Z364","v":0},{"$f":"COUNTIF(Y363,\"Yes\")*3","v":0},{"$f":"COUNTIF(Z363,\"No\")*3","v":0}]
[{"$f":"HYPERLINK(\"http://sdlegislature.gov/Rules/DisplayRule.aspx?Rule=24:05:27:12\",\"When Student has Graduated\n(24:05:27:12)\")","v":"When Student has Graduated\n(24:05:27:12)"},null,null,null,null,null,"Written prior notice was sent:",null,null,null,null,null,null,null,null,null,null,null,"Select",null,null,null,null,null,{"$f":"S365","v":"Select"},{"$f":"S365","v":"Select"}]
[null,null,null,null,null,null,{"$f":"HYPERLINK(\"https://gosynth.com/p/s/pisllo\",\"When a student graduates, it is a change in placement. It must have a written\n prior notice sent.  If student has \"\"aged-out\"\", a PPWN is required.  \")","v":"When a student graduates, it is a change in placement. It must have a written\n prior notice sent.  If student has \"aged-out\", a PPWN is required.  "},null,null,null,null,null,null,null,null,null,null,null,null,null,null,null,null,{"$f":"Y366+Z366","v":0},{"$f":"COUNTIF(Y365,\"Yes\")*3","v":0},{"$f":"COUNTIF(Z365,\"No\")*3","v":0}]
[]
[{"$f":"HYPERLINK(\"http://sdlegislature.gov/Rules/DisplayRule.aspx?Rule=24:05:27:12\",\"Summary of Performance was provided to the Student/Parent/Guardian\n(24:05:27:12)\")","v":"Summary of Performance was provided to the Student/Parent/Guardian\n(24:05:27:12)"},null,null,null,null,null,{"$f":"HYPERLINK(\"https://gosynth.com/p/s/pisllo\",\"Summary of Performance (SOP) is required for students who graduated and\n aged out. A copy of the SOP should remain in the file.\")","v":"Summary of Performance (SOP) is required for students who graduated and\n aged out. A copy of the SOP should remain in the file."},null,null,null,null,null,null,null,null,null,null,null,"Select",null,null,null,null,null,{"$f":"S368","v":"Select"},{"$f":"S368","v":"Select"}]
[null,null,null,null,null,null,null,null,null,null,null,null,null,null,null,null,null,null,null,null,null,null,null,{"$f":"Y369+Z369","v":0},{"$f":"COUNTIF(Y368,\"Yes\")*3","v":0},{"$f":"COUNTIF(Z368,\"No\")*3","v":0}]
[]
["Click on the [+] button to expand or the [-] button to collapse."]
[{"$f":"HYPERLINK(\"https://gosynth.com/p/s/kldkzb\",\"Related Services\")","v":"Related Services"},null,null,null,null,null,null,null,null,null,null,null,null,null,null,null,null,null,{"$f":"IFERROR(Y375/X375,\"N/A\")","v":"N/A"}]
[{"$f":"HYPERLINK(\"http://sdlegislature.gov/Rules/DisplayRule.aspx?Rule=24:05:27:16\",\"Related Services\n(24:05:27)\")","v":"Related Services\n(24:05:27)"},null,null,null,null,null,"Service Provided:",null,null,null,null,null,"If student will receive services in a different location, then must break it out to calculate the Least Restrictive Environment.",null,null,null,null,null,"Select","V324",null,null,null,null,{"$f":"S373","v":"Select"},{"$f":"S373","v":"Select"}]
[null,null,null,null,null,null,null,null,null,null,null,null,null,null,null,null,null,null,null,null,null,null,null,{"$f":"Y374+Z374","v":0},{"$f":"COUNTIF(Y373,\"Yes\")*3","v":0},{"$f":"COUNTIF(Z373,\"No\")*3","v":0}]
[null,null,null,null,null,null,null,"Frequency",null,null,"Location",null,null,null,null,null,null,null,null,null,null,null,null,{"$f":"(X374+X379)/2","v":0},{"$f":"(Y374+Y379)/2","v":0}]
[null,null,null,null,null,null,null,"Duration",null,null,"Other"]
[null,null,null,null,null,null,"Service Provided:",null,null,null,null,null,"At a minimum, all areas student qualifies and has an annual goal must have service time documented. If not addressed, then PPWN must explain reason."]
[null,null,null,null,null,null,null,null,null,null,null,null,null,null,null,null,null,null,"Select",null,null,null,null,null,{"$f":"S378","v":"Select"},{"$f":"S378","v":"Select"}]
[null,null,null,null,null,null,null,"Frequency",null,null,"Location",null,null,null,null,null,null,null,null,null,null,null,null,{"$f":"Y379+Z379","v":0},{"$f":"COUNTIF(Y378,\"Yes\")*3","v":0},{"$f":"COUNTIF(Z378,\"No\")*3","v":0}]
[null,null,null,null,null,null,null,"Duration",null,null,"Other"]
[]
["Least Restrictive Environment ",null,null,null,null,null,null,null,null,null,null,null,null,null,null,null,null,null,{"$f":"IFERROR(Y382/X382,\"N/A\")","v":"N/A"},null,null,null,null,{"$f":"(X384+X388+X392+X396+X400+X402+X404+X406+X408)/9","v":0},{"$f":"(Y384+Y388+Y392+Y396+Y400+Y402+Y404+Y406+Y408)/9","v":0}]
[{"$f":"HYPERLINK(\"https://sdlegislature.gov/Rules/DisplayRule.aspx?Rule=24:05:28\",\"Least Restrictive Enviornment \n(Chapter 24:05:28)\")","v":"Least Restrictive Enviornment \n(Chapter 24:05:28)"},null,null,null,null,null,{"$f":"HYPERLINK(\"https://gosynth.com/p/s/llxjsq\",\"Skill area:\")","v":"Skill area:"},null,null,null,null,null,null,null,null,null,null,null,"Select","V334",null,null,null,null,{"$f":"S383","v":"Select"},{"$f":"S383","v":"Select"}]
[null,null,null,null,null,null,null,null,null,null,null,null,null,null,null,null,null,null,null,null,null,null,null,{"$f":"Y384+Z384","v":0},{"$f":"COUNTIF(Y383,\"Yes\")*3","v":0},{"$f":"COUNTIF(Z383,\"No\")*3","v":0}]
[null,null,null,null,null,null,null,null,"Frequency",null,null,"Duration",null,null,"Location"]
[]
[null,null,null,null,null,null,"Skill area:",null,null,null,null,null,null,null,null,null,null,null,"Select",null,null,null,null,null,{"$f":"S387","v":"Select"},{"$f":"S387","v":"Select"}]
[null,null,null,null,null,null,null,null,null,null,null,null,null,null,null,null,null,null,null,null,null,null,null,{"$f":"Y388+Z388","v":0},{"$f":"COUNTIF(Y387,\"Yes\")*3","v":0},{"$f":"COUNTIF(Z387,\"No\")*3","v":0}]
[null,null,null,null,null,null,null,null,"Frequency",null,null,"Duration",null,null,"Location"]
[]
[null,null,null,null,null,null,"Skill area:",null,null,null,null,null,null,null,null,null,null,null,"Select",null,null,null,null,null,{"$f":"S391","v":"Select"},{"$f":"S391","v":"Select"}]
[null,null,null,null,null,null,null,null,null,null,null,null,null,null,null,null,null,null,null,null,null,null,null,{"$f":"Y392+Z392","v":0},{"$f":"COUNTIF(Y391,\"Yes\")*3","v":0},{"$f":"COUNTIF(Z391,\"No\")*3","v":0}]
[null,null,null,null,null,null,null,null,"Frequency",null,null,"Duration",null,null,"Location"]
[]
[null,null,null,null,null,null,"Skill area:",null,null,null,null,null,null,null,null,null,null,null,"Select",null,null,null,null,null,{"$f":"S395","v":"Select"},{"$f":"S395","v":"Select"}]
[null,null,null,null,null,null,null,null,null,null,null,null,null,null,null,null,null,null,null,null,null,null,null,{"$f":"Y396+Z396","v":0},{"$f":"COUNTIF(Y395,\"Yes\")*3","v":0},{"$f":"COUNTIF(Z395,\"No\")*3","v":0}]
[null,null,null,null,null,null,null,null,"Frequency",null,null,"Duration",null,null,"Location"]
[]
[{"$f":"HYPERLINK(\"http://sdlegislature.gov/Rules/DisplayRule.aspx?Rule=24:05:28:02\",\"Continuum of Placement\n(24:05:28:02)\")","v":"Continuum of Placement\n(24:05:28:02)"},null,null,null,null,null,"Select:",null,null,null,null,null,null,null,null,null,null,null,"Select","V350",null,null,null,null,{"$f":"S399","v":"Select"},{"$f":"S399","v":"Select"}]
[null,null,null,null,null,null,null,null,null,null,null,null,null,null,null,null,null,null,null,null,null,null,null,{"$f":"Y400+Z400","v":0},{"$f":"COUNTIF(Y399,\"Yes\")*3","v":0},{"$f":"COUNTIF(Z399,\"No\")*3","v":0}]
[null,null,null,null,null,null,"Select for Early Childhood (Ages 3-5):",null,null,null,null,null,null,null,null,null,null,null,"Select",null,null,null,null,null,{"$f":"S401","v":"Select"},{"$f":"S401","v":"Select"}]
[null,null,null,null,null,null,null,null,null,null,null,null,null,null,null,null,null,null,null,null,null,null,null,{"$f":"Y402+Z402","v":0},{"$f":"COUNTIF(Y401,\"Yes\")*3","v":0},{"$f":"COUNTIF(Z401,\"No\")*3","v":0}]
[{"$f":"HYPERLINK(\"http://sdlegislature.gov/Rules/DisplayRule.aspx?Rule=24:05:27:01.03\",\"Participation with Non-disabled Peers\n(24:05:27:01.03)\")","v":"Participation with Non-disabled Peers\n(24:05:27:01.03)"},null,null,null,null,null,{"$f":"HYPERLINK(\"https://gosynth.com/p/s/wjqcuh\",\"Document opportunities to participate with non-disabled peers.\")","v":"Document opportunities to participate with non-disabled peers."},null,null,null,null,null,null,null,null,null,null,null,"Select",null,null,null,null,null,{"$f":"S403","v":"Select"},{"$f":"S403","v":"Select"}]
[null,null,null,null,null,null,null,null,null,null,null,null,null,null,null,null,null,null,null,null,null,null,null,{"$f":"Y404+Z404","v":0},{"$f":"COUNTIF(Y403,\"Yes\")*3","v":0},{"$f":"COUNTIF(Z403,\"No\")*3","v":0}]
[{"$f":"HYPERLINK(\"http://sdlegislature.gov/Rules/DisplayRule.aspx?Rule=24:05:28:03\",\"Justification for Placement \n(24:05:28:03)\")","v":"Justification for Placement \n(24:05:28:03)"},null,null,null,null,null,{"$f":"HYPERLINK(\"https://gosynth.com/p/s/rjxcoc\",\"                  Select from the following:\")","v":"                  Select from the following:"},null,null,null,null,null,null,null,null,null,null,null,"Select",null,null,null,null,null,{"$f":"S405","v":"Select"},{"$f":"S405","v":"Select"}]
[null,null,null,null,null,null,null,null,null,null,null,null,null,null,null,null,null,null,null,null,null,null,null,{"$f":"Y406+Z406","v":0},{"$f":"COUNTIF(Y405,\"Yes\")*3","v":0},{"$f":"COUNTIF(Z405,\"No\")*3","v":0}]
[{"$f":"HYPERLINK(\"http://sdlegislature.gov/Rules/DisplayRule.aspx?Rule=24:05:25:26\",\"Extended School Year\n(24:05:25:26)\")","v":"Extended School Year\n(24:05:25:26)"},null,null,null,null,null,{"$f":"HYPERLINK(\"https://gosynth.com/p/s/bbepxx\",\"                  Check the following:\")","v":"                  Check the following:"},null,null,null,null,null,null,null,null,null,null,null,"Select","V358",null,null,null,null,{"$f":"S407","v":"Select"},{"$f":"S407","v":"Select"}]
[null,null,null,null,null,null,null,null,null,null,null,null,null,null,null,null,null,null,null,null,null,null,null,{"$f":"Y408+Z408","v":0},{"$f":"COUNTIF(Y407,\"Yes\")*3","v":0},{"$f":"COUNTIF(Z407,\"No\")*3","v":0}]
[null,null,null,null,null,null,null,null,"Determination",null,null,null,"Beginning/end dates"]
[null,null,null,null,null,null,null,null,"Goals",null,null,null,"Amount of service"]
[]
[]
[]
[{"$f":"HYPERLINK(\"https://gosynth.com/p/s/acbbuk\",\"Prior Parental Written Notice\")","v":"Prior Parental Written Notice"},null,null,null,null,null,null,null,null,null,null,null,null,null,null,null,null,null,{"$f":"IFERROR(Y414/X414,\"N/A\")","v":"N/A"},null,null,null,null,{"$f":"(X416+X421)/2","v":0},{"$f":"(Y416+Y421)/2","v":0}]
[{"$f":"HYPERLINK(\"http://sdlegislature.gov/Rules/DisplayRule.aspx?Rule=24:05:30:04\",\"Prior Written Notice Sent to Parent Regarding IEP Implementation\n(24:05:30:04)\")","v":"Prior Written Notice Sent to Parent Regarding IEP Implementation\n(24:05:30:04)"},null,null,null,null,null,"Date the district sent the PPWN:",null,null,null,null,null,null,null,"The implementation date documented on the PPWN must be reflected on IEP.\n\nThe five-day notice requirement may be waived by the parents.",null,null,null,"Select","V366",null,null,null,null,{"$f":"S415","v":"Select"},{"$f":"S415","v":"Select"}]
[null,null,null,null,null,null,"District proposed at least 5 calendar days to begin implementation:",null,null,null,null,null,{"$f":"M415+5","v":"1900-01-05"},null,null,null,null,null,null,null,null,null,null,{"$f":"Y416+Z416","v":0},{"$f":"COUNTIF(Y415,\"Yes\")*3","v":0},{"$f":"COUNTIF(Z415,\"No\")*3","v":0}]
[]
[null,null,null,null,null,null,"Was the 5 calendar day notice requirement met?",null,null,null,null,null,null,"Yes"]
[null,null,null,null,null,null,null,null,null,null,null,null,null,"No"]
[{"$f":"HYPERLINK(\"http://sdlegislature.gov/Rules/DisplayRule.aspx?Rule=24:05:30:05\",\"Content of PPWN\n(24:05:30:05)\")","v":"Content of PPWN\n(24:05:30:05)"},null,null,null,null,null,"Check the following:",null,null,null,null,null,null,null,null,null,null,null,"Select","V371",null,null,null,null,{"$f":"S420","v":"Select"},{"$f":"S420","v":"Select"}]
[null,null,null,null,null,null,"PPWN must be individualized to the student, IEP team discussions and situation.",null,null,null,null,null,null,null,null,null,null,null,null,null,null,null,null,{"$f":"Y421+Z421","v":0},{"$f":"COUNTIF(Y420,\"Yes\")*3","v":0},{"$f":"COUNTIF(Z420,\"No\")*3","v":0}]
[]
[null,null,null,null,null,null,null,"Explanation of why the district proposed or refused to take the action"]
[null,null,null,null,null,null,null,"Description of other options considered and why they were rejected "]
[null,null,null,null,null,null,null,"Description of evidence used for the proposed or refused action"]
[null,null,null,null,null,null,null,"Description of other factors that are relevant to proposal or refusal"]
[]
[null,null,null,null,null,null,"To skip back to Eligibility section click ",null,null,null,null,"HERE."]
[]
[{"$f":"HYPERLINK(\"https://gosynth.com/p/s/iwvzyu\",\"Amendment to IEP\")","v":"Amendment to IEP"},null,null,null,null,null,null,null,null,null,null,null,null,null,null,null,null,null,{"$f":"IFERROR(Z430/Y430,\"N/A\")","v":"N/A"},null,null,null,null,null,{"$f":"(X432+X434)/2","v":0},{"$f":"(Y432+Y434)/2","v":0}]
["Amendment to IEP",null,null,null,null,null,null,null,null,null,null,null,null,null,null,null,null,null,"Select","V381",null,null,null,null,{"$f":"S431","v":"Select"},{"$f":"S431","v":"Select"}]
[{"$f":"HYPERLINK(\"http://sdlegislature.gov/Rules/DisplayRule.aspx?Rule=24:05:27:08.01\",\"(24:05:27:08.01)\")","v":"(24:05:27:08.01)"},null,null,{"$f":"HYPERLINK(\"http://sdlegislature.gov/Rules/DisplayRule.aspx?Rule=24:05:27:08.02\",\"(24:05:27:08.02)\")","v":"(24:05:27:08.02)"},null,null,null,null,null,null,null,null,null,null,null,null,null,null,null,null,null,null,null,{"$f":"Y432+Z432","v":0},{"$f":"COUNTIF(Y431,\"Yes\")*3","v":0},{"$f":"COUNTIF(Z431,\"No\")*3","v":0}]
[{"$f":"HYPERLINK(\"http://sdlegislature.gov/Rules/DisplayRule.aspx?Rule=24:05:30:04\",\"Prior Notice\n(24:05:30:04)\")","v":"Prior Notice\n(24:05:30:04)"},null,null,null,null,null,"Document if the amendment was made with or without a meeting.",null,null,null,null,null,null,null,null,null,null,null,"Select",null,null,null,null,null,{"$f":"S433","v":"Select"},{"$f":"S433","v":"Select"}]
[null,null,null,null,null,null,null,null,null,null,null,null,null,null,null,null,null,null,null,null,null,null,null,{"$f":"Y434+Z434","v":0},{"$f":"COUNTIF(Y433,\"Yes\")*3","v":0},{"$f":"COUNTIF(Z433,\"No\")*3","v":0}]
[]
[{"$f":"HYPERLINK(\"https://gosynth.com/p/s/jdtswp\",\"Additional Items\")","v":"Additional Items"},null,null,null,null,null,null,null,null,null,null,null,null,null,null,null,null,null,{"$f":"IFERROR(AB436/AA436,\"N/A\")","v":"N/A"},null,null,null,null,null,{"$f":"S437","v":"Select"},{"$f":"S437","v":"Select"},{"$f":"(X437+X439+X441+X443)/4","v":0},{"$f":"(Y437+Y439+Y441+Y443)/4","v":0}]
["Parent Declined/\nWithdrew Consent for Services ",null,null,null,null,null,"Revocation signed:",null,null,null,null,null,null,{"$f":"HYPERLINK(\"http://sdlegislature.gov/Rules/DisplayRule.aspx?Rule=24:05:27:04.02\",\"(24:05:27:04.02)\")","v":"(24:05:27:04.02)"},null,null,null,null,"Select","V387",null,null,null,{"$f":"Y437+Z437","v":0},{"$f":"COUNTIF(Y436,\"Yes\")*3","v":0},{"$f":"COUNTIF(Z436,\"No\")*3","v":0}]
[null,null,null,null,null,null,"Date prior notice was sent:",null,null,null,null,null,null,null,null,null,null,null,null,null,null,null,null,null,{"$f":"S439","v":"Select"},{"$f":"S439","v":"Select"}]
["Surrogate Parent",null,null,null,null,null,null,null,null,null,null,null,null,null,null,null,null,null,"Select",null,null,null,null,{"$f":"Y439+Z439","v":0},{"$f":"COUNTIF(Y438,\"Yes\")*3","v":0},{"$f":"COUNTIF(Z438,\"No\")*3","v":0}]
["Transfer Students Provided with  FAPE/Comparable Services ",null,null,null,null,null,"Date prior notice was sent:",null,null,null,null,null,null,{"$f":"HYPERLINK(\"http://sdlegislature.gov/Rules/DisplayRule.aspx?Rule=24:05:27:15.01\",\"In-state (24:05:27:15.01)\")","v":"In-state (24:05:27:15.01)"},null,null,null,null,"Select",null,null,null,null,null,{"$f":"S440","v":"Select"},{"$f":"S440","v":"Select"}]
[null,null,null,null,null,null,null,null,null,null,null,null,null,{"$f":"HYPERLINK(\"http://sdlegislature.gov/Rules/DisplayRule.aspx?Rule=24:05:27:15.02\",\"Out-of-state (24:05:27:15.02)\")","v":"Out-of-state (24:05:27:15.02)"},null,null,null,null,null,null,null,null,null,{"$f":"Y441+Z441","v":0},{"$f":"COUNTIF(Y440,\"Yes\")*3","v":0},{"$f":"COUNTIF(Z440,\"No\")*3","v":0}]
["Transfer Students Evaluated for \nSouth Dakota Eligibility",null,null,null,null,null,"Eligibility determination date:",null,null,null,null,null,null,null,null,null,null,null,"Select",null,null,null,null,null,{"$f":"S442","v":"Select"},{"$f":"S442","v":"Select"}]
[null,null,null,null,null,null,"IEP date:",null,null,null,null,null,null,null,null,null,null,null,null,null,null,null,null,{"$f":"Y443+Z443","v":0},{"$f":"COUNTIF(Y442,\"Yes\")*3","v":0},{"$f":"COUNTIF(Z442,\"No\")*3","v":0}]
[null,null,null,null,null,null,"PPWN Implementing IEP sent:"]

{"sheet":"File 10","index":13,"n_rows":444,"n_cols":28,"rows_kept":444,"cut":false,"hidden":false,"merged":[[436,18,437,18],[437,6,437,10],[437,11,437,12],[438,6,438,17],[442,6,442,10],[442,11,442,12],[413,19,413,21],[414,6,414,11],[414,12,414,13],[414,14,418,17],[414,18,418,18],[414,19,418,21],[417,6,418,11],[419,6,419,17],[420,6,420,17],[216,14,216,16],[443,6,443,10],[443,11,443,12],[446,11,447,12],[439,6,440,10],[439,11,440,12],[439,13,439,17],[440,13,440,17],[441,6,441,10],[441,11,441,12],[441,13,443,17],[415,6,416,11],[415,12,416,13],[413,0,413,17],[422,7,422,17],[423,7,423,17],[424,7,424,17],[425,7,425,17],[426,6,426,17],[427,6,427,10],[427,11,427,17],[436,6,436,10],[436,11,436,12],[436,13,437,17],[216,6,216,7],[216,8,216,10],[205,0,206,5],[207,0,209,5],[216,11,216,13],[231,7,231,10],[209,6,209,13],[210,0,210,17],[211,0,213,5],[211,6,213,16],[214,0,215,5],[214,6,215,16],[216,0,233,5],[225,12,225,13],[225,15,225,16],[226,7,226,10],[227,6,227,10],[228,6,228,7],[228,8,228,10],[228,11,228,13],[228,14,228,16],[230,7,230,10],[230,12,230,13],[230,15,230,16],[196,0,200,5],[196,6,200,17],[196,18,200,18],[201,0,201,21],[202,0,202,17],[202,19,202,21],[203,0,204,5],[188,7,188,9],[188,10,188,12],[189,7,189,9],[189,10,189,12],[186,0,189,5],[186,7,186,9],[186,10,186,12],[192,7,192,9],[193,7,193,9],[193,10,193,12],[194,7,194,9],[190,0,190,5],[190,7,190,9],[190,10,190,12],[191,0,195,5],[191,7,191,9],[191,10,191,12],[152,12,156,15],[154,7,156,10],[145,7,146,10],[145,12,146,15],[149,18,162,18],[149,19,162,21],[150,6,150,15],[150,17,160,17],[158,12,159,15],[151,6,151,15],[152,7,153,10],[157,7,158,10],[157,12,157,15],[210,19,210,21],[211,19,215,21],[214,18,215,18],[196,19,200,21],[203,19,209,21],[205,18,206,18],[207,14,208,17],[207,18,209,18],[209,14,209,17],[211,18,213,18],[205,6,206,17],[207,6,207,10],[207,11,207,13],[208,6,208,10],[208,11,208,13],[203,6,204,17],[203,18,204,18],[190,13,190,16],[191,13,191,16],[192,13,192,16],[193,13,193,16],[194,13,194,16],[176,12,177,17],[184,13,185,16],[186,13,186,16],[184,10,185,12],[194,10,194,12],[180,6,180,17],[182,7,183,16],[187,7,187,9],[187,10,187,12],[187,13,187,16],[188,13,188,16],[192,10,192,12],[172,12,173,17],[172,18,173,18],[172,19,173,21],[177,0,177,2],[177,3,177,5],[177,6,177,8],[177,9,177,11],[178,0,178,5],[178,6,179,17],[179,0,179,2],[179,3,179,5],[176,18,177,18],[176,19,195,21],[178,18,179,18],[180,18,195,18],[176,0,176,5],[176,6,176,8],[176,9,176,11],[174,0,174,21],[175,0,175,17],[175,19,175,21],[180,0,185,5],[184,7,185,9],[189,13,189,16],[216,18,221,18],[216,19,233,21],[222,18,227,18],[228,18,233,18],[218,7,218,10],[218,12,218,13],[220,7,220,10],[221,6,221,10],[222,6,222,7],[222,8,222,10],[222,11,222,13],[222,14,222,16],[231,12,231,13],[231,15,231,16],[232,7,232,10],[233,6,233,10],[218,15,218,16],[219,7,219,10],[219,12,219,13],[219,15,219,16],[224,7,224,10],[224,12,224,13],[224,15,224,16],[225,7,225,10],[117,6,117,13],[117,14,117,17],[118,6,119,17],[120,0,120,21],[118,0,119,5],[130,18,148,18],[130,19,148,21],[133,12,134,15],[135,7,137,10],[135,12,136,15],[137,12,138,15],[138,7,141,10],[139,12,144,15],[142,7,144,10],[121,0,121,17],[121,19,121,21],[122,0,122,17],[122,18,129,18],[122,19,129,21],[123,0,129,5],[123,6,123,17],[124,6,124,17],[125,7,125,11],[126,7,126,11],[165,12,169,17],[167,7,167,11],[168,7,168,11],[110,18,112,18],[110,19,119,21],[113,18,114,18],[115,18,117,18],[118,18,119,18],[104,18,105,18],[106,18,107,18],[169,7,169,11],[162,0,162,17],[163,0,166,5],[163,6,163,17],[163,18,171,18],[163,19,171,21],[164,6,164,17],[167,0,173,5],[165,7,165,11],[166,7,166,11],[170,7,170,13],[171,7,171,11],[172,6,173,10],[172,11,173,11],[98,18,101,18],[98,19,101,21],[99,11,99,13],[106,6,107,17],[84,18,97,18],[84,19,97,21],[86,6,86,8],[86,9,86,12],[87,15,87,17],[100,11,100,13],[101,11,101,13],[102,6,103,17],[102,18,103,18],[94,13,94,14],[94,15,94,17],[95,15,95,17],[96,13,96,14],[96,15,96,17],[99,6,99,10],[100,6,100,10],[102,19,109,21],[108,18,109,18],[89,13,89,14],[89,15,89,17],[91,13,91,14],[91,15,91,17],[92,13,92,14],[92,15,92,17],[97,13,97,14],[97,15,97,17],[98,11,98,13],[98,14,101,17],[93,15,93,17],[93,13,93,14],[110,0,112,5],[110,6,110,10],[111,6,111,10],[113,0,114,5],[115,0,117,5],[115,6,115,12],[116,6,116,12],[98,0,101,5],[98,6,98,10],[101,6,101,10],[102,0,103,5],[104,0,105,5],[106,0,107,5],[108,0,109,5],[104,6,105,17],[108,6,109,17],[110,11,110,13],[110,14,111,17],[111,11,111,13],[112,6,112,13],[112,14,112,17],[113,6,114,17],[115,13,115,15],[116,13,116,15],[90,6,90,8],[90,9,90,12],[78,6,78,8],[78,9,78,12],[80,0,83,5],[80,6,80,8],[80,9,80,12],[81,9,81,12],[84,0,90,5],[83,9,83,12],[96,6,96,8],[96,9,96,12],[91,0,91,5],[91,6,91,8],[91,9,91,12],[92,0,97,5],[92,9,92,12],[93,9,93,12],[94,9,94,12],[93,6,93,8],[94,6,94,8],[92,6,92,8],[97,6,97,8],[97,9,97,12],[74,19,83,21],[76,6,76,8],[76,9,76,12],[76,13,76,14],[76,15,76,17],[77,6,77,8],[77,9,77,12],[77,13,77,14],[77,15,77,17],[82,6,82,8],[82,9,82,12],[82,13,82,14],[82,15,82,17],[83,15,83,17],[78,13,78,14],[78,15,78,17],[80,13,80,14],[80,15,80,17],[81,13,81,14],[81,15,81,17],[83,13,83,14],[74,18,83,18],[81,6,81,8],[83,6,83,8],[150,0,161,5],[159,6,160,6],[159,7,160,10],[161,6,161,15],[89,6,89,8],[89,9,89,12],[90,13,90,14],[90,15,90,17],[95,9,95,12],[147,6,147,15],[148,0,148,17],[149,0,149,17],[128,7,128,11],[128,13,128,17],[131,0,147,5],[131,6,131,15],[131,17,147,17],[132,6,132,15],[133,7,134,10],[95,6,95,8],[127,7,127,11],[127,13,127,17],[129,6,129,17],[130,0,130,17],[84,15,85,17],[84,6,85,8],[86,13,86,14],[86,15,86,17],[87,9,87,12],[87,13,87,14],[88,6,88,8],[88,9,88,12],[84,13,85,14],[88,13,88,14],[88,15,88,17],[84,9,85,12],[87,6,87,8],[125,13,125,17],[126,13,126,17],[66,15,66,17],[66,13,66,14],[67,0,67,5],[67,6,67,8],[67,9,67,12],[67,13,67,14],[67,15,67,17],[68,0,73,5],[79,0,79,5],[79,6,79,8],[79,9,79,12],[79,13,79,14],[79,15,79,17],[72,6,72,8],[72,9,72,12],[74,0,78,5],[74,6,75,8],[74,9,75,12],[74,13,75,14],[74,15,75,17],[68,13,68,14],[73,6,73,8],[60,13,61,14],[60,15,61,17],[62,13,62,14],[62,15,62,17],[63,13,63,14],[63,15,63,17],[64,13,64,14],[64,15,64,17],[65,13,65,14],[65,15,65,17],[54,0,59,5],[54,6,54,9],[54,10,54,12],[55,6,55,9],[55,10,55,12],[45,19,53,21],[54,19,59,21],[58,13,59,17],[56,6,56,9],[56,10,56,12],[57,6,57,9],[57,10,57,12],[58,6,58,9],[58,10,58,12],[59,6,59,9],[59,10,59,12],[62,9,62,12],[63,9,63,12],[64,9,64,12],[65,9,65,12],[66,9,66,12],[60,0,66,5],[60,6,61,8],[62,6,62,8],[63,6,63,8],[64,6,64,8],[65,6,65,8],[66,6,66,8],[60,9,61,12],[21,10,21,13],[21,14,21,17],[27,9,27,11],[27,12,27,17],[52,6,52,17],[53,6,53,17],[45,6,45,17],[46,6,46,17],[47,6,47,17],[48,7,48,17],[49,7,49,17],[50,7,50,17],[51,7,51,17],[39,6,40,17],[22,6,22,9],[22,10,22,13],[25,0,25,21],[26,0,26,17],[26,19,26,21],[22,14,22,17],[23,6,23,9],[23,10,23,13],[23,14,23,17],[45,0,53,5],[17,0,17,21],[18,0,18,17],[19,0,24,5],[19,9,19,11],[19,12,19,17],[20,14,20,17],[24,6,24,17],[8,3,8,6],[8,7,8,9],[9,0,9,21],[8,0,8,2],[10,0,12,5],[10,10,11,10],[10,11,11,13],[10,14,11,17],[10,18,11,18],[10,19,11,21],[18,19,18,21],[19,18,24,18],[19,19,24,21],[20,6,20,9],[20,10,20,13],[19,6,19,8],[21,6,21,9],[10,6,10,9],[11,6,11,9],[12,6,12,21],[13,0,13,21],[14,0,14,17],[14,19,14,21],[15,0,16,5],[15,18,16,18],[15,19,16,21],[15,6,16,17],[6,0,6,2],[6,10,6,13],[7,14,7,18],[8,14,8,18],[8,19,8,21],[4,14,4,18],[4,19,4,21],[5,14,5,18],[5,19,5,21],[6,14,6,18],[6,19,6,21],[7,19,7,21],[6,3,6,6],[6,7,6,9],[7,0,7,2],[7,3,7,6],[7,7,7,9],[7,10,7,13],[8,10,8,13],[3,0,3,21],[4,0,4,2],[4,3,4,6],[4,7,4,9],[4,10,4,13],[5,0,5,2],[5,3,5,6],[5,7,5,9],[5,11,5,13],[0,0,0,3],[0,4,0,5],[0,6,0,8],[0,9,0,11],[0,12,0,14],[0,15,0,17],[0,19,0,21],[1,0,2,13],[1,14,2,17],[1,18,2,18],[1,19,2,21],[73,9,73,12],[73,13,73,14],[73,15,73,17],[68,6,68,8],[68,9,68,12],[69,6,69,8],[69,9,69,12],[69,13,69,14],[69,15,69,17],[70,6,70,8],[70,9,70,12],[70,13,70,14],[70,15,70,17],[71,6,71,8],[71,9,71,12],[71,13,71,14],[71,15,71,17],[68,15,68,17],[72,13,72,14],[72,15,72,17],[41,0,42,5],[41,6,42,17],[43,6,44,17],[27,18,29,18],[27,19,29,21],[30,18,32,18],[30,19,32,21],[35,18,38,18],[35,19,44,21],[39,18,40,18],[43,0,44,5],[27,6,27,8],[28,6,29,17],[30,6,30,17],[31,8,32,17],[408,8,408,10],[408,12,408,15],[409,8,409,10],[411,0,411,16],[412,0,412,21],[27,0,29,5],[30,0,32,5],[31,6,32,7],[35,0,36,5],[35,6,35,9],[33,0,33,21],[34,0,34,17],[34,19,34,21],[35,10,35,12],[35,13,35,17],[41,18,42,18],[43,18,44,18],[45,18,53,18],[54,18,59,18],[60,18,73,18],[60,19,73,21],[36,6,38,17],[37,0,38,5],[39,0,40,5],[397,6,397,16],[398,6,398,16],[399,6,399,16],[400,6,400,16],[401,6,401,16],[402,6,403,16],[404,6,404,16],[405,6,405,16],[406,6,406,16],[391,6,391,16],[392,11,392,12],[392,14,392,16],[393,6,393,16],[394,6,394,8],[394,9,394,16],[395,6,395,16],[396,11,396,12],[396,14,396,16],[385,6,385,16],[386,6,386,8],[386,9,386,16],[387,6,387,16],[388,11,388,12],[388,14,388,16],[389,6,389,16],[390,6,390,8],[390,9,390,16],[382,17,411,17],[406,19,411,21],[419,19,427,21],[430,19,433,21],[436,19,443,21],[372,19,380,21],[377,18,380,18],[382,19,397,21],[390,18,393,18],[394,18,397,18],[398,19,405,21],[400,18,401,18],[380,0,380,17],[381,0,381,17],[381,19,381,21],[382,9,382,16],[383,6,383,16],[384,8,384,9],[388,8,388,9],[392,8,392,9],[396,8,396,9],[382,6,382,8],[384,11,384,12],[384,14,384,16],[402,18,403,18],[404,18,405,18],[398,18,399,18],[406,18,411,18],[419,18,427,18],[432,18,433,18],[439,18,440,18],[441,18,443,18],[341,18,342,18],[343,18,344,18],[354,18,358,18],[360,18,361,18],[372,18,376,18],[428,0,428,21],[429,0,429,17],[429,19,429,21],[430,18,431,18],[430,6,431,17],[431,0,431,2],[431,3,431,5],[432,6,433,17],[434,0,434,21],[435,0,435,17],[435,19,435,21],[341,19,346,21],[345,18,346,18],[353,18,353,21],[354,19,358,21],[359,18,359,21],[360,19,370,21],[362,18,363,18],[382,18,385,18],[386,18,389,18],[371,19,371,21],[439,0,440,5],[441,0,443,5],[406,0,410,5],[414,0,418,5],[419,0,427,5],[430,0,430,5],[432,0,433,5],[436,0,437,5],[438,0,438,5],[359,0,359,5],[360,0,361,5],[362,0,363,5],[364,0,366,5],[372,0,379,5],[382,0,397,5],[398,0,401,5],[402,0,403,5],[404,0,405,5],[367,0,369,5],[353,6,353,16],[354,6,354,10],[354,13,354,16],[355,13,355,16],[356,13,356,16],[341,0,346,5],[347,0,347,5],[348,0,352,5],[353,0,353,5],[354,0,358,5],[334,18,335,18],[317,18,318,18],[317,19,322,21],[319,18,320,18],[321,18,322,18],[323,18,323,21],[324,19,325,21],[326,18,326,21],[327,19,332,21],[329,18,330,18],[331,18,332,18],[327,0,332,5],[327,6,328,6],[329,6,330,6],[329,7,330,16],[331,7,331,16],[332,6,332,16],[306,18,307,18],[306,19,315,21],[308,18,309,18],[309,6,310,6],[310,18,311,18],[314,18,315,18],[319,6,320,6],[319,7,320,16],[321,6,322,6],[321,7,322,16],[324,18,325,18],[327,18,328,18],[314,0,315,5],[314,6,315,16],[316,0,316,5],[316,6,316,16],[317,0,322,5],[317,6,318,6],[317,7,318,16],[323,0,323,5],[323,6,323,16],[364,6,364,12],[364,13,364,16],[365,6,366,16],[364,18,366,18],[367,18,370,18],[375,7,375,8],[375,10,375,11],[367,6,369,16],[370,0,370,17],[371,0,371,17],[359,6,359,16],[360,6,360,12],[360,13,360,16],[361,6,361,12],[361,13,361,16],[362,6,362,12],[362,13,362,16],[363,6,363,12],[363,13,363,16],[340,0,340,5],[340,6,340,16],[376,6,376,11],[376,12,379,16],[377,6,377,11],[378,7,378,8],[379,7,379,8],[372,17,379,17],[378,10,378,11],[379,10,379,11],[373,6,373,11],[374,7,374,8],[374,10,374,11],[372,6,372,11],[372,12,375,16],[340,18,340,21],[341,7,342,16],[343,7,344,16],[345,7,345,16],[346,6,346,16],[357,13,357,16],[358,13,358,16],[350,7,350,10],[351,7,351,10],[347,6,347,16],[347,18,347,21],[348,6,348,10],[348,11,352,16],[348,18,352,18],[348,19,352,21],[349,6,349,10],[352,6,352,10],[355,6,356,10],[357,6,357,10],[357,11,357,12],[358,6,358,10],[358,11,358,12],[341,6,342,6],[343,6,344,6],[282,14,282,16],[283,14,283,16],[336,7,337,16],[338,7,338,16],[333,0,333,5],[334,0,339,5],[334,6,335,6],[334,7,335,16],[334,19,339,21],[336,6,337,6],[336,18,337,18],[338,18,339,18],[339,6,339,16],[333,18,333,21],[333,6,333,16],[324,0,325,5],[324,6,325,16],[326,0,326,5],[326,6,326,16],[327,7,328,16],[309,7,310,16],[311,7,311,16],[305,6,305,16],[306,6,307,16],[257,9,257,12],[258,6,258,8],[292,7,293,16],[281,10,281,13],[282,10,282,13],[283,10,283,13],[289,18,303,18],[289,19,303,21],[300,12,302,12],[300,13,300,16],[302,13,302,15],[283,6,283,9],[284,6,284,9],[286,6,288,11],[264,18,288,18],[264,19,288,21],[255,17,298,17],[284,14,284,16],[272,14,272,16],[273,14,273,16],[279,14,279,16],[280,14,280,16],[281,14,281,16],[285,14,285,16],[279,6,279,9],[280,6,280,9],[281,6,281,9],[282,6,282,9],[285,6,285,9],[274,6,274,9],[274,10,274,13],[277,6,277,9],[278,6,278,9],[278,10,278,13],[284,10,284,13],[285,10,285,13],[279,10,279,13],[280,10,280,13],[276,10,276,13],[276,14,276,16],[277,10,277,13],[277,14,277,16],[262,6,262,8],[262,9,262,11],[262,12,262,16],[263,6,263,8],[263,9,263,12],[263,13,263,16],[265,7,265,10],[266,6,266,16],[267,6,268,16],[269,10,271,13],[275,6,275,9],[275,10,275,13],[269,6,271,9],[272,6,272,9],[272,10,272,13],[273,6,273,9],[273,10,273,13],[254,19,254,21],[255,0,263,5],[255,9,256,16],[255,18,263,18],[255,19,263,21],[258,9,258,13],[259,6,259,8],[239,19,253,21],[245,7,248,9],[259,9,259,11],[259,12,259,16],[260,6,260,8],[260,9,260,13],[260,14,260,16],[261,6,261,8],[261,9,261,15],[241,7,241,8],[241,11,241,16],[243,6,244,10],[243,11,243,16],[244,11,244,16],[245,11,245,16],[255,6,256,8],[257,6,257,8],[289,0,302,5],[306,0,307,5],[309,0,313,5],[301,13,301,15],[301,16,302,16],[303,0,303,17],[304,0,304,17],[304,18,305,18],[304,19,305,21],[305,0,305,5],[312,7,312,16],[312,18,313,18],[313,6,313,16],[294,6,295,6],[294,7,295,16],[296,6,297,6],[296,7,297,16],[298,6,298,16],[299,6,299,16],[300,6,302,11],[289,6,289,16],[290,6,290,16],[291,7,291,16],[292,6,293,6],[234,18,238,18],[234,19,238,21],[235,6,235,16],[236,7,236,10],[236,12,236,15],[239,11,239,16],[246,11,246,16],[239,18,253,18],[253,0,253,17],[240,7,240,8],[240,11,240,16],[240,9,242,10],[242,11,242,16],[247,11,247,16],[250,11,250,16],[251,6,252,10],[251,11,251,16],[252,11,252,16],[264,0,288,5],[237,7,237,10],[238,6,238,10],[239,0,252,5],[239,6,239,10],[286,12,288,12],[286,13,286,16],[287,13,287,15],[287,16,288,16],[288,13,288,15],[248,11,248,16],[249,11,249,16],[257,13,257,16],[258,14,258,16],[265,12,265,16],[269,14,271,16],[264,6,264,16],[234,0,238,5],[234,6,234,16],[254,0,254,16],[278,14,278,16],[274,14,274,16],[275,14,275,16],[276,6,276,9]]}
[{"$f":"'Caseload Files'!B2","v":"Teacher Caseload Review"},null,null,null,{"$f":"'Caseload Files'!D20","v":"File 10"},null,"Reviewer:",null,null,{"$f":"'Caseload Files'!F20","v":"Reviewer 10"},null,null,"Staff Reviewed:",null,null,{"$f":"'Caseload Files'!I20","v":"Staff 10"},null,null,"Score","Findings/Notes"]
[{"$f":"'Caseload Files'!B2","v":"Teacher Caseload Review"},null,null,null,null,null,null,null,null,null,null,null,null,null,null,null,null,null,"Rating","Record notes\nand/or findings."]
[]
[]
["Student Name:",null,null,{"$f":"'Caseload Files'!$L$20","v":"Student 10"},null,null,null,"Date of Birth:",null,null,{"$f":"'Caseload Files'!$R$20","v":"2010-10-10"},null,null,null,"Current IEP Meeting Date:"]
["SIMS Numer:",null,null,{"$f":"'Caseload Files'!$O$20","v":101234567},null,null,null,"Age/Grade:",null,null,{"$f":"INT(YEARFRAC(K5,TODAY()))","v":10},"/Sophomore",null,null,"Previous IEP Meeting Date:"]
["School District:",null,null,{"$f":"'Caseload Files'!B3","v":"District 00-0"},null,null,null,"Disability Code:",null,null,{"$f":"'Caseload Files'!$W$20","v":"DisCode 10"},null,null,null,"Current Eligibility Determination Date:"]
["School Name:",null,null,{"$f":"'Caseload Files'!E6","v":"School Name"},null,null,null,"Race/Ethnicity:",null,null,{"$f":"'Caseload Files'!T20","v":"Race 10"},null,null,null,"Previous Eligibility Determination Date:"]
["School Year:",null,null,{"$f":"'Caseload Files'!E7","v":"1998-1999"},null,null,null,"Type of Review:",null,null,{"$f":"'Caseload Files'!Z20","v":"Type 10"},null,null,null,"Date of Review:"]
[]
[{"$f":"HYPERLINK(\"http://sdlegislature.gov/Rules/DisplayRule.aspx?Rule=24:05\",\"Subsection Title and \nCorresponding ARSD Links \")","v":"Subsection Title and \nCorresponding ARSD Links "},null,null,null,null,null,"Yellow boxes are prompts",null,null,null,null,"Use checkboxes to help record findings.",null,null,"Voided space and/or clarifying information.",null,null,null,"\"N/A\" may be appropriate for certain sections.","Findings/Notes"]
[null,null,null,null,null,null,"for information."]
[]
[]
[{"$f":"HYPERLINK(\"https://gosynth.com/p/s/aboqwv\",\"Record of Access\")","v":"Record of Access"},null,null,null,null,null,null,null,null,null,null,null,null,null,null,null,null,null,{"$f":"IFERROR(Y17/X17,\"N/A\")","v":"N/A"},"Findings/Notes"]
[{"$f":"HYPERLINK(\"http://sdlegislature.gov/Rules/DisplayRule.aspx?Rule=24:05:29:15\",\"Record of Access\n(24:05:29:15)\")","v":"Record of Access\n(24:05:29:15)"},null,null,null,null,null,null,null,null,null,null,null,null,null,null,null,null,null,"Select","V16",null,null,null,null,{"$f":"S16","v":"Select"},{"$f":"S16","v":"Select"}]
[null,null,null,null,null,null,null,null,null,null,null,null,null,null,null,null,null,null,null,null,null,null,null,{"$f":"Y17+Z17","v":0},{"$f":"COUNTIF(Y16,\"Yes\")*3","v":0},{"$f":"COUNTIF(Z16,\"No\")*3","v":0}]
[]
[{"$f":"HYPERLINK(\"https://gosynth.com/p/s/grdmsy\",\"Referral\")","v":"Referral"},null,null,null,null,null,null,null,null,null,null,null,null,null,null,null,null,null,{"$f":"IFERROR(Y21/X21,\"N/A\")","v":"N/A"}]
[{"$f":"HYPERLINK(\"http://sdlegislature.gov/Rules/DisplayRule.aspx?Rule=24:05:24:01\",\"Referral Document\n(initial only)\n(24:05:24:01)\")","v":"Referral Document\n(initial only)\n(24:05:24:01)"},null,null,null,null,null,"Date of referral:",null,null,null,null,null,"The top two spaces are available to type in.",null,null,null,null,null,"Select","V20",null,null,null,null,{"$f":"S20","v":"Select"},{"$f":"S20","v":"Select"}]
[null,null,null,null,null,null,"List all areas of referral:",null,null,null,null,null,null,null,null,null,null,null,null,null,null,null,null,{"$f":"Y21+Z21","v":0},{"$f":"COUNTIF(Y20,\"Yes\")*3","v":0},{"$f":"COUNTIF(Z20,\"No\")*3","v":0}]
[]
[]
[]
[null,null,null,null,null,null,"If referral can not be found and is older than three years, N/A is appropriate."]
[]
[{"$f":"HYPERLINK(\"https://gosynth.com/p/s/lihblf\",\"Initial Placement\")","v":"Initial Placement"},null,null,null,null,null,null,null,null,null,null,null,null,null,null,null,null,null,{"$f":"IFERROR(Y33/X33,\"N/A\")","v":"N/A"}]
[{"$f":"HYPERLINK(\"http://sdlegislature.gov/rules/DisplayRule.aspx?Rule=24:05:27:04.01\",\"Consent Signed for Initial Placement \ninto Special Education\n(24:05:27:04.01)\")","v":"Consent Signed for Initial Placement \ninto Special Education\n(24:05:27:04.01)"},null,null,null,null,null,"Date Signed:",null,null,null,null,null,null,null,null,null,null,null,"Select","V28",null,null,null,null,{"$f":"S28","v":"Select"},{"$f":"S28","v":"Select"}]
[null,null,null,null,null,null,"(The Consent Signed for Initial Placement into Special Education form is a separate document.  In the past, it may have been found at the end of the IEP.",null,null,null,null,null,null,null,null,null,null,null,null,null,null,null,null,{"$f":"Y29+Z29","v":0},{"$f":"COUNTIF(Y28,\"Yes\")*3","v":0},{"$f":"COUNTIF(Z28,\"No\")*3","v":0}]
[]
[{"$f":"HYPERLINK(\"https://sdlegislature.gov/Rules/DisplayRule.aspx?Rule=24:05:25:04.02\",\"Determination of Needed \nEvaluation Data\n(24:05:25:04.02)\")","v":"Determination of Needed \nEvaluation Data\n(24:05:25:04.02)"},null,null,null,null,null,"Did the team review existing data before completing the PPWN Consent?",null,null,null,null,null,null,null,null,null,null,null,"Select","V31",null,null,null,null,{"$f":"S31","v":"Select"},{"$f":"S31","v":"Select"}]
[null,null,null,null,null,null,"Select",null,"The existing data includes evaluations and information provided by the parents, current classroom-based local or state assessments, and observations by teachers and related services providers.",null,null,null,null,null,null,null,null,null,null,null,null,null,null,{"$f":"Y32+Z32","v":0},{"$f":"COUNTIF(Y31,\"Yes\")*3","v":0},{"$f":"COUNTIF(Z31,\"No\")*3","v":0}]
[null,null,null,null,null,null,null,null,null,null,null,null,null,null,null,null,null,null,null,null,null,null,null,{"$f":"(X32+X29)/2","v":0},{"$f":"(Y32+Y29)/2","v":0}]
[]
[{"$f":"HYPERLINK(\"https://gosynth.com/p/s/qxevgy\",\"Evaluation\")","v":"Evaluation"},null,null,null,null,null,null,null,null,null,null,null,null,null,null,null,null,null,{"$f":"IFERROR(Y38/X38,\"N/A\")","v":"N/A"},{"$f":"IFERROR(Y58/X58,\"N/A\")","v":"N/A"}]
[{"$f":"HYPERLINK(\"http://sdlegislature.gov/rules/DisplayRule.aspx?Rule=24:05:25:02.01\",\"Initial Evaluation \n(24:05:25:02.01)\")","v":"Initial Evaluation \n(24:05:25:02.01)"},null,null,null,null,null,"PPWN Consent was Sent:",null,null,null,null,null,null,"Use the most recent evaluation. ",null,null,null,null,"Select","V36",null,null,null,null,{"$f":"S36","v":"Select"},{"$f":"S36","v":"Select"}]
[null,null,null,null,null,null,{"$f":"HYPERLINK(\"https://gosynth.com/p/s/qxevgy\",\"Consent was acquired for initial evaluation. \n\nIf consent was not given by the parent for reevaluation, evidence of  attempts were made to elicit parent.\")","v":"Consent was acquired for initial evaluation. \n\nIf consent was not given by the parent for reevaluation, evidence of  attempts were made to elicit parent."},null,null,null,null,null,null,null,null,null,null,null,null,null,null,null,null,{"$f":"Y37+Z37","v":0},{"$f":"COUNTIF(Y36,\"Yes\")*3","v":0},{"$f":"COUNTIF(Z36,\"No\")*3","v":0}]
[{"$f":"HYPERLINK(\"http://sdlegislature.gov/Rules/DisplayRule.aspx?Rule=24:05:25:06.01\",\"Reevaluation\n(24:05:25:06.01)\")","v":"Reevaluation\n(24:05:25:06.01)"},null,null,null,null,null,null,null,null,null,null,null,null,null,null,null,null,null,null,null,null,null,null,{"$f":"(X37+X41+X43+X45+X47+X56+X62+X76+X86+X100+X104+X106+X108+X110+X112+X115+X117+X120)/18","v":0},{"$f":"(Y37+Y41+Y43+Y45+Y47+Y56+Y62+Y76+Y86+Y100+Y104+Y106+Y108+Y110+Y112+Y115+Y117+Y120)/18","v":0}]
[]
[{"$f":"HYPERLINK(\"http://sdlegislature.gov/Rules/DisplayRule.aspx?Rule=24:05:25:16\",\"Parent Input into Evalaution\n(24:05:25:16)\")","v":"Parent Input into Evalaution\n(24:05:25:16)"},null,null,null,null,null,{"$f":"HYPERLINK(\"https://gosynth.com/p/s/ycomsx\",\"Parent input must be documented in the PPWN Consent on input exiting data and \nupcoming evaluation.   (refer to phone logs, progress notes, prior notice)\")","v":"Parent input must be documented in the PPWN Consent on input exiting data and \nupcoming evaluation.   (refer to phone logs, progress notes, prior notice)"},null,null,null,null,null,null,null,null,null,null,null,"Select",null,null,null,null,null,{"$f":"S40","v":"Select"},{"$f":"S40","v":"Select"}]
[null,null,null,null,null,null,null,null,null,null,null,null,null,null,null,null,null,null,null,null,null,null,null,{"$f":"Y41+Z41","v":0},{"$f":"COUNTIF(Y40,\"Yes\")*3","v":0},{"$f":"COUNTIF(Z40,\"No\")*3","v":0}]
[{"$f":"HYPERLINK(\"http://sdlegislature.gov/Rules/DisplayRule.aspx?Rule=24:05:30:06.01\",\"Procedural Safeguards\n(24:05:30:06.01)\")","v":"Procedural Safeguards\n(24:05:30:06.01)"},null,null,null,null,null,{"$f":"HYPERLINK(\"https://gosynth.com/p/s/tdkmfj\",\"[INCLUDE LANGUAGE FOR THIS SECTION]\")","v":"[INCLUDE LANGUAGE FOR THIS SECTION]"},null,null,null,null,null,null,null,null,null,null,null,"Select",null,null,null,null,null,{"$f":"S42","v":"Select"},{"$f":"S42","v":"Select"}]
[null,null,null,null,null,null,null,null,null,null,null,null,null,null,null,null,null,null,null,null,null,null,null,{"$f":"Y43+Z43","v":0},{"$f":"COUNTIF(Y42,\"Yes\")*3","v":0},{"$f":"COUNTIF(Z42,\"No\")*3","v":0}]
[{"$f":"HYPERLINK(\"http://sdlegislature.gov/Rules/DisplayRule.aspx?Rule=24:05:25:03\",\"Extension on 25 Day Timeline\n(24:05:25:03)\")","v":"Extension on 25 Day Timeline\n(24:05:25:03)"},null,null,null,null,null,{"$f":"HYPERLINK(\"https://gosynth.com/p/s/wcheia\",\"Documented agreement with parent and district on new extension date.  \nEligibility and IEP developed 30 days after the agreed extension date.\")","v":"Documented agreement with parent and district on new extension date.  \nEligibility and IEP developed 30 days after the agreed extension date."},null,null,null,null,null,null,null,null,null,null,null,"Select",null,null,null,null,null,{"$f":"S44","v":"Select"},{"$f":"S44","v":"Select"}]
[null,null,null,null,null,null,null,null,null,null,null,null,null,null,null,null,null,null,null,null,null,null,null,{"$f":"Y45+Z45","v":0},{"$f":"COUNTIF(Y44,\"Yes\")*3","v":0},{"$f":"COUNTIF(Z44,\"No\")*3","v":0}]
[{"$f":"HYPERLINK(\"http://sdlegislature.gov/Rules/DisplayRule.aspx?Rule=24:05:30:05\",\"Content of Prior Written Notice/\nConsent for Evaluation\n (24:05:30:05)\")","v":"Content of Prior Written Notice/\nConsent for Evaluation\n (24:05:30:05)"},null,null,null,null,null,{"$f":"HYPERLINK(\"https://gosynth.com/p/s/xymlpn\",\"Check the following:\")","v":"Check the following:"},null,null,null,null,null,null,null,null,null,null,null,"Select","V46",null,null,null,null,{"$f":"S46","v":"Select"},{"$f":"S46","v":"Select"}]
[null,null,null,null,null,null,"PPWN must be individualized to the student, IEP team discussions and situation.",null,null,null,null,null,null,null,null,null,null,null,null,null,null,null,null,{"$f":"Y47+Z47","v":0},{"$f":"COUNTIF(Y46,\"Yes\")*3","v":0},{"$f":"COUNTIF(Z46,\"No\")*3","v":0}]
[]
[null,null,null,null,null,null,null,"Explanation of why the district proposed or refused to take the action"]
[null,null,null,null,null,null,null,"Description of other options considered and why they were rejected "]
[null,null,null,null,null,null,null,"Description of evidence used for the proposed or refused action"]
[null,null,null,null,null,null,null,"Description of other factors that are relevant to proposal or refusal"]
[]
[null,null,null,null,null,null,"All components should be completed and have a clear description."]
[{"$f":"HYPERLINK(\"http://sdlegislature.gov/Rules/DisplayRule.aspx?Rule=24:05:30:05\",\"Timeline of Prior Written Notice/\nConsent for Evaluation\n(24:05:25:03)\")","v":"Timeline of Prior Written Notice/\nConsent for Evaluation\n(24:05:25:03)"},null,null,null,null,null,{"$f":"HYPERLINK(\"https://gosynth.com/p/s/xylthm\",\"Date sent:\")","v":"Date sent:"},null,null,null,"2020-01-18",null,null,null,null,null,null,null,"Select","V54",null,null,null,null,{"$f":"S55","v":"Select"},{"$f":"S55","v":"Select"}]
[null,null,null,null,null,null,"Date signed:",null,null,null,"2020-01-19",null,null,null,null,null,null,null,null,null,null,null,null,{"$f":"Y56+Z56","v":0},{"$f":"COUNTIF(Y55,\"Yes\")*3","v":0},{"$f":"COUNTIF(Z55,\"No\")*3","v":0}]
[null,null,null,null,null,null,"Date received:",null,null,null,"2020-01-20"]
[null,null,null,null,null,null,"25 school days:",null,null,null,{"$f":"WORKDAY(K57,25)","v":"2020-02-24"}]
[null,null,null,null,null,null,"30 calendar days:"]
[null,null,null,null,null,null,"Extension on 25 day:"]
[{"$f":"HYPERLINK(\"http://sdlegislature.gov/Rules/DisplayRule.aspx?Rule=24:05:25:04.02\",\"Evaluations to be Completed by the District per Parental Prior Written/Consent for Evaluation\n(24:05:25:04.02)\")","v":"Evaluations to be Completed by the District per Parental Prior Written/Consent for Evaluation\n(24:05:25:04.02)"},null,null,null,null,null,{"$f":"HYPERLINK(\"https://gosynth.com/p/s/zgdeev\",\"List areas:\")","v":"List areas:"},null,null,"Test administered:",null,null,null,"Test date:",null,"Evaluator:",null,null,"Select","V60",null,null,null,null,{"$f":"S61","v":"Select"},{"$f":"S61","v":"Select"}]
[null,null,null,null,null,null,null,null,null,null,null,null,null,null,null,null,null,null,null,null,null,null,null,{"$f":"Y62+Z62","v":0},{"$f":"COUNTIF(Y61,\"Yes\")*3","v":0},{"$f":"COUNTIF(Z61,\"No\")*3","v":0}]
[]
[]
[]
[]
[]
["For more evaluations requested click the [+]"]
[]
[]
[]
[]
[]
[]
[{"$f":"HYPERLINK(\"http://sdlegislature.gov/Rules/DisplayRule.aspx?Rule=24:05:25:04.02\",\"Existing Evaluation Data\nto be Pulled Forward\n(24:05:25:04.02)\")","v":"Existing Evaluation Data\nto be Pulled Forward\n(24:05:25:04.02)"},null,null,null,null,null,{"$f":"HYPERLINK(\"https://gosynth.com/p/s/pfohnr\",\"List areas:\")","v":"List areas:"},null,null,"Test administered:",null,null,null,"Test date:",null,"Evaluator:",null,null,"Select","V74",null,null,null,null,{"$f":"S75","v":"Select"},{"$f":"S75","v":"Select"}]
[null,null,null,null,null,null,null,null,null,null,null,null,null,null,null,null,null,null,null,null,null,null,null,{"$f":"Y76+Z76","v":0},{"$f":"COUNTIF(Y75,\"Yes\")*3","v":0},{"$f":"COUNTIF(Z75,\"No\")*3","v":0}]
[]
[]
[]
["For more existing data requested click the [+]"]
[]
[]
[]
[]
[{"$f":"HYPERLINK(\"http://sdlegislature.gov/Rules/DisplayRule.aspx?Rule=24:05:25:04.02\",\"Skills Based Assessment and Report\n(24:05:25:04.02)\")","v":"Skills Based Assessment and Report\n(24:05:25:04.02)"},null,null,null,null,null,{"$f":"HYPERLINK(\"https://gosynth.com/p/s/tbqnts\",\"List areas:\")","v":"List areas:"},null,null,"Test administered:",null,null,null,"Test date:",null,"Evaluator:",null,null,"Select","V84",null,null,null,null,{"$f":"S85","v":"Select"},{"$f":"S85","v":"Select"}]
[null,null,null,null,null,null,null,null,null,null,null,null,null,null,null,null,null,null,null,null,null,null,null,{"$f":"Y86+Z86","v":0},{"$f":"COUNTIF(Y85,\"Yes\")*3","v":0},{"$f":"COUNTIF(Z85,\"No\")*3","v":0}]
[]
[null,null,null,null,null,null,null,null,null,null,null,null,null,null,null,null,null,null,null,null,null,null,null,{"$f":"(X86+X100+X104+X106+X108+X110+X112+X115+X117+X120)/10","v":0},{"$f":"(Y86+Y100+Y104+Y106+Y108+Y110+Y112+Y115+Y117+Y120)/10","v":0}]
[]
[]
[]
["For more skills based requested click the [+]"]
[]
[]
[]
[]
[]
[]
[{"$f":"HYPERLINK(\"http://sdlegislature.gov/Rules/DisplayRule.aspx?Rule=24:05:25:03\",\"Consent Received\n(24:05:25:03)\")","v":"Consent Received\n(24:05:25:03)"},null,null,null,null,null,{"$f":"HYPERLINK(\"https://gosynth.com/p/s/ctcnlr\",\"Consent received date:\")","v":"Consent received date:"},null,null,null,null,{"$f":"K57","v":"2020-01-20"},null,null,"Mark \"No\" if dates are outside of \"consent received\" and/or \"25 school days\".",null,null,null,"Select","V98",null,null,null,null,{"$f":"S99","v":"Select"},{"$f":"S99","v":"Select"}]
[null,null,null,null,null,null,"Earliest testing date:",null,null,null,null,{"$f":"MIN(N63:O74,N87:O98)","v":"00:00:00"},null,null,null,null,null,null,null,null,null,null,null,{"$f":"Y100+Z100","v":0},{"$f":"COUNTIF(Y99,\"Yes\")*3","v":0},{"$f":"COUNTIF(Z99,\"No\")*3","v":0}]
[null,null,null,null,null,null,"Latest testing date:",null,null,null,null,{"$f":"MAX(N63:O74,N87:O98)","v":"00:00:00"}]
[null,null,null,null,null,null,"Within 25 School Days:",null,null,null,null,{"$f":"IF(ISBLANK(K60),K58,K60)","v":"2020-02-24"}]
[{"$f":"HYPERLINK(\"http://sdlegislature.gov/Rules/DisplayRule.aspx?Rule=24:05:25:20\",\"All Evaluations Administered \n(24:05:25:20)\")","v":"All Evaluations Administered \n(24:05:25:20)"},null,null,null,null,null,{"$f":"HYPERLINK(\"https://gosynth.com/p/s/mkcdef\",\"All evaluations marked on the PWWN/Consent for Evaluation form must be administered.\")","v":"All evaluations marked on the PWWN/Consent for Evaluation form must be administered."},null,null,null,null,null,null,null,null,null,null,null,"Select","V102",null,null,null,null,{"$f":"S103","v":"Select"},{"$f":"S103","v":"Select"}]
[null,null,null,null,null,null,null,null,null,null,null,null,null,null,null,null,null,null,null,null,null,null,null,{"$f":"Y104+Z104","v":0},{"$f":"COUNTIF(Y103,\"Yes\")*3","v":0},{"$f":"COUNTIF(Z103,\"No\")*3","v":0}]
[{"$f":"HYPERLINK(\"http://sdlegislature.gov/Rules/DisplayRule.aspx?Rule=24:05:25:06.01\",\"Consent was Acquired\n(24:05:25:06.01)\")","v":"Consent was Acquired\n(24:05:25:06.01)"},null,null,null,null,null,{"$f":"HYPERLINK(\"https://gosynth.com/p/s/mkcdef\",\"All evaluations administered must be requested on the PWWN/Consent for Evaluation \nform.\")","v":"All evaluations administered must be requested on the PWWN/Consent for Evaluation \nform."},null,null,null,null,null,null,null,null,null,null,null,"Select",null,null,null,null,null,{"$f":"S105","v":"Select"},{"$f":"S105","v":"Select"}]
[null,null,null,null,null,null,null,null,null,null,null,null,null,null,null,null,null,null,null,null,null,null,null,{"$f":"Y106+Z106","v":0},{"$f":"COUNTIF(Y105,\"Yes\")*3","v":0},{"$f":"COUNTIF(Z105,\"No\")*3","v":0}]
[{"$f":"HYPERLINK(\"http://sdlegislature.gov/Rules/DisplayRule.aspx?Rule=24:05:25:04\",\"Variety of Sources \n(24:05:25:04)\")","v":"Variety of Sources \n(24:05:25:04)"},null,null,null,null,null,{"$f":"HYPERLINK(\"https://gosynth.com/p/s/mkcdef\",\"Appropritate means to provide evaluations for accurate data were used. \")","v":"Appropritate means to provide evaluations for accurate data were used. "},null,null,null,null,null,null,null,null,null,null,null,"Select",null,null,null,null,null,{"$f":"S107","v":"Select"},{"$f":"S107","v":"Select"}]
[null,null,null,null,null,null,null,null,null,null,null,null,null,null,null,null,null,null,null,null,null,null,null,{"$f":"Y108+Z108","v":0},{"$f":"COUNTIF(Y107,\"Yes\")*3","v":0},{"$f":"COUNTIF(Z107,\"No\")*3","v":0}]
[{"$f":"HYPERLINK(\"http://sdlegislature.gov/Rules/DisplayRule.aspx?Rule=24:05:25:04\",\"Met Requirements for the Disability\n(24:05:25:04) \")","v":"Met Requirements for the Disability\n(24:05:25:04) "},null,null,null,null,null,{"$f":"HYPERLINK(\"https://gosynth.com/p/s/mkcdef\",\"Comprehensive Evaluations in all areas required for the disability. \")","v":"Comprehensive Evaluations in all areas required for the disability. "},null,null,null,null,null,null,null,null,null,null,null,"Select",null,null,null,null,null,{"$f":"S109","v":"Select"},{"$f":"S109","v":"Select"}]
[null,null,null,null,null,null,null,null,null,null,null,null,null,null,null,null,null,null,null,null,null,null,null,{"$f":"Y110+Z110","v":0},{"$f":"COUNTIF(Y109,\"Yes\")*3","v":0},{"$f":"COUNTIF(Z109,\"No\")*3","v":0}]
[{"$f":"HYPERLINK(\"http://sdlegislature.gov/Rules/DisplayRule.aspx?Rule=24:05:25:03\",\"Eligibility within 30 Calendar Days \n(24:05:25:03)\")","v":"Eligibility within 30 Calendar Days \n(24:05:25:03)"},null,null,null,null,null,{"$f":"HYPERLINK(\"https://gosynth.com/p/s/mkcdef\",\"Day 26 was on:\")","v":"Day 26 was on:"},null,null,null,null,{"$f":"WORKDAY(L102,1)","v":"2020-02-25"},null,null,null,null,null,null,"Select","V110",null,null,null,null,{"$f":"S111","v":"Select"},{"$f":"S111","v":"Select"}]
[null,null,null,null,null,null,"Eligibility Determination Date:",null,null,null,null,{"$f":"T7","v":"00:00:00"},null,null,null,null,null,null,null,null,null,null,null,{"$f":"Y112+Z112","v":0},{"$f":"COUNTIF(Y111,\"Yes\")*3","v":0},{"$f":"COUNTIF(Z111,\"No\")*3","v":0}]
[null,null,null,null,null,null,"Eligibility meeting date should have been by:",null,null,null,null,null,null,null,{"$f":"K59","v":"00:00:00"}]
[{"$f":"HYPERLINK(\"http://sdlegislature.gov/Rules/DisplayRule.aspx?Rule=24:05:25:04.03\",\"Student Eligible for Special Education \n(24:05:25:04.03)\")","v":"Student Eligible for Special Education \n(24:05:25:04.03)"},null,null,null,null,null,null,null,null,null,null,null,null,null,null,null,null,null,"Select",null,null,null,null,null,{"$f":"S114","v":"Select"},{"$f":"S114","v":"Select"}]
[null,null,null,null,null,null,null,null,null,null,null,null,null,null,null,null,null,null,null,null,null,null,null,{"$f":"Y115+Z115","v":0},{"$f":"COUNTIF(Y114,\"Yes\")*3","v":0},{"$f":"COUNTIF(Z114,\"No\")*3","v":0}]
[{"$f":"HYPERLINK(\"http://sdlegislature.gov/Rules/DisplayRule.aspx?Rule=24:05:25:06\",\"Three Year Re-Evaluation\n(24:05:25:06)\")","v":"Three Year Re-Evaluation\n(24:05:25:06)"},null,null,null,null,null,{"$f":"HYPERLINK(\"https://gosynth.com/p/s/mkcdef\",\"Current Eligibility Determination Date:\")","v":"Current Eligibility Determination Date:"},null,null,null,null,null,null,{"$f":"L112","v":"00:00:00"},null,null,null,null,"Select",null,null,null,null,null,{"$f":"S116","v":"Select"},{"$f":"S116","v":"Select"}]
[null,null,null,null,null,null,"Previous Eligibility Determination Date:",null,null,null,null,null,null,{"$f":"T8","v":"00:00:00"},null,null,null,null,null,null,null,null,null,{"$f":"Y117+Z117","v":0},{"$f":"COUNTIF(Y116,\"Yes\")*3","v":0},{"$f":"COUNTIF(Z116,\"No\")*3","v":0}]
[]
[{"$f":"HYPERLINK(\"https://gosynth.com/p/s/mkcdef\",\"Evaluated to Dismiss from Services  \")","v":"Evaluated to Dismiss from Services  "},null,null,null,null,null,null,null,null,null,null,null,null,null,null,null,null,null,"Select",null,null,null,null,null,{"$f":"S119","v":"Select"},{"$f":"S119","v":"Select"}]
[null,null,null,null,null,null,null,null,null,null,null,null,null,null,null,null,null,null,null,null,null,null,null,{"$f":"Y120+Z120","v":0},{"$f":"COUNTIF(Y119,\"Yes\")*3","v":0},{"$f":"COUNTIF(Z119,\"No\")*3","v":0}]
[]
[{"$f":"HYPERLINK(\"https://gosynth.com/p/s/giwoma\",\"Eligibility Document for Specific Learning Disability\")","v":"Eligibility Document for Specific Learning Disability"},null,null,null,null,null,null,null,null,null,null,null,null,null,null,null,null,null,{"$f":"IFERROR(Y126/X126,\"N/A\")","v":"N/A"}]
["If student is not eligible for Specific Learning Disability, skip this section.  Click on the [+] button if section is not visible. ",null,null,null,null,null,null,null,null,null,null,null,null,null,null,null,null,null,"Select","V122",null,null,null,null,{"$f":"S123","v":"Select"},{"$f":"S123","v":"Select"}]
[{"$f":"HYPERLINK(\"http://sdlegislature.gov/Rules/DisplayRule.aspx?Rule=24:05:24.01:19\",\"Specific Learning Disabilities\n(24:05:24.01:19)\")","v":"Specific Learning Disabilities\n(24:05:24.01:19)"},null,null,null,null,null,"Check the following:",null,null,null,null,null,null,null,null,null,null,null,null,null,null,null,null,{"$f":"Y124+Z124","v":0},{"$f":"COUNTIF(Y123,\"Yes\")*3","v":0},{"$f":"COUNTIF(Z123,\"No\")*3","v":0}]
[]
[null,null,null,null,null,null,null,"Reading Comprehension",null,null,null,null,null,"Math Calculation",null,null,null,null,null,null,null,null,null,{"$f":"(X124+X132+X151+X165+X174)/5","v":0},{"$f":"(Y124+Y132+Y151+Y165+Y174)/5","v":0}]
[null,null,null,null,null,null,null,"Basic Reading Skills",null,null,null,null,null,"Math Problem Solving"]
[null,null,null,null,null,null,null,"Reading Fluency",null,null,null,null,null,"Listening Comprehension"]
[null,null,null,null,null,null,null,"Written Expression",null,null,null,null,null,"Oral Expression"]
[]
["For Initial Determination of Eligibility Only",null,null,null,null,null,null,null,null,null,null,null,null,null,null,null,null,null,"Select","V130",null,null,null,null,{"$f":"S131","v":"Select"},{"$f":"S131","v":"Select"}]
[{"$f":"HYPERLINK(\"http://sdlegislature.gov/Rules/DisplayRule.aspx?Rule=24:05:24.01:19\",\"Initial Eligibility\n(24:05:24.01:19)\")","v":"Initial Eligibility\n(24:05:24.01:19)"},null,null,null,null,null,"Written report must include:",null,null,null,null,null,null,null,null,null,null,null,null,null,null,null,null,{"$f":"Y132+Z132","v":0},{"$f":"COUNTIF(Y131,\"Yes\")*3","v":0},{"$f":"COUNTIF(Z131,\"No\")*3","v":0}]
[]
[null,null,null,null,null,null,null,"Student achieves adequately",null,null,null,null,"Lack of appropriate instruction"]
[]
[null,null,null,null,null,null,null,"Student exhibits pattern of strengths & weaknesses",null,null,null,null,"Observation of the student"]
[]
[null,null,null,null,null,null,null,null,null,null,null,null,"Relevant medical findings (if any)"]
[null,null,null,null,null,null,null,"Student was provided appropriate instruction in regular education settings by qualified personnel"]
[null,null,null,null,null,null,null,null,null,null,null,null,"Achievement level problem is/is not primarily the result of another factor (e.g. emotional disturbance, cognitive impairment, etc.)"]
[]
[]
[null,null,null,null,null,null,null,"Repeated assessment of achievement reflecting student progress"]
[]
[]
[null,null,null,null,null,null,null,"Attendance record",null,null,null,null,"Adverse effect on educational performance"]
[]
[]
["Click on the [+] button to expand or the [-] button to collapse."]
["For Reevaluation of Eligibility Only",null,null,null,null,null,null,null,null,null,null,null,null,null,null,null,null,null,"Select","V149",null,null,null,null,{"$f":"S150","v":"Select"},{"$f":"S150","v":"Select"}]
[{"$f":"HYPERLINK(\"http://sdlegislature.gov/Rules/DisplayRule.aspx?Rule=24:05:24.01:19\",\"Reevaluation of Eligibility\n(24:05:24.01:19)\")","v":"Reevaluation of Eligibility\n(24:05:24.01:19)"},null,null,null,null,null,"Written report must include:",null,null,null,null,null,null,null,null,null,null,null,null,null,null,null,null,{"$f":"Y151+Z151","v":0},{"$f":"COUNTIF(Y150,\"Yes\")*3","v":0},{"$f":"COUNTIF(Z150,\"No\")*3","v":0}]
[]
[null,null,null,null,null,null,null,"Student achieves adequately",null,null,null,null,"Achievement level problem is/is not primarily the result of another factor (e.g. emotional disturbance, cognitive impairment, etc.)"]
[]
[null,null,null,null,null,null,null,"Student exhibits pattern of strengths & weaknesses"]
[]
[]
[null,null,null,null,null,null,null,"Observation of the student"]
[null,null,null,null,null,null,null,null,null,null,null,null,"Adverse effect on educational performance"]
[null,null,null,null,null,null,null,"Relevant medical findings (if any)"]
[]
[]
["Click on the [+] button to expand or the [-] button to collapse."]
[{"$f":"HYPERLINK(\"http://sdlegislature.gov/Rules/DisplayRule.aspx?Rule=24:05:25:08\",\"Team Member Signatures \n(24:05:25:08)\")","v":"Team Member Signatures \n(24:05:25:08)"},null,null,null,null,null,"Check the following:",null,null,null,null,null,null,null,null,null,null,null,"Select","V163",null,null,null,null,{"$f":"S164","v":"Select"},{"$f":"S164","v":"Select"}]
[null,null,null,null,null,null,null,null,null,null,null,null,null,null,null,null,null,null,null,null,null,null,null,{"$f":"Y165+Z165","v":0},{"$f":"COUNTIF(Y164,\"Yes\")*3","v":0},{"$f":"COUNTIF(Z164,\"No\")*3","v":0}]
[null,null,null,null,null,null,null,"Parent",null,null,null,null,"Each group member shall certify in writing whether the report reflects the group member's conclusion. If it does not reflect the group member's conclusion, the group member must submit the conclusion in a separate statement."]
[null,null,null,null,null,null,null,"General Education Teacher"]
[{"$f":"HYPERLINK(\"http://sdlegislature.gov/Rules/DisplayRule.aspx?Rule=24:05:25:13\",\"Group Members to Certify \nReport in Writing \n(24:05:25:13)\")","v":"Group Members to Certify \nReport in Writing \n(24:05:25:13)"},null,null,null,null,null,null,"Special Education Teacher"]
[null,null,null,null,null,null,null,"Qualified interpreter of results"]
[null,null,null,null,null,null,null,"LEA Representative"]
[null,null,null,null,null,null,null,"If disagreed, written input was provided"]
[]
[null,null,null,null,null,null,"Check PWWN for eligibility decisions.                         ",null,null,null,null,"Skip to","PPWN.",null,null,null,null,null,"Select",null,null,null,null,null,{"$f":"S173","v":"Select"},{"$f":"S173","v":"Select"}]
[null,null,null,null,null,null,null,null,null,null,null,null,null,null,null,null,null,null,null,null,null,null,null,{"$f":"Y174+Z174","v":0},{"$f":"COUNTIF(Y173,\"Yes\")*3","v":0},{"$f":"COUNTIF(Z173,\"No\")*3","v":0}]
[]
[{"$f":"HYPERLINK(\"https://gosynth.com/p/s/mzphio\",\"Meeting Notice\")","v":"Meeting Notice"},null,null,null,null,null,null,null,null,null,null,null,null,null,null,null,null,null,{"$f":"IFERROR(Y184/X184,\"N/A\")","v":"N/A"}]
["Meeting Notice",null,null,null,null,null,"Date sent:",null,null,null,null,null,"From this point on use the current IEP's documentation.",null,null,null,null,null,"Select","V174",null,null,null,null,{"$f":"S177","v":"Select"},{"$f":"S177","v":"Select"}]
[{"$f":"HYPERLINK(\"http://sdlegislature.gov/Rules/DisplayRule.aspx?Rule=24:05:30:02.01\",\"(24:05:30:02.01)\")","v":"(24:05:30:02.01)"},null,null,{"$f":"HYPERLINK(\"http://sdlegislature.gov/Rules/DisplayRule.aspx?Rule=24:05:25:16\",\"(24:05:25:16)\")","v":"(24:05:25:16)"},null,null,"Meeting date:",null,null,{"$f":"T5","v":"00:00:00"},null,null,null,null,null,null,null,null,null,null,null,null,null,{"$f":"Y178+Z178","v":0},{"$f":"COUNTIF(Y177,\"Yes\")*3","v":0},{"$f":"COUNTIF(Z177,\"No\")*3","v":0}]
["Procedural Safeguards",null,null,null,null,null,"Must be given to parents annually.",null,null,null,null,null,null,null,null,null,null,null,"Select",null,null,null,null,null,{"$f":"S179","v":"Select"},{"$f":"S179","v":"Select"}]
[{"$f":"HYPERLINK(\"http://sdlegislature.gov/Rules/DisplayRule.aspx?Rule=24:05:30:06.01\",\"(24:05:30:06.01)\")","v":"(24:05:30:06.01)"},null,null,{"$f":"HYPERLINK(\"http://sdlegislature.gov/Rules/DisplayRule.aspx?Rule=24:05:30:06.02\",\"(24:05:30:06.02)\")","v":"(24:05:30:06.02)"},null,null,null,null,null,null,null,null,null,null,null,null,null,null,null,null,null,null,null,{"$f":"Y180+Z180","v":0},{"$f":"COUNTIF(Y179,\"Yes\")*3","v":0},{"$f":"COUNTIF(Z179,\"No\")*3","v":0}]
["IEP Team",null,null,null,null,null,"Complete the following:",null,null,null,null,null,null,null,null,null,null,null,"Select",null,null,null,null,null,{"$f":"S181","v":"Select"},{"$f":"S181","v":"Select"}]
[null,null,null,null,null,null,null,null,null,null,null,null,null,null,null,null,null,null,null,null,null,null,null,{"$f":"Y182+Z182","v":0},{"$f":"COUNTIF(Y181,\"Yes\")*3","v":0},{"$f":"COUNTIF(Z181,\"No\")*3","v":0}]
[null,null,null,null,null,null,null,"The documentation of people attending the IEP meeting on front page of the IEP does not imply agreement, it is for participation purposes only."]
[null,null,null,null,null,null,null,null,null,null,null,null,null,null,null,null,null,null,null,null,null,null,null,{"$f":"(X178+X180+X182+X198)/4","v":0},{"$f":"(Y178+Y180+Y182+Y198)/4","v":0}]
[null,null,null,null,null,null,null,"Identified on the meeting notice:",null,null,"Attended the meeting:",null,null,"Did not attend\nthe meeting:"]
[]
[{"$f":"HYPERLINK(\"http://sdlegislature.gov/Rules/DisplayRule.aspx?Rule=24:05:25:16\",\"(24:05:25:16)\")","v":"(24:05:25:16)"},null,null,null,null,null,null,"Parent/Guardian"]
[null,null,null,null,null,null,null,"Student"]
[null,null,null,null,null,null,null,"Gen. Ed. Teacher"]
[null,null,null,null,null,null,null,"Sp. Ed. Teacher"]
["Parent Participation",null,null,null,null,null,null,"Eval Interpreter"]
[{"$f":"HYPERLINK(\"http://sdlegislature.gov/Rules/DisplayRule.aspx?Rule=24:05:25:16\",\"(24:05:25:16)\")","v":"(24:05:25:16)"},null,null,null,null,null,null,"LEA Representative"]
[null,null,null,null,null,null,null,"List Others"]
[null,null,null,null,null,null,null,"List Others"]
[null,null,null,null,null,null,null,"List Others"]
[]
["IEP Team Attendance \n (24:05:27:01.05)",null,null,null,null,null,"A member of the IEP team may be excused from attending, in whole or in part, an IEP team meeting that involves a modification to or discussion of the member's area of the curriculum or related services, if:\n   (1) The parent and school district consent in writing to the excusal; and\n   (2) The member submits, in writing to the parent and the IEP team, input into the development of the IEP before the meeting.",null,null,null,null,null,null,null,null,null,null,null,"Select","V194",null,null,null,null,{"$f":"S197","v":"Select"},{"$f":"S197","v":"Select"}]
[null,null,null,null,null,null,null,null,null,null,null,null,null,null,null,null,null,null,null,null,null,null,null,{"$f":"Y198+Z198","v":0},{"$f":"COUNTIF(Y197,\"Yes\")*3","v":0},{"$f":"COUNTIF(Z197,\"No\")*3","v":0}]
[]
[]
[]
[]
[{"$f":"HYPERLINK(\"https://gosynth.com/p/s/jshfqs\",\"          Individual Education Plan (Use the most recent IEP.)\n\")","v":"          Individual Education Plan (Use the most recent IEP.)\n"},null,null,null,null,null,null,null,null,null,null,null,null,null,null,null,null,null,{"$f":"IFERROR(Y210/X210,\"N/A\")","v":"N/A"}]
[{"$f":"HYPERLINK(\"http://sdlegislature.gov/Rules/DisplayRule.aspx?Rule=24:05:25:04.03\",\"Evaluation Reports Given to Parents \n(24:05:25:04.03)\")","v":"Evaluation Reports Given to Parents \n(24:05:25:04.03)"},null,null,null,null,null,"Evidence the parent received a copy of the reports (e.g.  initials on the front page IEP or other evidence). ",null,null,null,null,null,null,null,null,null,null,null,"Select","V201",null,null,null,null,{"$f":"S204","v":"Select"},{"$f":"S204","v":"Select"}]
[null,null,null,null,null,null,null,null,null,null,null,null,null,null,null,null,null,null,null,null,null,null,null,{"$f":"Y205+Z205","v":0},{"$f":"COUNTIF(Y204,\"Yes\")*3","v":0},{"$f":"COUNTIF(Z204,\"No\")*3","v":0}]
[{"$f":"HYPERLINK(\"http://sdlegislature.gov/Rules/DisplayRule.aspx?Rule=24:05:25:19\",\"Copy of IEP Given to Parents \n(24:05:25:19)\")","v":"Copy of IEP Given to Parents \n(24:05:25:19)"},null,null,null,null,null,"Evidence copy of the IEP was given to parents (e.g.  initials on the front page, addressed in PPWN, or other evidence).",null,null,null,null,null,null,null,null,null,null,null,"Select",null,null,null,null,null,{"$f":"S206","v":"Select"},{"$f":"S206","v":"Select"}]
[null,null,null,null,null,null,null,null,null,null,null,null,null,null,null,null,null,null,null,null,null,null,null,{"$f":"Y207+Z207","v":0},{"$f":"COUNTIF(Y206,\"Yes\")*3","v":0},{"$f":"COUNTIF(Z206,\"No\")*3","v":0}]
[{"$f":"HYPERLINK(\"http://sdlegislature.gov/Rules/DisplayRule.aspx?Rule=24:05:27:08\",\"Met Annually\n(24:05:27:08)\")","v":"Met Annually\n(24:05:27:08)"},null,null,null,null,null,"Current IEP Meeting Date:",null,null,null,null,{"$f":"T5","v":"00:00:00"},null,null,null,null,null,null,"Select",null,null,null,null,null,{"$f":"S208","v":"Select"},{"$f":"S208","v":"Select"}]
[null,null,null,null,null,null,"Previous IEP Meeting Date:",null,null,null,null,{"$f":"T6","v":"00:00:00"},null,null,null,null,null,null,null,null,null,null,null,{"$f":"Y209+Z209","v":0},{"$f":"COUNTIF(Y208,\"Yes\")*3","v":0},{"$f":"COUNTIF(Z208,\"No\")*3","v":0}]
[null,null,null,null,null,null,null,null,null,null,null,null,null,null,null,null,null,null,null,null,null,null,null,{"$f":"(X205+X207+X209)/3","v":0},{"$f":"(Y205+Y207+Y209)/3","v":0}]
[{"$f":"HYPERLINK(\"https://gosynth.com/p/s/eypdgf\",\"Present Levels of Academic Achievement & Functional Performance\")","v":"Present Levels of Academic Achievement & Functional Performance"},null,null,null,null,null,null,null,null,null,null,null,null,null,null,null,null,null,{"$f":"IFERROR(Y243/X243,\"N/A\")","v":"N/A"}]
[{"$f":"HYPERLINK(\"http://sdlegislature.gov/Rules/DisplayRule.aspx?Rule=24:05:27:01.03\",\"Progress/Involvement in \nGeneral Education Curriculum\n(24:05:27:01.03)\")","v":"Progress/Involvement in \nGeneral Education Curriculum\n(24:05:27:01.03)"},null,null,null,null,null,"A statement of the student's present levels of academic achievement and functional performance, including:\n   (a)  How the student's disability affects the student's involvement and progress in the general education curriculum (i.e., the same curriculum as for nondisabled students); or\n   (b)  For preschool student, as appropriate, how the disability affects the student's participation in appropriate activities;\nis found in the document.",null,null,null,null,null,null,null,null,null,null,null,"Select","V209",null,null,null,null,{"$f":"S212","v":"Select"},{"$f":"S212","v":"Select"}]
[null,null,null,null,null,null,null,null,null,null,null,null,null,null,null,null,null,null,null,null,null,null,null,{"$f":"Y213+Z213","v":0},{"$f":"COUNTIF(Y212,\"Yes\")*3","v":0},{"$f":"COUNTIF(Z212,\"No\")*3","v":0}]
[]
[{"$f":"HYPERLINK(\"https://sdlegislature.gov/Rules/DisplayRule.aspx?Rule=24:05:25:16\",\"Parent Participation\n(24:05:25:16)\")","v":"Parent Participation\n(24:05:25:16)"},null,null,null,null,null,"The purpose of this area for parent to provide IEP team information about how the child’s disability is impacted at home. Parents can also provide input on types of strategies and supports they provide at home.",null,null,null,null,null,null,null,null,null,null,null,"Select",null,null,null,null,null,{"$f":"S215","v":"Select"},{"$f":"S215","v":"Select"}]
[null,null,null,null,null,null,null,null,null,null,null,null,null,null,null,null,null,null,null,null,null,null,null,{"$f":"Y216+Z216","v":0},{"$f":"COUNTIF(Y215,\"Yes\")*3","v":0},{"$f":"COUNTIF(Z215,\"No\")*3","v":0}]
[{"$f":"HYPERLINK(\"http://sdlegislature.gov/Rules/DisplayRule.aspx?Rule=24:05:27:01.03\",\"Present Levels of \nAcademic Achievement \n& Functional Performance\nLinked to Annual Goals\n(24:05:27:01.03)\")","v":"Present Levels of \nAcademic Achievement \n& Functional Performance\nLinked to Annual Goals\n(24:05:27:01.03)"},null,null,null,null,null,"Skill Area:",null,null,null,null,"Measuarable Goal:",null,null,null,null,null,null,"Select","V214",null,null,null,null,{"$f":"S217","v":"Select"},{"$f":"S217","v":"Select"}]
[null,null,null,null,null,null,null,null,null,null,null,null,null,null,null,null,null,null,null,null,null,null,null,{"$f":"Y218+Z218","v":0},{"$f":"COUNTIF(Y217,\"Yes\")*3","v":0},{"$f":"COUNTIF(Z217,\"No\")*3","v":0}]
[null,null,null,null,null,null,null,"Strengths",null,null,null,null,"Condition",null,null,"How well"]
[null,null,null,null,null,null,null,"Needs",null,null,null,null,"Performance",null,null,"How often"]
[null,null,null,null,null,null,null,"Link to evaluation"]
[]
[null,null,null,null,null,null,"Skill Area:",null,null,null,null,"Measuarable Goal:",null,null,null,null,null,null,"Select",null,null,null,null,null,{"$f":"S223","v":"Select"},{"$f":"S223","v":"Select"}]
[null,null,null,null,null,null,null,null,null,null,null,null,null,null,null,null,null,null,null,null,null,null,null,{"$f":"Y224+Z224","v":0},{"$f":"COUNTIF(Y223,\"Yes\")*3","v":0},{"$f":"COUNTIF(Z223,\"No\")*3","v":0}]
[null,null,null,null,null,null,null,"Strengths",null,null,null,null,"Condition",null,null,"How well"]
[null,null,null,null,null,null,null,"Needs",null,null,null,null,"Performance",null,null,"How often"]
[null,null,null,null,null,null,null,"Link to evaluation"]
[]
[null,null,null,null,null,null,"Skill Area:",null,null,null,null,"Measuarable Goal:",null,null,null,null,null,null,"Select",null,null,null,null,null,{"$f":"S229","v":"Select"},{"$f":"S229","v":"Select"}]
[null,null,null,null,null,null,null,null,null,null,null,null,null,null,null,null,null,null,null,null,null,null,null,{"$f":"Y230+Z230","v":0},{"$f":"COUNTIF(Y229,\"Yes\")*3","v":0},{"$f":"COUNTIF(Z229,\"No\")*3","v":0}]
[null,null,null,null,null,null,null,"Strengths",null,null,null,null,"Condition",null,null,"How well"]
[null,null,null,null,null,null,null,"Needs",null,null,null,null,"Performance",null,null,"How often"]
[null,null,null,null,null,null,null,"Link to evaluation"]
[]
[{"$f":"HYPERLINK(\"http://sdlegislature.gov/Rules/DisplayRule.aspx?Rule=24:05:27:01.03\",\"How Progress will be Measured\n(24:05:27:01.03)\")","v":"How Progress will be Measured\n(24:05:27:01.03)"},null,null,null,null,null,{"$f":"HYPERLINK(\"https://gosynth.com/p/s/psaxcx\",\"         Check the following:\")","v":"         Check the following:"},null,null,null,null,null,null,null,null,null,null,null,"Select","V232",null,null,null,null,{"$f":"S235","v":"Select"},{"$f":"S235","v":"Select"}]
[null,null,null,null,null,null,null,null,null,null,null,null,null,null,null,null,null,null,null,null,null,null,null,{"$f":"Y236+Z236","v":0},{"$f":"COUNTIF(Y235,\"Yes\")*3","v":0},{"$f":"COUNTIF(Z235,\"No\")*3","v":0}]
[null,null,null,null,null,null,null,"Reporting frequency",null,null,null,null,"Extent of progress"]
[null,null,null,null,null,null,null,"Reporting method"]
[]
[{"$f":"HYPERLINK(\"http://sdlegislature.gov/Rules/DisplayRule.aspx?Rule=24:05:27:01.03\",\"Accommodations/Modifications\n(24:05:27:01.03)\")","v":"Accommodations/Modifications\n(24:05:27:01.03)"},null,null,null,null,null,{"$f":"HYPERLINK(\"https://gosynth.com/p/s/rtpvrq\",\"         Check the following:\")","v":"         Check the following:"},null,null,null,null,"List Instructional Accommodations:",null,null,null,null,null,null,"Select","V237",null,null,null,null,{"$f":"S240","v":"Select"},{"$f":"S240","v":"Select"}]
[null,null,null,null,null,null,null,"Frequency",null,null,null,null,null,null,null,null,null,null,null,null,null,null,null,{"$f":"Y241+Z241","v":0},{"$f":"COUNTIF(Y240,\"Yes\")*3","v":0},{"$f":"COUNTIF(Z240,\"No\")*3","v":0}]
[null,null,null,null,null,null,null,"Duration"]
[null,null,null,null,null,null,null,"Location",null,null,null,null,null,null,null,null,null,null,null,null,null,null,null,{"$f":"(X241+X236+X230+X224+X218+X216+X213)/7","v":0},{"$f":"(Y241+Y236+Y230+Y224+Y218+Y216+Y213)/7","v":0}]
[]
[]
[null,null,null,null,null,null,null,"Are the accommodations appropriate for the skill areas affected by the diability?"]
[]
[]
[]
[null,null,null,null,null,null,null,null,"Yes"]
[null,null,null,null,null,null,null,null,"No"]
[]
[]
[]
[{"$f":"HYPERLINK(\"https://gosynth.com/p/s/ygpazf\",\"Special Factors\")","v":"Special Factors"},null,null,null,null,null,null,null,null,null,null,null,null,null,null,null,null,null,{"$f":"IFERROR(Y294/X294,\"N/A\")","v":"N/A"}]
[{"$f":"HYPERLINK(\"http://sdlegislature.gov/Rules/DisplayRule.aspx?Rule=24:05:27:01.02\",\"Considerations\n(24:05:27:01.02)\")","v":"Considerations\n(24:05:27:01.02)"},null,null,null,null,null,"Select for each:",null,null,"Determine if data supports the selection for each special factor; if not addressed, check \"N\"  for score.",null,null,null,null,null,null,null,null,"Select","V243",null,null,null,null,{"$f":"S256","v":"Select"},{"$f":"S256","v":"Select"}]
[null,null,null,null,null,null,null,null,null,null,null,null,null,null,null,null,null,null,null,null,null,null,null,{"$f":"Y257+Z257","v":0},{"$f":"COUNTIF(Y256,\"Yes\")*3","v":0},{"$f":"COUNTIF(Z256,\"No\")*3","v":0}]
[null,null,null,null,null,null,null,null,null,"Limited English proficient"]
[null,null,null,null,null,null,null,null,null,"Special communication needs"]
[null,null,null,null,null,null,null,null,null,"Requires Braille"]
[null,null,null,null,null,null,null,null,null,"Behavior impedes learning"]
[null,null,null,null,null,null,null,null,null,"Requires assistive technology & services"]
[null,null,null,null,null,null,null,null,null,"Physical education"]
[null,null,null,null,null,null,null,null,null,"Hearing aid maintenance"]
[{"$f":"HYPERLINK(\"http://sdlegislature.gov/Rules/DisplayRule.aspx?Rule=24:05:27:01.03\",\"State/District Assessments\n(24:05:27:01.03)\")","v":"State/District Assessments\n(24:05:27:01.03)"},null,null,null,null,null,{"$f":"HYPERLINK(\"https://gosynth.com/p/s/jdbbir\",\"             Students will be taking state and district-wide assessments:\")","v":"             Students will be taking state and district-wide assessments:"},null,null,null,null,null,null,null,null,null,null,null,"Select","V263",null,null,null,null,{"$f":"S265","v":"Select"},{"$f":"S265","v":"Select"}]
[null,null,null,null,null,null,null,"With accommodations",null,null,null,null,"Without accommodations",null,null,null,null,null,null,null,null,null,null,{"$f":"Y266+Z266","v":0},{"$f":"COUNTIF(Y265,\"Yes\")*3","v":0},{"$f":"COUNTIF(Z265,\"No\")*3","v":0}]
[null,null,null,null,null,null,"Testing accommodations must reflect instructional accommodations."]
[null,null,null,null,null,null,"Do the accommodations for the state/district assesment(s) \nmatch the instructional accommodations?"]
[]
[null,null,null,null,null,null,"Instructional \nAccommodations",null,null,null,"State/District\nAssessment\nAccommodations",null,null,null,"Select\nyes or no:"]
[]
[]
[null,null,null,null,null,null,{"$f":"L241","v":0},null,null,null,null,null,null,null,"- Select -"]
[null,null,null,null,null,null,0,null,null,null,null,null,null,null,"- Select -"]
[null,null,null,null,null,null,0,null,null,null,null,null,null,null,"- Select -"]
[null,null,null,null,null,null,0,null,null,null,null,null,null,null,"- Select -"]
[null,null,null,null,null,null,0]
[null,null,null,null,null,null,0,null,null,null,null,null,null,null,"- Select -"]
[null,null,null,null,null,null,0,null,null,null,null,null,null,null,"- Select -"]
[null,null,null,null,null,null,0]
[null,null,null,null,null,null,0]
[null,null,null,null,null,null,0,null,null,null,null,null,null,null,"- Select -"]
[null,null,null,null,null,null,0,null,null,null,null,null,null,null,"- Select -"]
[null,null,null,null,null,null,0,null,null,null,null,null,null,null,"- Select -"]
[null,null,null,null,null,null,0,null,null,null,null,null,null,null,"- Select -"]
[null,null,null,null,null,null,0,null,null,null,null,null,null,null,"- Select -"]
[null,null,null,null,null,null,"Were the accommodations for\n the state assessment identified \non the IEP provided according to \nthe assessment data sheet?"]
[null,null,null,null,null,null,null,null,null,null,null,null,null,"- Select -"]
[]
[{"$f":"HYPERLINK(\"http://sdlegislature.gov/Rules/DisplayRule.aspx?Rule=24:05:27:01.03\",\"Alternate Assessments\n(24:05:27:01.03)\")","v":"Alternate Assessments\n(24:05:27:01.03)"},null,null,null,null,null,{"$f":"HYPERLINK(\"https://gosynth.com/p/s/bjlejx\",\"                  The following must be met:\")","v":"                  The following must be met:"},null,null,null,null,null,null,null,null,null,null,null,"Select","V257",null,null,null,null,{"$f":"S290","v":"Select"},{"$f":"S290","v":"Select"}]
[null,null,null,null,null,null,null,null,null,null,null,null,null,null,null,null,null,null,null,null,null,null,null,{"$f":"Y291+Z291","v":0},{"$f":"COUNTIF(Y290,\"Yes\")*3","v":0},{"$f":"COUNTIF(Z290,\"No\")*3","v":0}]
[null,null,null,null,null,null,null,"Student meets the significant cognitive disability criteria"]
[null,null,null,null,null,null,null,"Explanation for why student cannot participate in the regular assessment"]
[null,null,null,null,null,null,null,null,null,null,null,null,null,null,null,null,null,null,null,null,null,null,null,{"$f":"(X291+X266+X257)/3","v":0},{"$f":"(Y291+Y266+Y257)/3","v":0}]
[null,null,null,null,null,null,null,"Explanation for why the alternate assessment selected is appropriate"]
[]
[null,null,null,null,null,null,null,"The alternate assessment is for students working in the alternate achievement standards.  Annual goals and short term objectives are required.                                                                         \n                                                                        "]
[]
[]
[null,null,null,null,null,null,"Does the PPWN explain why IEP team decided alternate assessment for the student?"]
[null,null,null,null,null,null,"Does the student taking the\n alternate assessment meet\n the criteria, has it been \ndocumented on the IEP?"]
[null,null,null,null,null,null,null,null,null,null,null,null,null,"- Select -"]
[]
[]
[{"$f":"HYPERLINK(\"https://gosynth.com/p/s/itwkve\",\"Transition\")","v":"Transition"},null,null,null,null,null,null,null,null,null,null,null,null,null,null,null,null,null,{"$f":"IFERROR(Y306/X306,\"N/A\")","v":"N/A"}]
["Indicator 13 Item 1",null,null,null,null,null,null,null,null,null,null,null,null,null,null,null,null,null,null,null,null,null,null,{"$f":"(X308+X310+X312+X314+X316+X319+X321+X323+X326+X329+X331+X333+X336+X338+X340+X343+X345+X347+X350+X356+X362+X364+X366+X369)/24","v":0},{"$f":"(Y308+Y310+Y312+Y314+Y316+Y319+Y321+Y323+Y326+Y329+Y331+Y333+Y336+Y338+Y340+Y343+Y345+Y347+Y350+Y356+Y362+Y364+Y366+Y369)/24","v":0}]
[{"$f":"HYPERLINK(\"http://sdlegislature.gov/Rules/DisplayRule.aspx?Rule=24:05:27:01.03\",\"Transition IEP*\n(24:05:27:01.03)\")","v":"Transition IEP*\n(24:05:27:01.03)"},null,null,null,null,null,{"$f":"HYPERLINK(\"https://gosynth.com/p/s/itwkve\",\"Transition IEP must be in effect for all students on their 16 birthday or for younger students if it is addressed in the IEP.   \n*This is not on the Indicator 13 checklist, but it is a compliance requirement. \")","v":"Transition IEP must be in effect for all students on their 16 birthday or for younger students if it is addressed in the IEP.   \n*This is not on the Indicator 13 checklist, but it is a compliance requirement. "},null,null,null,null,null,null,null,null,null,null,null,"Select","V269",null,null,null,null,{"$f":"S307","v":"Select"},{"$f":"S307","v":"Select"}]
[null,null,null,null,null,null,null,null,null,null,null,null,null,null,null,null,null,null,null,null,null,null,null,{"$f":"Y308+Z308","v":0},{"$f":"COUNTIF(Y307,\"Yes\")*3","v":0},{"$f":"COUNTIF(Z307,\"No\")*3","v":0}]
[null,null,null,null,null,null,null,null,null,null,null,null,null,null,null,null,null,null,"Select",null,null,null,null,null,{"$f":"S309","v":"Select"},{"$f":"S309","v":"Select"}]
[{"$f":"HYPERLINK(\"http://sdlegislature.gov/Rules/DisplayRule.aspx?Rule=24:05:27:01.03\",\"Transition Assessments\n(24:05:27:01.03)\")","v":"Transition Assessments\n(24:05:27:01.03)"},null,null,null,null,null,null,"Employment",null,null,null,null,null,null,null,null,null,null,null,null,null,null,null,{"$f":"Y310+Z310","v":0},{"$f":"COUNTIF(Y309,\"Yes\")*3","v":0},{"$f":"COUNTIF(Z309,\"No\")*3","v":0}]
[null,null,null,null,null,null,null,null,null,null,null,null,null,null,null,null,null,null,"Select",null,null,null,null,null,{"$f":"S311","v":"Select"},{"$f":"S311","v":"Select"}]
[null,null,null,null,null,null,null,"Education/Training",null,null,null,null,null,null,null,null,null,null,null,null,null,null,null,{"$f":"Y312+Z312","v":0},{"$f":"COUNTIF(Y311,\"Yes\")*3","v":0},{"$f":"COUNTIF(Z311,\"No\")*3","v":0}]
[null,null,null,null,null,null,null,"Independent Living",null,null,null,null,null,null,null,null,null,null,"Select",null,null,null,null,null,{"$f":"S313","v":"Select"},{"$f":"S313","v":"Select"}]
[null,null,null,null,null,null,{"$f":"HYPERLINK(\"https://gosynth.com/p/s/itwkve\",\"The transition assessment must be completed prior to the age of 16 and updated annually.  Evidence of transition strengths/ needs are document on the PLAAFPs.  \")","v":"The transition assessment must be completed prior to the age of 16 and updated annually.  Evidence of transition strengths/ needs are document on the PLAAFPs.  "},null,null,null,null,null,null,null,null,null,null,null,null,null,null,null,null,{"$f":"Y314+Z314","v":0},{"$f":"COUNTIF(Y313,\"Yes\")*3","v":0},{"$f":"COUNTIF(Z313,\"No\")*3","v":0}]
["Transition Evaluation Report*\n",null,null,null,null,null,{"$f":"HYPERLINK(\"https://gosynth.com/p/s/itwkve\",\"A transition evaluation report is located in the file.\n\n*This is not on the Indicator 13 checklist, but it is a compliance requirement. \")","v":"A transition evaluation report is located in the file.\n\n*This is not on the Indicator 13 checklist, but it is a compliance requirement. "},null,null,null,null,null,null,null,null,null,null,null,"Select",null,null,null,null,null,{"$f":"S315","v":"Select"},{"$f":"S315","v":"Select"}]
[null,null,null,null,null,null,null,null,null,null,null,null,null,null,null,null,null,null,null,null,null,null,null,{"$f":"Y316+Z316","v":0},{"$f":"COUNTIF(Y315,\"Yes\")*3","v":0},{"$f":"COUNTIF(Z315,\"No\")*3","v":0}]
[{"$f":"HYPERLINK(\"https://gosynth.com/p/s/itwkve\",\"Indicator 13 Item 2\")","v":"Indicator 13 Item 2"}]
[{"$f":"HYPERLINK(\"http://sdlegislature.gov/Rules/DisplayRule.aspx?Rule=24:05:27:01.03\",\"Age-Appropriate Measurable \nPost-Secondary Goals \n(24:05:27:01.03)\")","v":"Age-Appropriate Measurable \nPost-Secondary Goals \n(24:05:27:01.03)"},null,null,null,null,null,null,"Employment",null,null,null,null,null,null,null,null,null,null,"Select","V278",null,null,null,null,{"$f":"S318","v":"Select"},{"$f":"S318","v":"Select"}]
[null,null,null,null,null,null,null,null,null,null,null,null,null,null,null,null,null,null,null,null,null,null,null,{"$f":"Y319+Z319","v":0},{"$f":"COUNTIF(Y318,\"Yes\")*3","v":0},{"$f":"COUNTIF(Z318,\"No\")*3","v":0}]
[null,null,null,null,null,null,null,"Education/Training",null,null,null,null,null,null,null,null,null,null,"Select",null,null,null,null,null,{"$f":"S320","v":"Select"},{"$f":"S320","v":"Select"}]
[null,null,null,null,null,null,null,null,null,null,null,null,null,null,null,null,null,null,null,null,null,null,null,{"$f":"Y321+Z321","v":0},{"$f":"COUNTIF(Y320,\"Yes\")*3","v":0},{"$f":"COUNTIF(Z320,\"No\")*3","v":0}]
[null,null,null,null,null,null,null,"Independent Living",null,null,null,null,null,null,null,null,null,null,"Select",null,null,null,null,null,{"$f":"S322","v":"Select"},{"$f":"S322","v":"Select"}]
[null,null,null,null,null,null,null,null,null,null,null,null,null,null,null,null,null,null,null,null,null,null,null,{"$f":"Y323+Z323","v":0},{"$f":"COUNTIF(Y322,\"Yes\")*3","v":0},{"$f":"COUNTIF(Z322,\"No\")*3","v":0}]
[{"$f":"HYPERLINK(\"https://gosynth.com/p/s/itwkve\",\"Indicator 13 Item 3\")","v":"Indicator 13 Item 3"}]
["MPSGs Updated Annually",null,null,null,null,null,null,null,null,null,null,null,null,null,null,null,null,null,"Select","V282",null,null,null,null,{"$f":"S325","v":"Select"},{"$f":"S325","v":"Select"}]
[null,null,null,null,null,null,null,null,null,null,null,null,null,null,null,null,null,null,null,null,null,null,null,{"$f":"Y326+Z326","v":0},{"$f":"COUNTIF(Y325,\"Yes\")*3","v":0},{"$f":"COUNTIF(Z325,\"No\")*3","v":0}]
["Indicator 13 Item 4"]
[{"$f":"HYPERLINK(\"http://sdlegislature.gov/Rules/DisplayRule.aspx?Rule=24:05:27:01.03\",\"Course of Study Aligns to \nPost-Secondary Goals\n(24:05:27:01.03)\")","v":"Course of Study Aligns to \nPost-Secondary Goals\n(24:05:27:01.03)"},null,null,null,null,null,null,"Employment",null,null,null,null,null,null,null,null,null,null,"Select","V285",null,null,null,null,{"$f":"S328","v":"Select"},{"$f":"S328","v":"Select"}]
[null,null,null,null,null,null,null,null,null,null,null,null,null,null,null,null,null,null,null,null,null,null,null,{"$f":"Y329+Z329","v":0},{"$f":"COUNTIF(Y328,\"Yes\")*3","v":0},{"$f":"COUNTIF(Z328,\"No\")*3","v":0}]
[null,null,null,null,null,null,null,"Education/Training",null,null,null,null,null,null,null,null,null,null,"Select",null,null,null,null,null,{"$f":"S330","v":"Select"},{"$f":"S330","v":"Select"}]
[null,null,null,null,null,null,null,null,null,null,null,null,null,null,null,null,null,null,null,null,null,null,null,{"$f":"Y331+Z331","v":0},{"$f":"COUNTIF(Y330,\"Yes\")*3","v":0},{"$f":"COUNTIF(Z330,\"No\")*3","v":0}]
[null,null,null,null,null,null,null,"Independent Living",null,null,null,null,null,null,null,null,null,null,"Select",null,null,null,null,null,{"$f":"S332","v":"Select"},{"$f":"S332","v":"Select"}]
[null,null,null,null,null,null,"Completed by age 16, or younger if transition has been addressed in the IEP, and updated annually through graduation or ‘age out’.",null,null,null,null,null,null,null,null,null,null,null,null,null,null,null,null,{"$f":"Y333+Z333","v":0},{"$f":"COUNTIF(Y332,\"Yes\")*3","v":0},{"$f":"COUNTIF(Z332,\"No\")*3","v":0}]
[{"$f":"HYPERLINK(\"https://gosynth.com/p/s/itwkve\",\"Indicator 13 Item 5\")","v":"Indicator 13 Item 5"}]
[{"$f":"HYPERLINK(\"http://sdlegislature.gov/Rules/DisplayRule.aspx?Rule=24:05:27:13.02\",\"Transition Services/Activities\n(24:05:27:13.02)\")","v":"Transition Services/Activities\n(24:05:27:13.02)"},null,null,null,null,null,null,"Employment",null,null,null,null,null,null,null,null,null,null,"Select","V290",null,null,null,null,{"$f":"S335","v":"Select"},{"$f":"S335","v":"Select"}]
[null,null,null,null,null,null,null,null,null,null,null,null,null,null,null,null,null,null,null,null,null,null,null,{"$f":"Y336+Z336","v":0},{"$f":"COUNTIF(Y335,\"Yes\")*3","v":0},{"$f":"COUNTIF(Z335,\"No\")*3","v":0}]
[null,null,null,null,null,null,null,"Education/Training",null,null,null,null,null,null,null,null,null,null,"Select",null,null,null,null,null,{"$f":"S337","v":"Select"},{"$f":"S337","v":"Select"}]
[null,null,null,null,null,null,null,null,null,null,null,null,null,null,null,null,null,null,null,null,null,null,null,{"$f":"Y338+Z338","v":0},{"$f":"COUNTIF(Y337,\"Yes\")*3","v":0},{"$f":"COUNTIF(Z337,\"No\")*3","v":0}]
[null,null,null,null,null,null,null,"Independent Living",null,null,null,null,null,null,null,null,null,null,"Select",null,null,null,null,null,{"$f":"S339","v":"Select"},{"$f":"S339","v":"Select"}]
[null,null,null,null,null,null,"Services/activities will reasonably enable the student to meet post-secondary goals and have at least one activity per MPSG addressed.",null,null,null,null,null,null,null,null,null,null,null,null,null,null,null,null,{"$f":"Y340+Z340","v":0},{"$f":"COUNTIF(Y339,\"Yes\")*3","v":0},{"$f":"COUNTIF(Z339,\"No\")*3","v":0}]
[{"$f":"HYPERLINK(\"https://gosynth.com/p/s/itwkve\",\"Indicator 13 Item 6\")","v":"Indicator 13 Item 6"}]
[{"$f":"HYPERLINK(\"http://sdlegislature.gov/Rules/DisplayRule.aspx?Rule=24:05:27:13.02\",\"Annual Goal Related to Student’s Transition Service needs in\n(24:05:27:13.02)\")","v":"Annual Goal Related to Student’s Transition Service needs in\n(24:05:27:13.02)"},null,null,null,null,null,null,"Employment",null,null,null,null,null,null,null,null,null,null,"Select","V295",null,null,null,null,{"$f":"S342","v":"Select"},{"$f":"S342","v":"Select"}]
[null,null,null,null,null,null,null,null,null,null,null,null,null,null,null,null,null,null,null,null,null,null,null,{"$f":"Y343+Z343","v":0},{"$f":"COUNTIF(Y342,\"Yes\")*3","v":0},{"$f":"COUNTIF(Z342,\"No\")*3","v":0}]
[null,null,null,null,null,null,null,"Education/Training",null,null,null,null,null,null,null,null,null,null,"Select",null,null,null,null,null,{"$f":"S344","v":"Select"},{"$f":"S344","v":"Select"}]
[null,null,null,null,null,null,null,null,null,null,null,null,null,null,null,null,null,null,null,null,null,null,null,{"$f":"Y345+Z345","v":0},{"$f":"COUNTIF(Y344,\"Yes\")*3","v":0},{"$f":"COUNTIF(Z344,\"No\")*3","v":0}]
[null,null,null,null,null,null,null,"Independent Living",null,null,null,null,null,null,null,null,null,null,"Select",null,null,null,null,null,{"$f":"S346","v":"Select"},{"$f":"S346","v":"Select"}]
[null,null,null,null,null,null,{"$f":"HYPERLINK(\"https://gosynth.com/p/s/itwkve\",\"Annual goals are linked to the MPSGs.\")","v":"Annual goals are linked to the MPSGs."},null,null,null,null,null,null,null,null,null,null,null,null,null,null,null,null,{"$f":"Y347+Z347","v":0},{"$f":"COUNTIF(Y346,\"Yes\")*3","v":0},{"$f":"COUNTIF(Z346,\"No\")*3","v":0}]
[{"$f":"HYPERLINK(\"https://gosynth.com/p/s/pisllo\",\"Indicator 13 Item 7\")","v":"Indicator 13 Item 7"}]
[{"$f":"HYPERLINK(\"http://sdlegislature.gov/Rules/DisplayRule.aspx?Rule=24:05:25:16.01\",\"Student Invitation/Participation\n(24:05:25:16.01)\")","v":"Student Invitation/Participation\n(24:05:25:16.01)"},null,null,null,null,null,"How the student invited?",null,null,null,null,{"$f":"HYPERLINK(\"https://gosynth.com/p/s/pisllo\",\"If student was not in attendance at the meeting, the IEP should show evidence that student's preferences and interests were taken into account. *\")","v":"If student was not in attendance at the meeting, the IEP should show evidence that student's preferences and interests were taken into account. *"},null,null,null,null,null,null,"Select","V300",null,null,null,null,{"$f":"S349","v":"Select"},{"$f":"S349","v":"Select"}]
[null,null,null,null,null,null,null,null,null,null,null,null,null,null,null,null,null,null,null,null,null,null,null,{"$f":"Y350+Z350","v":0},{"$f":"COUNTIF(Y349,\"Yes\")*3","v":0},{"$f":"COUNTIF(Z349,\"No\")*3","v":0}]
[null,null,null,null,null,null,null,"Meeting notice"]
[null,null,null,null,null,null,null,"Individual student invite"]
[]
[{"$f":"HYPERLINK(\"https://gosynth.com/p/s/pisllo\",\"Indicator 13 Item 8\")","v":"Indicator 13 Item 8"}]
[{"$f":"HYPERLINK(\"http://sdlegislature.gov/Rules/DisplayRule.aspx?Rule=24:05:25:16.01\",\"Consent to Invite Outside Agency\n(24:05:25:16.01)\")","v":"Consent to Invite Outside Agency\n(24:05:25:16.01)"},null,null,null,null,null,{"$f":"HYPERLINK(\"https://gosynth.com/p/s/pisllo\",\" Written Consent to invite:\")","v":" Written Consent to invite:"},null,null,null,null,null,null,"List of agencies invited:",null,null,null,null,"Select","V306",null,null,null,null,{"$f":"S355","v":"Select"},{"$f":"S355","v":"Select"}]
[null,null,null,null,null,null,"Invited on Meeting Notice:",null,null,null,null,null,"Yes",null,null,null,null,null,null,null,null,null,null,{"$f":"Y356+Z356","v":0},{"$f":"COUNTIF(Y355,\"Yes\")*3","v":0},{"$f":"COUNTIF(Z355,\"No\")*3","v":0}]
[null,null,null,null,null,null,null,null,null,null,null,null,"No"]
[null,null,null,null,null,null,"Meeting Notice Date:",null,null,null,null,{"$f":"J177","v":"00:00:00"}]
[null,null,null,null,null,null,"Date of Current IEP Meeting:",null,null,null,null,{"$f":"T5","v":"00:00:00"}]
[{"$f":"HYPERLINK(\"https://gosynth.com/p/s/pisllo\",\"Other Transition Areas *\")","v":"Other Transition Areas *"}]
[{"$f":"HYPERLINK(\"http://sdlegislature.gov/Rules/DisplayRule.aspx?Rule=24:05:30:16.01\",\"Transfer of Parental Rights:\n(24:05:30:16.01)\")","v":"Transfer of Parental Rights:\n(24:05:30:16.01)"},null,null,null,null,null,"Turned 17 on:",null,null,null,null,null,null,null,null,null,null,null,"Select","V312",null,null,null,null,{"$f":"S361","v":"Select"},{"$f":"S361","v":"Select"}]
[null,null,null,null,null,null,"Rights reviewed on:",null,null,null,null,null,null,null,null,null,null,null,null,null,null,null,null,{"$f":"Y362+Z362","v":0},{"$f":"COUNTIF(Y361,\"Yes\")*3","v":0},{"$f":"COUNTIF(Z361,\"No\")*3","v":0}]
[{"$f":"HYPERLINK(\"http://sdlegislature.gov/Rules/DisplayRule.aspx?Rule=24:05:27:12\",\"Specific Graduation Requirements:\n(24:05:27:12)\")","v":"Specific Graduation Requirements:\n(24:05:27:12)"},null,null,null,null,null,"Graduation requirements addressed on:",null,null,null,null,null,null,null,null,null,null,null,"Select",null,null,null,null,null,{"$f":"S363","v":"Select"},{"$f":"S363","v":"Select"}]
[null,null,null,null,null,null,"Student is projected to graduate:",null,null,null,null,null,null,null,null,null,null,null,null,null,null,null,null,{"$f":"Y364+Z364","v":0},{"$f":"COUNTIF(Y363,\"Yes\")*3","v":0},{"$f":"COUNTIF(Z363,\"No\")*3","v":0}]
[{"$f":"HYPERLINK(\"http://sdlegislature.gov/Rules/DisplayRule.aspx?Rule=24:05:27:12\",\"When Student has Graduated\n(24:05:27:12)\")","v":"When Student has Graduated\n(24:05:27:12)"},null,null,null,null,null,"Written prior notice was sent:",null,null,null,null,null,null,null,null,null,null,null,"Select",null,null,null,null,null,{"$f":"S365","v":"Select"},{"$f":"S365","v":"Select"}]
[null,null,null,null,null,null,{"$f":"HYPERLINK(\"https://gosynth.com/p/s/pisllo\",\"When a student graduates, it is a change in placement. It must have a written\n prior notice sent.  If student has \"\"aged-out\"\", a PPWN is required.  \")","v":"When a student graduates, it is a change in placement. It must have a written\n prior notice sent.  If student has \"aged-out\", a PPWN is required.  "},null,null,null,null,null,null,null,null,null,null,null,null,null,null,null,null,{"$f":"Y366+Z366","v":0},{"$f":"COUNTIF(Y365,\"Yes\")*3","v":0},{"$f":"COUNTIF(Z365,\"No\")*3","v":0}]
[]
[{"$f":"HYPERLINK(\"http://sdlegislature.gov/Rules/DisplayRule.aspx?Rule=24:05:27:12\",\"Summary of Performance was provided to the Student/Parent/Guardian\n(24:05:27:12)\")","v":"Summary of Performance was provided to the Student/Parent/Guardian\n(24:05:27:12)"},null,null,null,null,null,{"$f":"HYPERLINK(\"https://gosynth.com/p/s/pisllo\",\"Summary of Performance (SOP) is required for students who graduated and\n aged out. A copy of the SOP should remain in the file.\")","v":"Summary of Performance (SOP) is required for students who graduated and\n aged out. A copy of the SOP should remain in the file."},null,null,null,null,null,null,null,null,null,null,null,"Select",null,null,null,null,null,{"$f":"S368","v":"Select"},{"$f":"S368","v":"Select"}]
[null,null,null,null,null,null,null,null,null,null,null,null,null,null,null,null,null,null,null,null,null,null,null,{"$f":"Y369+Z369","v":0},{"$f":"COUNTIF(Y368,\"Yes\")*3","v":0},{"$f":"COUNTIF(Z368,\"No\")*3","v":0}]
[]
["Click on the [+] button to expand or the [-] button to collapse."]
[{"$f":"HYPERLINK(\"https://gosynth.com/p/s/kldkzb\",\"Related Services\")","v":"Related Services"},null,null,null,null,null,null,null,null,null,null,null,null,null,null,null,null,null,{"$f":"IFERROR(Y375/X375,\"N/A\")","v":"N/A"}]
[{"$f":"HYPERLINK(\"http://sdlegislature.gov/Rules/DisplayRule.aspx?Rule=24:05:27:16\",\"Related Services\n(24:05:27)\")","v":"Related Services\n(24:05:27)"},null,null,null,null,null,"Service Provided:",null,null,null,null,null,"If student will receive services in a different location, then must break it out to calculate the Least Restrictive Environment.",null,null,null,null,null,"Select","V324",null,null,null,null,{"$f":"S373","v":"Select"},{"$f":"S373","v":"Select"}]
[null,null,null,null,null,null,null,null,null,null,null,null,null,null,null,null,null,null,null,null,null,null,null,{"$f":"Y374+Z374","v":0},{"$f":"COUNTIF(Y373,\"Yes\")*3","v":0},{"$f":"COUNTIF(Z373,\"No\")*3","v":0}]
[null,null,null,null,null,null,null,"Frequency",null,null,"Location",null,null,null,null,null,null,null,null,null,null,null,null,{"$f":"(X374+X379)/2","v":0},{"$f":"(Y374+Y379)/2","v":0}]
[null,null,null,null,null,null,null,"Duration",null,null,"Other"]
[null,null,null,null,null,null,"Service Provided:",null,null,null,null,null,"At a minimum, all areas student qualifies and has an annual goal must have service time documented. If not addressed, then PPWN must explain reason."]
[null,null,null,null,null,null,null,null,null,null,null,null,null,null,null,null,null,null,"Select",null,null,null,null,null,{"$f":"S378","v":"Select"},{"$f":"S378","v":"Select"}]
[null,null,null,null,null,null,null,"Frequency",null,null,"Location",null,null,null,null,null,null,null,null,null,null,null,null,{"$f":"Y379+Z379","v":0},{"$f":"COUNTIF(Y378,\"Yes\")*3","v":0},{"$f":"COUNTIF(Z378,\"No\")*3","v":0}]
[null,null,null,null,null,null,null,"Duration",null,null,"Other"]
[]
["Least Restrictive Environment ",null,null,null,null,null,null,null,null,null,null,null,null,null,null,null,null,null,{"$f":"IFERROR(Y382/X382,\"N/A\")","v":"N/A"},null,null,null,null,{"$f":"(X384+X388+X392+X396+X400+X402+X404+X406+X408)/9","v":0},{"$f":"(Y384+Y388+Y392+Y396+Y400+Y402+Y404+Y406+Y408)/9","v":0}]
[{"$f":"HYPERLINK(\"https://sdlegislature.gov/Rules/DisplayRule.aspx?Rule=24:05:28\",\"Least Restrictive Enviornment \n(Chapter 24:05:28)\")","v":"Least Restrictive Enviornment \n(Chapter 24:05:28)"},null,null,null,null,null,{"$f":"HYPERLINK(\"https://gosynth.com/p/s/llxjsq\",\"Skill area:\")","v":"Skill area:"},null,null,null,null,null,null,null,null,null,null,null,"Select","V334",null,null,null,null,{"$f":"S383","v":"Select"},{"$f":"S383","v":"Select"}]
[null,null,null,null,null,null,null,null,null,null,null,null,null,null,null,null,null,null,null,null,null,null,null,{"$f":"Y384+Z384","v":0},{"$f":"COUNTIF(Y383,\"Yes\")*3","v":0},{"$f":"COUNTIF(Z383,\"No\")*3","v":0}]
[null,null,null,null,null,null,null,null,"Frequency",null,null,"Duration",null,null,"Location"]
[]
[null,null,null,null,null,null,"Skill area:",null,null,null,null,null,null,null,null,null,null,null,"Select",null,null,null,null,null,{"$f":"S387","v":"Select"},{"$f":"S387","v":"Select"}]
[null,null,null,null,null,null,null,null,null,null,null,null,null,null,null,null,null,null,null,null,null,null,null,{"$f":"Y388+Z388","v":0},{"$f":"COUNTIF(Y387,\"Yes\")*3","v":0},{"$f":"COUNTIF(Z387,\"No\")*3","v":0}]
[null,null,null,null,null,null,null,null,"Frequency",null,null,"Duration",null,null,"Location"]
[]
[null,null,null,null,null,null,"Skill area:",null,null,null,null,null,null,null,null,null,null,null,"Select",null,null,null,null,null,{"$f":"S391","v":"Select"},{"$f":"S391","v":"Select"}]
[null,null,null,null,null,null,null,null,null,null,null,null,null,null,null,null,null,null,null,null,null,null,null,{"$f":"Y392+Z392","v":0},{"$f":"COUNTIF(Y391,\"Yes\")*3","v":0},{"$f":"COUNTIF(Z391,\"No\")*3","v":0}]
[null,null,null,null,null,null,null,null,"Frequency",null,null,"Duration",null,null,"Location"]
[]
[null,null,null,null,null,null,"Skill area:",null,null,null,null,null,null,null,null,null,null,null,"Select",null,null,null,null,null,{"$f":"S395","v":"Select"},{"$f":"S395","v":"Select"}]
[null,null,null,null,null,null,null,null,null,null,null,null,null,null,null,null,null,null,null,null,null,null,null,{"$f":"Y396+Z396","v":0},{"$f":"COUNTIF(Y395,\"Yes\")*3","v":0},{"$f":"COUNTIF(Z395,\"No\")*3","v":0}]
[null,null,null,null,null,null,null,null,"Frequency",null,null,"Duration",null,null,"Location"]
[]
[{"$f":"HYPERLINK(\"http://sdlegislature.gov/Rules/DisplayRule.aspx?Rule=24:05:28:02\",\"Continuum of Placement\n(24:05:28:02)\")","v":"Continuum of Placement\n(24:05:28:02)"},null,null,null,null,null,"Select:",null,null,null,null,null,null,null,null,null,null,null,"Select","V350",null,null,null,null,{"$f":"S399","v":"Select"},{"$f":"S399","v":"Select"}]
[null,null,null,null,null,null,null,null,null,null,null,null,null,null,null,null,null,null,null,null,null,null,null,{"$f":"Y400+Z400","v":0},{"$f":"COUNTIF(Y399,\"Yes\")*3","v":0},{"$f":"COUNTIF(Z399,\"No\")*3","v":0}]
[null,null,null,null,null,null,"Select for Early Childhood (Ages 3-5):",null,null,null,null,null,null,null,null,null,null,null,"Select",null,null,null,null,null,{"$f":"S401","v":"Select"},{"$f":"S401","v":"Select"}]
[null,null,null,null,null,null,null,null,null,null,null,null,null,null,null,null,null,null,null,null,null,null,null,{"$f":"Y402+Z402","v":0},{"$f":"COUNTIF(Y401,\"Yes\")*3","v":0},{"$f":"COUNTIF(Z401,\"No\")*3","v":0}]
[{"$f":"HYPERLINK(\"http://sdlegislature.gov/Rules/DisplayRule.aspx?Rule=24:05:27:01.03\",\"Participation with Non-disabled Peers\n(24:05:27:01.03)\")","v":"Participation with Non-disabled Peers\n(24:05:27:01.03)"},null,null,null,null,null,{"$f":"HYPERLINK(\"https://gosynth.com/p/s/wjqcuh\",\"Document opportunities to participate with non-disabled peers.\")","v":"Document opportunities to participate with non-disabled peers."},null,null,null,null,null,null,null,null,null,null,null,"Select",null,null,null,null,null,{"$f":"S403","v":"Select"},{"$f":"S403","v":"Select"}]
[null,null,null,null,null,null,null,null,null,null,null,null,null,null,null,null,null,null,null,null,null,null,null,{"$f":"Y404+Z404","v":0},{"$f":"COUNTIF(Y403,\"Yes\")*3","v":0},{"$f":"COUNTIF(Z403,\"No\")*3","v":0}]
[{"$f":"HYPERLINK(\"http://sdlegislature.gov/Rules/DisplayRule.aspx?Rule=24:05:28:03\",\"Justification for Placement \n(24:05:28:03)\")","v":"Justification for Placement \n(24:05:28:03)"},null,null,null,null,null,{"$f":"HYPERLINK(\"https://gosynth.com/p/s/rjxcoc\",\"                  Select from the following:\")","v":"                  Select from the following:"},null,null,null,null,null,null,null,null,null,null,null,"Select",null,null,null,null,null,{"$f":"S405","v":"Select"},{"$f":"S405","v":"Select"}]
[null,null,null,null,null,null,null,null,null,null,null,null,null,null,null,null,null,null,null,null,null,null,null,{"$f":"Y406+Z406","v":0},{"$f":"COUNTIF(Y405,\"Yes\")*3","v":0},{"$f":"COUNTIF(Z405,\"No\")*3","v":0}]
[{"$f":"HYPERLINK(\"http://sdlegislature.gov/Rules/DisplayRule.aspx?Rule=24:05:25:26\",\"Extended School Year\n(24:05:25:26)\")","v":"Extended School Year\n(24:05:25:26)"},null,null,null,null,null,{"$f":"HYPERLINK(\"https://gosynth.com/p/s/bbepxx\",\"                  Check the following:\")","v":"                  Check the following:"},null,null,null,null,null,null,null,null,null,null,null,"Select","V358",null,null,null,null,{"$f":"S407","v":"Select"},{"$f":"S407","v":"Select"}]
[null,null,null,null,null,null,null,null,null,null,null,null,null,null,null,null,null,null,null,null,null,null,null,{"$f":"Y408+Z408","v":0},{"$f":"COUNTIF(Y407,\"Yes\")*3","v":0},{"$f":"COUNTIF(Z407,\"No\")*3","v":0}]
[null,null,null,null,null,null,null,null,"Determination",null,null,null,"Beginning/end dates"]
[null,null,null,null,null,null,null,null,"Goals",null,null,null,"Amount of service"]
[]
[]
[]
[{"$f":"HYPERLINK(\"https://gosynth.com/p/s/acbbuk\",\"Prior Parental Written Notice\")","v":"Prior Parental Written Notice"},null,null,null,null,null,null,null,null,null,null,null,null,null,null,null,null,null,{"$f":"IFERROR(Y414/X414,\"N/A\")","v":"N/A"},null,null,null,null,{"$f":"(X416+X421)/2","v":0},{"$f":"(Y416+Y421)/2","v":0}]
[{"$f":"HYPERLINK(\"http://sdlegislature.gov/Rules/DisplayRule.aspx?Rule=24:05:30:04\",\"Prior Written Notice Sent to Parent Regarding IEP Implementation\n(24:05:30:04)\")","v":"Prior Written Notice Sent to Parent Regarding IEP Implementation\n(24:05:30:04)"},null,null,null,null,null,"Date the district sent the PPWN:",null,null,null,null,null,null,null,"The implementation date documented on the PPWN must be reflected on IEP.\n\nThe five-day notice requirement may be waived by the parents.",null,null,null,"Select","V366",null,null,null,null,{"$f":"S415","v":"Select"},{"$f":"S415","v":"Select"}]
[null,null,null,null,null,null,"District proposed at least 5 calendar days to begin implementation:",null,null,null,null,null,{"$f":"M415+5","v":"1900-01-05"},null,null,null,null,null,null,null,null,null,null,{"$f":"Y416+Z416","v":0},{"$f":"COUNTIF(Y415,\"Yes\")*3","v":0},{"$f":"COUNTIF(Z415,\"No\")*3","v":0}]
[]
[null,null,null,null,null,null,"Was the 5 calendar day notice requirement met?",null,null,null,null,null,null,"Yes"]
[null,null,null,null,null,null,null,null,null,null,null,null,null,"No"]
[{"$f":"HYPERLINK(\"http://sdlegislature.gov/Rules/DisplayRule.aspx?Rule=24:05:30:05\",\"Content of PPWN\n(24:05:30:05)\")","v":"Content of PPWN\n(24:05:30:05)"},null,null,null,null,null,"Check the following:",null,null,null,null,null,null,null,null,null,null,null,"Select","V371",null,null,null,null,{"$f":"S420","v":"Select"},{"$f":"S420","v":"Select"}]
[null,null,null,null,null,null,"PPWN must be individualized to the student, IEP team discussions and situation.",null,null,null,null,null,null,null,null,null,null,null,null,null,null,null,null,{"$f":"Y421+Z421","v":0},{"$f":"COUNTIF(Y420,\"Yes\")*3","v":0},{"$f":"COUNTIF(Z420,\"No\")*3","v":0}]
[]
[null,null,null,null,null,null,null,"Explanation of why the district proposed or refused to take the action"]
[null,null,null,null,null,null,null,"Description of other options considered and why they were rejected "]
[null,null,null,null,null,null,null,"Description of evidence used for the proposed or refused action"]
[null,null,null,null,null,null,null,"Description of other factors that are relevant to proposal or refusal"]
[]
[null,null,null,null,null,null,"To skip back to Eligibility section click ",null,null,null,null,"HERE."]
[]
[{"$f":"HYPERLINK(\"https://gosynth.com/p/s/iwvzyu\",\"Amendment to IEP\")","v":"Amendment to IEP"},null,null,null,null,null,null,null,null,null,null,null,null,null,null,null,null,null,{"$f":"IFERROR(Z430/Y430,\"N/A\")","v":"N/A"},null,null,null,null,null,{"$f":"(X432+X434)/2","v":0},{"$f":"(Y432+Y434)/2","v":0}]
["Amendment to IEP",null,null,null,null,null,null,null,null,null,null,null,null,null,null,null,null,null,"Select","V381",null,null,null,null,{"$f":"S431","v":"Select"},{"$f":"S431","v":"Select"}]
[{"$f":"HYPERLINK(\"http://sdlegislature.gov/Rules/DisplayRule.aspx?Rule=24:05:27:08.01\",\"(24:05:27:08.01)\")","v":"(24:05:27:08.01)"},null,null,{"$f":"HYPERLINK(\"http://sdlegislature.gov/Rules/DisplayRule.aspx?Rule=24:05:27:08.02\",\"(24:05:27:08.02)\")","v":"(24:05:27:08.02)"},null,null,null,null,null,null,null,null,null,null,null,null,null,null,null,null,null,null,null,{"$f":"Y432+Z432","v":0},{"$f":"COUNTIF(Y431,\"Yes\")*3","v":0},{"$f":"COUNTIF(Z431,\"No\")*3","v":0}]
[{"$f":"HYPERLINK(\"http://sdlegislature.gov/Rules/DisplayRule.aspx?Rule=24:05:30:04\",\"Prior Notice\n(24:05:30:04)\")","v":"Prior Notice\n(24:05:30:04)"},null,null,null,null,null,"Document if the amendment was made with or without a meeting.",null,null,null,null,null,null,null,null,null,null,null,"Select",null,null,null,null,null,{"$f":"S433","v":"Select"},{"$f":"S433","v":"Select"}]
[null,null,null,null,null,null,null,null,null,null,null,null,null,null,null,null,null,null,null,null,null,null,null,{"$f":"Y434+Z434","v":0},{"$f":"COUNTIF(Y433,\"Yes\")*3","v":0},{"$f":"COUNTIF(Z433,\"No\")*3","v":0}]
[]
[{"$f":"HYPERLINK(\"https://gosynth.com/p/s/jdtswp\",\"Additional Items\")","v":"Additional Items"},null,null,null,null,null,null,null,null,null,null,null,null,null,null,null,null,null,{"$f":"IFERROR(AB436/AA436,\"N/A\")","v":"N/A"},null,null,null,null,null,{"$f":"S437","v":"Select"},{"$f":"S437","v":"Select"},{"$f":"(X437+X439+X441+X443)/4","v":0},{"$f":"(Y437+Y439+Y441+Y443)/4","v":0}]
["Parent Declined/\nWithdrew Consent for Services ",null,null,null,null,null,"Revocation signed:",null,null,null,null,null,null,{"$f":"HYPERLINK(\"http://sdlegislature.gov/Rules/DisplayRule.aspx?Rule=24:05:27:04.02\",\"(24:05:27:04.02)\")","v":"(24:05:27:04.02)"},null,null,null,null,"Select","V387",null,null,null,{"$f":"Y437+Z437","v":0},{"$f":"COUNTIF(Y436,\"Yes\")*3","v":0},{"$f":"COUNTIF(Z436,\"No\")*3","v":0}]
[null,null,null,null,null,null,"Date prior notice was sent:",null,null,null,null,null,null,null,null,null,null,null,null,null,null,null,null,null,{"$f":"S439","v":"Select"},{"$f":"S439","v":"Select"}]
["Surrogate Parent",null,null,null,null,null,null,null,null,null,null,null,null,null,null,null,null,null,"Select",null,null,null,null,{"$f":"Y439+Z439","v":0},{"$f":"COUNTIF(Y438,\"Yes\")*3","v":0},{"$f":"COUNTIF(Z438,\"No\")*3","v":0}]
["Transfer Students Provided with  FAPE/Comparable Services ",null,null,null,null,null,"Date prior notice was sent:",null,null,null,null,null,null,{"$f":"HYPERLINK(\"http://sdlegislature.gov/Rules/DisplayRule.aspx?Rule=24:05:27:15.01\",\"In-state (24:05:27:15.01)\")","v":"In-state (24:05:27:15.01)"},null,null,null,null,"Select",null,null,null,null,null,{"$f":"S440","v":"Select"},{"$f":"S440","v":"Select"}]
[null,null,null,null,null,null,null,null,null,null,null,null,null,{"$f":"HYPERLINK(\"http://sdlegislature.gov/Rules/DisplayRule.aspx?Rule=24:05:27:15.02\",\"Out-of-state (24:05:27:15.02)\")","v":"Out-of-state (24:05:27:15.02)"},null,null,null,null,null,null,null,null,null,{"$f":"Y441+Z441","v":0},{"$f":"COUNTIF(Y440,\"Yes\")*3","v":0},{"$f":"COUNTIF(Z440,\"No\")*3","v":0}]
["Transfer Students Evaluated for \nSouth Dakota Eligibility",null,null,null,null,null,"Eligibility determination date:",null,null,null,null,null,null,null,null,null,null,null,"Select",null,null,null,null,null,{"$f":"S442","v":"Select"},{"$f":"S442","v":"Select"}]
[null,null,null,null,null,null,"IEP date:",null,null,null,null,null,null,null,null,null,null,null,null,null,null,null,null,{"$f":"Y443+Z443","v":0},{"$f":"COUNTIF(Y442,\"Yes\")*3","v":0},{"$f":"COUNTIF(Z442,\"No\")*3","v":0}]
[null,null,null,null,null,null,"PPWN Implementing IEP sent:"]

{"sheet":"File 11","index":14,"n_rows":444,"n_cols":28,"rows_kept":444,"cut":false,"hidden":false,"merged":[[436,18,437,18],[437,6,437,10],[437,11,437,12],[438,6,438,17],[442,6,442,10],[442,11,442,12],[413,19,413,21],[414,6,414,11],[414,12,414,13],[414,14,418,17],[414,18,418,18],[414,19,418,21],[417,6,418,11],[419,6,419,17],[420,6,420,17],[216,14,216,16],[443,6,443,10],[443,11,443,12],[446,11,447,12],[439,6,440,10],[439,11,440,12],[439,13,439,17],[440,13,440,17],[441,6,441,10],[441,11,441,12],[441,13,443,17],[415,6,416,11],[415,12,416,13],[413,0,413,17],[422,7,422,17],[423,7,423,17],[424,7,424,17],[425,7,425,17],[426,6,426,17],[427,6,427,10],[427,11,427,17],[436,6,436,10],[436,11,436,12],[436,13,437,17],[216,6,216,7],[216,8,216,10],[205,0,206,5],[207,0,209,5],[216,11,216,13],[231,7,231,10],[209,6,209,13],[210,0,210,17],[211,0,213,5],[211,6,213,16],[214,0,215,5],[214,6,215,16],[216,0,233,5],[225,12,225,13],[225,15,225,16],[226,7,226,10],[227,6,227,10],[228,6,228,7],[228,8,228,10],[228,11,228,13],[228,14,228,16],[230,7,230,10],[230,12,230,13],[230,15,230,16],[196,0,200,5],[196,6,200,17],[196,18,200,18],[201,0,201,21],[202,0,202,17],[202,19,202,21],[203,0,204,5],[188,7,188,9],[188,10,188,12],[189,7,189,9],[189,10,189,12],[186,0,189,5],[186,7,186,9],[186,10,186,12],[192,7,192,9],[193,7,193,9],[193,10,193,12],[194,7,194,9],[190,0,190,5],[190,7,190,9],[190,10,190,12],[191,0,195,5],[191,7,191,9],[191,10,191,12],[152,12,156,15],[154,7,156,10],[145,7,146,10],[145,12,146,15],[149,18,162,18],[149,19,162,21],[150,6,150,15],[150,17,160,17],[158,12,159,15],[151,6,151,15],[152,7,153,10],[157,7,158,10],[157,12,157,15],[210,19,210,21],[211,19,215,21],[214,18,215,18],[196,19,200,21],[203,19,209,21],[205,18,206,18],[207,14,208,17],[207,18,209,18],[209,14,209,17],[211,18,213,18],[205,6,206,17],[207,6,207,10],[207,11,207,13],[208,6,208,10],[208,11,208,13],[203,6,204,17],[203,18,204,18],[190,13,190,16],[191,13,191,16],[192,13,192,16],[193,13,193,16],[194,13,194,16],[176,12,177,17],[184,13,185,16],[186,13,186,16],[184,10,185,12],[194,10,194,12],[180,6,180,17],[182,7,183,16],[187,7,187,9],[187,10,187,12],[187,13,187,16],[188,13,188,16],[192,10,192,12],[172,12,173,17],[172,18,173,18],[172,19,173,21],[177,0,177,2],[177,3,177,5],[177,6,177,8],[177,9,177,11],[178,0,178,5],[178,6,179,17],[179,0,179,2],[179,3,179,5],[176,18,177,18],[176,19,195,21],[178,18,179,18],[180,18,195,18],[176,0,176,5],[176,6,176,8],[176,9,176,11],[174,0,174,21],[175,0,175,17],[175,19,175,21],[180,0,185,5],[184,7,185,9],[189,13,189,16],[216,18,221,18],[216,19,233,21],[222,18,227,18],[228,18,233,18],[218,7,218,10],[218,12,218,13],[220,7,220,10],[221,6,221,10],[222,6,222,7],[222,8,222,10],[222,11,222,13],[222,14,222,16],[231,12,231,13],[231,15,231,16],[232,7,232,10],[233,6,233,10],[218,15,218,16],[219,7,219,10],[219,12,219,13],[219,15,219,16],[224,7,224,10],[224,12,224,13],[224,15,224,16],[225,7,225,10],[117,6,117,13],[117,14,117,17],[118,6,119,17],[120,0,120,21],[118,0,119,5],[130,18,148,18],[130,19,148,21],[133,12,134,15],[135,7,137,10],[135,12,136,15],[137,12,138,15],[138,7,141,10],[139,12,144,15],[142,7,144,10],[121,0,121,17],[121,19,121,21],[122,0,122,17],[122,18,129,18],[122,19,129,21],[123,0,129,5],[123,6,123,17],[124,6,124,17],[125,7,125,11],[126,7,126,11],[165,12,169,17],[167,7,167,11],[168,7,168,11],[110,18,112,18],[110,19,119,21],[113,18,114,18],[115,18,117,18],[118,18,119,18],[104,18,105,18],[106,18,107,18],[169,7,169,11],[162,0,162,17],[163,0,166,5],[163,6,163,17],[163,18,171,18],[163,19,171,21],[164,6,164,17],[167,0,173,5],[165,7,165,11],[166,7,166,11],[170,7,170,13],[171,7,171,11],[172,6,173,10],[172,11,173,11],[98,18,101,18],[98,19,101,21],[99,11,99,13],[106,6,107,17],[84,18,97,18],[84,19,97,21],[86,6,86,8],[86,9,86,12],[87,15,87,17],[100,11,100,13],[101,11,101,13],[102,6,103,17],[102,18,103,18],[94,13,94,14],[94,15,94,17],[95,15,95,17],[96,13,96,14],[96,15,96,17],[99,6,99,10],[100,6,100,10],[102,19,109,21],[108,18,109,18],[89,13,89,14],[89,15,89,17],[91,13,91,14],[91,15,91,17],[92,13,92,14],[92,15,92,17],[97,13,97,14],[97,15,97,17],[98,11,98,13],[98,14,101,17],[93,15,93,17],[93,13,93,14],[110,0,112,5],[110,6,110,10],[111,6,111,10],[113,0,114,5],[115,0,117,5],[115,6,115,12],[116,6,116,12],[98,0,101,5],[98,6,98,10],[101,6,101,10],[102,0,103,5],[104,0,105,5],[106,0,107,5],[108,0,109,5],[104,6,105,17],[108,6,109,17],[110,11,110,13],[110,14,111,17],[111,11,111,13],[112,6,112,13],[112,14,112,17],[113,6,114,17],[115,13,115,15],[116,13,116,15],[90,6,90,8],[90,9,90,12],[78,6,78,8],[78,9,78,12],[80,0,83,5],[80,6,80,8],[80,9,80,12],[81,9,81,12],[84,0,90,5],[83,9,83,12],[96,6,96,8],[96,9,96,12],[91,0,91,5],[91,6,91,8],[91,9,91,12],[92,0,97,5],[92,9,92,12],[93,9,93,12],[94,9,94,12],[93,6,93,8],[94,6,94,8],[92,6,92,8],[97,6,97,8],[97,9,97,12],[74,19,83,21],[76,6,76,8],[76,9,76,12],[76,13,76,14],[76,15,76,17],[77,6,77,8],[77,9,77,12],[77,13,77,14],[77,15,77,17],[82,6,82,8],[82,9,82,12],[82,13,82,14],[82,15,82,17],[83,15,83,17],[78,13,78,14],[78,15,78,17],[80,13,80,14],[80,15,80,17],[81,13,81,14],[81,15,81,17],[83,13,83,14],[74,18,83,18],[81,6,81,8],[83,6,83,8],[150,0,161,5],[159,6,160,6],[159,7,160,10],[161,6,161,15],[89,6,89,8],[89,9,89,12],[90,13,90,14],[90,15,90,17],[95,9,95,12],[147,6,147,15],[148,0,148,17],[149,0,149,17],[128,7,128,11],[128,13,128,17],[131,0,147,5],[131,6,131,15],[131,17,147,17],[132,6,132,15],[133,7,134,10],[95,6,95,8],[127,7,127,11],[127,13,127,17],[129,6,129,17],[130,0,130,17],[84,15,85,17],[84,6,85,8],[86,13,86,14],[86,15,86,17],[87,9,87,12],[87,13,87,14],[88,6,88,8],[88,9,88,12],[84,13,85,14],[88,13,88,14],[88,15,88,17],[84,9,85,12],[87,6,87,8],[125,13,125,17],[126,13,126,17],[66,15,66,17],[66,13,66,14],[67,0,67,5],[67,6,67,8],[67,9,67,12],[67,13,67,14],[67,15,67,17],[68,0,73,5],[79,0,79,5],[79,6,79,8],[79,9,79,12],[79,13,79,14],[79,15,79,17],[72,6,72,8],[72,9,72,12],[74,0,78,5],[74,6,75,8],[74,9,75,12],[74,13,75,14],[74,15,75,17],[68,13,68,14],[73,6,73,8],[60,13,61,14],[60,15,61,17],[62,13,62,14],[62,15,62,17],[63,13,63,14],[63,15,63,17],[64,13,64,14],[64,15,64,17],[65,13,65,14],[65,15,65,17],[54,0,59,5],[54,6,54,9],[54,10,54,12],[55,6,55,9],[55,10,55,12],[45,19,53,21],[54,19,59,21],[58,13,59,17],[56,6,56,9],[56,10,56,12],[57,6,57,9],[57,10,57,12],[58,6,58,9],[58,10,58,12],[59,6,59,9],[59,10,59,12],[62,9,62,12],[63,9,63,12],[64,9,64,12],[65,9,65,12],[66,9,66,12],[60,0,66,5],[60,6,61,8],[62,6,62,8],[63,6,63,8],[64,6,64,8],[65,6,65,8],[66,6,66,8],[60,9,61,12],[21,10,21,13],[21,14,21,17],[27,9,27,11],[27,12,27,17],[52,6,52,17],[53,6,53,17],[45,6,45,17],[46,6,46,17],[47,6,47,17],[48,7,48,17],[49,7,49,17],[50,7,50,17],[51,7,51,17],[39,6,40,17],[22,6,22,9],[22,10,22,13],[25,0,25,21],[26,0,26,17],[26,19,26,21],[22,14,22,17],[23,6,23,9],[23,10,23,13],[23,14,23,17],[45,0,53,5],[17,0,17,21],[18,0,18,17],[19,0,24,5],[19,9,19,11],[19,12,19,17],[20,14,20,17],[24,6,24,17],[8,3,8,6],[8,7,8,9],[9,0,9,21],[8,0,8,2],[10,0,12,5],[10,10,11,10],[10,11,11,13],[10,14,11,17],[10,18,11,18],[10,19,11,21],[18,19,18,21],[19,18,24,18],[19,19,24,21],[20,6,20,9],[20,10,20,13],[19,6,19,8],[21,6,21,9],[10,6,10,9],[11,6,11,9],[12,6,12,21],[13,0,13,21],[14,0,14,17],[14,19,14,21],[15,0,16,5],[15,18,16,18],[15,19,16,21],[15,6,16,17],[6,0,6,2],[6,10,6,13],[7,14,7,18],[8,14,8,18],[8,19,8,21],[4,14,4,18],[4,19,4,21],[5,14,5,18],[5,19,5,21],[6,14,6,18],[6,19,6,21],[7,19,7,21],[6,3,6,6],[6,7,6,9],[7,0,7,2],[7,3,7,6],[7,7,7,9],[7,10,7,13],[8,10,8,13],[3,0,3,21],[4,0,4,2],[4,3,4,6],[4,7,4,9],[4,10,4,13],[5,0,5,2],[5,3,5,6],[5,7,5,9],[5,11,5,13],[0,0,0,3],[0,4,0,5],[0,6,0,8],[0,9,0,11],[0,12,0,14],[0,15,0,17],[0,19,0,21],[1,0,2,13],[1,14,2,17],[1,18,2,18],[1,19,2,21],[73,9,73,12],[73,13,73,14],[73,15,73,17],[68,6,68,8],[68,9,68,12],[69,6,69,8],[69,9,69,12],[69,13,69,14],[69,15,69,17],[70,6,70,8],[70,9,70,12],[70,13,70,14],[70,15,70,17],[71,6,71,8],[71,9,71,12],[71,13,71,14],[71,15,71,17],[68,15,68,17],[72,13,72,14],[72,15,72,17],[41,0,42,5],[41,6,42,17],[43,6,44,17],[27,18,29,18],[27,19,29,21],[30,18,32,18],[30,19,32,21],[35,18,38,18],[35,19,44,21],[39,18,40,18],[43,0,44,5],[27,6,27,8],[28,6,29,17],[30,6,30,17],[31,8,32,17],[408,8,408,10],[408,12,408,15],[409,8,409,10],[411,0,411,16],[412,0,412,21],[27,0,29,5],[30,0,32,5],[31,6,32,7],[35,0,36,5],[35,6,35,9],[33,0,33,21],[34,0,34,17],[34,19,34,21],[35,10,35,12],[35,13,35,17],[41,18,42,18],[43,18,44,18],[45,18,53,18],[54,18,59,18],[60,18,73,18],[60,19,73,21],[36,6,38,17],[37,0,38,5],[39,0,40,5],[397,6,397,16],[398,6,398,16],[399,6,399,16],[400,6,400,16],[401,6,401,16],[402,6,403,16],[404,6,404,16],[405,6,405,16],[406,6,406,16],[391,6,391,16],[392,11,392,12],[392,14,392,16],[393,6,393,16],[394,6,394,8],[394,9,394,16],[395,6,395,16],[396,11,396,12],[396,14,396,16],[385,6,385,16],[386,6,386,8],[386,9,386,16],[387,6,387,16],[388,11,388,12],[388,14,388,16],[389,6,389,16],[390,6,390,8],[390,9,390,16],[382,17,411,17],[406,19,411,21],[419,19,427,21],[430,19,433,21],[436,19,443,21],[372,19,380,21],[377,18,380,18],[382,19,397,21],[390,18,393,18],[394,18,397,18],[398,19,405,21],[400,18,401,18],[380,0,380,17],[381,0,381,17],[381,19,381,21],[382,9,382,16],[383,6,383,16],[384,8,384,9],[388,8,388,9],[392,8,392,9],[396,8,396,9],[382,6,382,8],[384,11,384,12],[384,14,384,16],[402,18,403,18],[404,18,405,18],[398,18,399,18],[406,18,411,18],[419,18,427,18],[432,18,433,18],[439,18,440,18],[441,18,443,18],[341,18,342,18],[343,18,344,18],[354,18,358,18],[360,18,361,18],[372,18,376,18],[428,0,428,21],[429,0,429,17],[429,19,429,21],[430,18,431,18],[430,6,431,17],[431,0,431,2],[431,3,431,5],[432,6,433,17],[434,0,434,21],[435,0,435,17],[435,19,435,21],[341,19,346,21],[345,18,346,18],[353,18,353,21],[354,19,358,21],[359,18,359,21],[360,19,370,21],[362,18,363,18],[382,18,385,18],[386,18,389,18],[371,19,371,21],[439,0,440,5],[441,0,443,5],[406,0,410,5],[414,0,418,5],[419,0,427,5],[430,0,430,5],[432,0,433,5],[436,0,437,5],[438,0,438,5],[359,0,359,5],[360,0,361,5],[362,0,363,5],[364,0,366,5],[372,0,379,5],[382,0,397,5],[398,0,401,5],[402,0,403,5],[404,0,405,5],[367,0,369,5],[353,6,353,16],[354,6,354,10],[354,13,354,16],[355,13,355,16],[356,13,356,16],[341,0,346,5],[347,0,347,5],[348,0,352,5],[353,0,353,5],[354,0,358,5],[334,18,335,18],[317,18,318,18],[317,19,322,21],[319,18,320,18],[321,18,322,18],[323,18,323,21],[324,19,325,21],[326,18,326,21],[327,19,332,21],[329,18,330,18],[331,18,332,18],[327,0,332,5],[327,6,328,6],[329,6,330,6],[329,7,330,16],[331,7,331,16],[332,6,332,16],[306,18,307,18],[306,19,315,21],[308,18,309,18],[309,6,310,6],[310,18,311,18],[314,18,315,18],[319,6,320,6],[319,7,320,16],[321,6,322,6],[321,7,322,16],[324,18,325,18],[327,18,328,18],[314,0,315,5],[314,6,315,16],[316,0,316,5],[316,6,316,16],[317,0,322,5],[317,6,318,6],[317,7,318,16],[323,0,323,5],[323,6,323,16],[364,6,364,12],[364,13,364,16],[365,6,366,16],[364,18,366,18],[367,18,370,18],[375,7,375,8],[375,10,375,11],[367,6,369,16],[370,0,370,17],[371,0,371,17],[359,6,359,16],[360,6,360,12],[360,13,360,16],[361,6,361,12],[361,13,361,16],[362,6,362,12],[362,13,362,16],[363,6,363,12],[363,13,363,16],[340,0,340,5],[340,6,340,16],[376,6,376,11],[376,12,379,16],[377,6,377,11],[378,7,378,8],[379,7,379,8],[372,17,379,17],[378,10,378,11],[379,10,379,11],[373,6,373,11],[374,7,374,8],[374,10,374,11],[372,6,372,11],[372,12,375,16],[340,18,340,21],[341,7,342,16],[343,7,344,16],[345,7,345,16],[346,6,346,16],[357,13,357,16],[358,13,358,16],[350,7,350,10],[351,7,351,10],[347,6,347,16],[347,18,347,21],[348,6,348,10],[348,11,352,16],[348,18,352,18],[348,19,352,21],[349,6,349,10],[352,6,352,10],[355,6,356,10],[357,6,357,10],[357,11,357,12],[358,6,358,10],[358,11,358,12],[341,6,342,6],[343,6,344,6],[282,14,282,16],[283,14,283,16],[336,7,337,16],[338,7,338,16],[333,0,333,5],[334,0,339,5],[334,6,335,6],[334,7,335,16],[334,19,339,21],[336,6,337,6],[336,18,337,18],[338,18,339,18],[339,6,339,16],[333,18,333,21],[333,6,333,16],[324,0,325,5],[324,6,325,16],[326,0,326,5],[326,6,326,16],[327,7,328,16],[309,7,310,16],[311,7,311,16],[305,6,305,16],[306,6,307,16],[257,9,257,12],[258,6,258,8],[292,7,293,16],[281,10,281,13],[282,10,282,13],[283,10,283,13],[289,18,303,18],[289,19,303,21],[300,12,302,12],[300,13,300,16],[302,13,302,15],[283,6,283,9],[284,6,284,9],[286,6,288,11],[264,18,288,18],[264,19,288,21],[255,17,298,17],[284,14,284,16],[272,14,272,16],[273,14,273,16],[279,14,279,16],[280,14,280,16],[281,14,281,16],[285,14,285,16],[279,6,279,9],[280,6,280,9],[281,6,281,9],[282,6,282,9],[285,6,285,9],[274,6,274,9],[274,10,274,13],[277,6,277,9],[278,6,278,9],[278,10,278,13],[284,10,284,13],[285,10,285,13],[279,10,279,13],[280,10,280,13],[276,10,276,13],[276,14,276,16],[277,10,277,13],[277,14,277,16],[262,6,262,8],[262,9,262,11],[262,12,262,16],[263,6,263,8],[263,9,263,12],[263,13,263,16],[265,7,265,10],[266,6,266,16],[267,6,268,16],[269,10,271,13],[275,6,275,9],[275,10,275,13],[269,6,271,9],[272,6,272,9],[272,10,272,13],[273,6,273,9],[273,10,273,13],[254,19,254,21],[255,0,263,5],[255,9,256,16],[255,18,263,18],[255,19,263,21],[258,9,258,13],[259,6,259,8],[239,19,253,21],[245,7,248,9],[259,9,259,11],[259,12,259,16],[260,6,260,8],[260,9,260,13],[260,14,260,16],[261,6,261,8],[261,9,261,15],[241,7,241,8],[241,11,241,16],[243,6,244,10],[243,11,243,16],[244,11,244,16],[245,11,245,16],[255,6,256,8],[257,6,257,8],[289,0,302,5],[306,0,307,5],[309,0,313,5],[301,13,301,15],[301,16,302,16],[303,0,303,17],[304,0,304,17],[304,18,305,18],[304,19,305,21],[305,0,305,5],[312,7,312,16],[312,18,313,18],[313,6,313,16],[294,6,295,6],[294,7,295,16],[296,6,297,6],[296,7,297,16],[298,6,298,16],[299,6,299,16],[300,6,302,11],[289,6,289,16],[290,6,290,16],[291,7,291,16],[292,6,293,6],[234,18,238,18],[234,19,238,21],[235,6,235,16],[236,7,236,10],[236,12,236,15],[239,11,239,16],[246,11,246,16],[239,18,253,18],[253,0,253,17],[240,7,240,8],[240,11,240,16],[240,9,242,10],[242,11,242,16],[247,11,247,16],[250,11,250,16],[251,6,252,10],[251,11,251,16],[252,11,252,16],[264,0,288,5],[237,7,237,10],[238,6,238,10],[239,0,252,5],[239,6,239,10],[286,12,288,12],[286,13,286,16],[287,13,287,15],[287,16,288,16],[288,13,288,15],[248,11,248,16],[249,11,249,16],[257,13,257,16],[258,14,258,16],[265,12,265,16],[269,14,271,16],[264,6,264,16],[234,0,238,5],[234,6,234,16],[254,0,254,16],[278,14,278,16],[274,14,274,16],[275,14,275,16],[276,6,276,9]]}
[{"$f":"'Caseload Files'!B2","v":"Teacher Caseload Review"},null,null,null,{"$f":"'Caseload Files'!D21","v":"File 11"},null,"Reviewer:",null,null,{"$f":"'Caseload Files'!F21","v":"Reviewer 11"},null,null,"Staff Reviewed:",null,null,{"$f":"'Caseload Files'!I21","v":"Staff 11"},null,null,"Score","Findings/Notes"]
[{"$f":"'Caseload Files'!B2","v":"Teacher Caseload Review"},null,null,null,null,null,null,null,null,null,null,null,null,null,null,null,null,null,"Rating","Record notes\nand/or findings."]
[]
[]
["Student Name:",null,null,{"$f":"'Caseload Files'!$L$21","v":"Student 11"},null,null,null,"Date of Birth:",null,null,{"$f":"'Caseload Files'!$R$21","v":"2011-11-11"},null,null,null,"Current IEP Meeting Date:"]
["SIMS Numer:",null,null,{"$f":"'Caseload Files'!$O$21","v":110123456},null,null,null,"Age/Grade:",null,null,{"$f":"INT(YEARFRAC(K5,TODAY()))","v":9},"/Sophomore",null,null,"Previous IEP Meeting Date:"]
["School District:",null,null,{"$f":"'Caseload Files'!B3","v":"District 00-0"},null,null,null,"Disability Code:",null,null,{"$f":"'Caseload Files'!$W$21","v":"DisCode 11"},null,null,null,"Current Eligibility Determination Date:"]
["School Name:",null,null,{"$f":"'Caseload Files'!E6","v":"School Name"},null,null,null,"Race/Ethnicity:",null,null,{"$f":"'Caseload Files'!T21","v":"Race 11"},null,null,null,"Previous Eligibility Determination Date:"]
["School Year:",null,null,{"$f":"'Caseload Files'!E7","v":"1998-1999"},null,null,null,"Type of Review:",null,null,{"$f":"'Caseload Files'!Z21","v":"Type 11"},null,null,null,"Date of Review:"]
[]
[{"$f":"HYPERLINK(\"http://sdlegislature.gov/Rules/DisplayRule.aspx?Rule=24:05\",\"Subsection Title and \nCorresponding ARSD Links \")","v":"Subsection Title and \nCorresponding ARSD Links "},null,null,null,null,null,"Yellow boxes are prompts",null,null,null,null,"Use checkboxes to help record findings.",null,null,"Voided space and/or clarifying information.",null,null,null,"\"N/A\" may be appropriate for certain sections.","Findings/Notes"]
[null,null,null,null,null,null,"for information."]
[]
[]
[{"$f":"HYPERLINK(\"https://gosynth.com/p/s/aboqwv\",\"Record of Access\")","v":"Record of Access"},null,null,null,null,null,null,null,null,null,null,null,null,null,null,null,null,null,{"$f":"IFERROR(Y17/X17,\"N/A\")","v":"N/A"},"Findings/Notes"]
[{"$f":"HYPERLINK(\"http://sdlegislature.gov/Rules/DisplayRule.aspx?Rule=24:05:29:15\",\"Record of Access\n(24:05:29:15)\")","v":"Record of Access\n(24:05:29:15)"},null,null,null,null,null,null,null,null,null,null,null,null,null,null,null,null,null,"Select","V16",null,null,null,null,{"$f":"S16","v":"Select"},{"$f":"S16","v":"Select"}]
[null,null,null,null,null,null,null,null,null,null,null,null,null,null,null,null,null,null,null,null,null,null,null,{"$f":"Y17+Z17","v":0},{"$f":"COUNTIF(Y16,\"Yes\")*3","v":0},{"$f":"COUNTIF(Z16,\"No\")*3","v":0}]
[]
[{"$f":"HYPERLINK(\"https://gosynth.com/p/s/grdmsy\",\"Referral\")","v":"Referral"},null,null,null,null,null,null,null,null,null,null,null,null,null,null,null,null,null,{"$f":"IFERROR(Y21/X21,\"N/A\")","v":"N/A"}]
[{"$f":"HYPERLINK(\"http://sdlegislature.gov/Rules/DisplayRule.aspx?Rule=24:05:24:01\",\"Referral Document\n(initial only)\n(24:05:24:01)\")","v":"Referral Document\n(initial only)\n(24:05:24:01)"},null,null,null,null,null,"Date of referral:",null,null,null,null,null,"The top two spaces are available to type in.",null,null,null,null,null,"Select","V20",null,null,null,null,{"$f":"S20","v":"Select"},{"$f":"S20","v":"Select"}]
[null,null,null,null,null,null,"List all areas of referral:",null,null,null,null,null,null,null,null,null,null,null,null,null,null,null,null,{"$f":"Y21+Z21","v":0},{"$f":"COUNTIF(Y20,\"Yes\")*3","v":0},{"$f":"COUNTIF(Z20,\"No\")*3","v":0}]
[]
[]
[]
[null,null,null,null,null,null,"If referral can not be found and is older than three years, N/A is appropriate."]
[]
[{"$f":"HYPERLINK(\"https://gosynth.com/p/s/lihblf\",\"Initial Placement\")","v":"Initial Placement"},null,null,null,null,null,null,null,null,null,null,null,null,null,null,null,null,null,{"$f":"IFERROR(Y33/X33,\"N/A\")","v":"N/A"}]
[{"$f":"HYPERLINK(\"http://sdlegislature.gov/rules/DisplayRule.aspx?Rule=24:05:27:04.01\",\"Consent Signed for Initial Placement \ninto Special Education\n(24:05:27:04.01)\")","v":"Consent Signed for Initial Placement \ninto Special Education\n(24:05:27:04.01)"},null,null,null,null,null,"Date Signed:",null,null,null,null,null,null,null,null,null,null,null,"Select","V28",null,null,null,null,{"$f":"S28","v":"Select"},{"$f":"S28","v":"Select"}]
[null,null,null,null,null,null,"(The Consent Signed for Initial Placement into Special Education form is a separate document.  In the past, it may have been found at the end of the IEP.",null,null,null,null,null,null,null,null,null,null,null,null,null,null,null,null,{"$f":"Y29+Z29","v":0},{"$f":"COUNTIF(Y28,\"Yes\")*3","v":0},{"$f":"COUNTIF(Z28,\"No\")*3","v":0}]
[]
[{"$f":"HYPERLINK(\"https://sdlegislature.gov/Rules/DisplayRule.aspx?Rule=24:05:25:04.02\",\"Determination of Needed \nEvaluation Data\n(24:05:25:04.02)\")","v":"Determination of Needed \nEvaluation Data\n(24:05:25:04.02)"},null,null,null,null,null,"Did the team review existing data before completing the PPWN Consent?",null,null,null,null,null,null,null,null,null,null,null,"Select","V31",null,null,null,null,{"$f":"S31","v":"Select"},{"$f":"S31","v":"Select"}]
[null,null,null,null,null,null,"Select",null,"The existing data includes evaluations and information provided by the parents, current classroom-based local or state assessments, and observations by teachers and related services providers.",null,null,null,null,null,null,null,null,null,null,null,null,null,null,{"$f":"Y32+Z32","v":0},{"$f":"COUNTIF(Y31,\"Yes\")*3","v":0},{"$f":"COUNTIF(Z31,\"No\")*3","v":0}]
[null,null,null,null,null,null,null,null,null,null,null,null,null,null,null,null,null,null,null,null,null,null,null,{"$f":"(X32+X29)/2","v":0},{"$f":"(Y32+Y29)/2","v":0}]
[]
[{"$f":"HYPERLINK(\"https://gosynth.com/p/s/qxevgy\",\"Evaluation\")","v":"Evaluation"},null,null,null,null,null,null,null,null,null,null,null,null,null,null,null,null,null,{"$f":"IFERROR(Y38/X38,\"N/A\")","v":"N/A"},{"$f":"IFERROR(Y58/X58,\"N/A\")","v":"N/A"}]
[{"$f":"HYPERLINK(\"http://sdlegislature.gov/rules/DisplayRule.aspx?Rule=24:05:25:02.01\",\"Initial Evaluation \n(24:05:25:02.01)\")","v":"Initial Evaluation \n(24:05:25:02.01)"},null,null,null,null,null,"PPWN Consent was Sent:",null,null,null,null,null,null,"Use the most recent evaluation. ",null,null,null,null,"Select","V36",null,null,null,null,{"$f":"S36","v":"Select"},{"$f":"S36","v":"Select"}]
[null,null,null,null,null,null,{"$f":"HYPERLINK(\"https://gosynth.com/p/s/qxevgy\",\"Consent was acquired for initial evaluation. \n\nIf consent was not given by the parent for reevaluation, evidence of  attempts were made to elicit parent.\")","v":"Consent was acquired for initial evaluation. \n\nIf consent was not given by the parent for reevaluation, evidence of  attempts were made to elicit parent."},null,null,null,null,null,null,null,null,null,null,null,null,null,null,null,null,{"$f":"Y37+Z37","v":0},{"$f":"COUNTIF(Y36,\"Yes\")*3","v":0},{"$f":"COUNTIF(Z36,\"No\")*3","v":0}]
[{"$f":"HYPERLINK(\"http://sdlegislature.gov/Rules/DisplayRule.aspx?Rule=24:05:25:06.01\",\"Reevaluation\n(24:05:25:06.01)\")","v":"Reevaluation\n(24:05:25:06.01)"},null,null,null,null,null,null,null,null,null,null,null,null,null,null,null,null,null,null,null,null,null,null,{"$f":"(X37+X41+X43+X45+X47+X56+X62+X76+X86+X100+X104+X106+X108+X110+X112+X115+X117+X120)/18","v":0},{"$f":"(Y37+Y41+Y43+Y45+Y47+Y56+Y62+Y76+Y86+Y100+Y104+Y106+Y108+Y110+Y112+Y115+Y117+Y120)/18","v":0}]
[]
[{"$f":"HYPERLINK(\"http://sdlegislature.gov/Rules/DisplayRule.aspx?Rule=24:05:25:16\",\"Parent Input into Evalaution\n(24:05:25:16)\")","v":"Parent Input into Evalaution\n(24:05:25:16)"},null,null,null,null,null,{"$f":"HYPERLINK(\"https://gosynth.com/p/s/ycomsx\",\"Parent input must be documented in the PPWN Consent on input exiting data and \nupcoming evaluation.   (refer to phone logs, progress notes, prior notice)\")","v":"Parent input must be documented in the PPWN Consent on input exiting data and \nupcoming evaluation.   (refer to phone logs, progress notes, prior notice)"},null,null,null,null,null,null,null,null,null,null,null,"Select",null,null,null,null,null,{"$f":"S40","v":"Select"},{"$f":"S40","v":"Select"}]
[null,null,null,null,null,null,null,null,null,null,null,null,null,null,null,null,null,null,null,null,null,null,null,{"$f":"Y41+Z41","v":0},{"$f":"COUNTIF(Y40,\"Yes\")*3","v":0},{"$f":"COUNTIF(Z40,\"No\")*3","v":0}]
[{"$f":"HYPERLINK(\"http://sdlegislature.gov/Rules/DisplayRule.aspx?Rule=24:05:30:06.01\",\"Procedural Safeguards\n(24:05:30:06.01)\")","v":"Procedural Safeguards\n(24:05:30:06.01)"},null,null,null,null,null,{"$f":"HYPERLINK(\"https://gosynth.com/p/s/tdkmfj\",\"[INCLUDE LANGUAGE FOR THIS SECTION]\")","v":"[INCLUDE LANGUAGE FOR THIS SECTION]"},null,null,null,null,null,null,null,null,null,null,null,"Select",null,null,null,null,null,{"$f":"S42","v":"Select"},{"$f":"S42","v":"Select"}]
[null,null,null,null,null,null,null,null,null,null,null,null,null,null,null,null,null,null,null,null,null,null,null,{"$f":"Y43+Z43","v":0},{"$f":"COUNTIF(Y42,\"Yes\")*3","v":0},{"$f":"COUNTIF(Z42,\"No\")*3","v":0}]
[{"$f":"HYPERLINK(\"http://sdlegislature.gov/Rules/DisplayRule.aspx?Rule=24:05:25:03\",\"Extension on 25 Day Timeline\n(24:05:25:03)\")","v":"Extension on 25 Day Timeline\n(24:05:25:03)"},null,null,null,null,null,{"$f":"HYPERLINK(\"https://gosynth.com/p/s/wcheia\",\"Documented agreement with parent and district on new extension date.  \nEligibility and IEP developed 30 days after the agreed extension date.\")","v":"Documented agreement with parent and district on new extension date.  \nEligibility and IEP developed 30 days after the agreed extension date."},null,null,null,null,null,null,null,null,null,null,null,"Select",null,null,null,null,null,{"$f":"S44","v":"Select"},{"$f":"S44","v":"Select"}]
[null,null,null,null,null,null,null,null,null,null,null,null,null,null,null,null,null,null,null,null,null,null,null,{"$f":"Y45+Z45","v":0},{"$f":"COUNTIF(Y44,\"Yes\")*3","v":0},{"$f":"COUNTIF(Z44,\"No\")*3","v":0}]
[{"$f":"HYPERLINK(\"http://sdlegislature.gov/Rules/DisplayRule.aspx?Rule=24:05:30:05\",\"Content of Prior Written Notice/\nConsent for Evaluation\n (24:05:30:05)\")","v":"Content of Prior Written Notice/\nConsent for Evaluation\n (24:05:30:05)"},null,null,null,null,null,{"$f":"HYPERLINK(\"https://gosynth.com/p/s/xymlpn\",\"Check the following:\")","v":"Check the following:"},null,null,null,null,null,null,null,null,null,null,null,"Select","V46",null,null,null,null,{"$f":"S46","v":"Select"},{"$f":"S46","v":"Select"}]
[null,null,null,null,null,null,"PPWN must be individualized to the student, IEP team discussions and situation.",null,null,null,null,null,null,null,null,null,null,null,null,null,null,null,null,{"$f":"Y47+Z47","v":0},{"$f":"COUNTIF(Y46,\"Yes\")*3","v":0},{"$f":"COUNTIF(Z46,\"No\")*3","v":0}]
[]
[null,null,null,null,null,null,null,"Explanation of why the district proposed or refused to take the action"]
[null,null,null,null,null,null,null,"Description of other options considered and why they were rejected "]
[null,null,null,null,null,null,null,"Description of evidence used for the proposed or refused action"]
[null,null,null,null,null,null,null,"Description of other factors that are relevant to proposal or refusal"]
[]
[null,null,null,null,null,null,"All components should be completed and have a clear description."]
[{"$f":"HYPERLINK(\"http://sdlegislature.gov/Rules/DisplayRule.aspx?Rule=24:05:30:05\",\"Timeline of Prior Written Notice/\nConsent for Evaluation\n(24:05:25:03)\")","v":"Timeline of Prior Written Notice/\nConsent for Evaluation\n(24:05:25:03)"},null,null,null,null,null,{"$f":"HYPERLINK(\"https://gosynth.com/p/s/xylthm\",\"Date sent:\")","v":"Date sent:"},null,null,null,"2020-01-18",null,null,null,null,null,null,null,"Select","V54",null,null,null,null,{"$f":"S55","v":"Select"},{"$f":"S55","v":"Select"}]
[null,null,null,null,null,null,"Date signed:",null,null,null,"2020-01-19",null,null,null,null,null,null,null,null,null,null,null,null,{"$f":"Y56+Z56","v":0},{"$f":"COUNTIF(Y55,\"Yes\")*3","v":0},{"$f":"COUNTIF(Z55,\"No\")*3","v":0}]
[null,null,null,null,null,null,"Date received:",null,null,null,"2020-01-20"]
[null,null,null,null,null,null,"25 school days:",null,null,null,{"$f":"WORKDAY(K57,25)","v":"2020-02-24"}]
[null,null,null,null,null,null,"30 calendar days:"]
[null,null,null,null,null,null,"Extension on 25 day:"]
[{"$f":"HYPERLINK(\"http://sdlegislature.gov/Rules/DisplayRule.aspx?Rule=24:05:25:04.02\",\"Evaluations to be Completed by the District per Parental Prior Written/Consent for Evaluation\n(24:05:25:04.02)\")","v":"Evaluations to be Completed by the District per Parental Prior Written/Consent for Evaluation\n(24:05:25:04.02)"},null,null,null,null,null,{"$f":"HYPERLINK(\"https://gosynth.com/p/s/zgdeev\",\"List areas:\")","v":"List areas:"},null,null,"Test administered:",null,null,null,"Test date:",null,"Evaluator:",null,null,"Select","V60",null,null,null,null,{"$f":"S61","v":"Select"},{"$f":"S61","v":"Select"}]
[null,null,null,null,null,null,null,null,null,null,null,null,null,null,null,null,null,null,null,null,null,null,null,{"$f":"Y62+Z62","v":0},{"$f":"COUNTIF(Y61,\"Yes\")*3","v":0},{"$f":"COUNTIF(Z61,\"No\")*3","v":0}]
[]
[]
[]
[]
[]
["For more evaluations requested click the [+]"]
[]
[]
[]
[]
[]
[]
[{"$f":"HYPERLINK(\"http://sdlegislature.gov/Rules/DisplayRule.aspx?Rule=24:05:25:04.02\",\"Existing Evaluation Data\nto be Pulled Forward\n(24:05:25:04.02)\")","v":"Existing Evaluation Data\nto be Pulled Forward\n(24:05:25:04.02)"},null,null,null,null,null,{"$f":"HYPERLINK(\"https://gosynth.com/p/s/pfohnr\",\"List areas:\")","v":"List areas:"},null,null,"Test administered:",null,null,null,"Test date:",null,"Evaluator:",null,null,"Select","V74",null,null,null,null,{"$f":"S75","v":"Select"},{"$f":"S75","v":"Select"}]
[null,null,null,null,null,null,null,null,null,null,null,null,null,null,null,null,null,null,null,null,null,null,null,{"$f":"Y76+Z76","v":0},{"$f":"COUNTIF(Y75,\"Yes\")*3","v":0},{"$f":"COUNTIF(Z75,\"No\")*3","v":0}]
[]
[]
[]
["For more existing data requested click the [+]"]
[]
[]
[]
[]
[{"$f":"HYPERLINK(\"http://sdlegislature.gov/Rules/DisplayRule.aspx?Rule=24:05:25:04.02\",\"Skills Based Assessment and Report\n(24:05:25:04.02)\")","v":"Skills Based Assessment and Report\n(24:05:25:04.02)"},null,null,null,null,null,{"$f":"HYPERLINK(\"https://gosynth.com/p/s/tbqnts\",\"List areas:\")","v":"List areas:"},null,null,"Test administered:",null,null,null,"Test date:",null,"Evaluator:",null,null,"Select","V84",null,null,null,null,{"$f":"S85","v":"Select"},{"$f":"S85","v":"Select"}]
[null,null,null,null,null,null,null,null,null,null,null,null,null,null,null,null,null,null,null,null,null,null,null,{"$f":"Y86+Z86","v":0},{"$f":"COUNTIF(Y85,\"Yes\")*3","v":0},{"$f":"COUNTIF(Z85,\"No\")*3","v":0}]
[]
[null,null,null,null,null,null,null,null,null,null,null,null,null,null,null,null,null,null,null,null,null,null,null,{"$f":"(X86+X100+X104+X106+X108+X110+X112+X115+X117+X120)/10","v":0},{"$f":"(Y86+Y100+Y104+Y106+Y108+Y110+Y112+Y115+Y117+Y120)/10","v":0}]
[]
[]
[]
["For more skills based requested click the [+]"]
[]
[]
[]
[]
[]
[]
[{"$f":"HYPERLINK(\"http://sdlegislature.gov/Rules/DisplayRule.aspx?Rule=24:05:25:03\",\"Consent Received\n(24:05:25:03)\")","v":"Consent Received\n(24:05:25:03)"},null,null,null,null,null,{"$f":"HYPERLINK(\"https://gosynth.com/p/s/ctcnlr\",\"Consent received date:\")","v":"Consent received date:"},null,null,null,null,{"$f":"K57","v":"2020-01-20"},null,null,"Mark \"No\" if dates are outside of \"consent received\" and/or \"25 school days\".",null,null,null,"Select","V98",null,null,null,null,{"$f":"S99","v":"Select"},{"$f":"S99","v":"Select"}]
[null,null,null,null,null,null,"Earliest testing date:",null,null,null,null,{"$f":"MIN(N63:O74,N87:O98)","v":"00:00:00"},null,null,null,null,null,null,null,null,null,null,null,{"$f":"Y100+Z100","v":0},{"$f":"COUNTIF(Y99,\"Yes\")*3","v":0},{"$f":"COUNTIF(Z99,\"No\")*3","v":0}]
[null,null,null,null,null,null,"Latest testing date:",null,null,null,null,{"$f":"MAX(N63:O74,N87:O98)","v":"00:00:00"}]
[null,null,null,null,null,null,"Within 25 School Days:",null,null,null,null,{"$f":"IF(ISBLANK(K60),K58,K60)","v":"2020-02-24"}]
[{"$f":"HYPERLINK(\"http://sdlegislature.gov/Rules/DisplayRule.aspx?Rule=24:05:25:20\",\"All Evaluations Administered \n(24:05:25:20)\")","v":"All Evaluations Administered \n(24:05:25:20)"},null,null,null,null,null,{"$f":"HYPERLINK(\"https://gosynth.com/p/s/mkcdef\",\"All evaluations marked on the PWWN/Consent for Evaluation form must be administered.\")","v":"All evaluations marked on the PWWN/Consent for Evaluation form must be administered."},null,null,null,null,null,null,null,null,null,null,null,"Select","V102",null,null,null,null,{"$f":"S103","v":"Select"},{"$f":"S103","v":"Select"}]
[null,null,null,null,null,null,null,null,null,null,null,null,null,null,null,null,null,null,null,null,null,null,null,{"$f":"Y104+Z104","v":0},{"$f":"COUNTIF(Y103,\"Yes\")*3","v":0},{"$f":"COUNTIF(Z103,\"No\")*3","v":0}]
[{"$f":"HYPERLINK(\"http://sdlegislature.gov/Rules/DisplayRule.aspx?Rule=24:05:25:06.01\",\"Consent was Acquired\n(24:05:25:06.01)\")","v":"Consent was Acquired\n(24:05:25:06.01)"},null,null,null,null,null,{"$f":"HYPERLINK(\"https://gosynth.com/p/s/mkcdef\",\"All evaluations administered must be requested on the PWWN/Consent for Evaluation \nform.\")","v":"All evaluations administered must be requested on the PWWN/Consent for Evaluation \nform."},null,null,null,null,null,null,null,null,null,null,null,"Select",null,null,null,null,null,{"$f":"S105","v":"Select"},{"$f":"S105","v":"Select"}]
[null,null,null,null,null,null,null,null,null,null,null,null,null,null,null,null,null,null,null,null,null,null,null,{"$f":"Y106+Z106","v":0},{"$f":"COUNTIF(Y105,\"Yes\")*3","v":0},{"$f":"COUNTIF(Z105,\"No\")*3","v":0}]
[{"$f":"HYPERLINK(\"http://sdlegislature.gov/Rules/DisplayRule.aspx?Rule=24:05:25:04\",\"Variety of Sources \n(24:05:25:04)\")","v":"Variety of Sources \n(24:05:25:04)"},null,null,null,null,null,{"$f":"HYPERLINK(\"https://gosynth.com/p/s/mkcdef\",\"Appropritate means to provide evaluations for accurate data were used. \")","v":"Appropritate means to provide evaluations for accurate data were used. "},null,null,null,null,null,null,null,null,null,null,null,"Select",null,null,null,null,null,{"$f":"S107","v":"Select"},{"$f":"S107","v":"Select"}]
[null,null,null,null,null,null,null,null,null,null,null,null,null,null,null,null,null,null,null,null,null,null,null,{"$f":"Y108+Z108","v":0},{"$f":"COUNTIF(Y107,\"Yes\")*3","v":0},{"$f":"COUNTIF(Z107,\"No\")*3","v":0}]
[{"$f":"HYPERLINK(\"http://sdlegislature.gov/Rules/DisplayRule.aspx?Rule=24:05:25:04\",\"Met Requirements for the Disability\n(24:05:25:04) \")","v":"Met Requirements for the Disability\n(24:05:25:04) "},null,null,null,null,null,{"$f":"HYPERLINK(\"https://gosynth.com/p/s/mkcdef\",\"Comprehensive Evaluations in all areas required for the disability. \")","v":"Comprehensive Evaluations in all areas required for the disability. "},null,null,null,null,null,null,null,null,null,null,null,"Select",null,null,null,null,null,{"$f":"S109","v":"Select"},{"$f":"S109","v":"Select"}]
[null,null,null,null,null,null,null,null,null,null,null,null,null,null,null,null,null,null,null,null,null,null,null,{"$f":"Y110+Z110","v":0},{"$f":"COUNTIF(Y109,\"Yes\")*3","v":0},{"$f":"COUNTIF(Z109,\"No\")*3","v":0}]
[{"$f":"HYPERLINK(\"http://sdlegislature.gov/Rules/DisplayRule.aspx?Rule=24:05:25:03\",\"Eligibility within 30 Calendar Days \n(24:05:25:03)\")","v":"Eligibility within 30 Calendar Days \n(24:05:25:03)"},null,null,null,null,null,{"$f":"HYPERLINK(\"https://gosynth.com/p/s/mkcdef\",\"Day 26 was on:\")","v":"Day 26 was on:"},null,null,null,null,{"$f":"WORKDAY(L102,1)","v":"2020-02-25"},null,null,null,null,null,null,"Select","V110",null,null,null,null,{"$f":"S111","v":"Select"},{"$f":"S111","v":"Select"}]
[null,null,null,null,null,null,"Eligibility Determination Date:",null,null,null,null,{"$f":"T7","v":"00:00:00"},null,null,null,null,null,null,null,null,null,null,null,{"$f":"Y112+Z112","v":0},{"$f":"COUNTIF(Y111,\"Yes\")*3","v":0},{"$f":"COUNTIF(Z111,\"No\")*3","v":0}]
[null,null,null,null,null,null,"Eligibility meeting date should have been by:",null,null,null,null,null,null,null,{"$f":"K59","v":"00:00:00"}]
[{"$f":"HYPERLINK(\"http://sdlegislature.gov/Rules/DisplayRule.aspx?Rule=24:05:25:04.03\",\"Student Eligible for Special Education \n(24:05:25:04.03)\")","v":"Student Eligible for Special Education \n(24:05:25:04.03)"},null,null,null,null,null,null,null,null,null,null,null,null,null,null,null,null,null,"Select",null,null,null,null,null,{"$f":"S114","v":"Select"},{"$f":"S114","v":"Select"}]
[null,null,null,null,null,null,null,null,null,null,null,null,null,null,null,null,null,null,null,null,null,null,null,{"$f":"Y115+Z115","v":0},{"$f":"COUNTIF(Y114,\"Yes\")*3","v":0},{"$f":"COUNTIF(Z114,\"No\")*3","v":0}]
[{"$f":"HYPERLINK(\"http://sdlegislature.gov/Rules/DisplayRule.aspx?Rule=24:05:25:06\",\"Three Year Re-Evaluation\n(24:05:25:06)\")","v":"Three Year Re-Evaluation\n(24:05:25:06)"},null,null,null,null,null,{"$f":"HYPERLINK(\"https://gosynth.com/p/s/mkcdef\",\"Current Eligibility Determination Date:\")","v":"Current Eligibility Determination Date:"},null,null,null,null,null,null,{"$f":"L112","v":"00:00:00"},null,null,null,null,"Select",null,null,null,null,null,{"$f":"S116","v":"Select"},{"$f":"S116","v":"Select"}]
[null,null,null,null,null,null,"Previous Eligibility Determination Date:",null,null,null,null,null,null,{"$f":"T8","v":"00:00:00"},null,null,null,null,null,null,null,null,null,{"$f":"Y117+Z117","v":0},{"$f":"COUNTIF(Y116,\"Yes\")*3","v":0},{"$f":"COUNTIF(Z116,\"No\")*3","v":0}]
[]
[{"$f":"HYPERLINK(\"https://gosynth.com/p/s/mkcdef\",\"Evaluated to Dismiss from Services  \")","v":"Evaluated to Dismiss from Services  "},null,null,null,null,null,null,null,null,null,null,null,null,null,null,null,null,null,"Select",null,null,null,null,null,{"$f":"S119","v":"Select"},{"$f":"S119","v":"Select"}]
[null,null,null,null,null,null,null,null,null,null,null,null,null,null,null,null,null,null,null,null,null,null,null,{"$f":"Y120+Z120","v":0},{"$f":"COUNTIF(Y119,\"Yes\")*3","v":0},{"$f":"COUNTIF(Z119,\"No\")*3","v":0}]
[]
[{"$f":"HYPERLINK(\"https://gosynth.com/p/s/giwoma\",\"Eligibility Document for Specific Learning Disability\")","v":"Eligibility Document for Specific Learning Disability"},null,null,null,null,null,null,null,null,null,null,null,null,null,null,null,null,null,{"$f":"IFERROR(Y126/X126,\"N/A\")","v":"N/A"}]
["If student is not eligible for Specific Learning Disability, skip this section.  Click on the [+] button if section is not visible. ",null,null,null,null,null,null,null,null,null,null,null,null,null,null,null,null,null,"Select","V122",null,null,null,null,{"$f":"S123","v":"Select"},{"$f":"S123","v":"Select"}]
[{"$f":"HYPERLINK(\"http://sdlegislature.gov/Rules/DisplayRule.aspx?Rule=24:05:24.01:19\",\"Specific Learning Disabilities\n(24:05:24.01:19)\")","v":"Specific Learning Disabilities\n(24:05:24.01:19)"},null,null,null,null,null,"Check the following:",null,null,null,null,null,null,null,null,null,null,null,null,null,null,null,null,{"$f":"Y124+Z124","v":0},{"$f":"COUNTIF(Y123,\"Yes\")*3","v":0},{"$f":"COUNTIF(Z123,\"No\")*3","v":0}]
[]
[null,null,null,null,null,null,null,"Reading Comprehension",null,null,null,null,null,"Math Calculation",null,null,null,null,null,null,null,null,null,{"$f":"(X124+X132+X151+X165+X174)/5","v":0},{"$f":"(Y124+Y132+Y151+Y165+Y174)/5","v":0}]
[null,null,null,null,null,null,null,"Basic Reading Skills",null,null,null,null,null,"Math Problem Solving"]
[null,null,null,null,null,null,null,"Reading Fluency",null,null,null,null,null,"Listening Comprehension"]
[null,null,null,null,null,null,null,"Written Expression",null,null,null,null,null,"Oral Expression"]
[]
["For Initial Determination of Eligibility Only",null,null,null,null,null,null,null,null,null,null,null,null,null,null,null,null,null,"Select","V130",null,null,null,null,{"$f":"S131","v":"Select"},{"$f":"S131","v":"Select"}]
[{"$f":"HYPERLINK(\"http://sdlegislature.gov/Rules/DisplayRule.aspx?Rule=24:05:24.01:19\",\"Initial Eligibility\n(24:05:24.01:19)\")","v":"Initial Eligibility\n(24:05:24.01:19)"},null,null,null,null,null,"Written report must include:",null,null,null,null,null,null,null,null,null,null,null,null,null,null,null,null,{"$f":"Y132+Z132","v":0},{"$f":"COUNTIF(Y131,\"Yes\")*3","v":0},{"$f":"COUNTIF(Z131,\"No\")*3","v":0}]
[]
[null,null,null,null,null,null,null,"Student achieves adequately",null,null,null,null,"Lack of appropriate instruction"]
[]
[null,null,null,null,null,null,null,"Student exhibits pattern of strengths & weaknesses",null,null,null,null,"Observation of the student"]
[]
[null,null,null,null,null,null,null,null,null,null,null,null,"Relevant medical findings (if any)"]
[null,null,null,null,null,null,null,"Student was provided appropriate instruction in regular education settings by qualified personnel"]
[null,null,null,null,null,null,null,null,null,null,null,null,"Achievement level problem is/is not primarily the result of another factor (e.g. emotional disturbance, cognitive impairment, etc.)"]
[]
[]
[null,null,null,null,null,null,null,"Repeated assessment of achievement reflecting student progress"]
[]
[]
[null,null,null,null,null,null,null,"Attendance record",null,null,null,null,"Adverse effect on educational performance"]
[]
[]
["Click on the [+] button to expand or the [-] button to collapse."]
["For Reevaluation of Eligibility Only",null,null,null,null,null,null,null,null,null,null,null,null,null,null,null,null,null,"Select","V149",null,null,null,null,{"$f":"S150","v":"Select"},{"$f":"S150","v":"Select"}]
[{"$f":"HYPERLINK(\"http://sdlegislature.gov/Rules/DisplayRule.aspx?Rule=24:05:24.01:19\",\"Reevaluation of Eligibility\n(24:05:24.01:19)\")","v":"Reevaluation of Eligibility\n(24:05:24.01:19)"},null,null,null,null,null,"Written report must include:",null,null,null,null,null,null,null,null,null,null,null,null,null,null,null,null,{"$f":"Y151+Z151","v":0},{"$f":"COUNTIF(Y150,\"Yes\")*3","v":0},{"$f":"COUNTIF(Z150,\"No\")*3","v":0}]
[]
[null,null,null,null,null,null,null,"Student achieves adequately",null,null,null,null,"Achievement level problem is/is not primarily the result of another factor (e.g. emotional disturbance, cognitive impairment, etc.)"]
[]
[null,null,null,null,null,null,null,"Student exhibits pattern of strengths & weaknesses"]
[]
[]
[null,null,null,null,null,null,null,"Observation of the student"]
[null,null,null,null,null,null,null,null,null,null,null,null,"Adverse effect on educational performance"]
[null,null,null,null,null,null,null,"Relevant medical findings (if any)"]
[]
[]
["Click on the [+] button to expand or the [-] button to collapse."]
[{"$f":"HYPERLINK(\"http://sdlegislature.gov/Rules/DisplayRule.aspx?Rule=24:05:25:08\",\"Team Member Signatures \n(24:05:25:08)\")","v":"Team Member Signatures \n(24:05:25:08)"},null,null,null,null,null,"Check the following:",null,null,null,null,null,null,null,null,null,null,null,"Select","V163",null,null,null,null,{"$f":"S164","v":"Select"},{"$f":"S164","v":"Select"}]
[null,null,null,null,null,null,null,null,null,null,null,null,null,null,null,null,null,null,null,null,null,null,null,{"$f":"Y165+Z165","v":0},{"$f":"COUNTIF(Y164,\"Yes\")*3","v":0},{"$f":"COUNTIF(Z164,\"No\")*3","v":0}]
[null,null,null,null,null,null,null,"Parent",null,null,null,null,"Each group member shall certify in writing whether the report reflects the group member's conclusion. If it does not reflect the group member's conclusion, the group member must submit the conclusion in a separate statement."]
[null,null,null,null,null,null,null,"General Education Teacher"]
[{"$f":"HYPERLINK(\"http://sdlegislature.gov/Rules/DisplayRule.aspx?Rule=24:05:25:13\",\"Group Members to Certify \nReport in Writing \n(24:05:25:13)\")","v":"Group Members to Certify \nReport in Writing \n(24:05:25:13)"},null,null,null,null,null,null,"Special Education Teacher"]
[null,null,null,null,null,null,null,"Qualified interpreter of results"]
[null,null,null,null,null,null,null,"LEA Representative"]
[null,null,null,null,null,null,null,"If disagreed, written input was provided"]
[]
[null,null,null,null,null,null,"Check PWWN for eligibility decisions.                         ",null,null,null,null,"Skip to","PPWN.",null,null,null,null,null,"Select",null,null,null,null,null,{"$f":"S173","v":"Select"},{"$f":"S173","v":"Select"}]
[null,null,null,null,null,null,null,null,null,null,null,null,null,null,null,null,null,null,null,null,null,null,null,{"$f":"Y174+Z174","v":0},{"$f":"COUNTIF(Y173,\"Yes\")*3","v":0},{"$f":"COUNTIF(Z173,\"No\")*3","v":0}]
[]
[{"$f":"HYPERLINK(\"https://gosynth.com/p/s/mzphio\",\"Meeting Notice\")","v":"Meeting Notice"},null,null,null,null,null,null,null,null,null,null,null,null,null,null,null,null,null,{"$f":"IFERROR(Y184/X184,\"N/A\")","v":"N/A"}]
["Meeting Notice",null,null,null,null,null,"Date sent:",null,null,null,null,null,"From this point on use the current IEP's documentation.",null,null,null,null,null,"Select","V174",null,null,null,null,{"$f":"S177","v":"Select"},{"$f":"S177","v":"Select"}]
[{"$f":"HYPERLINK(\"http://sdlegislature.gov/Rules/DisplayRule.aspx?Rule=24:05:30:02.01\",\"(24:05:30:02.01)\")","v":"(24:05:30:02.01)"},null,null,{"$f":"HYPERLINK(\"http://sdlegislature.gov/Rules/DisplayRule.aspx?Rule=24:05:25:16\",\"(24:05:25:16)\")","v":"(24:05:25:16)"},null,null,"Meeting date:",null,null,{"$f":"T5","v":"00:00:00"},null,null,null,null,null,null,null,null,null,null,null,null,null,{"$f":"Y178+Z178","v":0},{"$f":"COUNTIF(Y177,\"Yes\")*3","v":0},{"$f":"COUNTIF(Z177,\"No\")*3","v":0}]
["Procedural Safeguards",null,null,null,null,null,"Must be given to parents annually.",null,null,null,null,null,null,null,null,null,null,null,"Select",null,null,null,null,null,{"$f":"S179","v":"Select"},{"$f":"S179","v":"Select"}]
[{"$f":"HYPERLINK(\"http://sdlegislature.gov/Rules/DisplayRule.aspx?Rule=24:05:30:06.01\",\"(24:05:30:06.01)\")","v":"(24:05:30:06.01)"},null,null,{"$f":"HYPERLINK(\"http://sdlegislature.gov/Rules/DisplayRule.aspx?Rule=24:05:30:06.02\",\"(24:05:30:06.02)\")","v":"(24:05:30:06.02)"},null,null,null,null,null,null,null,null,null,null,null,null,null,null,null,null,null,null,null,{"$f":"Y180+Z180","v":0},{"$f":"COUNTIF(Y179,\"Yes\")*3","v":0},{"$f":"COUNTIF(Z179,\"No\")*3","v":0}]
["IEP Team",null,null,null,null,null,"Complete the following:",null,null,null,null,null,null,null,null,null,null,null,"Select",null,null,null,null,null,{"$f":"S181","v":"Select"},{"$f":"S181","v":"Select"}]
[null,null,null,null,null,null,null,null,null,null,null,null,null,null,null,null,null,null,null,null,null,null,null,{"$f":"Y182+Z182","v":0},{"$f":"COUNTIF(Y181,\"Yes\")*3","v":0},{"$f":"COUNTIF(Z181,\"No\")*3","v":0}]
[null,null,null,null,null,null,null,"The documentation of people attending the IEP meeting on front page of the IEP does not imply agreement, it is for participation purposes only."]
[null,null,null,null,null,null,null,null,null,null,null,null,null,null,null,null,null,null,null,null,null,null,null,{"$f":"(X178+X180+X182+X198)/4","v":0},{"$f":"(Y178+Y180+Y182+Y198)/4","v":0}]
[null,null,null,null,null,null,null,"Identified on the meeting notice:",null,null,"Attended the meeting:",null,null,"Did not attend\nthe meeting:"]
[]
[{"$f":"HYPERLINK(\"http://sdlegislature.gov/Rules/DisplayRule.aspx?Rule=24:05:25:16\",\"(24:05:25:16)\")","v":"(24:05:25:16)"},null,null,null,null,null,null,"Parent/Guardian"]
[null,null,null,null,null,null,null,"Student"]
[null,null,null,null,null,null,null,"Gen. Ed. Teacher"]
[null,null,null,null,null,null,null,"Sp. Ed. Teacher"]
["Parent Participation",null,null,null,null,null,null,"Eval Interpreter"]
[{"$f":"HYPERLINK(\"http://sdlegislature.gov/Rules/DisplayRule.aspx?Rule=24:05:25:16\",\"(24:05:25:16)\")","v":"(24:05:25:16)"},null,null,null,null,null,null,"LEA Representative"]
[null,null,null,null,null,null,null,"List Others"]
[null,null,null,null,null,null,null,"List Others"]
[null,null,null,null,null,null,null,"List Others"]
[]
["IEP Team Attendance \n (24:05:27:01.05)",null,null,null,null,null,"A member of the IEP team may be excused from attending, in whole or in part, an IEP team meeting that involves a modification to or discussion of the member's area of the curriculum or related services, if:\n   (1) The parent and school district consent in writing to the excusal; and\n   (2) The member submits, in writing to the parent and the IEP team, input into the development of the IEP before the meeting.",null,null,null,null,null,null,null,null,null,null,null,"Select","V194",null,null,null,null,{"$f":"S197","v":"Select"},{"$f":"S197","v":"Select"}]
[null,null,null,null,null,null,null,null,null,null,null,null,null,null,null,null,null,null,null,null,null,null,null,{"$f":"Y198+Z198","v":0},{"$f":"COUNTIF(Y197,\"Yes\")*3","v":0},{"$f":"COUNTIF(Z197,\"No\")*3","v":0}]
[]
[]
[]
[]
[{"$f":"HYPERLINK(\"https://gosynth.com/p/s/jshfqs\",\"          Individual Education Plan (Use the most recent IEP.)\n\")","v":"          Individual Education Plan (Use the most recent IEP.)\n"},null,null,null,null,null,null,null,null,null,null,null,null,null,null,null,null,null,{"$f":"IFERROR(Y210/X210,\"N/A\")","v":"N/A"}]
[{"$f":"HYPERLINK(\"http://sdlegislature.gov/Rules/DisplayRule.aspx?Rule=24:05:25:04.03\",\"Evaluation Reports Given to Parents \n(24:05:25:04.03)\")","v":"Evaluation Reports Given to Parents \n(24:05:25:04.03)"},null,null,null,null,null,"Evidence the parent received a copy of the reports (e.g.  initials on the front page IEP or other evidence). ",null,null,null,null,null,null,null,null,null,null,null,"Select","V201",null,null,null,null,{"$f":"S204","v":"Select"},{"$f":"S204","v":"Select"}]
[null,null,null,null,null,null,null,null,null,null,null,null,null,null,null,null,null,null,null,null,null,null,null,{"$f":"Y205+Z205","v":0},{"$f":"COUNTIF(Y204,\"Yes\")*3","v":0},{"$f":"COUNTIF(Z204,\"No\")*3","v":0}]
[{"$f":"HYPERLINK(\"http://sdlegislature.gov/Rules/DisplayRule.aspx?Rule=24:05:25:19\",\"Copy of IEP Given to Parents \n(24:05:25:19)\")","v":"Copy of IEP Given to Parents \n(24:05:25:19)"},null,null,null,null,null,"Evidence copy of the IEP was given to parents (e.g.  initials on the front page, addressed in PPWN, or other evidence).",null,null,null,null,null,null,null,null,null,null,null,"Select",null,null,null,null,null,{"$f":"S206","v":"Select"},{"$f":"S206","v":"Select"}]
[null,null,null,null,null,null,null,null,null,null,null,null,null,null,null,null,null,null,null,null,null,null,null,{"$f":"Y207+Z207","v":0},{"$f":"COUNTIF(Y206,\"Yes\")*3","v":0},{"$f":"COUNTIF(Z206,\"No\")*3","v":0}]
[{"$f":"HYPERLINK(\"http://sdlegislature.gov/Rules/DisplayRule.aspx?Rule=24:05:27:08\",\"Met Annually\n(24:05:27:08)\")","v":"Met Annually\n(24:05:27:08)"},null,null,null,null,null,"Current IEP Meeting Date:",null,null,null,null,{"$f":"T5","v":"00:00:00"},null,null,null,null,null,null,"Select",null,null,null,null,null,{"$f":"S208","v":"Select"},{"$f":"S208","v":"Select"}]
[null,null,null,null,null,null,"Previous IEP Meeting Date:",null,null,null,null,{"$f":"T6","v":"00:00:00"},null,null,null,null,null,null,null,null,null,null,null,{"$f":"Y209+Z209","v":0},{"$f":"COUNTIF(Y208,\"Yes\")*3","v":0},{"$f":"COUNTIF(Z208,\"No\")*3","v":0}]
[null,null,null,null,null,null,null,null,null,null,null,null,null,null,null,null,null,null,null,null,null,null,null,{"$f":"(X205+X207+X209)/3","v":0},{"$f":"(Y205+Y207+Y209)/3","v":0}]
[{"$f":"HYPERLINK(\"https://gosynth.com/p/s/eypdgf\",\"Present Levels of Academic Achievement & Functional Performance\")","v":"Present Levels of Academic Achievement & Functional Performance"},null,null,null,null,null,null,null,null,null,null,null,null,null,null,null,null,null,{"$f":"IFERROR(Y243/X243,\"N/A\")","v":"N/A"}]
[{"$f":"HYPERLINK(\"http://sdlegislature.gov/Rules/DisplayRule.aspx?Rule=24:05:27:01.03\",\"Progress/Involvement in \nGeneral Education Curriculum\n(24:05:27:01.03)\")","v":"Progress/Involvement in \nGeneral Education Curriculum\n(24:05:27:01.03)"},null,null,null,null,null,"A statement of the student's present levels of academic achievement and functional performance, including:\n   (a)  How the student's disability affects the student's involvement and progress in the general education curriculum (i.e., the same curriculum as for nondisabled students); or\n   (b)  For preschool student, as appropriate, how the disability affects the student's participation in appropriate activities;\nis found in the document.",null,null,null,null,null,null,null,null,null,null,null,"Select","V209",null,null,null,null,{"$f":"S212","v":"Select"},{"$f":"S212","v":"Select"}]
[null,null,null,null,null,null,null,null,null,null,null,null,null,null,null,null,null,null,null,null,null,null,null,{"$f":"Y213+Z213","v":0},{"$f":"COUNTIF(Y212,\"Yes\")*3","v":0},{"$f":"COUNTIF(Z212,\"No\")*3","v":0}]
[]
[{"$f":"HYPERLINK(\"https://sdlegislature.gov/Rules/DisplayRule.aspx?Rule=24:05:25:16\",\"Parent Participation\n(24:05:25:16)\")","v":"Parent Participation\n(24:05:25:16)"},null,null,null,null,null,"The purpose of this area for parent to provide IEP team information about how the child’s disability is impacted at home. Parents can also provide input on types of strategies and supports they provide at home.",null,null,null,null,null,null,null,null,null,null,null,"Select",null,null,null,null,null,{"$f":"S215","v":"Select"},{"$f":"S215","v":"Select"}]
[null,null,null,null,null,null,null,null,null,null,null,null,null,null,null,null,null,null,null,null,null,null,null,{"$f":"Y216+Z216","v":0},{"$f":"COUNTIF(Y215,\"Yes\")*3","v":0},{"$f":"COUNTIF(Z215,\"No\")*3","v":0}]
[{"$f":"HYPERLINK(\"http://sdlegislature.gov/Rules/DisplayRule.aspx?Rule=24:05:27:01.03\",\"Present Levels of \nAcademic Achievement \n& Functional Performance\nLinked to Annual Goals\n(24:05:27:01.03)\")","v":"Present Levels of \nAcademic Achievement \n& Functional Performance\nLinked to Annual Goals\n(24:05:27:01.03)"},null,null,null,null,null,"Skill Area:",null,null,null,null,"Measuarable Goal:",null,null,null,null,null,null,"Select","V214",null,null,null,null,{"$f":"S217","v":"Select"},{"$f":"S217","v":"Select"}]
[null,null,null,null,null,null,null,null,null,null,null,null,null,null,null,null,null,null,null,null,null,null,null,{"$f":"Y218+Z218","v":0},{"$f":"COUNTIF(Y217,\"Yes\")*3","v":0},{"$f":"COUNTIF(Z217,\"No\")*3","v":0}]
[null,null,null,null,null,null,null,"Strengths",null,null,null,null,"Condition",null,null,"How well"]
[null,null,null,null,null,null,null,"Needs",null,null,null,null,"Performance",null,null,"How often"]
[null,null,null,null,null,null,null,"Link to evaluation"]
[]
[null,null,null,null,null,null,"Skill Area:",null,null,null,null,"Measuarable Goal:",null,null,null,null,null,null,"Select",null,null,null,null,null,{"$f":"S223","v":"Select"},{"$f":"S223","v":"Select"}]
[null,null,null,null,null,null,null,null,null,null,null,null,null,null,null,null,null,null,null,null,null,null,null,{"$f":"Y224+Z224","v":0},{"$f":"COUNTIF(Y223,\"Yes\")*3","v":0},{"$f":"COUNTIF(Z223,\"No\")*3","v":0}]
[null,null,null,null,null,null,null,"Strengths",null,null,null,null,"Condition",null,null,"How well"]
[null,null,null,null,null,null,null,"Needs",null,null,null,null,"Performance",null,null,"How often"]
[null,null,null,null,null,null,null,"Link to evaluation"]
[]
[null,null,null,null,null,null,"Skill Area:",null,null,null,null,"Measuarable Goal:",null,null,null,null,null,null,"Select",null,null,null,null,null,{"$f":"S229","v":"Select"},{"$f":"S229","v":"Select"}]
[null,null,null,null,null,null,null,null,null,null,null,null,null,null,null,null,null,null,null,null,null,null,null,{"$f":"Y230+Z230","v":0},{"$f":"COUNTIF(Y229,\"Yes\")*3","v":0},{"$f":"COUNTIF(Z229,\"No\")*3","v":0}]
[null,null,null,null,null,null,null,"Strengths",null,null,null,null,"Condition",null,null,"How well"]
[null,null,null,null,null,null,null,"Needs",null,null,null,null,"Performance",null,null,"How often"]
[null,null,null,null,null,null,null,"Link to evaluation"]
[]
[{"$f":"HYPERLINK(\"http://sdlegislature.gov/Rules/DisplayRule.aspx?Rule=24:05:27:01.03\",\"How Progress will be Measured\n(24:05:27:01.03)\")","v":"How Progress will be Measured\n(24:05:27:01.03)"},null,null,null,null,null,{"$f":"HYPERLINK(\"https://gosynth.com/p/s/psaxcx\",\"         Check the following:\")","v":"         Check the following:"},null,null,null,null,null,null,null,null,null,null,null,"Select","V232",null,null,null,null,{"$f":"S235","v":"Select"},{"$f":"S235","v":"Select"}]
[null,null,null,null,null,null,null,null,null,null,null,null,null,null,null,null,null,null,null,null,null,null,null,{"$f":"Y236+Z236","v":0},{"$f":"COUNTIF(Y235,\"Yes\")*3","v":0},{"$f":"COUNTIF(Z235,\"No\")*3","v":0}]
[null,null,null,null,null,null,null,"Reporting frequency",null,null,null,null,"Extent of progress"]
[null,null,null,null,null,null,null,"Reporting method"]
[]
[{"$f":"HYPERLINK(\"http://sdlegislature.gov/Rules/DisplayRule.aspx?Rule=24:05:27:01.03\",\"Accommodations/Modifications\n(24:05:27:01.03)\")","v":"Accommodations/Modifications\n(24:05:27:01.03)"},null,null,null,null,null,{"$f":"HYPERLINK(\"https://gosynth.com/p/s/rtpvrq\",\"         Check the following:\")","v":"         Check the following:"},null,null,null,null,"List Instructional Accommodations:",null,null,null,null,null,null,"Select","V237",null,null,null,null,{"$f":"S240","v":"Select"},{"$f":"S240","v":"Select"}]
[null,null,null,null,null,null,null,"Frequency",null,null,null,null,null,null,null,null,null,null,null,null,null,null,null,{"$f":"Y241+Z241","v":0},{"$f":"COUNTIF(Y240,\"Yes\")*3","v":0},{"$f":"COUNTIF(Z240,\"No\")*3","v":0}]
[null,null,null,null,null,null,null,"Duration"]
[null,null,null,null,null,null,null,"Location",null,null,null,null,null,null,null,null,null,null,null,null,null,null,null,{"$f":"(X241+X236+X230+X224+X218+X216+X213)/7","v":0},{"$f":"(Y241+Y236+Y230+Y224+Y218+Y216+Y213)/7","v":0}]
[]
[]
[null,null,null,null,null,null,null,"Are the accommodations appropriate for the skill areas affected by the diability?"]
[]
[]
[]
[null,null,null,null,null,null,null,null,"Yes"]
[null,null,null,null,null,null,null,null,"No"]
[]
[]
[]
[{"$f":"HYPERLINK(\"https://gosynth.com/p/s/ygpazf\",\"Special Factors\")","v":"Special Factors"},null,null,null,null,null,null,null,null,null,null,null,null,null,null,null,null,null,{"$f":"IFERROR(Y294/X294,\"N/A\")","v":"N/A"}]
[{"$f":"HYPERLINK(\"http://sdlegislature.gov/Rules/DisplayRule.aspx?Rule=24:05:27:01.02\",\"Considerations\n(24:05:27:01.02)\")","v":"Considerations\n(24:05:27:01.02)"},null,null,null,null,null,"Select for each:",null,null,"Determine if data supports the selection for each special factor; if not addressed, check \"N\"  for score.",null,null,null,null,null,null,null,null,"Select","V243",null,null,null,null,{"$f":"S256","v":"Select"},{"$f":"S256","v":"Select"}]
[null,null,null,null,null,null,null,null,null,null,null,null,null,null,null,null,null,null,null,null,null,null,null,{"$f":"Y257+Z257","v":0},{"$f":"COUNTIF(Y256,\"Yes\")*3","v":0},{"$f":"COUNTIF(Z256,\"No\")*3","v":0}]
[null,null,null,null,null,null,null,null,null,"Limited English proficient"]
[null,null,null,null,null,null,null,null,null,"Special communication needs"]
[null,null,null,null,null,null,null,null,null,"Requires Braille"]
[null,null,null,null,null,null,null,null,null,"Behavior impedes learning"]
[null,null,null,null,null,null,null,null,null,"Requires assistive technology & services"]
[null,null,null,null,null,null,null,null,null,"Physical education"]
[null,null,null,null,null,null,null,null,null,"Hearing aid maintenance"]
[{"$f":"HYPERLINK(\"http://sdlegislature.gov/Rules/DisplayRule.aspx?Rule=24:05:27:01.03\",\"State/District Assessments\n(24:05:27:01.03)\")","v":"State/District Assessments\n(24:05:27:01.03)"},null,null,null,null,null,{"$f":"HYPERLINK(\"https://gosynth.com/p/s/jdbbir\",\"             Students will be taking state and district-wide assessments:\")","v":"             Students will be taking state and district-wide assessments:"},null,null,null,null,null,null,null,null,null,null,null,"Select","V263",null,null,null,null,{"$f":"S265","v":"Select"},{"$f":"S265","v":"Select"}]
[null,null,null,null,null,null,null,"With accommodations",null,null,null,null,"Without accommodations",null,null,null,null,null,null,null,null,null,null,{"$f":"Y266+Z266","v":0},{"$f":"COUNTIF(Y265,\"Yes\")*3","v":0},{"$f":"COUNTIF(Z265,\"No\")*3","v":0}]
[null,null,null,null,null,null,"Testing accommodations must reflect instructional accommodations."]
[null,null,null,null,null,null,"Do the accommodations for the state/district assesment(s) \nmatch the instructional accommodations?"]
[]
[null,null,null,null,null,null,"Instructional \nAccommodations",null,null,null,"State/District\nAssessment\nAccommodations",null,null,null,"Select\nyes or no:"]
[]
[]
[null,null,null,null,null,null,{"$f":"L241","v":0},null,null,null,null,null,null,null,"- Select -"]
[null,null,null,null,null,null,0,null,null,null,null,null,null,null,"- Select -"]
[null,null,null,null,null,null,0,null,null,null,null,null,null,null,"- Select -"]
[null,null,null,null,null,null,0,null,null,null,null,null,null,null,"- Select -"]
[null,null,null,null,null,null,0]
[null,null,null,null,null,null,0,null,null,null,null,null,null,null,"- Select -"]
[null,null,null,null,null,null,0,null,null,null,null,null,null,null,"- Select -"]
[null,null,null,null,null,null,0]
[null,null,null,null,null,null,0]
[null,null,null,null,null,null,0,null,null,null,null,null,null,null,"- Select -"]
[null,null,null,null,null,null,0,null,null,null,null,null,null,null,"- Select -"]
[null,null,null,null,null,null,0,null,null,null,null,null,null,null,"- Select -"]
[null,null,null,null,null,null,0,null,null,null,null,null,null,null,"- Select -"]
[null,null,null,null,null,null,0,null,null,null,null,null,null,null,"- Select -"]
[null,null,null,null,null,null,"Were the accommodations for\n the state assessment identified \non the IEP provided according to \nthe assessment data sheet?"]
[null,null,null,null,null,null,null,null,null,null,null,null,null,"- Select -"]
[]
[{"$f":"HYPERLINK(\"http://sdlegislature.gov/Rules/DisplayRule.aspx?Rule=24:05:27:01.03\",\"Alternate Assessments\n(24:05:27:01.03)\")","v":"Alternate Assessments\n(24:05:27:01.03)"},null,null,null,null,null,{"$f":"HYPERLINK(\"https://gosynth.com/p/s/bjlejx\",\"                  The following must be met:\")","v":"                  The following must be met:"},null,null,null,null,null,null,null,null,null,null,null,"Select","V257",null,null,null,null,{"$f":"S290","v":"Select"},{"$f":"S290","v":"Select"}]
[null,null,null,null,null,null,null,null,null,null,null,null,null,null,null,null,null,null,null,null,null,null,null,{"$f":"Y291+Z291","v":0},{"$f":"COUNTIF(Y290,\"Yes\")*3","v":0},{"$f":"COUNTIF(Z290,\"No\")*3","v":0}]
[null,null,null,null,null,null,null,"Student meets the significant cognitive disability criteria"]
[null,null,null,null,null,null,null,"Explanation for why student cannot participate in the regular assessment"]
[null,null,null,null,null,null,null,null,null,null,null,null,null,null,null,null,null,null,null,null,null,null,null,{"$f":"(X291+X266+X257)/3","v":0},{"$f":"(Y291+Y266+Y257)/3","v":0}]
[null,null,null,null,null,null,null,"Explanation for why the alternate assessment selected is appropriate"]
[]
[null,null,null,null,null,null,null,"The alternate assessment is for students working in the alternate achievement standards.  Annual goals and short term objectives are required.                                                                         \n                                                                        "]
[]
[]
[null,null,null,null,null,null,"Does the PPWN explain why IEP team decided alternate assessment for the student?"]
[null,null,null,null,null,null,"Does the student taking the\n alternate assessment meet\n the criteria, has it been \ndocumented on the IEP?"]
[null,null,null,null,null,null,null,null,null,null,null,null,null,"- Select -"]
[]
[]
[{"$f":"HYPERLINK(\"https://gosynth.com/p/s/itwkve\",\"Transition\")","v":"Transition"},null,null,null,null,null,null,null,null,null,null,null,null,null,null,null,null,null,{"$f":"IFERROR(Y306/X306,\"N/A\")","v":"N/A"}]
["Indicator 13 Item 1",null,null,null,null,null,null,null,null,null,null,null,null,null,null,null,null,null,null,null,null,null,null,{"$f":"(X308+X310+X312+X314+X316+X319+X321+X323+X326+X329+X331+X333+X336+X338+X340+X343+X345+X347+X350+X356+X362+X364+X366+X369)/24","v":0},{"$f":"(Y308+Y310+Y312+Y314+Y316+Y319+Y321+Y323+Y326+Y329+Y331+Y333+Y336+Y338+Y340+Y343+Y345+Y347+Y350+Y356+Y362+Y364+Y366+Y369)/24","v":0}]
[{"$f":"HYPERLINK(\"http://sdlegislature.gov/Rules/DisplayRule.aspx?Rule=24:05:27:01.03\",\"Transition IEP*\n(24:05:27:01.03)\")","v":"Transition IEP*\n(24:05:27:01.03)"},null,null,null,null,null,{"$f":"HYPERLINK(\"https://gosynth.com/p/s/itwkve\",\"Transition IEP must be in effect for all students on their 16 birthday or for younger students if it is addressed in the IEP.   \n*This is not on the Indicator 13 checklist, but it is a compliance requirement. \")","v":"Transition IEP must be in effect for all students on their 16 birthday or for younger students if it is addressed in the IEP.   \n*This is not on the Indicator 13 checklist, but it is a compliance requirement. "},null,null,null,null,null,null,null,null,null,null,null,"Select","V269",null,null,null,null,{"$f":"S307","v":"Select"},{"$f":"S307","v":"Select"}]
[null,null,null,null,null,null,null,null,null,null,null,null,null,null,null,null,null,null,null,null,null,null,null,{"$f":"Y308+Z308","v":0},{"$f":"COUNTIF(Y307,\"Yes\")*3","v":0},{"$f":"COUNTIF(Z307,\"No\")*3","v":0}]
[null,null,null,null,null,null,null,null,null,null,null,null,null,null,null,null,null,null,"Select",null,null,null,null,null,{"$f":"S309","v":"Select"},{"$f":"S309","v":"Select"}]
[{"$f":"HYPERLINK(\"http://sdlegislature.gov/Rules/DisplayRule.aspx?Rule=24:05:27:01.03\",\"Transition Assessments\n(24:05:27:01.03)\")","v":"Transition Assessments\n(24:05:27:01.03)"},null,null,null,null,null,null,"Employment",null,null,null,null,null,null,null,null,null,null,null,null,null,null,null,{"$f":"Y310+Z310","v":0},{"$f":"COUNTIF(Y309,\"Yes\")*3","v":0},{"$f":"COUNTIF(Z309,\"No\")*3","v":0}]
[null,null,null,null,null,null,null,null,null,null,null,null,null,null,null,null,null,null,"Select",null,null,null,null,null,{"$f":"S311","v":"Select"},{"$f":"S311","v":"Select"}]
[null,null,null,null,null,null,null,"Education/Training",null,null,null,null,null,null,null,null,null,null,null,null,null,null,null,{"$f":"Y312+Z312","v":0},{"$f":"COUNTIF(Y311,\"Yes\")*3","v":0},{"$f":"COUNTIF(Z311,\"No\")*3","v":0}]
[null,null,null,null,null,null,null,"Independent Living",null,null,null,null,null,null,null,null,null,null,"Select",null,null,null,null,null,{"$f":"S313","v":"Select"},{"$f":"S313","v":"Select"}]
[null,null,null,null,null,null,{"$f":"HYPERLINK(\"https://gosynth.com/p/s/itwkve\",\"The transition assessment must be completed prior to the age of 16 and updated annually.  Evidence of transition strengths/ needs are document on the PLAAFPs.  \")","v":"The transition assessment must be completed prior to the age of 16 and updated annually.  Evidence of transition strengths/ needs are document on the PLAAFPs.  "},null,null,null,null,null,null,null,null,null,null,null,null,null,null,null,null,{"$f":"Y314+Z314","v":0},{"$f":"COUNTIF(Y313,\"Yes\")*3","v":0},{"$f":"COUNTIF(Z313,\"No\")*3","v":0}]
["Transition Evaluation Report*\n",null,null,null,null,null,{"$f":"HYPERLINK(\"https://gosynth.com/p/s/itwkve\",\"A transition evaluation report is located in the file.\n\n*This is not on the Indicator 13 checklist, but it is a compliance requirement. \")","v":"A transition evaluation report is located in the file.\n\n*This is not on the Indicator 13 checklist, but it is a compliance requirement. "},null,null,null,null,null,null,null,null,null,null,null,"Select",null,null,null,null,null,{"$f":"S315","v":"Select"},{"$f":"S315","v":"Select"}]
[null,null,null,null,null,null,null,null,null,null,null,null,null,null,null,null,null,null,null,null,null,null,null,{"$f":"Y316+Z316","v":0},{"$f":"COUNTIF(Y315,\"Yes\")*3","v":0},{"$f":"COUNTIF(Z315,\"No\")*3","v":0}]
[{"$f":"HYPERLINK(\"https://gosynth.com/p/s/itwkve\",\"Indicator 13 Item 2\")","v":"Indicator 13 Item 2"}]
[{"$f":"HYPERLINK(\"http://sdlegislature.gov/Rules/DisplayRule.aspx?Rule=24:05:27:01.03\",\"Age-Appropriate Measurable \nPost-Secondary Goals \n(24:05:27:01.03)\")","v":"Age-Appropriate Measurable \nPost-Secondary Goals \n(24:05:27:01.03)"},null,null,null,null,null,null,"Employment",null,null,null,null,null,null,null,null,null,null,"Select","V278",null,null,null,null,{"$f":"S318","v":"Select"},{"$f":"S318","v":"Select"}]
[null,null,null,null,null,null,null,null,null,null,null,null,null,null,null,null,null,null,null,null,null,null,null,{"$f":"Y319+Z319","v":0},{"$f":"COUNTIF(Y318,\"Yes\")*3","v":0},{"$f":"COUNTIF(Z318,\"No\")*3","v":0}]
[null,null,null,null,null,null,null,"Education/Training",null,null,null,null,null,null,null,null,null,null,"Select",null,null,null,null,null,{"$f":"S320","v":"Select"},{"$f":"S320","v":"Select"}]
[null,null,null,null,null,null,null,null,null,null,null,null,null,null,null,null,null,null,null,null,null,null,null,{"$f":"Y321+Z321","v":0},{"$f":"COUNTIF(Y320,\"Yes\")*3","v":0},{"$f":"COUNTIF(Z320,\"No\")*3","v":0}]
[null,null,null,null,null,null,null,"Independent Living",null,null,null,null,null,null,null,null,null,null,"Select",null,null,null,null,null,{"$f":"S322","v":"Select"},{"$f":"S322","v":"Select"}]
[null,null,null,null,null,null,null,null,null,null,null,null,null,null,null,null,null,null,null,null,null,null,null,{"$f":"Y323+Z323","v":0},{"$f":"COUNTIF(Y322,\"Yes\")*3","v":0},{"$f":"COUNTIF(Z322,\"No\")*3","v":0}]
[{"$f":"HYPERLINK(\"https://gosynth.com/p/s/itwkve\",\"Indicator 13 Item 3\")","v":"Indicator 13 Item 3"}]
["MPSGs Updated Annually",null,null,null,null,null,null,null,null,null,null,null,null,null,null,null,null,null,"Select","V282",null,null,null,null,{"$f":"S325","v":"Select"},{"$f":"S325","v":"Select"}]
[null,null,null,null,null,null,null,null,null,null,null,null,null,null,null,null,null,null,null,null,null,null,null,{"$f":"Y326+Z326","v":0},{"$f":"COUNTIF(Y325,\"Yes\")*3","v":0},{"$f":"COUNTIF(Z325,\"No\")*3","v":0}]
["Indicator 13 Item 4"]
[{"$f":"HYPERLINK(\"http://sdlegislature.gov/Rules/DisplayRule.aspx?Rule=24:05:27:01.03\",\"Course of Study Aligns to \nPost-Secondary Goals\n(24:05:27:01.03)\")","v":"Course of Study Aligns to \nPost-Secondary Goals\n(24:05:27:01.03)"},null,null,null,null,null,null,"Employment",null,null,null,null,null,null,null,null,null,null,"Select","V285",null,null,null,null,{"$f":"S328","v":"Select"},{"$f":"S328","v":"Select"}]
[null,null,null,null,null,null,null,null,null,null,null,null,null,null,null,null,null,null,null,null,null,null,null,{"$f":"Y329+Z329","v":0},{"$f":"COUNTIF(Y328,\"Yes\")*3","v":0},{"$f":"COUNTIF(Z328,\"No\")*3","v":0}]
[null,null,null,null,null,null,null,"Education/Training",null,null,null,null,null,null,null,null,null,null,"Select",null,null,null,null,null,{"$f":"S330","v":"Select"},{"$f":"S330","v":"Select"}]
[null,null,null,null,null,null,null,null,null,null,null,null,null,null,null,null,null,null,null,null,null,null,null,{"$f":"Y331+Z331","v":0},{"$f":"COUNTIF(Y330,\"Yes\")*3","v":0},{"$f":"COUNTIF(Z330,\"No\")*3","v":0}]
[null,null,null,null,null,null,null,"Independent Living",null,null,null,null,null,null,null,null,null,null,"Select",null,null,null,null,null,{"$f":"S332","v":"Select"},{"$f":"S332","v":"Select"}]
[null,null,null,null,null,null,"Completed by age 16, or younger if transition has been addressed in the IEP, and updated annually through graduation or ‘age out’.",null,null,null,null,null,null,null,null,null,null,null,null,null,null,null,null,{"$f":"Y333+Z333","v":0},{"$f":"COUNTIF(Y332,\"Yes\")*3","v":0},{"$f":"COUNTIF(Z332,\"No\")*3","v":0}]
[{"$f":"HYPERLINK(\"https://gosynth.com/p/s/itwkve\",\"Indicator 13 Item 5\")","v":"Indicator 13 Item 5"}]
[{"$f":"HYPERLINK(\"http://sdlegislature.gov/Rules/DisplayRule.aspx?Rule=24:05:27:13.02\",\"Transition Services/Activities\n(24:05:27:13.02)\")","v":"Transition Services/Activities\n(24:05:27:13.02)"},null,null,null,null,null,null,"Employment",null,null,null,null,null,null,null,null,null,null,"Select","V290",null,null,null,null,{"$f":"S335","v":"Select"},{"$f":"S335","v":"Select"}]
[null,null,null,null,null,null,null,null,null,null,null,null,null,null,null,null,null,null,null,null,null,null,null,{"$f":"Y336+Z336","v":0},{"$f":"COUNTIF(Y335,\"Yes\")*3","v":0},{"$f":"COUNTIF(Z335,\"No\")*3","v":0}]
[null,null,null,null,null,null,null,"Education/Training",null,null,null,null,null,null,null,null,null,null,"Select",null,null,null,null,null,{"$f":"S337","v":"Select"},{"$f":"S337","v":"Select"}]
[null,null,null,null,null,null,null,null,null,null,null,null,null,null,null,null,null,null,null,null,null,null,null,{"$f":"Y338+Z338","v":0},{"$f":"COUNTIF(Y337,\"Yes\")*3","v":0},{"$f":"COUNTIF(Z337,\"No\")*3","v":0}]
[null,null,null,null,null,null,null,"Independent Living",null,null,null,null,null,null,null,null,null,null,"Select",null,null,null,null,null,{"$f":"S339","v":"Select"},{"$f":"S339","v":"Select"}]
[null,null,null,null,null,null,"Services/activities will reasonably enable the student to meet post-secondary goals and have at least one activity per MPSG addressed.",null,null,null,null,null,null,null,null,null,null,null,null,null,null,null,null,{"$f":"Y340+Z340","v":0},{"$f":"COUNTIF(Y339,\"Yes\")*3","v":0},{"$f":"COUNTIF(Z339,\"No\")*3","v":0}]
[{"$f":"HYPERLINK(\"https://gosynth.com/p/s/itwkve\",\"Indicator 13 Item 6\")","v":"Indicator 13 Item 6"}]
[{"$f":"HYPERLINK(\"http://sdlegislature.gov/Rules/DisplayRule.aspx?Rule=24:05:27:13.02\",\"Annual Goal Related to Student’s Transition Service needs in\n(24:05:27:13.02)\")","v":"Annual Goal Related to Student’s Transition Service needs in\n(24:05:27:13.02)"},null,null,null,null,null,null,"Employment",null,null,null,null,null,null,null,null,null,null,"Select","V295",null,null,null,null,{"$f":"S342","v":"Select"},{"$f":"S342","v":"Select"}]
[null,null,null,null,null,null,null,null,null,null,null,null,null,null,null,null,null,null,null,null,null,null,null,{"$f":"Y343+Z343","v":0},{"$f":"COUNTIF(Y342,\"Yes\")*3","v":0},{"$f":"COUNTIF(Z342,\"No\")*3","v":0}]
[null,null,null,null,null,null,null,"Education/Training",null,null,null,null,null,null,null,null,null,null,"Select",null,null,null,null,null,{"$f":"S344","v":"Select"},{"$f":"S344","v":"Select"}]
[null,null,null,null,null,null,null,null,null,null,null,null,null,null,null,null,null,null,null,null,null,null,null,{"$f":"Y345+Z345","v":0},{"$f":"COUNTIF(Y344,\"Yes\")*3","v":0},{"$f":"COUNTIF(Z344,\"No\")*3","v":0}]
[null,null,null,null,null,null,null,"Independent Living",null,null,null,null,null,null,null,null,null,null,"Select",null,null,null,null,null,{"$f":"S346","v":"Select"},{"$f":"S346","v":"Select"}]
[null,null,null,null,null,null,{"$f":"HYPERLINK(\"https://gosynth.com/p/s/itwkve\",\"Annual goals are linked to the MPSGs.\")","v":"Annual goals are linked to the MPSGs."},null,null,null,null,null,null,null,null,null,null,null,null,null,null,null,null,{"$f":"Y347+Z347","v":0},{"$f":"COUNTIF(Y346,\"Yes\")*3","v":0},{"$f":"COUNTIF(Z346,\"No\")*3","v":0}]
[{"$f":"HYPERLINK(\"https://gosynth.com/p/s/pisllo\",\"Indicator 13 Item 7\")","v":"Indicator 13 Item 7"}]
[{"$f":"HYPERLINK(\"http://sdlegislature.gov/Rules/DisplayRule.aspx?Rule=24:05:25:16.01\",\"Student Invitation/Participation\n(24:05:25:16.01)\")","v":"Student Invitation/Participation\n(24:05:25:16.01)"},null,null,null,null,null,"How the student invited?",null,null,null,null,{"$f":"HYPERLINK(\"https://gosynth.com/p/s/pisllo\",\"If student was not in attendance at the meeting, the IEP should show evidence that student's preferences and interests were taken into account. *\")","v":"If student was not in attendance at the meeting, the IEP should show evidence that student's preferences and interests were taken into account. *"},null,null,null,null,null,null,"Select","V300",null,null,null,null,{"$f":"S349","v":"Select"},{"$f":"S349","v":"Select"}]
[null,null,null,null,null,null,null,null,null,null,null,null,null,null,null,null,null,null,null,null,null,null,null,{"$f":"Y350+Z350","v":0},{"$f":"COUNTIF(Y349,\"Yes\")*3","v":0},{"$f":"COUNTIF(Z349,\"No\")*3","v":0}]
[null,null,null,null,null,null,null,"Meeting notice"]
[null,null,null,null,null,null,null,"Individual student invite"]
[]
[{"$f":"HYPERLINK(\"https://gosynth.com/p/s/pisllo\",\"Indicator 13 Item 8\")","v":"Indicator 13 Item 8"}]
[{"$f":"HYPERLINK(\"http://sdlegislature.gov/Rules/DisplayRule.aspx?Rule=24:05:25:16.01\",\"Consent to Invite Outside Agency\n(24:05:25:16.01)\")","v":"Consent to Invite Outside Agency\n(24:05:25:16.01)"},null,null,null,null,null,{"$f":"HYPERLINK(\"https://gosynth.com/p/s/pisllo\",\" Written Consent to invite:\")","v":" Written Consent to invite:"},null,null,null,null,null,null,"List of agencies invited:",null,null,null,null,"Select","V306",null,null,null,null,{"$f":"S355","v":"Select"},{"$f":"S355","v":"Select"}]
[null,null,null,null,null,null,"Invited on Meeting Notice:",null,null,null,null,null,"Yes",null,null,null,null,null,null,null,null,null,null,{"$f":"Y356+Z356","v":0},{"$f":"COUNTIF(Y355,\"Yes\")*3","v":0},{"$f":"COUNTIF(Z355,\"No\")*3","v":0}]
[null,null,null,null,null,null,null,null,null,null,null,null,"No"]
[null,null,null,null,null,null,"Meeting Notice Date:",null,null,null,null,{"$f":"J177","v":"00:00:00"}]
[null,null,null,null,null,null,"Date of Current IEP Meeting:",null,null,null,null,{"$f":"T5","v":"00:00:00"}]
[{"$f":"HYPERLINK(\"https://gosynth.com/p/s/pisllo\",\"Other Transition Areas *\")","v":"Other Transition Areas *"}]
[{"$f":"HYPERLINK(\"http://sdlegislature.gov/Rules/DisplayRule.aspx?Rule=24:05:30:16.01\",\"Transfer of Parental Rights:\n(24:05:30:16.01)\")","v":"Transfer of Parental Rights:\n(24:05:30:16.01)"},null,null,null,null,null,"Turned 17 on:",null,null,null,null,null,null,null,null,null,null,null,"Select","V312",null,null,null,null,{"$f":"S361","v":"Select"},{"$f":"S361","v":"Select"}]
[null,null,null,null,null,null,"Rights reviewed on:",null,null,null,null,null,null,null,null,null,null,null,null,null,null,null,null,{"$f":"Y362+Z362","v":0},{"$f":"COUNTIF(Y361,\"Yes\")*3","v":0},{"$f":"COUNTIF(Z361,\"No\")*3","v":0}]
[{"$f":"HYPERLINK(\"http://sdlegislature.gov/Rules/DisplayRule.aspx?Rule=24:05:27:12\",\"Specific Graduation Requirements:\n(24:05:27:12)\")","v":"Specific Graduation Requirements:\n(24:05:27:12)"},null,null,null,null,null,"Graduation requirements addressed on:",null,null,null,null,null,null,null,null,null,null,null,"Select",null,null,null,null,null,{"$f":"S363","v":"Select"},{"$f":"S363","v":"Select"}]
[null,null,null,null,null,null,"Student is projected to graduate:",null,null,null,null,null,null,null,null,null,null,null,null,null,null,null,null,{"$f":"Y364+Z364","v":0},{"$f":"COUNTIF(Y363,\"Yes\")*3","v":0},{"$f":"COUNTIF(Z363,\"No\")*3","v":0}]
[{"$f":"HYPERLINK(\"http://sdlegislature.gov/Rules/DisplayRule.aspx?Rule=24:05:27:12\",\"When Student has Graduated\n(24:05:27:12)\")","v":"When Student has Graduated\n(24:05:27:12)"},null,null,null,null,null,"Written prior notice was sent:",null,null,null,null,null,null,null,null,null,null,null,"Select",null,null,null,null,null,{"$f":"S365","v":"Select"},{"$f":"S365","v":"Select"}]
[null,null,null,null,null,null,{"$f":"HYPERLINK(\"https://gosynth.com/p/s/pisllo\",\"When a student graduates, it is a change in placement. It must have a written\n prior notice sent.  If student has \"\"aged-out\"\", a PPWN is required.  \")","v":"When a student graduates, it is a change in placement. It must have a written\n prior notice sent.  If student has \"aged-out\", a PPWN is required.  "},null,null,null,null,null,null,null,null,null,null,null,null,null,null,null,null,{"$f":"Y366+Z366","v":0},{"$f":"COUNTIF(Y365,\"Yes\")*3","v":0},{"$f":"COUNTIF(Z365,\"No\")*3","v":0}]
[]
[{"$f":"HYPERLINK(\"http://sdlegislature.gov/Rules/DisplayRule.aspx?Rule=24:05:27:12\",\"Summary of Performance was provided to the Student/Parent/Guardian\n(24:05:27:12)\")","v":"Summary of Performance was provided to the Student/Parent/Guardian\n(24:05:27:12)"},null,null,null,null,null,{"$f":"HYPERLINK(\"https://gosynth.com/p/s/pisllo\",\"Summary of Performance (SOP) is required for students who graduated and\n aged out. A copy of the SOP should remain in the file.\")","v":"Summary of Performance (SOP) is required for students who graduated and\n aged out. A copy of the SOP should remain in the file."},null,null,null,null,null,null,null,null,null,null,null,"Select",null,null,null,null,null,{"$f":"S368","v":"Select"},{"$f":"S368","v":"Select"}]
[null,null,null,null,null,null,null,null,null,null,null,null,null,null,null,null,null,null,null,null,null,null,null,{"$f":"Y369+Z369","v":0},{"$f":"COUNTIF(Y368,\"Yes\")*3","v":0},{"$f":"COUNTIF(Z368,\"No\")*3","v":0}]
[]
["Click on the [+] button to expand or the [-] button to collapse."]
[{"$f":"HYPERLINK(\"https://gosynth.com/p/s/kldkzb\",\"Related Services\")","v":"Related Services"},null,null,null,null,null,null,null,null,null,null,null,null,null,null,null,null,null,{"$f":"IFERROR(Y375/X375,\"N/A\")","v":"N/A"}]
[{"$f":"HYPERLINK(\"http://sdlegislature.gov/Rules/DisplayRule.aspx?Rule=24:05:27:16\",\"Related Services\n(24:05:27)\")","v":"Related Services\n(24:05:27)"},null,null,null,null,null,"Service Provided:",null,null,null,null,null,"If student will receive services in a different location, then must break it out to calculate the Least Restrictive Environment.",null,null,null,null,null,"Select","V324",null,null,null,null,{"$f":"S373","v":"Select"},{"$f":"S373","v":"Select"}]
[null,null,null,null,null,null,null,null,null,null,null,null,null,null,null,null,null,null,null,null,null,null,null,{"$f":"Y374+Z374","v":0},{"$f":"COUNTIF(Y373,\"Yes\")*3","v":0},{"$f":"COUNTIF(Z373,\"No\")*3","v":0}]
[null,null,null,null,null,null,null,"Frequency",null,null,"Location",null,null,null,null,null,null,null,null,null,null,null,null,{"$f":"(X374+X379)/2","v":0},{"$f":"(Y374+Y379)/2","v":0}]
[null,null,null,null,null,null,null,"Duration",null,null,"Other"]
[null,null,null,null,null,null,"Service Provided:",null,null,null,null,null,"At a minimum, all areas student qualifies and has an annual goal must have service time documented. If not addressed, then PPWN must explain reason."]
[null,null,null,null,null,null,null,null,null,null,null,null,null,null,null,null,null,null,"Select",null,null,null,null,null,{"$f":"S378","v":"Select"},{"$f":"S378","v":"Select"}]
[null,null,null,null,null,null,null,"Frequency",null,null,"Location",null,null,null,null,null,null,null,null,null,null,null,null,{"$f":"Y379+Z379","v":0},{"$f":"COUNTIF(Y378,\"Yes\")*3","v":0},{"$f":"COUNTIF(Z378,\"No\")*3","v":0}]
[null,null,null,null,null,null,null,"Duration",null,null,"Other"]
[]
["Least Restrictive Environment ",null,null,null,null,null,null,null,null,null,null,null,null,null,null,null,null,null,{"$f":"IFERROR(Y382/X382,\"N/A\")","v":"N/A"},null,null,null,null,{"$f":"(X384+X388+X392+X396+X400+X402+X404+X406+X408)/9","v":0},{"$f":"(Y384+Y388+Y392+Y396+Y400+Y402+Y404+Y406+Y408)/9","v":0}]
[{"$f":"HYPERLINK(\"https://sdlegislature.gov/Rules/DisplayRule.aspx?Rule=24:05:28\",\"Least Restrictive Enviornment \n(Chapter 24:05:28)\")","v":"Least Restrictive Enviornment \n(Chapter 24:05:28)"},null,null,null,null,null,{"$f":"HYPERLINK(\"https://gosynth.com/p/s/llxjsq\",\"Skill area:\")","v":"Skill area:"},null,null,null,null,null,null,null,null,null,null,null,"Select","V334",null,null,null,null,{"$f":"S383","v":"Select"},{"$f":"S383","v":"Select"}]
[null,null,null,null,null,null,null,null,null,null,null,null,null,null,null,null,null,null,null,null,null,null,null,{"$f":"Y384+Z384","v":0},{"$f":"COUNTIF(Y383,\"Yes\")*3","v":0},{"$f":"COUNTIF(Z383,\"No\")*3","v":0}]
[null,null,null,null,null,null,null,null,"Frequency",null,null,"Duration",null,null,"Location"]
[]
[null,null,null,null,null,null,"Skill area:",null,null,null,null,null,null,null,null,null,null,null,"Select",null,null,null,null,null,{"$f":"S387","v":"Select"},{"$f":"S387","v":"Select"}]
[null,null,null,null,null,null,null,null,null,null,null,null,null,null,null,null,null,null,null,null,null,null,null,{"$f":"Y388+Z388","v":0},{"$f":"COUNTIF(Y387,\"Yes\")*3","v":0},{"$f":"COUNTIF(Z387,\"No\")*3","v":0}]
[null,null,null,null,null,null,null,null,"Frequency",null,null,"Duration",null,null,"Location"]
[]
[null,null,null,null,null,null,"Skill area:",null,null,null,null,null,null,null,null,null,null,null,"Select",null,null,null,null,null,{"$f":"S391","v":"Select"},{"$f":"S391","v":"Select"}]
[null,null,null,null,null,null,null,null,null,null,null,null,null,null,null,null,null,null,null,null,null,null,null,{"$f":"Y392+Z392","v":0},{"$f":"COUNTIF(Y391,\"Yes\")*3","v":0},{"$f":"COUNTIF(Z391,\"No\")*3","v":0}]
[null,null,null,null,null,null,null,null,"Frequency",null,null,"Duration",null,null,"Location"]
[]
[null,null,null,null,null,null,"Skill area:",null,null,null,null,null,null,null,null,null,null,null,"Select",null,null,null,null,null,{"$f":"S395","v":"Select"},{"$f":"S395","v":"Select"}]
[null,null,null,null,null,null,null,null,null,null,null,null,null,null,null,null,null,null,null,null,null,null,null,{"$f":"Y396+Z396","v":0},{"$f":"COUNTIF(Y395,\"Yes\")*3","v":0},{"$f":"COUNTIF(Z395,\"No\")*3","v":0}]
[null,null,null,null,null,null,null,null,"Frequency",null,null,"Duration",null,null,"Location"]
[]
[{"$f":"HYPERLINK(\"http://sdlegislature.gov/Rules/DisplayRule.aspx?Rule=24:05:28:02\",\"Continuum of Placement\n(24:05:28:02)\")","v":"Continuum of Placement\n(24:05:28:02)"},null,null,null,null,null,"Select:",null,null,null,null,null,null,null,null,null,null,null,"Select","V350",null,null,null,null,{"$f":"S399","v":"Select"},{"$f":"S399","v":"Select"}]
[null,null,null,null,null,null,null,null,null,null,null,null,null,null,null,null,null,null,null,null,null,null,null,{"$f":"Y400+Z400","v":0},{"$f":"COUNTIF(Y399,\"Yes\")*3","v":0},{"$f":"COUNTIF(Z399,\"No\")*3","v":0}]
[null,null,null,null,null,null,"Select for Early Childhood (Ages 3-5):",null,null,null,null,null,null,null,null,null,null,null,"Select",null,null,null,null,null,{"$f":"S401","v":"Select"},{"$f":"S401","v":"Select"}]
[null,null,null,null,null,null,null,null,null,null,null,null,null,null,null,null,null,null,null,null,null,null,null,{"$f":"Y402+Z402","v":0},{"$f":"COUNTIF(Y401,\"Yes\")*3","v":0},{"$f":"COUNTIF(Z401,\"No\")*3","v":0}]
[{"$f":"HYPERLINK(\"http://sdlegislature.gov/Rules/DisplayRule.aspx?Rule=24:05:27:01.03\",\"Participation with Non-disabled Peers\n(24:05:27:01.03)\")","v":"Participation with Non-disabled Peers\n(24:05:27:01.03)"},null,null,null,null,null,{"$f":"HYPERLINK(\"https://gosynth.com/p/s/wjqcuh\",\"Document opportunities to participate with non-disabled peers.\")","v":"Document opportunities to participate with non-disabled peers."},null,null,null,null,null,null,null,null,null,null,null,"Select",null,null,null,null,null,{"$f":"S403","v":"Select"},{"$f":"S403","v":"Select"}]
[null,null,null,null,null,null,null,null,null,null,null,null,null,null,null,null,null,null,null,null,null,null,null,{"$f":"Y404+Z404","v":0},{"$f":"COUNTIF(Y403,\"Yes\")*3","v":0},{"$f":"COUNTIF(Z403,\"No\")*3","v":0}]
[{"$f":"HYPERLINK(\"http://sdlegislature.gov/Rules/DisplayRule.aspx?Rule=24:05:28:03\",\"Justification for Placement \n(24:05:28:03)\")","v":"Justification for Placement \n(24:05:28:03)"},null,null,null,null,null,{"$f":"HYPERLINK(\"https://gosynth.com/p/s/rjxcoc\",\"                  Select from the following:\")","v":"                  Select from the following:"},null,null,null,null,null,null,null,null,null,null,null,"Select",null,null,null,null,null,{"$f":"S405","v":"Select"},{"$f":"S405","v":"Select"}]
[null,null,null,null,null,null,null,null,null,null,null,null,null,null,null,null,null,null,null,null,null,null,null,{"$f":"Y406+Z406","v":0},{"$f":"COUNTIF(Y405,\"Yes\")*3","v":0},{"$f":"COUNTIF(Z405,\"No\")*3","v":0}]
[{"$f":"HYPERLINK(\"http://sdlegislature.gov/Rules/DisplayRule.aspx?Rule=24:05:25:26\",\"Extended School Year\n(24:05:25:26)\")","v":"Extended School Year\n(24:05:25:26)"},null,null,null,null,null,{"$f":"HYPERLINK(\"https://gosynth.com/p/s/bbepxx\",\"                  Check the following:\")","v":"                  Check the following:"},null,null,null,null,null,null,null,null,null,null,null,"Select","V358",null,null,null,null,{"$f":"S407","v":"Select"},{"$f":"S407","v":"Select"}]
[null,null,null,null,null,null,null,null,null,null,null,null,null,null,null,null,null,null,null,null,null,null,null,{"$f":"Y408+Z408","v":0},{"$f":"COUNTIF(Y407,\"Yes\")*3","v":0},{"$f":"COUNTIF(Z407,\"No\")*3","v":0}]
[null,null,null,null,null,null,null,null,"Determination",null,null,null,"Beginning/end dates"]
[null,null,null,null,null,null,null,null,"Goals",null,null,null,"Amount of service"]
[]
[]
[]
[{"$f":"HYPERLINK(\"https://gosynth.com/p/s/acbbuk\",\"Prior Parental Written Notice\")","v":"Prior Parental Written Notice"},null,null,null,null,null,null,null,null,null,null,null,null,null,null,null,null,null,{"$f":"IFERROR(Y414/X414,\"N/A\")","v":"N/A"},null,null,null,null,{"$f":"(X416+X421)/2","v":0},{"$f":"(Y416+Y421)/2","v":0}]
[{"$f":"HYPERLINK(\"http://sdlegislature.gov/Rules/DisplayRule.aspx?Rule=24:05:30:04\",\"Prior Written Notice Sent to Parent Regarding IEP Implementation\n(24:05:30:04)\")","v":"Prior Written Notice Sent to Parent Regarding IEP Implementation\n(24:05:30:04)"},null,null,null,null,null,"Date the district sent the PPWN:",null,null,null,null,null,null,null,"The implementation date documented on the PPWN must be reflected on IEP.\n\nThe five-day notice requirement may be waived by the parents.",null,null,null,"Select","V366",null,null,null,null,{"$f":"S415","v":"Select"},{"$f":"S415","v":"Select"}]
[null,null,null,null,null,null,"District proposed at least 5 calendar days to begin implementation:",null,null,null,null,null,{"$f":"M415+5","v":"1900-01-05"},null,null,null,null,null,null,null,null,null,null,{"$f":"Y416+Z416","v":0},{"$f":"COUNTIF(Y415,\"Yes\")*3","v":0},{"$f":"COUNTIF(Z415,\"No\")*3","v":0}]
[]
[null,null,null,null,null,null,"Was the 5 calendar day notice requirement met?",null,null,null,null,null,null,"Yes"]
[null,null,null,null,null,null,null,null,null,null,null,null,null,"No"]
[{"$f":"HYPERLINK(\"http://sdlegislature.gov/Rules/DisplayRule.aspx?Rule=24:05:30:05\",\"Content of PPWN\n(24:05:30:05)\")","v":"Content of PPWN\n(24:05:30:05)"},null,null,null,null,null,"Check the following:",null,null,null,null,null,null,null,null,null,null,null,"Select","V371",null,null,null,null,{"$f":"S420","v":"Select"},{"$f":"S420","v":"Select"}]
[null,null,null,null,null,null,"PPWN must be individualized to the student, IEP team discussions and situation.",null,null,null,null,null,null,null,null,null,null,null,null,null,null,null,null,{"$f":"Y421+Z421","v":0},{"$f":"COUNTIF(Y420,\"Yes\")*3","v":0},{"$f":"COUNTIF(Z420,\"No\")*3","v":0}]
[]
[null,null,null,null,null,null,null,"Explanation of why the district proposed or refused to take the action"]
[null,null,null,null,null,null,null,"Description of other options considered and why they were rejected "]
[null,null,null,null,null,null,null,"Description of evidence used for the proposed or refused action"]
[null,null,null,null,null,null,null,"Description of other factors that are relevant to proposal or refusal"]
[]
[null,null,null,null,null,null,"To skip back to Eligibility section click ",null,null,null,null,"HERE."]
[]
[{"$f":"HYPERLINK(\"https://gosynth.com/p/s/iwvzyu\",\"Amendment to IEP\")","v":"Amendment to IEP"},null,null,null,null,null,null,null,null,null,null,null,null,null,null,null,null,null,{"$f":"IFERROR(Z430/Y430,\"N/A\")","v":"N/A"},null,null,null,null,null,{"$f":"(X432+X434)/2","v":0},{"$f":"(Y432+Y434)/2","v":0}]
["Amendment to IEP",null,null,null,null,null,null,null,null,null,null,null,null,null,null,null,null,null,"Select","V381",null,null,null,null,{"$f":"S431","v":"Select"},{"$f":"S431","v":"Select"}]
[{"$f":"HYPERLINK(\"http://sdlegislature.gov/Rules/DisplayRule.aspx?Rule=24:05:27:08.01\",\"(24:05:27:08.01)\")","v":"(24:05:27:08.01)"},null,null,{"$f":"HYPERLINK(\"http://sdlegislature.gov/Rules/DisplayRule.aspx?Rule=24:05:27:08.02\",\"(24:05:27:08.02)\")","v":"(24:05:27:08.02)"},null,null,null,null,null,null,null,null,null,null,null,null,null,null,null,null,null,null,null,{"$f":"Y432+Z432","v":0},{"$f":"COUNTIF(Y431,\"Yes\")*3","v":0},{"$f":"COUNTIF(Z431,\"No\")*3","v":0}]
[{"$f":"HYPERLINK(\"http://sdlegislature.gov/Rules/DisplayRule.aspx?Rule=24:05:30:04\",\"Prior Notice\n(24:05:30:04)\")","v":"Prior Notice\n(24:05:30:04)"},null,null,null,null,null,"Document if the amendment was made with or without a meeting.",null,null,null,null,null,null,null,null,null,null,null,"Select",null,null,null,null,null,{"$f":"S433","v":"Select"},{"$f":"S433","v":"Select"}]
[null,null,null,null,null,null,null,null,null,null,null,null,null,null,null,null,null,null,null,null,null,null,null,{"$f":"Y434+Z434","v":0},{"$f":"COUNTIF(Y433,\"Yes\")*3","v":0},{"$f":"COUNTIF(Z433,\"No\")*3","v":0}]
[]
[{"$f":"HYPERLINK(\"https://gosynth.com/p/s/jdtswp\",\"Additional Items\")","v":"Additional Items"},null,null,null,null,null,null,null,null,null,null,null,null,null,null,null,null,null,{"$f":"IFERROR(AB436/AA436,\"N/A\")","v":"N/A"},null,null,null,null,null,{"$f":"S437","v":"Select"},{"$f":"S437","v":"Select"},{"$f":"(X437+X439+X441+X443)/4","v":0},{"$f":"(Y437+Y439+Y441+Y443)/4","v":0}]
["Parent Declined/\nWithdrew Consent for Services ",null,null,null,null,null,"Revocation signed:",null,null,null,null,null,null,{"$f":"HYPERLINK(\"http://sdlegislature.gov/Rules/DisplayRule.aspx?Rule=24:05:27:04.02\",\"(24:05:27:04.02)\")","v":"(24:05:27:04.02)"},null,null,null,null,"Select","V387",null,null,null,{"$f":"Y437+Z437","v":0},{"$f":"COUNTIF(Y436,\"Yes\")*3","v":0},{"$f":"COUNTIF(Z436,\"No\")*3","v":0}]
[null,null,null,null,null,null,"Date prior notice was sent:",null,null,null,null,null,null,null,null,null,null,null,null,null,null,null,null,null,{"$f":"S439","v":"Select"},{"$f":"S439","v":"Select"}]
["Surrogate Parent",null,null,null,null,null,null,null,null,null,null,null,null,null,null,null,null,null,"Select",null,null,null,null,{"$f":"Y439+Z439","v":0},{"$f":"COUNTIF(Y438,\"Yes\")*3","v":0},{"$f":"COUNTIF(Z438,\"No\")*3","v":0}]
["Transfer Students Provided with  FAPE/Comparable Services ",null,null,null,null,null,"Date prior notice was sent:",null,null,null,null,null,null,{"$f":"HYPERLINK(\"http://sdlegislature.gov/Rules/DisplayRule.aspx?Rule=24:05:27:15.01\",\"In-state (24:05:27:15.01)\")","v":"In-state (24:05:27:15.01)"},null,null,null,null,"Select",null,null,null,null,null,{"$f":"S440","v":"Select"},{"$f":"S440","v":"Select"}]
[null,null,null,null,null,null,null,null,null,null,null,null,null,{"$f":"HYPERLINK(\"http://sdlegislature.gov/Rules/DisplayRule.aspx?Rule=24:05:27:15.02\",\"Out-of-state (24:05:27:15.02)\")","v":"Out-of-state (24:05:27:15.02)"},null,null,null,null,null,null,null,null,null,{"$f":"Y441+Z441","v":0},{"$f":"COUNTIF(Y440,\"Yes\")*3","v":0},{"$f":"COUNTIF(Z440,\"No\")*3","v":0}]
["Transfer Students Evaluated for \nSouth Dakota Eligibility",null,null,null,null,null,"Eligibility determination date:",null,null,null,null,null,null,null,null,null,null,null,"Select",null,null,null,null,null,{"$f":"S442","v":"Select"},{"$f":"S442","v":"Select"}]
[null,null,null,null,null,null,"IEP date:",null,null,null,null,null,null,null,null,null,null,null,null,null,null,null,null,{"$f":"Y443+Z443","v":0},{"$f":"COUNTIF(Y442,\"Yes\")*3","v":0},{"$f":"COUNTIF(Z442,\"No\")*3","v":0}]
[null,null,null,null,null,null,"PPWN Implementing IEP sent:"]

{"sheet":"File 12","index":15,"n_rows":444,"n_cols":28,"rows_kept":444,"cut":false,"hidden":false,"merged":[[436,18,437,18],[437,6,437,10],[437,11,437,12],[438,6,438,17],[442,6,442,10],[442,11,442,12],[413,19,413,21],[414,6,414,11],[414,12,414,13],[414,14,418,17],[414,18,418,18],[414,19,418,21],[417,6,418,11],[419,6,419,17],[420,6,420,17],[216,14,216,16],[443,6,443,10],[443,11,443,12],[446,11,447,12],[439,6,440,10],[439,11,440,12],[439,13,439,17],[440,13,440,17],[441,6,441,10],[441,11,441,12],[441,13,443,17],[415,6,416,11],[415,12,416,13],[413,0,413,17],[422,7,422,17],[423,7,423,17],[424,7,424,17],[425,7,425,17],[426,6,426,17],[427,6,427,10],[427,11,427,17],[436,6,436,10],[436,11,436,12],[436,13,437,17],[216,6,216,7],[216,8,216,10],[205,0,206,5],[207,0,209,5],[216,11,216,13],[231,7,231,10],[209,6,209,13],[210,0,210,17],[211,0,213,5],[211,6,213,16],[214,0,215,5],[214,6,215,16],[216,0,233,5],[225,12,225,13],[225,15,225,16],[226,7,226,10],[227,6,227,10],[228,6,228,7],[228,8,228,10],[228,11,228,13],[228,14,228,16],[230,7,230,10],[230,12,230,13],[230,15,230,16],[196,0,200,5],[196,6,200,17],[196,18,200,18],[201,0,201,21],[202,0,202,17],[202,19,202,21],[203,0,204,5],[188,7,188,9],[188,10,188,12],[189,7,189,9],[189,10,189,12],[186,0,189,5],[186,7,186,9],[186,10,186,12],[192,7,192,9],[193,7,193,9],[193,10,193,12],[194,7,194,9],[190,0,190,5],[190,7,190,9],[190,10,190,12],[191,0,195,5],[191,7,191,9],[191,10,191,12],[152,12,156,15],[154,7,156,10],[145,7,146,10],[145,12,146,15],[149,18,162,18],[149,19,162,21],[150,6,150,15],[150,17,160,17],[158,12,159,15],[151,6,151,15],[152,7,153,10],[157,7,158,10],[157,12,157,15],[210,19,210,21],[211,19,215,21],[214,18,215,18],[196,19,200,21],[203,19,209,21],[205,18,206,18],[207,14,208,17],[207,18,209,18],[209,14,209,17],[211,18,213,18],[205,6,206,17],[207,6,207,10],[207,11,207,13],[208,6,208,10],[208,11,208,13],[203,6,204,17],[203,18,204,18],[190,13,190,16],[191,13,191,16],[192,13,192,16],[193,13,193,16],[194,13,194,16],[176,12,177,17],[184,13,185,16],[186,13,186,16],[184,10,185,12],[194,10,194,12],[180,6,180,17],[182,7,183,16],[187,7,187,9],[187,10,187,12],[187,13,187,16],[188,13,188,16],[192,10,192,12],[172,12,173,17],[172,18,173,18],[172,19,173,21],[177,0,177,2],[177,3,177,5],[177,6,177,8],[177,9,177,11],[178,0,178,5],[178,6,179,17],[179,0,179,2],[179,3,179,5],[176,18,177,18],[176,19,195,21],[178,18,179,18],[180,18,195,18],[176,0,176,5],[176,6,176,8],[176,9,176,11],[174,0,174,21],[175,0,175,17],[175,19,175,21],[180,0,185,5],[184,7,185,9],[189,13,189,16],[216,18,221,18],[216,19,233,21],[222,18,227,18],[228,18,233,18],[218,7,218,10],[218,12,218,13],[220,7,220,10],[221,6,221,10],[222,6,222,7],[222,8,222,10],[222,11,222,13],[222,14,222,16],[231,12,231,13],[231,15,231,16],[232,7,232,10],[233,6,233,10],[218,15,218,16],[219,7,219,10],[219,12,219,13],[219,15,219,16],[224,7,224,10],[224,12,224,13],[224,15,224,16],[225,7,225,10],[117,6,117,13],[117,14,117,17],[118,6,119,17],[120,0,120,21],[118,0,119,5],[130,18,148,18],[130,19,148,21],[133,12,134,15],[135,7,137,10],[135,12,136,15],[137,12,138,15],[138,7,141,10],[139,12,144,15],[142,7,144,10],[121,0,121,17],[121,19,121,21],[122,0,122,17],[122,18,129,18],[122,19,129,21],[123,0,129,5],[123,6,123,17],[124,6,124,17],[125,7,125,11],[126,7,126,11],[165,12,169,17],[167,7,167,11],[168,7,168,11],[110,18,112,18],[110,19,119,21],[113,18,114,18],[115,18,117,18],[118,18,119,18],[104,18,105,18],[106,18,107,18],[169,7,169,11],[162,0,162,17],[163,0,166,5],[163,6,163,17],[163,18,171,18],[163,19,171,21],[164,6,164,17],[167,0,173,5],[165,7,165,11],[166,7,166,11],[170,7,170,13],[171,7,171,11],[172,6,173,10],[172,11,173,11],[98,18,101,18],[98,19,101,21],[99,11,99,13],[106,6,107,17],[84,18,97,18],[84,19,97,21],[86,6,86,8],[86,9,86,12],[87,15,87,17],[100,11,100,13],[101,11,101,13],[102,6,103,17],[102,18,103,18],[94,13,94,14],[94,15,94,17],[95,15,95,17],[96,13,96,14],[96,15,96,17],[99,6,99,10],[100,6,100,10],[102,19,109,21],[108,18,109,18],[89,13,89,14],[89,15,89,17],[91,13,91,14],[91,15,91,17],[92,13,92,14],[92,15,92,17],[97,13,97,14],[97,15,97,17],[98,11,98,13],[98,14,101,17],[93,15,93,17],[93,13,93,14],[110,0,112,5],[110,6,110,10],[111,6,111,10],[113,0,114,5],[115,0,117,5],[115,6,115,12],[116,6,116,12],[98,0,101,5],[98,6,98,10],[101,6,101,10],[102,0,103,5],[104,0,105,5],[106,0,107,5],[108,0,109,5],[104,6,105,17],[108,6,109,17],[110,11,110,13],[110,14,111,17],[111,11,111,13],[112,6,112,13],[112,14,112,17],[113,6,114,17],[115,13,115,15],[116,13,116,15],[90,6,90,8],[90,9,90,12],[78,6,78,8],[78,9,78,12],[80,0,83,5],[80,6,80,8],[80,9,80,12],[81,9,81,12],[84,0,90,5],[83,9,83,12],[96,6,96,8],[96,9,96,12],[91,0,91,5],[91,6,91,8],[91,9,91,12],[92,0,97,5],[92,9,92,12],[93,9,93,12],[94,9,94,12],[93,6,93,8],[94,6,94,8],[92,6,92,8],[97,6,97,8],[97,9,97,12],[74,19,83,21],[76,6,76,8],[76,9,76,12],[76,13,76,14],[76,15,76,17],[77,6,77,8],[77,9,77,12],[77,13,77,14],[77,15,77,17],[82,6,82,8],[82,9,82,12],[82,13,82,14],[82,15,82,17],[83,15,83,17],[78,13,78,14],[78,15,78,17],[80,13,80,14],[80,15,80,17],[81,13,81,14],[81,15,81,17],[83,13,83,14],[74,18,83,18],[81,6,81,8],[83,6,83,8],[150,0,161,5],[159,6,160,6],[159,7,160,10],[161,6,161,15],[89,6,89,8],[89,9,89,12],[90,13,90,14],[90,15,90,17],[95,9,95,12],[147,6,147,15],[148,0,148,17],[149,0,149,17],[128,7,128,11],[128,13,128,17],[131,0,147,5],[131,6,131,15],[131,17,147,17],[132,6,132,15],[133,7,134,10],[95,6,95,8],[127,7,127,11],[127,13,127,17],[129,6,129,17],[130,0,130,17],[84,15,85,17],[84,6,85,8],[86,13,86,14],[86,15,86,17],[87,9,87,12],[87,13,87,14],[88,6,88,8],[88,9,88,12],[84,13,85,14],[88,13,88,14],[88,15,88,17],[84,9,85,12],[87,6,87,8],[125,13,125,17],[126,13,126,17],[66,15,66,17],[66,13,66,14],[67,0,67,5],[67,6,67,8],[67,9,67,12],[67,13,67,14],[67,15,67,17],[68,0,73,5],[79,0,79,5],[79,6,79,8],[79,9,79,12],[79,13,79,14],[79,15,79,17],[72,6,72,8],[72,9,72,12],[74,0,78,5],[74,6,75,8],[74,9,75,12],[74,13,75,14],[74,15,75,17],[68,13,68,14],[73,6,73,8],[60,13,61,14],[60,15,61,17],[62,13,62,14],[62,15,62,17],[63,13,63,14],[63,15,63,17],[64,13,64,14],[64,15,64,17],[65,13,65,14],[65,15,65,17],[54,0,59,5],[54,6,54,9],[54,10,54,12],[55,6,55,9],[55,10,55,12],[45,19,53,21],[54,19,59,21],[58,13,59,17],[56,6,56,9],[56,10,56,12],[57,6,57,9],[57,10,57,12],[58,6,58,9],[58,10,58,12],[59,6,59,9],[59,10,59,12],[62,9,62,12],[63,9,63,12],[64,9,64,12],[65,9,65,12],[66,9,66,12],[60,0,66,5],[60,6,61,8],[62,6,62,8],[63,6,63,8],[64,6,64,8],[65,6,65,8],[66,6,66,8],[60,9,61,12],[21,10,21,13],[21,14,21,17],[27,9,27,11],[27,12,27,17],[52,6,52,17],[53,6,53,17],[45,6,45,17],[46,6,46,17],[47,6,47,17],[48,7,48,17],[49,7,49,17],[50,7,50,17],[51,7,51,17],[39,6,40,17],[22,6,22,9],[22,10,22,13],[25,0,25,21],[26,0,26,17],[26,19,26,21],[22,14,22,17],[23,6,23,9],[23,10,23,13],[23,14,23,17],[45,0,53,5],[17,0,17,21],[18,0,18,17],[19,0,24,5],[19,9,19,11],[19,12,19,17],[20,14,20,17],[24,6,24,17],[8,3,8,6],[8,7,8,9],[9,0,9,21],[8,0,8,2],[10,0,12,5],[10,10,11,10],[10,11,11,13],[10,14,11,17],[10,18,11,18],[10,19,11,21],[18,19,18,21],[19,18,24,18],[19,19,24,21],[20,6,20,9],[20,10,20,13],[19,6,19,8],[21,6,21,9],[10,6,10,9],[11,6,11,9],[12,6,12,21],[13,0,13,21],[14,0,14,17],[14,19,14,21],[15,0,16,5],[15,18,16,18],[15,19,16,21],[15,6,16,17],[6,0,6,2],[6,10,6,13],[7,14,7,18],[8,14,8,18],[8,19,8,21],[4,14,4,18],[4,19,4,21],[5,14,5,18],[5,19,5,21],[6,14,6,18],[6,19,6,21],[7,19,7,21],[6,3,6,6],[6,7,6,9],[7,0,7,2],[7,3,7,6],[7,7,7,9],[7,10,7,13],[8,10,8,13],[3,0,3,21],[4,0,4,2],[4,3,4,6],[4,7,4,9],[4,10,4,13],[5,0,5,2],[5,3,5,6],[5,7,5,9],[5,11,5,13],[0,0,0,3],[0,4,0,5],[0,6,0,8],[0,9,0,11],[0,12,0,14],[0,15,0,17],[0,19,0,21],[1,0,2,13],[1,14,2,17],[1,18,2,18],[1,19,2,21],[73,9,73,12],[73,13,73,14],[73,15,73,17],[68,6,68,8],[68,9,68,12],[69,6,69,8],[69,9,69,12],[69,13,69,14],[69,15,69,17],[70,6,70,8],[70,9,70,12],[70,13,70,14],[70,15,70,17],[71,6,71,8],[71,9,71,12],[71,13,71,14],[71,15,71,17],[68,15,68,17],[72,13,72,14],[72,15,72,17],[41,0,42,5],[41,6,42,17],[43,6,44,17],[27,18,29,18],[27,19,29,21],[30,18,32,18],[30,19,32,21],[35,18,38,18],[35,19,44,21],[39,18,40,18],[43,0,44,5],[27,6,27,8],[28,6,29,17],[30,6,30,17],[31,8,32,17],[408,8,408,10],[408,12,408,15],[409,8,409,10],[411,0,411,16],[412,0,412,21],[27,0,29,5],[30,0,32,5],[31,6,32,7],[35,0,36,5],[35,6,35,9],[33,0,33,21],[34,0,34,17],[34,19,34,21],[35,10,35,12],[35,13,35,17],[41,18,42,18],[43,18,44,18],[45,18,53,18],[54,18,59,18],[60,18,73,18],[60,19,73,21],[36,6,38,17],[37,0,38,5],[39,0,40,5],[397,6,397,16],[398,6,398,16],[399,6,399,16],[400,6,400,16],[401,6,401,16],[402,6,403,16],[404,6,404,16],[405,6,405,16],[406,6,406,16],[391,6,391,16],[392,11,392,12],[392,14,392,16],[393,6,393,16],[394,6,394,8],[394,9,394,16],[395,6,395,16],[396,11,396,12],[396,14,396,16],[385,6,385,16],[386,6,386,8],[386,9,386,16],[387,6,387,16],[388,11,388,12],[388,14,388,16],[389,6,389,16],[390,6,390,8],[390,9,390,16],[382,17,411,17],[406,19,411,21],[419,19,427,21],[430,19,433,21],[436,19,443,21],[372,19,380,21],[377,18,380,18],[382,19,397,21],[390,18,393,18],[394,18,397,18],[398,19,405,21],[400,18,401,18],[380,0,380,17],[381,0,381,17],[381,19,381,21],[382,9,382,16],[383,6,383,16],[384,8,384,9],[388,8,388,9],[392,8,392,9],[396,8,396,9],[382,6,382,8],[384,11,384,12],[384,14,384,16],[402,18,403,18],[404,18,405,18],[398,18,399,18],[406,18,411,18],[419,18,427,18],[432,18,433,18],[439,18,440,18],[441,18,443,18],[341,18,342,18],[343,18,344,18],[354,18,358,18],[360,18,361,18],[372,18,376,18],[428,0,428,21],[429,0,429,17],[429,19,429,21],[430,18,431,18],[430,6,431,17],[431,0,431,2],[431,3,431,5],[432,6,433,17],[434,0,434,21],[435,0,435,17],[435,19,435,21],[341,19,346,21],[345,18,346,18],[353,18,353,21],[354,19,358,21],[359,18,359,21],[360,19,370,21],[362,18,363,18],[382,18,385,18],[386,18,389,18],[371,19,371,21],[439,0,440,5],[441,0,443,5],[406,0,410,5],[414,0,418,5],[419,0,427,5],[430,0,430,5],[432,0,433,5],[436,0,437,5],[438,0,438,5],[359,0,359,5],[360,0,361,5],[362,0,363,5],[364,0,366,5],[372,0,379,5],[382,0,397,5],[398,0,401,5],[402,0,403,5],[404,0,405,5],[367,0,369,5],[353,6,353,16],[354,6,354,10],[354,13,354,16],[355,13,355,16],[356,13,356,16],[341,0,346,5],[347,0,347,5],[348,0,352,5],[353,0,353,5],[354,0,358,5],[334,18,335,18],[317,18,318,18],[317,19,322,21],[319,18,320,18],[321,18,322,18],[323,18,323,21],[324,19,325,21],[326,18,326,21],[327,19,332,21],[329,18,330,18],[331,18,332,18],[327,0,332,5],[327,6,328,6],[329,6,330,6],[329,7,330,16],[331,7,331,16],[332,6,332,16],[306,18,307,18],[306,19,315,21],[308,18,309,18],[309,6,310,6],[310,18,311,18],[314,18,315,18],[319,6,320,6],[319,7,320,16],[321,6,322,6],[321,7,322,16],[324,18,325,18],[327,18,328,18],[314,0,315,5],[314,6,315,16],[316,0,316,5],[316,6,316,16],[317,0,322,5],[317,6,318,6],[317,7,318,16],[323,0,323,5],[323,6,323,16],[364,6,364,12],[364,13,364,16],[365,6,366,16],[364,18,366,18],[367,18,370,18],[375,7,375,8],[375,10,375,11],[367,6,369,16],[370,0,370,17],[371,0,371,17],[359,6,359,16],[360,6,360,12],[360,13,360,16],[361,6,361,12],[361,13,361,16],[362,6,362,12],[362,13,362,16],[363,6,363,12],[363,13,363,16],[340,0,340,5],[340,6,340,16],[376,6,376,11],[376,12,379,16],[377,6,377,11],[378,7,378,8],[379,7,379,8],[372,17,379,17],[378,10,378,11],[379,10,379,11],[373,6,373,11],[374,7,374,8],[374,10,374,11],[372,6,372,11],[372,12,375,16],[340,18,340,21],[341,7,342,16],[343,7,344,16],[345,7,345,16],[346,6,346,16],[357,13,357,16],[358,13,358,16],[350,7,350,10],[351,7,351,10],[347,6,347,16],[347,18,347,21],[348,6,348,10],[348,11,352,16],[348,18,352,18],[348,19,352,21],[349,6,349,10],[352,6,352,10],[355,6,356,10],[357,6,357,10],[357,11,357,12],[358,6,358,10],[358,11,358,12],[341,6,342,6],[343,6,344,6],[282,14,282,16],[283,14,283,16],[336,7,337,16],[338,7,338,16],[333,0,333,5],[334,0,339,5],[334,6,335,6],[334,7,335,16],[334,19,339,21],[336,6,337,6],[336,18,337,18],[338,18,339,18],[339,6,339,16],[333,18,333,21],[333,6,333,16],[324,0,325,5],[324,6,325,16],[326,0,326,5],[326,6,326,16],[327,7,328,16],[309,7,310,16],[311,7,311,16],[305,6,305,16],[306,6,307,16],[257,9,257,12],[258,6,258,8],[292,7,293,16],[281,10,281,13],[282,10,282,13],[283,10,283,13],[289,18,303,18],[289,19,303,21],[300,12,302,12],[300,13,300,16],[302,13,302,15],[283,6,283,9],[284,6,284,9],[286,6,288,11],[264,18,288,18],[264,19,288,21],[255,17,298,17],[284,14,284,16],[272,14,272,16],[273,14,273,16],[279,14,279,16],[280,14,280,16],[281,14,281,16],[285,14,285,16],[279,6,279,9],[280,6,280,9],[281,6,281,9],[282,6,282,9],[285,6,285,9],[274,6,274,9],[274,10,274,13],[277,6,277,9],[278,6,278,9],[278,10,278,13],[284,10,284,13],[285,10,285,13],[279,10,279,13],[280,10,280,13],[276,10,276,13],[276,14,276,16],[277,10,277,13],[277,14,277,16],[262,6,262,8],[262,9,262,11],[262,12,262,16],[263,6,263,8],[263,9,263,12],[263,13,263,16],[265,7,265,10],[266,6,266,16],[267,6,268,16],[269,10,271,13],[275,6,275,9],[275,10,275,13],[269,6,271,9],[272,6,272,9],[272,10,272,13],[273,6,273,9],[273,10,273,13],[254,19,254,21],[255,0,263,5],[255,9,256,16],[255,18,263,18],[255,19,263,21],[258,9,258,13],[259,6,259,8],[239,19,253,21],[245,7,248,9],[259,9,259,11],[259,12,259,16],[260,6,260,8],[260,9,260,13],[260,14,260,16],[261,6,261,8],[261,9,261,15],[241,7,241,8],[241,11,241,16],[243,6,244,10],[243,11,243,16],[244,11,244,16],[245,11,245,16],[255,6,256,8],[257,6,257,8],[289,0,302,5],[306,0,307,5],[309,0,313,5],[301,13,301,15],[301,16,302,16],[303,0,303,17],[304,0,304,17],[304,18,305,18],[304,19,305,21],[305,0,305,5],[312,7,312,16],[312,18,313,18],[313,6,313,16],[294,6,295,6],[294,7,295,16],[296,6,297,6],[296,7,297,16],[298,6,298,16],[299,6,299,16],[300,6,302,11],[289,6,289,16],[290,6,290,16],[291,7,291,16],[292,6,293,6],[234,18,238,18],[234,19,238,21],[235,6,235,16],[236,7,236,10],[236,12,236,15],[239,11,239,16],[246,11,246,16],[239,18,253,18],[253,0,253,17],[240,7,240,8],[240,11,240,16],[240,9,242,10],[242,11,242,16],[247,11,247,16],[250,11,250,16],[251,6,252,10],[251,11,251,16],[252,11,252,16],[264,0,288,5],[237,7,237,10],[238,6,238,10],[239,0,252,5],[239,6,239,10],[286,12,288,12],[286,13,286,16],[287,13,287,15],[287,16,288,16],[288,13,288,15],[248,11,248,16],[249,11,249,16],[257,13,257,16],[258,14,258,16],[265,12,265,16],[269,14,271,16],[264,6,264,16],[234,0,238,5],[234,6,234,16],[254,0,254,16],[278,14,278,16],[274,14,274,16],[275,14,275,16],[276,6,276,9]]}
[{"$f":"'Caseload Files'!B2","v":"Teacher Caseload Review"},null,null,null,{"$f":"'Caseload Files'!D22","v":"File 12"},null,"Reviewer:",null,null,{"$f":"'Caseload Files'!F22","v":"Reviewer 12"},null,null,"Staff Reviewed:",null,null,{"$f":"'Caseload Files'!I22","v":"Staff 12"},null,null,"Score","Findings/Notes"]
[{"$f":"'Caseload Files'!B2","v":"Teacher Caseload Review"},null,null,null,null,null,null,null,null,null,null,null,null,null,null,null,null,null,"Rating","Record notes\nand/or findings."]
[]
[]
["Student Name:",null,null,{"$f":"'Caseload Files'!$L$22","v":"Student 12"},null,null,null,"Date of Birth:",null,null,{"$f":"'Caseload Files'!$R$22","v":"2012-12-12"},null,null,null,"Current IEP Meeting Date:"]
["SIMS Numer:",null,null,{"$f":"'Caseload Files'!$O$22","v":120123456},null,null,null,"Age/Grade:",null,null,{"$f":"INT(YEARFRAC(K5,TODAY()))","v":8},"/Sophomore",null,null,"Previous IEP Meeting Date:"]
["School District:",null,null,{"$f":"'Caseload Files'!B3","v":"District 00-0"},null,null,null,"Disability Code:",null,null,{"$f":"'Caseload Files'!$W$22","v":"DisCode 12"},null,null,null,"Current Eligibility Determination Date:"]
["School Name:",null,null,{"$f":"'Caseload Files'!E6","v":"School Name"},null,null,null,"Race/Ethnicity:",null,null,{"$f":"'Caseload Files'!T22","v":"Race 12"},null,null,null,"Previous Eligibility Determination Date:"]
["School Year:",null,null,{"$f":"'Caseload Files'!E7","v":"1998-1999"},null,null,null,"Type of Review:",null,null,{"$f":"'Caseload Files'!Z22","v":"Type 12"},null,null,null,"Date of Review:"]
[]
[{"$f":"HYPERLINK(\"http://sdlegislature.gov/Rules/DisplayRule.aspx?Rule=24:05\",\"Subsection Title and \nCorresponding ARSD Links \")","v":"Subsection Title and \nCorresponding ARSD Links "},null,null,null,null,null,"Yellow boxes are prompts",null,null,null,null,"Use checkboxes to help record findings.",null,null,"Voided space and/or clarifying information.",null,null,null,"\"N/A\" may be appropriate for certain sections.","Findings/Notes"]
[null,null,null,null,null,null,"for information."]
[]
[]
[{"$f":"HYPERLINK(\"https://gosynth.com/p/s/aboqwv\",\"Record of Access\")","v":"Record of Access"},null,null,null,null,null,null,null,null,null,null,null,null,null,null,null,null,null,{"$f":"IFERROR(Y17/X17,\"N/A\")","v":"N/A"},"Findings/Notes"]
[{"$f":"HYPERLINK(\"http://sdlegislature.gov/Rules/DisplayRule.aspx?Rule=24:05:29:15\",\"Record of Access\n(24:05:29:15)\")","v":"Record of Access\n(24:05:29:15)"},null,null,null,null,null,null,null,null,null,null,null,null,null,null,null,null,null,"Select","V16",null,null,null,null,{"$f":"S16","v":"Select"},{"$f":"S16","v":"Select"}]
[null,null,null,null,null,null,null,null,null,null,null,null,null,null,null,null,null,null,null,null,null,null,null,{"$f":"Y17+Z17","v":0},{"$f":"COUNTIF(Y16,\"Yes\")*3","v":0},{"$f":"COUNTIF(Z16,\"No\")*3","v":0}]
[]
[{"$f":"HYPERLINK(\"https://gosynth.com/p/s/grdmsy\",\"Referral\")","v":"Referral"},null,null,null,null,null,null,null,null,null,null,null,null,null,null,null,null,null,{"$f":"IFERROR(Y21/X21,\"N/A\")","v":"N/A"}]
[{"$f":"HYPERLINK(\"http://sdlegislature.gov/Rules/DisplayRule.aspx?Rule=24:05:24:01\",\"Referral Document\n(initial only)\n(24:05:24:01)\")","v":"Referral Document\n(initial only)\n(24:05:24:01)"},null,null,null,null,null,"Date of referral:",null,null,null,null,null,"The top two spaces are available to type in.",null,null,null,null,null,"Select","V20",null,null,null,null,{"$f":"S20","v":"Select"},{"$f":"S20","v":"Select"}]
[null,null,null,null,null,null,"List all areas of referral:",null,null,null,null,null,null,null,null,null,null,null,null,null,null,null,null,{"$f":"Y21+Z21","v":0},{"$f":"COUNTIF(Y20,\"Yes\")*3","v":0},{"$f":"COUNTIF(Z20,\"No\")*3","v":0}]
[]
[]
[]
[null,null,null,null,null,null,"If referral can not be found and is older than three years, N/A is appropriate."]
[]
[{"$f":"HYPERLINK(\"https://gosynth.com/p/s/lihblf\",\"Initial Placement\")","v":"Initial Placement"},null,null,null,null,null,null,null,null,null,null,null,null,null,null,null,null,null,{"$f":"IFERROR(Y33/X33,\"N/A\")","v":"N/A"}]
[{"$f":"HYPERLINK(\"http://sdlegislature.gov/rules/DisplayRule.aspx?Rule=24:05:27:04.01\",\"Consent Signed for Initial Placement \ninto Special Education\n(24:05:27:04.01)\")","v":"Consent Signed for Initial Placement \ninto Special Education\n(24:05:27:04.01)"},null,null,null,null,null,"Date Signed:",null,null,null,null,null,null,null,null,null,null,null,"Select","V28",null,null,null,null,{"$f":"S28","v":"Select"},{"$f":"S28","v":"Select"}]
[null,null,null,null,null,null,"(The Consent Signed for Initial Placement into Special Education form is a separate document.  In the past, it may have been found at the end of the IEP.",null,null,null,null,null,null,null,null,null,null,null,null,null,null,null,null,{"$f":"Y29+Z29","v":0},{"$f":"COUNTIF(Y28,\"Yes\")*3","v":0},{"$f":"COUNTIF(Z28,\"No\")*3","v":0}]
[]
[{"$f":"HYPERLINK(\"https://sdlegislature.gov/Rules/DisplayRule.aspx?Rule=24:05:25:04.02\",\"Determination of Needed \nEvaluation Data\n(24:05:25:04.02)\")","v":"Determination of Needed \nEvaluation Data\n(24:05:25:04.02)"},null,null,null,null,null,"Did the team review existing data before completing the PPWN Consent?",null,null,null,null,null,null,null,null,null,null,null,"Select","V31",null,null,null,null,{"$f":"S31","v":"Select"},{"$f":"S31","v":"Select"}]
[null,null,null,null,null,null,"Select",null,"The existing data includes evaluations and information provided by the parents, current classroom-based local or state assessments, and observations by teachers and related services providers.",null,null,null,null,null,null,null,null,null,null,null,null,null,null,{"$f":"Y32+Z32","v":0},{"$f":"COUNTIF(Y31,\"Yes\")*3","v":0},{"$f":"COUNTIF(Z31,\"No\")*3","v":0}]
[null,null,null,null,null,null,null,null,null,null,null,null,null,null,null,null,null,null,null,null,null,null,null,{"$f":"(X32+X29)/2","v":0},{"$f":"(Y32+Y29)/2","v":0}]
[]
[{"$f":"HYPERLINK(\"https://gosynth.com/p/s/qxevgy\",\"Evaluation\")","v":"Evaluation"},null,null,null,null,null,null,null,null,null,null,null,null,null,null,null,null,null,{"$f":"IFERROR(Y38/X38,\"N/A\")","v":"N/A"},{"$f":"IFERROR(Y58/X58,\"N/A\")","v":"N/A"}]
[{"$f":"HYPERLINK(\"http://sdlegislature.gov/rules/DisplayRule.aspx?Rule=24:05:25:02.01\",\"Initial Evaluation \n(24:05:25:02.01)\")","v":"Initial Evaluation \n(24:05:25:02.01)"},null,null,null,null,null,"PPWN Consent was Sent:",null,null,null,null,null,null,"Use the most recent evaluation. ",null,null,null,null,"Select","V36",null,null,null,null,{"$f":"S36","v":"Select"},{"$f":"S36","v":"Select"}]
[null,null,null,null,null,null,{"$f":"HYPERLINK(\"https://gosynth.com/p/s/qxevgy\",\"Consent was acquired for initial evaluation. \n\nIf consent was not given by the parent for reevaluation, evidence of  attempts were made to elicit parent.\")","v":"Consent was acquired for initial evaluation. \n\nIf consent was not given by the parent for reevaluation, evidence of  attempts were made to elicit parent."},null,null,null,null,null,null,null,null,null,null,null,null,null,null,null,null,{"$f":"Y37+Z37","v":0},{"$f":"COUNTIF(Y36,\"Yes\")*3","v":0},{"$f":"COUNTIF(Z36,\"No\")*3","v":0}]
[{"$f":"HYPERLINK(\"http://sdlegislature.gov/Rules/DisplayRule.aspx?Rule=24:05:25:06.01\",\"Reevaluation\n(24:05:25:06.01)\")","v":"Reevaluation\n(24:05:25:06.01)"},null,null,null,null,null,null,null,null,null,null,null,null,null,null,null,null,null,null,null,null,null,null,{"$f":"(X37+X41+X43+X45+X47+X56+X62+X76+X86+X100+X104+X106+X108+X110+X112+X115+X117+X120)/18","v":0},{"$f":"(Y37+Y41+Y43+Y45+Y47+Y56+Y62+Y76+Y86+Y100+Y104+Y106+Y108+Y110+Y112+Y115+Y117+Y120)/18","v":0}]
[]
[{"$f":"HYPERLINK(\"http://sdlegislature.gov/Rules/DisplayRule.aspx?Rule=24:05:25:16\",\"Parent Input into Evalaution\n(24:05:25:16)\")","v":"Parent Input into Evalaution\n(24:05:25:16)"},null,null,null,null,null,{"$f":"HYPERLINK(\"https://gosynth.com/p/s/ycomsx\",\"Parent input must be documented in the PPWN Consent on input exiting data and \nupcoming evaluation.   (refer to phone logs, progress notes, prior notice)\")","v":"Parent input must be documented in the PPWN Consent on input exiting data and \nupcoming evaluation.   (refer to phone logs, progress notes, prior notice)"},null,null,null,null,null,null,null,null,null,null,null,"Select",null,null,null,null,null,{"$f":"S40","v":"Select"},{"$f":"S40","v":"Select"}]
[null,null,null,null,null,null,null,null,null,null,null,null,null,null,null,null,null,null,null,null,null,null,null,{"$f":"Y41+Z41","v":0},{"$f":"COUNTIF(Y40,\"Yes\")*3","v":0},{"$f":"COUNTIF(Z40,\"No\")*3","v":0}]
[{"$f":"HYPERLINK(\"http://sdlegislature.gov/Rules/DisplayRule.aspx?Rule=24:05:30:06.01\",\"Procedural Safeguards\n(24:05:30:06.01)\")","v":"Procedural Safeguards\n(24:05:30:06.01)"},null,null,null,null,null,{"$f":"HYPERLINK(\"https://gosynth.com/p/s/tdkmfj\",\"[INCLUDE LANGUAGE FOR THIS SECTION]\")","v":"[INCLUDE LANGUAGE FOR THIS SECTION]"},null,null,null,null,null,null,null,null,null,null,null,"Select",null,null,null,null,null,{"$f":"S42","v":"Select"},{"$f":"S42","v":"Select"}]
[null,null,null,null,null,null,null,null,null,null,null,null,null,null,null,null,null,null,null,null,null,null,null,{"$f":"Y43+Z43","v":0},{"$f":"COUNTIF(Y42,\"Yes\")*3","v":0},{"$f":"COUNTIF(Z42,\"No\")*3","v":0}]
[{"$f":"HYPERLINK(\"http://sdlegislature.gov/Rules/DisplayRule.aspx?Rule=24:05:25:03\",\"Extension on 25 Day Timeline\n(24:05:25:03)\")","v":"Extension on 25 Day Timeline\n(24:05:25:03)"},null,null,null,null,null,{"$f":"HYPERLINK(\"https://gosynth.com/p/s/wcheia\",\"Documented agreement with parent and district on new extension date.  \nEligibility and IEP developed 30 days after the agreed extension date.\")","v":"Documented agreement with parent and district on new extension date.  \nEligibility and IEP developed 30 days after the agreed extension date."},null,null,null,null,null,null,null,null,null,null,null,"Select",null,null,null,null,null,{"$f":"S44","v":"Select"},{"$f":"S44","v":"Select"}]
[null,null,null,null,null,null,null,null,null,null,null,null,null,null,null,null,null,null,null,null,null,null,null,{"$f":"Y45+Z45","v":0},{"$f":"COUNTIF(Y44,\"Yes\")*3","v":0},{"$f":"COUNTIF(Z44,\"No\")*3","v":0}]
[{"$f":"HYPERLINK(\"http://sdlegislature.gov/Rules/DisplayRule.aspx?Rule=24:05:30:05\",\"Content of Prior Written Notice/\nConsent for Evaluation\n (24:05:30:05)\")","v":"Content of Prior Written Notice/\nConsent for Evaluation\n (24:05:30:05)"},null,null,null,null,null,{"$f":"HYPERLINK(\"https://gosynth.com/p/s/xymlpn\",\"Check the following:\")","v":"Check the following:"},null,null,null,null,null,null,null,null,null,null,null,"Select","V46",null,null,null,null,{"$f":"S46","v":"Select"},{"$f":"S46","v":"Select"}]
[null,null,null,null,null,null,"PPWN must be individualized to the student, IEP team discussions and situation.",null,null,null,null,null,null,null,null,null,null,null,null,null,null,null,null,{"$f":"Y47+Z47","v":0},{"$f":"COUNTIF(Y46,\"Yes\")*3","v":0},{"$f":"COUNTIF(Z46,\"No\")*3","v":0}]
[]
[null,null,null,null,null,null,null,"Explanation of why the district proposed or refused to take the action"]
[null,null,null,null,null,null,null,"Description of other options considered and why they were rejected "]
[null,null,null,null,null,null,null,"Description of evidence used for the proposed or refused action"]
[null,null,null,null,null,null,null,"Description of other factors that are relevant to proposal or refusal"]
[]
[null,null,null,null,null,null,"All components should be completed and have a clear description."]
[{"$f":"HYPERLINK(\"http://sdlegislature.gov/Rules/DisplayRule.aspx?Rule=24:05:30:05\",\"Timeline of Prior Written Notice/\nConsent for Evaluation\n(24:05:25:03)\")","v":"Timeline of Prior Written Notice/\nConsent for Evaluation\n(24:05:25:03)"},null,null,null,null,null,{"$f":"HYPERLINK(\"https://gosynth.com/p/s/xylthm\",\"Date sent:\")","v":"Date sent:"},null,null,null,"2020-01-18",null,null,null,null,null,null,null,"Select","V54",null,null,null,null,{"$f":"S55","v":"Select"},{"$f":"S55","v":"Select"}]
[null,null,null,null,null,null,"Date signed:",null,null,null,"2020-01-19",null,null,null,null,null,null,null,null,null,null,null,null,{"$f":"Y56+Z56","v":0},{"$f":"COUNTIF(Y55,\"Yes\")*3","v":0},{"$f":"COUNTIF(Z55,\"No\")*3","v":0}]
[null,null,null,null,null,null,"Date received:",null,null,null,"2020-01-20"]
[null,null,null,null,null,null,"25 school days:",null,null,null,{"$f":"WORKDAY(K57,25)","v":"2020-02-24"}]
[null,null,null,null,null,null,"30 calendar days:"]
[null,null,null,null,null,null,"Extension on 25 day:"]
[{"$f":"HYPERLINK(\"http://sdlegislature.gov/Rules/DisplayRule.aspx?Rule=24:05:25:04.02\",\"Evaluations to be Completed by the District per Parental Prior Written/Consent for Evaluation\n(24:05:25:04.02)\")","v":"Evaluations to be Completed by the District per Parental Prior Written/Consent for Evaluation\n(24:05:25:04.02)"},null,null,null,null,null,{"$f":"HYPERLINK(\"https://gosynth.com/p/s/zgdeev\",\"List areas:\")","v":"List areas:"},null,null,"Test administered:",null,null,null,"Test date:",null,"Evaluator:",null,null,"Select","V60",null,null,null,null,{"$f":"S61","v":"Select"},{"$f":"S61","v":"Select"}]
[null,null,null,null,null,null,null,null,null,null,null,null,null,null,null,null,null,null,null,null,null,null,null,{"$f":"Y62+Z62","v":0},{"$f":"COUNTIF(Y61,\"Yes\")*3","v":0},{"$f":"COUNTIF(Z61,\"No\")*3","v":0}]
[]
[]
[]
[]
[]
["For more evaluations requested click the [+]"]
[]
[]
[]
[]
[]
[]
[{"$f":"HYPERLINK(\"http://sdlegislature.gov/Rules/DisplayRule.aspx?Rule=24:05:25:04.02\",\"Existing Evaluation Data\nto be Pulled Forward\n(24:05:25:04.02)\")","v":"Existing Evaluation Data\nto be Pulled Forward\n(24:05:25:04.02)"},null,null,null,null,null,{"$f":"HYPERLINK(\"https://gosynth.com/p/s/pfohnr\",\"List areas:\")","v":"List areas:"},null,null,"Test administered:",null,null,null,"Test date:",null,"Evaluator:",null,null,"Select","V74",null,null,null,null,{"$f":"S75","v":"Select"},{"$f":"S75","v":"Select"}]
[null,null,null,null,null,null,null,null,null,null,null,null,null,null,null,null,null,null,null,null,null,null,null,{"$f":"Y76+Z76","v":0},{"$f":"COUNTIF(Y75,\"Yes\")*3","v":0},{"$f":"COUNTIF(Z75,\"No\")*3","v":0}]
[]
[]
[]
["For more existing data requested click the [+]"]
[]
[]
[]
[]
[{"$f":"HYPERLINK(\"http://sdlegislature.gov/Rules/DisplayRule.aspx?Rule=24:05:25:04.02\",\"Skills Based Assessment and Report\n(24:05:25:04.02)\")","v":"Skills Based Assessment and Report\n(24:05:25:04.02)"},null,null,null,null,null,{"$f":"HYPERLINK(\"https://gosynth.com/p/s/tbqnts\",\"List areas:\")","v":"List areas:"},null,null,"Test administered:",null,null,null,"Test date:",null,"Evaluator:",null,null,"Select","V84",null,null,null,null,{"$f":"S85","v":"Select"},{"$f":"S85","v":"Select"}]
[null,null,null,null,null,null,null,null,null,null,null,null,null,null,null,null,null,null,null,null,null,null,null,{"$f":"Y86+Z86","v":0},{"$f":"COUNTIF(Y85,\"Yes\")*3","v":0},{"$f":"COUNTIF(Z85,\"No\")*3","v":0}]
[]
[null,null,null,null,null,null,null,null,null,null,null,null,null,null,null,null,null,null,null,null,null,null,null,{"$f":"(X86+X100+X104+X106+X108+X110+X112+X115+X117+X120)/10","v":0},{"$f":"(Y86+Y100+Y104+Y106+Y108+Y110+Y112+Y115+Y117+Y120)/10","v":0}]
[]
[]
[]
["For more skills based requested click the [+]"]
[]
[]
[]
[]
[]
[]
[{"$f":"HYPERLINK(\"http://sdlegislature.gov/Rules/DisplayRule.aspx?Rule=24:05:25:03\",\"Consent Received\n(24:05:25:03)\")","v":"Consent Received\n(24:05:25:03)"},null,null,null,null,null,{"$f":"HYPERLINK(\"https://gosynth.com/p/s/ctcnlr\",\"Consent received date:\")","v":"Consent received date:"},null,null,null,null,{"$f":"K57","v":"2020-01-20"},null,null,"Mark \"No\" if dates are outside of \"consent received\" and/or \"25 school days\".",null,null,null,"Select","V98",null,null,null,null,{"$f":"S99","v":"Select"},{"$f":"S99","v":"Select"}]
[null,null,null,null,null,null,"Earliest testing date:",null,null,null,null,{"$f":"MIN(N63:O74,N87:O98)","v":"00:00:00"},null,null,null,null,null,null,null,null,null,null,null,{"$f":"Y100+Z100","v":0},{"$f":"COUNTIF(Y99,\"Yes\")*3","v":0},{"$f":"COUNTIF(Z99,\"No\")*3","v":0}]
[null,null,null,null,null,null,"Latest testing date:",null,null,null,null,{"$f":"MAX(N63:O74,N87:O98)","v":"00:00:00"}]
[null,null,null,null,null,null,"Within 25 School Days:",null,null,null,null,{"$f":"IF(ISBLANK(K60),K58,K60)","v":"2020-02-24"}]
[{"$f":"HYPERLINK(\"http://sdlegislature.gov/Rules/DisplayRule.aspx?Rule=24:05:25:20\",\"All Evaluations Administered \n(24:05:25:20)\")","v":"All Evaluations Administered \n(24:05:25:20)"},null,null,null,null,null,{"$f":"HYPERLINK(\"https://gosynth.com/p/s/mkcdef\",\"All evaluations marked on the PWWN/Consent for Evaluation form must be administered.\")","v":"All evaluations marked on the PWWN/Consent for Evaluation form must be administered."},null,null,null,null,null,null,null,null,null,null,null,"Select","V102",null,null,null,null,{"$f":"S103","v":"Select"},{"$f":"S103","v":"Select"}]
[null,null,null,null,null,null,null,null,null,null,null,null,null,null,null,null,null,null,null,null,null,null,null,{"$f":"Y104+Z104","v":0},{"$f":"COUNTIF(Y103,\"Yes\")*3","v":0},{"$f":"COUNTIF(Z103,\"No\")*3","v":0}]
[{"$f":"HYPERLINK(\"http://sdlegislature.gov/Rules/DisplayRule.aspx?Rule=24:05:25:06.01\",\"Consent was Acquired\n(24:05:25:06.01)\")","v":"Consent was Acquired\n(24:05:25:06.01)"},null,null,null,null,null,{"$f":"HYPERLINK(\"https://gosynth.com/p/s/mkcdef\",\"All evaluations administered must be requested on the PWWN/Consent for Evaluation \nform.\")","v":"All evaluations administered must be requested on the PWWN/Consent for Evaluation \nform."},null,null,null,null,null,null,null,null,null,null,null,"Select",null,null,null,null,null,{"$f":"S105","v":"Select"},{"$f":"S105","v":"Select"}]
[null,null,null,null,null,null,null,null,null,null,null,null,null,null,null,null,null,null,null,null,null,null,null,{"$f":"Y106+Z106","v":0},{"$f":"COUNTIF(Y105,\"Yes\")*3","v":0},{"$f":"COUNTIF(Z105,\"No\")*3","v":0}]
[{"$f":"HYPERLINK(\"http://sdlegislature.gov/Rules/DisplayRule.aspx?Rule=24:05:25:04\",\"Variety of Sources \n(24:05:25:04)\")","v":"Variety of Sources \n(24:05:25:04)"},null,null,null,null,null,{"$f":"HYPERLINK(\"https://gosynth.com/p/s/mkcdef\",\"Appropritate means to provide evaluations for accurate data were used. \")","v":"Appropritate means to provide evaluations for accurate data were used. "},null,null,null,null,null,null,null,null,null,null,null,"Select",null,null,null,null,null,{"$f":"S107","v":"Select"},{"$f":"S107","v":"Select"}]
[null,null,null,null,null,null,null,null,null,null,null,null,null,null,null,null,null,null,null,null,null,null,null,{"$f":"Y108+Z108","v":0},{"$f":"COUNTIF(Y107,\"Yes\")*3","v":0},{"$f":"COUNTIF(Z107,\"No\")*3","v":0}]
[{"$f":"HYPERLINK(\"http://sdlegislature.gov/Rules/DisplayRule.aspx?Rule=24:05:25:04\",\"Met Requirements for the Disability\n(24:05:25:04) \")","v":"Met Requirements for the Disability\n(24:05:25:04) "},null,null,null,null,null,{"$f":"HYPERLINK(\"https://gosynth.com/p/s/mkcdef\",\"Comprehensive Evaluations in all areas required for the disability. \")","v":"Comprehensive Evaluations in all areas required for the disability. "},null,null,null,null,null,null,null,null,null,null,null,"Select",null,null,null,null,null,{"$f":"S109","v":"Select"},{"$f":"S109","v":"Select"}]
[null,null,null,null,null,null,null,null,null,null,null,null,null,null,null,null,null,null,null,null,null,null,null,{"$f":"Y110+Z110","v":0},{"$f":"COUNTIF(Y109,\"Yes\")*3","v":0},{"$f":"COUNTIF(Z109,\"No\")*3","v":0}]
[{"$f":"HYPERLINK(\"http://sdlegislature.gov/Rules/DisplayRule.aspx?Rule=24:05:25:03\",\"Eligibility within 30 Calendar Days \n(24:05:25:03)\")","v":"Eligibility within 30 Calendar Days \n(24:05:25:03)"},null,null,null,null,null,{"$f":"HYPERLINK(\"https://gosynth.com/p/s/mkcdef\",\"Day 26 was on:\")","v":"Day 26 was on:"},null,null,null,null,{"$f":"WORKDAY(L102,1)","v":"2020-02-25"},null,null,null,null,null,null,"Select","V110",null,null,null,null,{"$f":"S111","v":"Select"},{"$f":"S111","v":"Select"}]
[null,null,null,null,null,null,"Eligibility Determination Date:",null,null,null,null,{"$f":"T7","v":"00:00:00"},null,null,null,null,null,null,null,null,null,null,null,{"$f":"Y112+Z112","v":0},{"$f":"COUNTIF(Y111,\"Yes\")*3","v":0},{"$f":"COUNTIF(Z111,\"No\")*3","v":0}]
[null,null,null,null,null,null,"Eligibility meeting date should have been by:",null,null,null,null,null,null,null,{"$f":"K59","v":"00:00:00"}]
[{"$f":"HYPERLINK(\"http://sdlegislature.gov/Rules/DisplayRule.aspx?Rule=24:05:25:04.03\",\"Student Eligible for Special Education \n(24:05:25:04.03)\")","v":"Student Eligible for Special Education \n(24:05:25:04.03)"},null,null,null,null,null,null,null,null,null,null,null,null,null,null,null,null,null,"Select",null,null,null,null,null,{"$f":"S114","v":"Select"},{"$f":"S114","v":"Select"}]
[null,null,null,null,null,null,null,null,null,null,null,null,null,null,null,null,null,null,null,null,null,null,null,{"$f":"Y115+Z115","v":0},{"$f":"COUNTIF(Y114,\"Yes\")*3","v":0},{"$f":"COUNTIF(Z114,\"No\")*3","v":0}]
[{"$f":"HYPERLINK(\"http://sdlegislature.gov/Rules/DisplayRule.aspx?Rule=24:05:25:06\",\"Three Year Re-Evaluation\n(24:05:25:06)\")","v":"Three Year Re-Evaluation\n(24:05:25:06)"},null,null,null,null,null,{"$f":"HYPERLINK(\"https://gosynth.com/p/s/mkcdef\",\"Current Eligibility Determination Date:\")","v":"Current Eligibility Determination Date:"},null,null,null,null,null,null,{"$f":"L112","v":"00:00:00"},null,null,null,null,"Select",null,null,null,null,null,{"$f":"S116","v":"Select"},{"$f":"S116","v":"Select"}]
[null,null,null,null,null,null,"Previous Eligibility Determination Date:",null,null,null,null,null,null,{"$f":"T8","v":"00:00:00"},null,null,null,null,null,null,null,null,null,{"$f":"Y117+Z117","v":0},{"$f":"COUNTIF(Y116,\"Yes\")*3","v":0},{"$f":"COUNTIF(Z116,\"No\")*3","v":0}]
[]
[{"$f":"HYPERLINK(\"https://gosynth.com/p/s/mkcdef\",\"Evaluated to Dismiss from Services  \")","v":"Evaluated to Dismiss from Services  "},null,null,null,null,null,null,null,null,null,null,null,null,null,null,null,null,null,"Select",null,null,null,null,null,{"$f":"S119","v":"Select"},{"$f":"S119","v":"Select"}]
[null,null,null,null,null,null,null,null,null,null,null,null,null,null,null,null,null,null,null,null,null,null,null,{"$f":"Y120+Z120","v":0},{"$f":"COUNTIF(Y119,\"Yes\")*3","v":0},{"$f":"COUNTIF(Z119,\"No\")*3","v":0}]
[]
[{"$f":"HYPERLINK(\"https://gosynth.com/p/s/giwoma\",\"Eligibility Document for Specific Learning Disability\")","v":"Eligibility Document for Specific Learning Disability"},null,null,null,null,null,null,null,null,null,null,null,null,null,null,null,null,null,{"$f":"IFERROR(Y126/X126,\"N/A\")","v":"N/A"}]
["If student is not eligible for Specific Learning Disability, skip this section.  Click on the [+] button if section is not visible. ",null,null,null,null,null,null,null,null,null,null,null,null,null,null,null,null,null,"Select","V122",null,null,null,null,{"$f":"S123","v":"Select"},{"$f":"S123","v":"Select"}]
[{"$f":"HYPERLINK(\"http://sdlegislature.gov/Rules/DisplayRule.aspx?Rule=24:05:24.01:19\",\"Specific Learning Disabilities\n(24:05:24.01:19)\")","v":"Specific Learning Disabilities\n(24:05:24.01:19)"},null,null,null,null,null,"Check the following:",null,null,null,null,null,null,null,null,null,null,null,null,null,null,null,null,{"$f":"Y124+Z124","v":0},{"$f":"COUNTIF(Y123,\"Yes\")*3","v":0},{"$f":"COUNTIF(Z123,\"No\")*3","v":0}]
[]
[null,null,null,null,null,null,null,"Reading Comprehension",null,null,null,null,null,"Math Calculation",null,null,null,null,null,null,null,null,null,{"$f":"(X124+X132+X151+X165+X174)/5","v":0},{"$f":"(Y124+Y132+Y151+Y165+Y174)/5","v":0}]
[null,null,null,null,null,null,null,"Basic Reading Skills",null,null,null,null,null,"Math Problem Solving"]
[null,null,null,null,null,null,null,"Reading Fluency",null,null,null,null,null,"Listening Comprehension"]
[null,null,null,null,null,null,null,"Written Expression",null,null,null,null,null,"Oral Expression"]
[]
["For Initial Determination of Eligibility Only",null,null,null,null,null,null,null,null,null,null,null,null,null,null,null,null,null,"Select","V130",null,null,null,null,{"$f":"S131","v":"Select"},{"$f":"S131","v":"Select"}]
[{"$f":"HYPERLINK(\"http://sdlegislature.gov/Rules/DisplayRule.aspx?Rule=24:05:24.01:19\",\"Initial Eligibility\n(24:05:24.01:19)\")","v":"Initial Eligibility\n(24:05:24.01:19)"},null,null,null,null,null,"Written report must include:",null,null,null,null,null,null,null,null,null,null,null,null,null,null,null,null,{"$f":"Y132+Z132","v":0},{"$f":"COUNTIF(Y131,\"Yes\")*3","v":0},{"$f":"COUNTIF(Z131,\"No\")*3","v":0}]
[]
[null,null,null,null,null,null,null,"Student achieves adequately",null,null,null,null,"Lack of appropriate instruction"]
[]
[null,null,null,null,null,null,null,"Student exhibits pattern of strengths & weaknesses",null,null,null,null,"Observation of the student"]
[]
[null,null,null,null,null,null,null,null,null,null,null,null,"Relevant medical findings (if any)"]
[null,null,null,null,null,null,null,"Student was provided appropriate instruction in regular education settings by qualified personnel"]
[null,null,null,null,null,null,null,null,null,null,null,null,"Achievement level problem is/is not primarily the result of another factor (e.g. emotional disturbance, cognitive impairment, etc.)"]
[]
[]
[null,null,null,null,null,null,null,"Repeated assessment of achievement reflecting student progress"]
[]
[]
[null,null,null,null,null,null,null,"Attendance record",null,null,null,null,"Adverse effect on educational performance"]
[]
[]
["Click on the [+] button to expand or the [-] button to collapse."]
["For Reevaluation of Eligibility Only",null,null,null,null,null,null,null,null,null,null,null,null,null,null,null,null,null,"Select","V149",null,null,null,null,{"$f":"S150","v":"Select"},{"$f":"S150","v":"Select"}]
[{"$f":"HYPERLINK(\"http://sdlegislature.gov/Rules/DisplayRule.aspx?Rule=24:05:24.01:19\",\"Reevaluation of Eligibility\n(24:05:24.01:19)\")","v":"Reevaluation of Eligibility\n(24:05:24.01:19)"},null,null,null,null,null,"Written report must include:",null,null,null,null,null,null,null,null,null,null,null,null,null,null,null,null,{"$f":"Y151+Z151","v":0},{"$f":"COUNTIF(Y150,\"Yes\")*3","v":0},{"$f":"COUNTIF(Z150,\"No\")*3","v":0}]
[]
[null,null,null,null,null,null,null,"Student achieves adequately",null,null,null,null,"Achievement level problem is/is not primarily the result of another factor (e.g. emotional disturbance, cognitive impairment, etc.)"]
[]
[null,null,null,null,null,null,null,"Student exhibits pattern of strengths & weaknesses"]
[]
[]
[null,null,null,null,null,null,null,"Observation of the student"]
[null,null,null,null,null,null,null,null,null,null,null,null,"Adverse effect on educational performance"]
[null,null,null,null,null,null,null,"Relevant medical findings (if any)"]
[]
[]
["Click on the [+] button to expand or the [-] button to collapse."]
[{"$f":"HYPERLINK(\"http://sdlegislature.gov/Rules/DisplayRule.aspx?Rule=24:05:25:08\",\"Team Member Signatures \n(24:05:25:08)\")","v":"Team Member Signatures \n(24:05:25:08)"},null,null,null,null,null,"Check the following:",null,null,null,null,null,null,null,null,null,null,null,"Select","V163",null,null,null,null,{"$f":"S164","v":"Select"},{"$f":"S164","v":"Select"}]
[null,null,null,null,null,null,null,null,null,null,null,null,null,null,null,null,null,null,null,null,null,null,null,{"$f":"Y165+Z165","v":0},{"$f":"COUNTIF(Y164,\"Yes\")*3","v":0},{"$f":"COUNTIF(Z164,\"No\")*3","v":0}]
[null,null,null,null,null,null,null,"Parent",null,null,null,null,"Each group member shall certify in writing whether the report reflects the group member's conclusion. If it does not reflect the group member's conclusion, the group member must submit the conclusion in a separate statement."]
[null,null,null,null,null,null,null,"General Education Teacher"]
[{"$f":"HYPERLINK(\"http://sdlegislature.gov/Rules/DisplayRule.aspx?Rule=24:05:25:13\",\"Group Members to Certify \nReport in Writing \n(24:05:25:13)\")","v":"Group Members to Certify \nReport in Writing \n(24:05:25:13)"},null,null,null,null,null,null,"Special Education Teacher"]
[null,null,null,null,null,null,null,"Qualified interpreter of results"]
[null,null,null,null,null,null,null,"LEA Representative"]
[null,null,null,null,null,null,null,"If disagreed, written input was provided"]
[]
[null,null,null,null,null,null,"Check PWWN for eligibility decisions.                         ",null,null,null,null,"Skip to","PPWN.",null,null,null,null,null,"Select",null,null,null,null,null,{"$f":"S173","v":"Select"},{"$f":"S173","v":"Select"}]
[null,null,null,null,null,null,null,null,null,null,null,null,null,null,null,null,null,null,null,null,null,null,null,{"$f":"Y174+Z174","v":0},{"$f":"COUNTIF(Y173,\"Yes\")*3","v":0},{"$f":"COUNTIF(Z173,\"No\")*3","v":0}]
[]
[{"$f":"HYPERLINK(\"https://gosynth.com/p/s/mzphio\",\"Meeting Notice\")","v":"Meeting Notice"},null,null,null,null,null,null,null,null,null,null,null,null,null,null,null,null,null,{"$f":"IFERROR(Y184/X184,\"N/A\")","v":"N/A"}]
["Meeting Notice",null,null,null,null,null,"Date sent:",null,null,null,null,null,"From this point on use the current IEP's documentation.",null,null,null,null,null,"Select","V174",null,null,null,null,{"$f":"S177","v":"Select"},{"$f":"S177","v":"Select"}]
[{"$f":"HYPERLINK(\"http://sdlegislature.gov/Rules/DisplayRule.aspx?Rule=24:05:30:02.01\",\"(24:05:30:02.01)\")","v":"(24:05:30:02.01)"},null,null,{"$f":"HYPERLINK(\"http://sdlegislature.gov/Rules/DisplayRule.aspx?Rule=24:05:25:16\",\"(24:05:25:16)\")","v":"(24:05:25:16)"},null,null,"Meeting date:",null,null,{"$f":"T5","v":"00:00:00"},null,null,null,null,null,null,null,null,null,null,null,null,null,{"$f":"Y178+Z178","v":0},{"$f":"COUNTIF(Y177,\"Yes\")*3","v":0},{"$f":"COUNTIF(Z177,\"No\")*3","v":0}]
["Procedural Safeguards",null,null,null,null,null,"Must be given to parents annually.",null,null,null,null,null,null,null,null,null,null,null,"Select",null,null,null,null,null,{"$f":"S179","v":"Select"},{"$f":"S179","v":"Select"}]
[{"$f":"HYPERLINK(\"http://sdlegislature.gov/Rules/DisplayRule.aspx?Rule=24:05:30:06.01\",\"(24:05:30:06.01)\")","v":"(24:05:30:06.01)"},null,null,{"$f":"HYPERLINK(\"http://sdlegislature.gov/Rules/DisplayRule.aspx?Rule=24:05:30:06.02\",\"(24:05:30:06.02)\")","v":"(24:05:30:06.02)"},null,null,null,null,null,null,null,null,null,null,null,null,null,null,null,null,null,null,null,{"$f":"Y180+Z180","v":0},{"$f":"COUNTIF(Y179,\"Yes\")*3","v":0},{"$f":"COUNTIF(Z179,\"No\")*3","v":0}]
["IEP Team",null,null,null,null,null,"Complete the following:",null,null,null,null,null,null,null,null,null,null,null,"Select",null,null,null,null,null,{"$f":"S181","v":"Select"},{"$f":"S181","v":"Select"}]
[null,null,null,null,null,null,null,null,null,null,null,null,null,null,null,null,null,null,null,null,null,null,null,{"$f":"Y182+Z182","v":0},{"$f":"COUNTIF(Y181,\"Yes\")*3","v":0},{"$f":"COUNTIF(Z181,\"No\")*3","v":0}]
[null,null,null,null,null,null,null,"The documentation of people attending the IEP meeting on front page of the IEP does not imply agreement, it is for participation purposes only."]
[null,null,null,null,null,null,null,null,null,null,null,null,null,null,null,null,null,null,null,null,null,null,null,{"$f":"(X178+X180+X182+X198)/4","v":0},{"$f":"(Y178+Y180+Y182+Y198)/4","v":0}]
[null,null,null,null,null,null,null,"Identified on the meeting notice:",null,null,"Attended the meeting:",null,null,"Did not attend\nthe meeting:"]
[]
[{"$f":"HYPERLINK(\"http://sdlegislature.gov/Rules/DisplayRule.aspx?Rule=24:05:25:16\",\"(24:05:25:16)\")","v":"(24:05:25:16)"},null,null,null,null,null,null,"Parent/Guardian"]
[null,null,null,null,null,null,null,"Student"]
[null,null,null,null,null,null,null,"Gen. Ed. Teacher"]
[null,null,null,null,null,null,null,"Sp. Ed. Teacher"]
["Parent Participation",null,null,null,null,null,null,"Eval Interpreter"]
[{"$f":"HYPERLINK(\"http://sdlegislature.gov/Rules/DisplayRule.aspx?Rule=24:05:25:16\",\"(24:05:25:16)\")","v":"(24:05:25:16)"},null,null,null,null,null,null,"LEA Representative"]
[null,null,null,null,null,null,null,"List Others"]
[null,null,null,null,null,null,null,"List Others"]
[null,null,null,null,null,null,null,"List Others"]
[]
["IEP Team Attendance \n (24:05:27:01.05)",null,null,null,null,null,"A member of the IEP team may be excused from attending, in whole or in part, an IEP team meeting that involves a modification to or discussion of the member's area of the curriculum or related services, if:\n   (1) The parent and school district consent in writing to the excusal; and\n   (2) The member submits, in writing to the parent and the IEP team, input into the development of the IEP before the meeting.",null,null,null,null,null,null,null,null,null,null,null,"Select","V194",null,null,null,null,{"$f":"S197","v":"Select"},{"$f":"S197","v":"Select"}]
[null,null,null,null,null,null,null,null,null,null,null,null,null,null,null,null,null,null,null,null,null,null,null,{"$f":"Y198+Z198","v":0},{"$f":"COUNTIF(Y197,\"Yes\")*3","v":0},{"$f":"COUNTIF(Z197,\"No\")*3","v":0}]
[]
[]
[]
[]
[{"$f":"HYPERLINK(\"https://gosynth.com/p/s/jshfqs\",\"          Individual Education Plan (Use the most recent IEP.)\n\")","v":"          Individual Education Plan (Use the most recent IEP.)\n"},null,null,null,null,null,null,null,null,null,null,null,null,null,null,null,null,null,{"$f":"IFERROR(Y210/X210,\"N/A\")","v":"N/A"}]
[{"$f":"HYPERLINK(\"http://sdlegislature.gov/Rules/DisplayRule.aspx?Rule=24:05:25:04.03\",\"Evaluation Reports Given to Parents \n(24:05:25:04.03)\")","v":"Evaluation Reports Given to Parents \n(24:05:25:04.03)"},null,null,null,null,null,"Evidence the parent received a copy of the reports (e.g.  initials on the front page IEP or other evidence). ",null,null,null,null,null,null,null,null,null,null,null,"Select","V201",null,null,null,null,{"$f":"S204","v":"Select"},{"$f":"S204","v":"Select"}]
[null,null,null,null,null,null,null,null,null,null,null,null,null,null,null,null,null,null,null,null,null,null,null,{"$f":"Y205+Z205","v":0},{"$f":"COUNTIF(Y204,\"Yes\")*3","v":0},{"$f":"COUNTIF(Z204,\"No\")*3","v":0}]
[{"$f":"HYPERLINK(\"http://sdlegislature.gov/Rules/DisplayRule.aspx?Rule=24:05:25:19\",\"Copy of IEP Given to Parents \n(24:05:25:19)\")","v":"Copy of IEP Given to Parents \n(24:05:25:19)"},null,null,null,null,null,"Evidence copy of the IEP was given to parents (e.g.  initials on the front page, addressed in PPWN, or other evidence).",null,null,null,null,null,null,null,null,null,null,null,"Select",null,null,null,null,null,{"$f":"S206","v":"Select"},{"$f":"S206","v":"Select"}]
[null,null,null,null,null,null,null,null,null,null,null,null,null,null,null,null,null,null,null,null,null,null,null,{"$f":"Y207+Z207","v":0},{"$f":"COUNTIF(Y206,\"Yes\")*3","v":0},{"$f":"COUNTIF(Z206,\"No\")*3","v":0}]
[{"$f":"HYPERLINK(\"http://sdlegislature.gov/Rules/DisplayRule.aspx?Rule=24:05:27:08\",\"Met Annually\n(24:05:27:08)\")","v":"Met Annually\n(24:05:27:08)"},null,null,null,null,null,"Current IEP Meeting Date:",null,null,null,null,{"$f":"T5","v":"00:00:00"},null,null,null,null,null,null,"Select",null,null,null,null,null,{"$f":"S208","v":"Select"},{"$f":"S208","v":"Select"}]
[null,null,null,null,null,null,"Previous IEP Meeting Date:",null,null,null,null,{"$f":"T6","v":"00:00:00"},null,null,null,null,null,null,null,null,null,null,null,{"$f":"Y209+Z209","v":0},{"$f":"COUNTIF(Y208,\"Yes\")*3","v":0},{"$f":"COUNTIF(Z208,\"No\")*3","v":0}]
[null,null,null,null,null,null,null,null,null,null,null,null,null,null,null,null,null,null,null,null,null,null,null,{"$f":"(X205+X207+X209)/3","v":0},{"$f":"(Y205+Y207+Y209)/3","v":0}]
[{"$f":"HYPERLINK(\"https://gosynth.com/p/s/eypdgf\",\"Present Levels of Academic Achievement & Functional Performance\")","v":"Present Levels of Academic Achievement & Functional Performance"},null,null,null,null,null,null,null,null,null,null,null,null,null,null,null,null,null,{"$f":"IFERROR(Y243/X243,\"N/A\")","v":"N/A"}]
[{"$f":"HYPERLINK(\"http://sdlegislature.gov/Rules/DisplayRule.aspx?Rule=24:05:27:01.03\",\"Progress/Involvement in \nGeneral Education Curriculum\n(24:05:27:01.03)\")","v":"Progress/Involvement in \nGeneral Education Curriculum\n(24:05:27:01.03)"},null,null,null,null,null,"A statement of the student's present levels of academic achievement and functional performance, including:\n   (a)  How the student's disability affects the student's involvement and progress in the general education curriculum (i.e., the same curriculum as for nondisabled students); or\n   (b)  For preschool student, as appropriate, how the disability affects the student's participation in appropriate activities;\nis found in the document.",null,null,null,null,null,null,null,null,null,null,null,"Select","V209",null,null,null,null,{"$f":"S212","v":"Select"},{"$f":"S212","v":"Select"}]
[null,null,null,null,null,null,null,null,null,null,null,null,null,null,null,null,null,null,null,null,null,null,null,{"$f":"Y213+Z213","v":0},{"$f":"COUNTIF(Y212,\"Yes\")*3","v":0},{"$f":"COUNTIF(Z212,\"No\")*3","v":0}]
[]
[{"$f":"HYPERLINK(\"https://sdlegislature.gov/Rules/DisplayRule.aspx?Rule=24:05:25:16\",\"Parent Participation\n(24:05:25:16)\")","v":"Parent Participation\n(24:05:25:16)"},null,null,null,null,null,"The purpose of this area for parent to provide IEP team information about how the child’s disability is impacted at home. Parents can also provide input on types of strategies and supports they provide at home.",null,null,null,null,null,null,null,null,null,null,null,"Select",null,null,null,null,null,{"$f":"S215","v":"Select"},{"$f":"S215","v":"Select"}]
[null,null,null,null,null,null,null,null,null,null,null,null,null,null,null,null,null,null,null,null,null,null,null,{"$f":"Y216+Z216","v":0},{"$f":"COUNTIF(Y215,\"Yes\")*3","v":0},{"$f":"COUNTIF(Z215,\"No\")*3","v":0}]
[{"$f":"HYPERLINK(\"http://sdlegislature.gov/Rules/DisplayRule.aspx?Rule=24:05:27:01.03\",\"Present Levels of \nAcademic Achievement \n& Functional Performance\nLinked to Annual Goals\n(24:05:27:01.03)\")","v":"Present Levels of \nAcademic Achievement \n& Functional Performance\nLinked to Annual Goals\n(24:05:27:01.03)"},null,null,null,null,null,"Skill Area:",null,null,null,null,"Measuarable Goal:",null,null,null,null,null,null,"Select","V214",null,null,null,null,{"$f":"S217","v":"Select"},{"$f":"S217","v":"Select"}]
[null,null,null,null,null,null,null,null,null,null,null,null,null,null,null,null,null,null,null,null,null,null,null,{"$f":"Y218+Z218","v":0},{"$f":"COUNTIF(Y217,\"Yes\")*3","v":0},{"$f":"COUNTIF(Z217,\"No\")*3","v":0}]
[null,null,null,null,null,null,null,"Strengths",null,null,null,null,"Condition",null,null,"How well"]
[null,null,null,null,null,null,null,"Needs",null,null,null,null,"Performance",null,null,"How often"]
[null,null,null,null,null,null,null,"Link to evaluation"]
[]
[null,null,null,null,null,null,"Skill Area:",null,null,null,null,"Measuarable Goal:",null,null,null,null,null,null,"Select",null,null,null,null,null,{"$f":"S223","v":"Select"},{"$f":"S223","v":"Select"}]
[null,null,null,null,null,null,null,null,null,null,null,null,null,null,null,null,null,null,null,null,null,null,null,{"$f":"Y224+Z224","v":0},{"$f":"COUNTIF(Y223,\"Yes\")*3","v":0},{"$f":"COUNTIF(Z223,\"No\")*3","v":0}]
[null,null,null,null,null,null,null,"Strengths",null,null,null,null,"Condition",null,null,"How well"]
[null,null,null,null,null,null,null,"Needs",null,null,null,null,"Performance",null,null,"How often"]
[null,null,null,null,null,null,null,"Link to evaluation"]
[]
[null,null,null,null,null,null,"Skill Area:",null,null,null,null,"Measuarable Goal:",null,null,null,null,null,null,"Select",null,null,null,null,null,{"$f":"S229","v":"Select"},{"$f":"S229","v":"Select"}]
[null,null,null,null,null,null,null,null,null,null,null,null,null,null,null,null,null,null,null,null,null,null,null,{"$f":"Y230+Z230","v":0},{"$f":"COUNTIF(Y229,\"Yes\")*3","v":0},{"$f":"COUNTIF(Z229,\"No\")*3","v":0}]
[null,null,null,null,null,null,null,"Strengths",null,null,null,null,"Condition",null,null,"How well"]
[null,null,null,null,null,null,null,"Needs",null,null,null,null,"Performance",null,null,"How often"]
[null,null,null,null,null,null,null,"Link to evaluation"]
[]
[{"$f":"HYPERLINK(\"http://sdlegislature.gov/Rules/DisplayRule.aspx?Rule=24:05:27:01.03\",\"How Progress will be Measured\n(24:05:27:01.03)\")","v":"How Progress will be Measured\n(24:05:27:01.03)"},null,null,null,null,null,{"$f":"HYPERLINK(\"https://gosynth.com/p/s/psaxcx\",\"         Check the following:\")","v":"         Check the following:"},null,null,null,null,null,null,null,null,null,null,null,"Select","V232",null,null,null,null,{"$f":"S235","v":"Select"},{"$f":"S235","v":"Select"}]
[null,null,null,null,null,null,null,null,null,null,null,null,null,null,null,null,null,null,null,null,null,null,null,{"$f":"Y236+Z236","v":0},{"$f":"COUNTIF(Y235,\"Yes\")*3","v":0},{"$f":"COUNTIF(Z235,\"No\")*3","v":0}]
[null,null,null,null,null,null,null,"Reporting frequency",null,null,null,null,"Extent of progress"]
[null,null,null,null,null,null,null,"Reporting method"]
[]
[{"$f":"HYPERLINK(\"http://sdlegislature.gov/Rules/DisplayRule.aspx?Rule=24:05:27:01.03\",\"Accommodations/Modifications\n(24:05:27:01.03)\")","v":"Accommodations/Modifications\n(24:05:27:01.03)"},null,null,null,null,null,{"$f":"HYPERLINK(\"https://gosynth.com/p/s/rtpvrq\",\"         Check the following:\")","v":"         Check the following:"},null,null,null,null,"List Instructional Accommodations:",null,null,null,null,null,null,"Select","V237",null,null,null,null,{"$f":"S240","v":"Select"},{"$f":"S240","v":"Select"}]
[null,null,null,null,null,null,null,"Frequency",null,null,null,null,null,null,null,null,null,null,null,null,null,null,null,{"$f":"Y241+Z241","v":0},{"$f":"COUNTIF(Y240,\"Yes\")*3","v":0},{"$f":"COUNTIF(Z240,\"No\")*3","v":0}]
[null,null,null,null,null,null,null,"Duration"]
[null,null,null,null,null,null,null,"Location",null,null,null,null,null,null,null,null,null,null,null,null,null,null,null,{"$f":"(X241+X236+X230+X224+X218+X216+X213)/7","v":0},{"$f":"(Y241+Y236+Y230+Y224+Y218+Y216+Y213)/7","v":0}]
[]
[]
[null,null,null,null,null,null,null,"Are the accommodations appropriate for the skill areas affected by the diability?"]
[]
[]
[]
[null,null,null,null,null,null,null,null,"Yes"]
[null,null,null,null,null,null,null,null,"No"]
[]
[]
[]
[{"$f":"HYPERLINK(\"https://gosynth.com/p/s/ygpazf\",\"Special Factors\")","v":"Special Factors"},null,null,null,null,null,null,null,null,null,null,null,null,null,null,null,null,null,{"$f":"IFERROR(Y294/X294,\"N/A\")","v":"N/A"}]
[{"$f":"HYPERLINK(\"http://sdlegislature.gov/Rules/DisplayRule.aspx?Rule=24:05:27:01.02\",\"Considerations\n(24:05:27:01.02)\")","v":"Considerations\n(24:05:27:01.02)"},null,null,null,null,null,"Select for each:",null,null,"Determine if data supports the selection for each special factor; if not addressed, check \"N\"  for score.",null,null,null,null,null,null,null,null,"Select","V243",null,null,null,null,{"$f":"S256","v":"Select"},{"$f":"S256","v":"Select"}]
[null,null,null,null,null,null,null,null,null,null,null,null,null,null,null,null,null,null,null,null,null,null,null,{"$f":"Y257+Z257","v":0},{"$f":"COUNTIF(Y256,\"Yes\")*3","v":0},{"$f":"COUNTIF(Z256,\"No\")*3","v":0}]
[null,null,null,null,null,null,null,null,null,"Limited English proficient"]
[null,null,null,null,null,null,null,null,null,"Special communication needs"]
[null,null,null,null,null,null,null,null,null,"Requires Braille"]
[null,null,null,null,null,null,null,null,null,"Behavior impedes learning"]
[null,null,null,null,null,null,null,null,null,"Requires assistive technology & services"]
[null,null,null,null,null,null,null,null,null,"Physical education"]
[null,null,null,null,null,null,null,null,null,"Hearing aid maintenance"]
[{"$f":"HYPERLINK(\"http://sdlegislature.gov/Rules/DisplayRule.aspx?Rule=24:05:27:01.03\",\"State/District Assessments\n(24:05:27:01.03)\")","v":"State/District Assessments\n(24:05:27:01.03)"},null,null,null,null,null,{"$f":"HYPERLINK(\"https://gosynth.com/p/s/jdbbir\",\"             Students will be taking state and district-wide assessments:\")","v":"             Students will be taking state and district-wide assessments:"},null,null,null,null,null,null,null,null,null,null,null,"Select","V263",null,null,null,null,{"$f":"S265","v":"Select"},{"$f":"S265","v":"Select"}]
[null,null,null,null,null,null,null,"With accommodations",null,null,null,null,"Without accommodations",null,null,null,null,null,null,null,null,null,null,{"$f":"Y266+Z266","v":0},{"$f":"COUNTIF(Y265,\"Yes\")*3","v":0},{"$f":"COUNTIF(Z265,\"No\")*3","v":0}]
[null,null,null,null,null,null,"Testing accommodations must reflect instructional accommodations."]
[null,null,null,null,null,null,"Do the accommodations for the state/district assesment(s) \nmatch the instructional accommodations?"]
[]
[null,null,null,null,null,null,"Instructional \nAccommodations",null,null,null,"State/District\nAssessment\nAccommodations",null,null,null,"Select\nyes or no:"]
[]
[]
[null,null,null,null,null,null,{"$f":"L241","v":0},null,null,null,null,null,null,null,"- Select -"]
[null,null,null,null,null,null,0,null,null,null,null,null,null,null,"- Select -"]
[null,null,null,null,null,null,0,null,null,null,null,null,null,null,"- Select -"]
[null,null,null,null,null,null,0,null,null,null,null,null,null,null,"- Select -"]
[null,null,null,null,null,null,0]
[null,null,null,null,null,null,0,null,null,null,null,null,null,null,"- Select -"]
[null,null,null,null,null,null,0,null,null,null,null,null,null,null,"- Select -"]
[null,null,null,null,null,null,0]
[null,null,null,null,null,null,0]
[null,null,null,null,null,null,0,null,null,null,null,null,null,null,"- Select -"]
[null,null,null,null,null,null,0,null,null,null,null,null,null,null,"- Select -"]
[null,null,null,null,null,null,0,null,null,null,null,null,null,null,"- Select -"]
[null,null,null,null,null,null,0,null,null,null,null,null,null,null,"- Select -"]
[null,null,null,null,null,null,0,null,null,null,null,null,null,null,"- Select -"]
[null,null,null,null,null,null,"Were the accommodations for\n the state assessment identified \non the IEP provided according to \nthe assessment data sheet?"]
[null,null,null,null,null,null,null,null,null,null,null,null,null,"- Select -"]
[]
[{"$f":"HYPERLINK(\"http://sdlegislature.gov/Rules/DisplayRule.aspx?Rule=24:05:27:01.03\",\"Alternate Assessments\n(24:05:27:01.03)\")","v":"Alternate Assessments\n(24:05:27:01.03)"},null,null,null,null,null,{"$f":"HYPERLINK(\"https://gosynth.com/p/s/bjlejx\",\"                  The following must be met:\")","v":"                  The following must be met:"},null,null,null,null,null,null,null,null,null,null,null,"Select","V257",null,null,null,null,{"$f":"S290","v":"Select"},{"$f":"S290","v":"Select"}]
[null,null,null,null,null,null,null,null,null,null,null,null,null,null,null,null,null,null,null,null,null,null,null,{"$f":"Y291+Z291","v":0},{"$f":"COUNTIF(Y290,\"Yes\")*3","v":0},{"$f":"COUNTIF(Z290,\"No\")*3","v":0}]
[null,null,null,null,null,null,null,"Student meets the significant cognitive disability criteria"]
[null,null,null,null,null,null,null,"Explanation for why student cannot participate in the regular assessment"]
[null,null,null,null,null,null,null,null,null,null,null,null,null,null,null,null,null,null,null,null,null,null,null,{"$f":"(X291+X266+X257)/3","v":0},{"$f":"(Y291+Y266+Y257)/3","v":0}]
[null,null,null,null,null,null,null,"Explanation for why the alternate assessment selected is appropriate"]
[]
[null,null,null,null,null,null,null,"The alternate assessment is for students working in the alternate achievement standards.  Annual goals and short term objectives are required.                                                                         \n                                                                        "]
[]
[]
[null,null,null,null,null,null,"Does the PPWN explain why IEP team decided alternate assessment for the student?"]
[null,null,null,null,null,null,"Does the student taking the\n alternate assessment meet\n the criteria, has it been \ndocumented on the IEP?"]
[null,null,null,null,null,null,null,null,null,null,null,null,null,"- Select -"]
[]
[]
[{"$f":"HYPERLINK(\"https://gosynth.com/p/s/itwkve\",\"Transition\")","v":"Transition"},null,null,null,null,null,null,null,null,null,null,null,null,null,null,null,null,null,{"$f":"IFERROR(Y306/X306,\"N/A\")","v":"N/A"}]
["Indicator 13 Item 1",null,null,null,null,null,null,null,null,null,null,null,null,null,null,null,null,null,null,null,null,null,null,{"$f":"(X308+X310+X312+X314+X316+X319+X321+X323+X326+X329+X331+X333+X336+X338+X340+X343+X345+X347+X350+X356+X362+X364+X366+X369)/24","v":0},{"$f":"(Y308+Y310+Y312+Y314+Y316+Y319+Y321+Y323+Y326+Y329+Y331+Y333+Y336+Y338+Y340+Y343+Y345+Y347+Y350+Y356+Y362+Y364+Y366+Y369)/24","v":0}]
[{"$f":"HYPERLINK(\"http://sdlegislature.gov/Rules/DisplayRule.aspx?Rule=24:05:27:01.03\",\"Transition IEP*\n(24:05:27:01.03)\")","v":"Transition IEP*\n(24:05:27:01.03)"},null,null,null,null,null,{"$f":"HYPERLINK(\"https://gosynth.com/p/s/itwkve\",\"Transition IEP must be in effect for all students on their 16 birthday or for younger students if it is addressed in the IEP.   \n*This is not on the Indicator 13 checklist, but it is a compliance requirement. \")","v":"Transition IEP must be in effect for all students on their 16 birthday or for younger students if it is addressed in the IEP.   \n*This is not on the Indicator 13 checklist, but it is a compliance requirement. "},null,null,null,null,null,null,null,null,null,null,null,"Select","V269",null,null,null,null,{"$f":"S307","v":"Select"},{"$f":"S307","v":"Select"}]
[null,null,null,null,null,null,null,null,null,null,null,null,null,null,null,null,null,null,null,null,null,null,null,{"$f":"Y308+Z308","v":0},{"$f":"COUNTIF(Y307,\"Yes\")*3","v":0},{"$f":"COUNTIF(Z307,\"No\")*3","v":0}]
[null,null,null,null,null,null,null,null,null,null,null,null,null,null,null,null,null,null,"Select",null,null,null,null,null,{"$f":"S309","v":"Select"},{"$f":"S309","v":"Select"}]
[{"$f":"HYPERLINK(\"http://sdlegislature.gov/Rules/DisplayRule.aspx?Rule=24:05:27:01.03\",\"Transition Assessments\n(24:05:27:01.03)\")","v":"Transition Assessments\n(24:05:27:01.03)"},null,null,null,null,null,null,"Employment",null,null,null,null,null,null,null,null,null,null,null,null,null,null,null,{"$f":"Y310+Z310","v":0},{"$f":"COUNTIF(Y309,\"Yes\")*3","v":0},{"$f":"COUNTIF(Z309,\"No\")*3","v":0}]
[null,null,null,null,null,null,null,null,null,null,null,null,null,null,null,null,null,null,"Select",null,null,null,null,null,{"$f":"S311","v":"Select"},{"$f":"S311","v":"Select"}]
[null,null,null,null,null,null,null,"Education/Training",null,null,null,null,null,null,null,null,null,null,null,null,null,null,null,{"$f":"Y312+Z312","v":0},{"$f":"COUNTIF(Y311,\"Yes\")*3","v":0},{"$f":"COUNTIF(Z311,\"No\")*3","v":0}]
[null,null,null,null,null,null,null,"Independent Living",null,null,null,null,null,null,null,null,null,null,"Select",null,null,null,null,null,{"$f":"S313","v":"Select"},{"$f":"S313","v":"Select"}]
[null,null,null,null,null,null,{"$f":"HYPERLINK(\"https://gosynth.com/p/s/itwkve\",\"The transition assessment must be completed prior to the age of 16 and updated annually.  Evidence of transition strengths/ needs are document on the PLAAFPs.  \")","v":"The transition assessment must be completed prior to the age of 16 and updated annually.  Evidence of transition strengths/ needs are document on the PLAAFPs.  "},null,null,null,null,null,null,null,null,null,null,null,null,null,null,null,null,{"$f":"Y314+Z314","v":0},{"$f":"COUNTIF(Y313,\"Yes\")*3","v":0},{"$f":"COUNTIF(Z313,\"No\")*3","v":0}]
["Transition Evaluation Report*\n",null,null,null,null,null,{"$f":"HYPERLINK(\"https://gosynth.com/p/s/itwkve\",\"A transition evaluation report is located in the file.\n\n*This is not on the Indicator 13 checklist, but it is a compliance requirement. \")","v":"A transition evaluation report is located in the file.\n\n*This is not on the Indicator 13 checklist, but it is a compliance requirement. "},null,null,null,null,null,null,null,null,null,null,null,"Select",null,null,null,null,null,{"$f":"S315","v":"Select"},{"$f":"S315","v":"Select"}]
[null,null,null,null,null,null,null,null,null,null,null,null,null,null,null,null,null,null,null,null,null,null,null,{"$f":"Y316+Z316","v":0},{"$f":"COUNTIF(Y315,\"Yes\")*3","v":0},{"$f":"COUNTIF(Z315,\"No\")*3","v":0}]
[{"$f":"HYPERLINK(\"https://gosynth.com/p/s/itwkve\",\"Indicator 13 Item 2\")","v":"Indicator 13 Item 2"}]
[{"$f":"HYPERLINK(\"http://sdlegislature.gov/Rules/DisplayRule.aspx?Rule=24:05:27:01.03\",\"Age-Appropriate Measurable \nPost-Secondary Goals \n(24:05:27:01.03)\")","v":"Age-Appropriate Measurable \nPost-Secondary Goals \n(24:05:27:01.03)"},null,null,null,null,null,null,"Employment",null,null,null,null,null,null,null,null,null,null,"Select","V278",null,null,null,null,{"$f":"S318","v":"Select"},{"$f":"S318","v":"Select"}]
[null,null,null,null,null,null,null,null,null,null,null,null,null,null,null,null,null,null,null,null,null,null,null,{"$f":"Y319+Z319","v":0},{"$f":"COUNTIF(Y318,\"Yes\")*3","v":0},{"$f":"COUNTIF(Z318,\"No\")*3","v":0}]
[null,null,null,null,null,null,null,"Education/Training",null,null,null,null,null,null,null,null,null,null,"Select",null,null,null,null,null,{"$f":"S320","v":"Select"},{"$f":"S320","v":"Select"}]
[null,null,null,null,null,null,null,null,null,null,null,null,null,null,null,null,null,null,null,null,null,null,null,{"$f":"Y321+Z321","v":0},{"$f":"COUNTIF(Y320,\"Yes\")*3","v":0},{"$f":"COUNTIF(Z320,\"No\")*3","v":0}]
[null,null,null,null,null,null,null,"Independent Living",null,null,null,null,null,null,null,null,null,null,"Select",null,null,null,null,null,{"$f":"S322","v":"Select"},{"$f":"S322","v":"Select"}]
[null,null,null,null,null,null,null,null,null,null,null,null,null,null,null,null,null,null,null,null,null,null,null,{"$f":"Y323+Z323","v":0},{"$f":"COUNTIF(Y322,\"Yes\")*3","v":0},{"$f":"COUNTIF(Z322,\"No\")*3","v":0}]
[{"$f":"HYPERLINK(\"https://gosynth.com/p/s/itwkve\",\"Indicator 13 Item 3\")","v":"Indicator 13 Item 3"}]
["MPSGs Updated Annually",null,null,null,null,null,null,null,null,null,null,null,null,null,null,null,null,null,"Select","V282",null,null,null,null,{"$f":"S325","v":"Select"},{"$f":"S325","v":"Select"}]
[null,null,null,null,null,null,null,null,null,null,null,null,null,null,null,null,null,null,null,null,null,null,null,{"$f":"Y326+Z326","v":0},{"$f":"COUNTIF(Y325,\"Yes\")*3","v":0},{"$f":"COUNTIF(Z325,\"No\")*3","v":0}]
["Indicator 13 Item 4"]
[{"$f":"HYPERLINK(\"http://sdlegislature.gov/Rules/DisplayRule.aspx?Rule=24:05:27:01.03\",\"Course of Study Aligns to \nPost-Secondary Goals\n(24:05:27:01.03)\")","v":"Course of Study Aligns to \nPost-Secondary Goals\n(24:05:27:01.03)"},null,null,null,null,null,null,"Employment",null,null,null,null,null,null,null,null,null,null,"Select","V285",null,null,null,null,{"$f":"S328","v":"Select"},{"$f":"S328","v":"Select"}]
[null,null,null,null,null,null,null,null,null,null,null,null,null,null,null,null,null,null,null,null,null,null,null,{"$f":"Y329+Z329","v":0},{"$f":"COUNTIF(Y328,\"Yes\")*3","v":0},{"$f":"COUNTIF(Z328,\"No\")*3","v":0}]
[null,null,null,null,null,null,null,"Education/Training",null,null,null,null,null,null,null,null,null,null,"Select",null,null,null,null,null,{"$f":"S330","v":"Select"},{"$f":"S330","v":"Select"}]
[null,null,null,null,null,null,null,null,null,null,null,null,null,null,null,null,null,null,null,null,null,null,null,{"$f":"Y331+Z331","v":0},{"$f":"COUNTIF(Y330,\"Yes\")*3","v":0},{"$f":"COUNTIF(Z330,\"No\")*3","v":0}]
[null,null,null,null,null,null,null,"Independent Living",null,null,null,null,null,null,null,null,null,null,"Select",null,null,null,null,null,{"$f":"S332","v":"Select"},{"$f":"S332","v":"Select"}]
[null,null,null,null,null,null,"Completed by age 16, or younger if transition has been addressed in the IEP, and updated annually through graduation or ‘age out’.",null,null,null,null,null,null,null,null,null,null,null,null,null,null,null,null,{"$f":"Y333+Z333","v":0},{"$f":"COUNTIF(Y332,\"Yes\")*3","v":0},{"$f":"COUNTIF(Z332,\"No\")*3","v":0}]
[{"$f":"HYPERLINK(\"https://gosynth.com/p/s/itwkve\",\"Indicator 13 Item 5\")","v":"Indicator 13 Item 5"}]
[{"$f":"HYPERLINK(\"http://sdlegislature.gov/Rules/DisplayRule.aspx?Rule=24:05:27:13.02\",\"Transition Services/Activities\n(24:05:27:13.02)\")","v":"Transition Services/Activities\n(24:05:27:13.02)"},null,null,null,null,null,null,"Employment",null,null,null,null,null,null,null,null,null,null,"Select","V290",null,null,null,null,{"$f":"S335","v":"Select"},{"$f":"S335","v":"Select"}]
[null,null,null,null,null,null,null,null,null,null,null,null,null,null,null,null,null,null,null,null,null,null,null,{"$f":"Y336+Z336","v":0},{"$f":"COUNTIF(Y335,\"Yes\")*3","v":0},{"$f":"COUNTIF(Z335,\"No\")*3","v":0}]
[null,null,null,null,null,null,null,"Education/Training",null,null,null,null,null,null,null,null,null,null,"Select",null,null,null,null,null,{"$f":"S337","v":"Select"},{"$f":"S337","v":"Select"}]
[null,null,null,null,null,null,null,null,null,null,null,null,null,null,null,null,null,null,null,null,null,null,null,{"$f":"Y338+Z338","v":0},{"$f":"COUNTIF(Y337,\"Yes\")*3","v":0},{"$f":"COUNTIF(Z337,\"No\")*3","v":0}]
[null,null,null,null,null,null,null,"Independent Living",null,null,null,null,null,null,null,null,null,null,"Select",null,null,null,null,null,{"$f":"S339","v":"Select"},{"$f":"S339","v":"Select"}]
[null,null,null,null,null,null,"Services/activities will reasonably enable the student to meet post-secondary goals and have at least one activity per MPSG addressed.",null,null,null,null,null,null,null,null,null,null,null,null,null,null,null,null,{"$f":"Y340+Z340","v":0},{"$f":"COUNTIF(Y339,\"Yes\")*3","v":0},{"$f":"COUNTIF(Z339,\"No\")*3","v":0}]
[{"$f":"HYPERLINK(\"https://gosynth.com/p/s/itwkve\",\"Indicator 13 Item 6\")","v":"Indicator 13 Item 6"}]
[{"$f":"HYPERLINK(\"http://sdlegislature.gov/Rules/DisplayRule.aspx?Rule=24:05:27:13.02\",\"Annual Goal Related to Student’s Transition Service needs in\n(24:05:27:13.02)\")","v":"Annual Goal Related to Student’s Transition Service needs in\n(24:05:27:13.02)"},null,null,null,null,null,null,"Employment",null,null,null,null,null,null,null,null,null,null,"Select","V295",null,null,null,null,{"$f":"S342","v":"Select"},{"$f":"S342","v":"Select"}]
[null,null,null,null,null,null,null,null,null,null,null,null,null,null,null,null,null,null,null,null,null,null,null,{"$f":"Y343+Z343","v":0},{"$f":"COUNTIF(Y342,\"Yes\")*3","v":0},{"$f":"COUNTIF(Z342,\"No\")*3","v":0}]
[null,null,null,null,null,null,null,"Education/Training",null,null,null,null,null,null,null,null,null,null,"Select",null,null,null,null,null,{"$f":"S344","v":"Select"},{"$f":"S344","v":"Select"}]
[null,null,null,null,null,null,null,null,null,null,null,null,null,null,null,null,null,null,null,null,null,null,null,{"$f":"Y345+Z345","v":0},{"$f":"COUNTIF(Y344,\"Yes\")*3","v":0},{"$f":"COUNTIF(Z344,\"No\")*3","v":0}]
[null,null,null,null,null,null,null,"Independent Living",null,null,null,null,null,null,null,null,null,null,"Select",null,null,null,null,null,{"$f":"S346","v":"Select"},{"$f":"S346","v":"Select"}]
[null,null,null,null,null,null,{"$f":"HYPERLINK(\"https://gosynth.com/p/s/itwkve\",\"Annual goals are linked to the MPSGs.\")","v":"Annual goals are linked to the MPSGs."},null,null,null,null,null,null,null,null,null,null,null,null,null,null,null,null,{"$f":"Y347+Z347","v":0},{"$f":"COUNTIF(Y346,\"Yes\")*3","v":0},{"$f":"COUNTIF(Z346,\"No\")*3","v":0}]
[{"$f":"HYPERLINK(\"https://gosynth.com/p/s/pisllo\",\"Indicator 13 Item 7\")","v":"Indicator 13 Item 7"}]
[{"$f":"HYPERLINK(\"http://sdlegislature.gov/Rules/DisplayRule.aspx?Rule=24:05:25:16.01\",\"Student Invitation/Participation\n(24:05:25:16.01)\")","v":"Student Invitation/Participation\n(24:05:25:16.01)"},null,null,null,null,null,"How the student invited?",null,null,null,null,{"$f":"HYPERLINK(\"https://gosynth.com/p/s/pisllo\",\"If student was not in attendance at the meeting, the IEP should show evidence that student's preferences and interests were taken into account. *\")","v":"If student was not in attendance at the meeting, the IEP should show evidence that student's preferences and interests were taken into account. *"},null,null,null,null,null,null,"Select","V300",null,null,null,null,{"$f":"S349","v":"Select"},{"$f":"S349","v":"Select"}]
[null,null,null,null,null,null,null,null,null,null,null,null,null,null,null,null,null,null,null,null,null,null,null,{"$f":"Y350+Z350","v":0},{"$f":"COUNTIF(Y349,\"Yes\")*3","v":0},{"$f":"COUNTIF(Z349,\"No\")*3","v":0}]
[null,null,null,null,null,null,null,"Meeting notice"]
[null,null,null,null,null,null,null,"Individual student invite"]
[]
[{"$f":"HYPERLINK(\"https://gosynth.com/p/s/pisllo\",\"Indicator 13 Item 8\")","v":"Indicator 13 Item 8"}]
[{"$f":"HYPERLINK(\"http://sdlegislature.gov/Rules/DisplayRule.aspx?Rule=24:05:25:16.01\",\"Consent to Invite Outside Agency\n(24:05:25:16.01)\")","v":"Consent to Invite Outside Agency\n(24:05:25:16.01)"},null,null,null,null,null,{"$f":"HYPERLINK(\"https://gosynth.com/p/s/pisllo\",\" Written Consent to invite:\")","v":" Written Consent to invite:"},null,null,null,null,null,null,"List of agencies invited:",null,null,null,null,"Select","V306",null,null,null,null,{"$f":"S355","v":"Select"},{"$f":"S355","v":"Select"}]
[null,null,null,null,null,null,"Invited on Meeting Notice:",null,null,null,null,null,"Yes",null,null,null,null,null,null,null,null,null,null,{"$f":"Y356+Z356","v":0},{"$f":"COUNTIF(Y355,\"Yes\")*3","v":0},{"$f":"COUNTIF(Z355,\"No\")*3","v":0}]
[null,null,null,null,null,null,null,null,null,null,null,null,"No"]
[null,null,null,null,null,null,"Meeting Notice Date:",null,null,null,null,{"$f":"J177","v":"00:00:00"}]
[null,null,null,null,null,null,"Date of Current IEP Meeting:",null,null,null,null,{"$f":"T5","v":"00:00:00"}]
[{"$f":"HYPERLINK(\"https://gosynth.com/p/s/pisllo\",\"Other Transition Areas *\")","v":"Other Transition Areas *"}]
[{"$f":"HYPERLINK(\"http://sdlegislature.gov/Rules/DisplayRule.aspx?Rule=24:05:30:16.01\",\"Transfer of Parental Rights:\n(24:05:30:16.01)\")","v":"Transfer of Parental Rights:\n(24:05:30:16.01)"},null,null,null,null,null,"Turned 17 on:",null,null,null,null,null,null,null,null,null,null,null,"Select","V312",null,null,null,null,{"$f":"S361","v":"Select"},{"$f":"S361","v":"Select"}]
[null,null,null,null,null,null,"Rights reviewed on:",null,null,null,null,null,null,null,null,null,null,null,null,null,null,null,null,{"$f":"Y362+Z362","v":0},{"$f":"COUNTIF(Y361,\"Yes\")*3","v":0},{"$f":"COUNTIF(Z361,\"No\")*3","v":0}]
[{"$f":"HYPERLINK(\"http://sdlegislature.gov/Rules/DisplayRule.aspx?Rule=24:05:27:12\",\"Specific Graduation Requirements:\n(24:05:27:12)\")","v":"Specific Graduation Requirements:\n(24:05:27:12)"},null,null,null,null,null,"Graduation requirements addressed on:",null,null,null,null,null,null,null,null,null,null,null,"Select",null,null,null,null,null,{"$f":"S363","v":"Select"},{"$f":"S363","v":"Select"}]
[null,null,null,null,null,null,"Student is projected to graduate:",null,null,null,null,null,null,null,null,null,null,null,null,null,null,null,null,{"$f":"Y364+Z364","v":0},{"$f":"COUNTIF(Y363,\"Yes\")*3","v":0},{"$f":"COUNTIF(Z363,\"No\")*3","v":0}]
[{"$f":"HYPERLINK(\"http://sdlegislature.gov/Rules/DisplayRule.aspx?Rule=24:05:27:12\",\"When Student has Graduated\n(24:05:27:12)\")","v":"When Student has Graduated\n(24:05:27:12)"},null,null,null,null,null,"Written prior notice was sent:",null,null,null,null,null,null,null,null,null,null,null,"Select",null,null,null,null,null,{"$f":"S365","v":"Select"},{"$f":"S365","v":"Select"}]
[null,null,null,null,null,null,{"$f":"HYPERLINK(\"https://gosynth.com/p/s/pisllo\",\"When a student graduates, it is a change in placement. It must have a written\n prior notice sent.  If student has \"\"aged-out\"\", a PPWN is required.  \")","v":"When a student graduates, it is a change in placement. It must have a written\n prior notice sent.  If student has \"aged-out\", a PPWN is required.  "},null,null,null,null,null,null,null,null,null,null,null,null,null,null,null,null,{"$f":"Y366+Z366","v":0},{"$f":"COUNTIF(Y365,\"Yes\")*3","v":0},{"$f":"COUNTIF(Z365,\"No\")*3","v":0}]
[]
[{"$f":"HYPERLINK(\"http://sdlegislature.gov/Rules/DisplayRule.aspx?Rule=24:05:27:12\",\"Summary of Performance was provided to the Student/Parent/Guardian\n(24:05:27:12)\")","v":"Summary of Performance was provided to the Student/Parent/Guardian\n(24:05:27:12)"},null,null,null,null,null,{"$f":"HYPERLINK(\"https://gosynth.com/p/s/pisllo\",\"Summary of Performance (SOP) is required for students who graduated and\n aged out. A copy of the SOP should remain in the file.\")","v":"Summary of Performance (SOP) is required for students who graduated and\n aged out. A copy of the SOP should remain in the file."},null,null,null,null,null,null,null,null,null,null,null,"Select",null,null,null,null,null,{"$f":"S368","v":"Select"},{"$f":"S368","v":"Select"}]
[null,null,null,null,null,null,null,null,null,null,null,null,null,null,null,null,null,null,null,null,null,null,null,{"$f":"Y369+Z369","v":0},{"$f":"COUNTIF(Y368,\"Yes\")*3","v":0},{"$f":"COUNTIF(Z368,\"No\")*3","v":0}]
[]
["Click on the [+] button to expand or the [-] button to collapse."]
[{"$f":"HYPERLINK(\"https://gosynth.com/p/s/kldkzb\",\"Related Services\")","v":"Related Services"},null,null,null,null,null,null,null,null,null,null,null,null,null,null,null,null,null,{"$f":"IFERROR(Y375/X375,\"N/A\")","v":"N/A"}]
[{"$f":"HYPERLINK(\"http://sdlegislature.gov/Rules/DisplayRule.aspx?Rule=24:05:27:16\",\"Related Services\n(24:05:27)\")","v":"Related Services\n(24:05:27)"},null,null,null,null,null,"Service Provided:",null,null,null,null,null,"If student will receive services in a different location, then must break it out to calculate the Least Restrictive Environment.",null,null,null,null,null,"Select","V324",null,null,null,null,{"$f":"S373","v":"Select"},{"$f":"S373","v":"Select"}]
[null,null,null,null,null,null,null,null,null,null,null,null,null,null,null,null,null,null,null,null,null,null,null,{"$f":"Y374+Z374","v":0},{"$f":"COUNTIF(Y373,\"Yes\")*3","v":0},{"$f":"COUNTIF(Z373,\"No\")*3","v":0}]
[null,null,null,null,null,null,null,"Frequency",null,null,"Location",null,null,null,null,null,null,null,null,null,null,null,null,{"$f":"(X374+X379)/2","v":0},{"$f":"(Y374+Y379)/2","v":0}]
[null,null,null,null,null,null,null,"Duration",null,null,"Other"]
[null,null,null,null,null,null,"Service Provided:",null,null,null,null,null,"At a minimum, all areas student qualifies and has an annual goal must have service time documented. If not addressed, then PPWN must explain reason."]
[null,null,null,null,null,null,null,null,null,null,null,null,null,null,null,null,null,null,"Select",null,null,null,null,null,{"$f":"S378","v":"Select"},{"$f":"S378","v":"Select"}]
[null,null,null,null,null,null,null,"Frequency",null,null,"Location",null,null,null,null,null,null,null,null,null,null,null,null,{"$f":"Y379+Z379","v":0},{"$f":"COUNTIF(Y378,\"Yes\")*3","v":0},{"$f":"COUNTIF(Z378,\"No\")*3","v":0}]
[null,null,null,null,null,null,null,"Duration",null,null,"Other"]
[]
["Least Restrictive Environment ",null,null,null,null,null,null,null,null,null,null,null,null,null,null,null,null,null,{"$f":"IFERROR(Y382/X382,\"N/A\")","v":"N/A"},null,null,null,null,{"$f":"(X384+X388+X392+X396+X400+X402+X404+X406+X408)/9","v":0},{"$f":"(Y384+Y388+Y392+Y396+Y400+Y402+Y404+Y406+Y408)/9","v":0}]
[{"$f":"HYPERLINK(\"https://sdlegislature.gov/Rules/DisplayRule.aspx?Rule=24:05:28\",\"Least Restrictive Enviornment \n(Chapter 24:05:28)\")","v":"Least Restrictive Enviornment \n(Chapter 24:05:28)"},null,null,null,null,null,{"$f":"HYPERLINK(\"https://gosynth.com/p/s/llxjsq\",\"Skill area:\")","v":"Skill area:"},null,null,null,null,null,null,null,null,null,null,null,"Select","V334",null,null,null,null,{"$f":"S383","v":"Select"},{"$f":"S383","v":"Select"}]
[null,null,null,null,null,null,null,null,null,null,null,null,null,null,null,null,null,null,null,null,null,null,null,{"$f":"Y384+Z384","v":0},{"$f":"COUNTIF(Y383,\"Yes\")*3","v":0},{"$f":"COUNTIF(Z383,\"No\")*3","v":0}]
[null,null,null,null,null,null,null,null,"Frequency",null,null,"Duration",null,null,"Location"]
[]
[null,null,null,null,null,null,"Skill area:",null,null,null,null,null,null,null,null,null,null,null,"Select",null,null,null,null,null,{"$f":"S387","v":"Select"},{"$f":"S387","v":"Select"}]
[null,null,null,null,null,null,null,null,null,null,null,null,null,null,null,null,null,null,null,null,null,null,null,{"$f":"Y388+Z388","v":0},{"$f":"COUNTIF(Y387,\"Yes\")*3","v":0},{"$f":"COUNTIF(Z387,\"No\")*3","v":0}]
[null,null,null,null,null,null,null,null,"Frequency",null,null,"Duration",null,null,"Location"]
[]
[null,null,null,null,null,null,"Skill area:",null,null,null,null,null,null,null,null,null,null,null,"Select",null,null,null,null,null,{"$f":"S391","v":"Select"},{"$f":"S391","v":"Select"}]
[null,null,null,null,null,null,null,null,null,null,null,null,null,null,null,null,null,null,null,null,null,null,null,{"$f":"Y392+Z392","v":0},{"$f":"COUNTIF(Y391,\"Yes\")*3","v":0},{"$f":"COUNTIF(Z391,\"No\")*3","v":0}]
[null,null,null,null,null,null,null,null,"Frequency",null,null,"Duration",null,null,"Location"]
[]
[null,null,null,null,null,null,"Skill area:",null,null,null,null,null,null,null,null,null,null,null,"Select",null,null,null,null,null,{"$f":"S395","v":"Select"},{"$f":"S395","v":"Select"}]
[null,null,null,null,null,null,null,null,null,null,null,null,null,null,null,null,null,null,null,null,null,null,null,{"$f":"Y396+Z396","v":0},{"$f":"COUNTIF(Y395,\"Yes\")*3","v":0},{"$f":"COUNTIF(Z395,\"No\")*3","v":0}]
[null,null,null,null,null,null,null,null,"Frequency",null,null,"Duration",null,null,"Location"]
[]
[{"$f":"HYPERLINK(\"http://sdlegislature.gov/Rules/DisplayRule.aspx?Rule=24:05:28:02\",\"Continuum of Placement\n(24:05:28:02)\")","v":"Continuum of Placement\n(24:05:28:02)"},null,null,null,null,null,"Select:",null,null,null,null,null,null,null,null,null,null,null,"Select","V350",null,null,null,null,{"$f":"S399","v":"Select"},{"$f":"S399","v":"Select"}]
[null,null,null,null,null,null,null,null,null,null,null,null,null,null,null,null,null,null,null,null,null,null,null,{"$f":"Y400+Z400","v":0},{"$f":"COUNTIF(Y399,\"Yes\")*3","v":0},{"$f":"COUNTIF(Z399,\"No\")*3","v":0}]
[null,null,null,null,null,null,"Select for Early Childhood (Ages 3-5):",null,null,null,null,null,null,null,null,null,null,null,"Select",null,null,null,null,null,{"$f":"S401","v":"Select"},{"$f":"S401","v":"Select"}]
[null,null,null,null,null,null,null,null,null,null,null,null,null,null,null,null,null,null,null,null,null,null,null,{"$f":"Y402+Z402","v":0},{"$f":"COUNTIF(Y401,\"Yes\")*3","v":0},{"$f":"COUNTIF(Z401,\"No\")*3","v":0}]
[{"$f":"HYPERLINK(\"http://sdlegislature.gov/Rules/DisplayRule.aspx?Rule=24:05:27:01.03\",\"Participation with Non-disabled Peers\n(24:05:27:01.03)\")","v":"Participation with Non-disabled Peers\n(24:05:27:01.03)"},null,null,null,null,null,{"$f":"HYPERLINK(\"https://gosynth.com/p/s/wjqcuh\",\"Document opportunities to participate with non-disabled peers.\")","v":"Document opportunities to participate with non-disabled peers."},null,null,null,null,null,null,null,null,null,null,null,"Select",null,null,null,null,null,{"$f":"S403","v":"Select"},{"$f":"S403","v":"Select"}]
[null,null,null,null,null,null,null,null,null,null,null,null,null,null,null,null,null,null,null,null,null,null,null,{"$f":"Y404+Z404","v":0},{"$f":"COUNTIF(Y403,\"Yes\")*3","v":0},{"$f":"COUNTIF(Z403,\"No\")*3","v":0}]
[{"$f":"HYPERLINK(\"http://sdlegislature.gov/Rules/DisplayRule.aspx?Rule=24:05:28:03\",\"Justification for Placement \n(24:05:28:03)\")","v":"Justification for Placement \n(24:05:28:03)"},null,null,null,null,null,{"$f":"HYPERLINK(\"https://gosynth.com/p/s/rjxcoc\",\"                  Select from the following:\")","v":"                  Select from the following:"},null,null,null,null,null,null,null,null,null,null,null,"Select",null,null,null,null,null,{"$f":"S405","v":"Select"},{"$f":"S405","v":"Select"}]
[null,null,null,null,null,null,null,null,null,null,null,null,null,null,null,null,null,null,null,null,null,null,null,{"$f":"Y406+Z406","v":0},{"$f":"COUNTIF(Y405,\"Yes\")*3","v":0},{"$f":"COUNTIF(Z405,\"No\")*3","v":0}]
[{"$f":"HYPERLINK(\"http://sdlegislature.gov/Rules/DisplayRule.aspx?Rule=24:05:25:26\",\"Extended School Year\n(24:05:25:26)\")","v":"Extended School Year\n(24:05:25:26)"},null,null,null,null,null,{"$f":"HYPERLINK(\"https://gosynth.com/p/s/bbepxx\",\"                  Check the following:\")","v":"                  Check the following:"},null,null,null,null,null,null,null,null,null,null,null,"Select","V358",null,null,null,null,{"$f":"S407","v":"Select"},{"$f":"S407","v":"Select"}]
[null,null,null,null,null,null,null,null,null,null,null,null,null,null,null,null,null,null,null,null,null,null,null,{"$f":"Y408+Z408","v":0},{"$f":"COUNTIF(Y407,\"Yes\")*3","v":0},{"$f":"COUNTIF(Z407,\"No\")*3","v":0}]
[null,null,null,null,null,null,null,null,"Determination",null,null,null,"Beginning/end dates"]
[null,null,null,null,null,null,null,null,"Goals",null,null,null,"Amount of service"]
[]
[]
[]
[{"$f":"HYPERLINK(\"https://gosynth.com/p/s/acbbuk\",\"Prior Parental Written Notice\")","v":"Prior Parental Written Notice"},null,null,null,null,null,null,null,null,null,null,null,null,null,null,null,null,null,{"$f":"IFERROR(Y414/X414,\"N/A\")","v":"N/A"},null,null,null,null,{"$f":"(X416+X421)/2","v":0},{"$f":"(Y416+Y421)/2","v":0}]
[{"$f":"HYPERLINK(\"http://sdlegislature.gov/Rules/DisplayRule.aspx?Rule=24:05:30:04\",\"Prior Written Notice Sent to Parent Regarding IEP Implementation\n(24:05:30:04)\")","v":"Prior Written Notice Sent to Parent Regarding IEP Implementation\n(24:05:30:04)"},null,null,null,null,null,"Date the district sent the PPWN:",null,null,null,null,null,null,null,"The implementation date documented on the PPWN must be reflected on IEP.\n\nThe five-day notice requirement may be waived by the parents.",null,null,null,"Select","V366",null,null,null,null,{"$f":"S415","v":"Select"},{"$f":"S415","v":"Select"}]
[null,null,null,null,null,null,"District proposed at least 5 calendar days to begin implementation:",null,null,null,null,null,{"$f":"M415+5","v":"1900-01-05"},null,null,null,null,null,null,null,null,null,null,{"$f":"Y416+Z416","v":0},{"$f":"COUNTIF(Y415,\"Yes\")*3","v":0},{"$f":"COUNTIF(Z415,\"No\")*3","v":0}]
[]
[null,null,null,null,null,null,"Was the 5 calendar day notice requirement met?",null,null,null,null,null,null,"Yes"]
[null,null,null,null,null,null,null,null,null,null,null,null,null,"No"]
[{"$f":"HYPERLINK(\"http://sdlegislature.gov/Rules/DisplayRule.aspx?Rule=24:05:30:05\",\"Content of PPWN\n(24:05:30:05)\")","v":"Content of PPWN\n(24:05:30:05)"},null,null,null,null,null,"Check the following:",null,null,null,null,null,null,null,null,null,null,null,"Select","V371",null,null,null,null,{"$f":"S420","v":"Select"},{"$f":"S420","v":"Select"}]
[null,null,null,null,null,null,"PPWN must be individualized to the student, IEP team discussions and situation.",null,null,null,null,null,null,null,null,null,null,null,null,null,null,null,null,{"$f":"Y421+Z421","v":0},{"$f":"COUNTIF(Y420,\"Yes\")*3","v":0},{"$f":"COUNTIF(Z420,\"No\")*3","v":0}]
[]
[null,null,null,null,null,null,null,"Explanation of why the district proposed or refused to take the action"]
[null,null,null,null,null,null,null,"Description of other options considered and why they were rejected "]
[null,null,null,null,null,null,null,"Description of evidence used for the proposed or refused action"]
[null,null,null,null,null,null,null,"Description of other factors that are relevant to proposal or refusal"]
[]
[null,null,null,null,null,null,"To skip back to Eligibility section click ",null,null,null,null,"HERE."]
[]
[{"$f":"HYPERLINK(\"https://gosynth.com/p/s/iwvzyu\",\"Amendment to IEP\")","v":"Amendment to IEP"},null,null,null,null,null,null,null,null,null,null,null,null,null,null,null,null,null,{"$f":"IFERROR(Z430/Y430,\"N/A\")","v":"N/A"},null,null,null,null,null,{"$f":"(X432+X434)/2","v":0},{"$f":"(Y432+Y434)/2","v":0}]
["Amendment to IEP",null,null,null,null,null,null,null,null,null,null,null,null,null,null,null,null,null,"Select","V381",null,null,null,null,{"$f":"S431","v":"Select"},{"$f":"S431","v":"Select"}]
[{"$f":"HYPERLINK(\"http://sdlegislature.gov/Rules/DisplayRule.aspx?Rule=24:05:27:08.01\",\"(24:05:27:08.01)\")","v":"(24:05:27:08.01)"},null,null,{"$f":"HYPERLINK(\"http://sdlegislature.gov/Rules/DisplayRule.aspx?Rule=24:05:27:08.02\",\"(24:05:27:08.02)\")","v":"(24:05:27:08.02)"},null,null,null,null,null,null,null,null,null,null,null,null,null,null,null,null,null,null,null,{"$f":"Y432+Z432","v":0},{"$f":"COUNTIF(Y431,\"Yes\")*3","v":0},{"$f":"COUNTIF(Z431,\"No\")*3","v":0}]
[{"$f":"HYPERLINK(\"http://sdlegislature.gov/Rules/DisplayRule.aspx?Rule=24:05:30:04\",\"Prior Notice\n(24:05:30:04)\")","v":"Prior Notice\n(24:05:30:04)"},null,null,null,null,null,"Document if the amendment was made with or without a meeting.",null,null,null,null,null,null,null,null,null,null,null,"Select",null,null,null,null,null,{"$f":"S433","v":"Select"},{"$f":"S433","v":"Select"}]
[null,null,null,null,null,null,null,null,null,null,null,null,null,null,null,null,null,null,null,null,null,null,null,{"$f":"Y434+Z434","v":0},{"$f":"COUNTIF(Y433,\"Yes\")*3","v":0},{"$f":"COUNTIF(Z433,\"No\")*3","v":0}]
[]
[{"$f":"HYPERLINK(\"https://gosynth.com/p/s/jdtswp\",\"Additional Items\")","v":"Additional Items"},null,null,null,null,null,null,null,null,null,null,null,null,null,null,null,null,null,{"$f":"IFERROR(AB436/AA436,\"N/A\")","v":"N/A"},null,null,null,null,null,{"$f":"S437","v":"Select"},{"$f":"S437","v":"Select"},{"$f":"(X437+X439+X441+X443)/4","v":0},{"$f":"(Y437+Y439+Y441+Y443)/4","v":0}]
["Parent Declined/\nWithdrew Consent for Services ",null,null,null,null,null,"Revocation signed:",null,null,null,null,null,null,{"$f":"HYPERLINK(\"http://sdlegislature.gov/Rules/DisplayRule.aspx?Rule=24:05:27:04.02\",\"(24:05:27:04.02)\")","v":"(24:05:27:04.02)"},null,null,null,null,"Select","V387",null,null,null,{"$f":"Y437+Z437","v":0},{"$f":"COUNTIF(Y436,\"Yes\")*3","v":0},{"$f":"COUNTIF(Z436,\"No\")*3","v":0}]
[null,null,null,null,null,null,"Date prior notice was sent:",null,null,null,null,null,null,null,null,null,null,null,null,null,null,null,null,null,{"$f":"S439","v":"Select"},{"$f":"S439","v":"Select"}]
["Surrogate Parent",null,null,null,null,null,null,null,null,null,null,null,null,null,null,null,null,null,"Select",null,null,null,null,{"$f":"Y439+Z439","v":0},{"$f":"COUNTIF(Y438,\"Yes\")*3","v":0},{"$f":"COUNTIF(Z438,\"No\")*3","v":0}]
["Transfer Students Provided with  FAPE/Comparable Services ",null,null,null,null,null,"Date prior notice was sent:",null,null,null,null,null,null,{"$f":"HYPERLINK(\"http://sdlegislature.gov/Rules/DisplayRule.aspx?Rule=24:05:27:15.01\",\"In-state (24:05:27:15.01)\")","v":"In-state (24:05:27:15.01)"},null,null,null,null,"Select",null,null,null,null,null,{"$f":"S440","v":"Select"},{"$f":"S440","v":"Select"}]
[null,null,null,null,null,null,null,null,null,null,null,null,null,{"$f":"HYPERLINK(\"http://sdlegislature.gov/Rules/DisplayRule.aspx?Rule=24:05:27:15.02\",\"Out-of-state (24:05:27:15.02)\")","v":"Out-of-state (24:05:27:15.02)"},null,null,null,null,null,null,null,null,null,{"$f":"Y441+Z441","v":0},{"$f":"COUNTIF(Y440,\"Yes\")*3","v":0},{"$f":"COUNTIF(Z440,\"No\")*3","v":0}]
["Transfer Students Evaluated for \nSouth Dakota Eligibility",null,null,null,null,null,"Eligibility determination date:",null,null,null,null,null,null,null,null,null,null,null,"Select",null,null,null,null,null,{"$f":"S442","v":"Select"},{"$f":"S442","v":"Select"}]
[null,null,null,null,null,null,"IEP date:",null,null,null,null,null,null,null,null,null,null,null,null,null,null,null,null,{"$f":"Y443+Z443","v":0},{"$f":"COUNTIF(Y442,\"Yes\")*3","v":0},{"$f":"COUNTIF(Z442,\"No\")*3","v":0}]
[null,null,null,null,null,null,"PPWN Implementing IEP sent:"]

{"sheet":"File 13","index":16,"n_rows":444,"n_cols":28,"rows_kept":444,"cut":false,"hidden":false,"merged":[[436,18,437,18],[437,6,437,10],[437,11,437,12],[438,6,438,17],[442,6,442,10],[442,11,442,12],[413,19,413,21],[414,6,414,11],[414,12,414,13],[414,14,418,17],[414,18,418,18],[414,19,418,21],[417,6,418,11],[419,6,419,17],[420,6,420,17],[216,14,216,16],[443,6,443,10],[443,11,443,12],[446,11,447,12],[439,6,440,10],[439,11,440,12],[439,13,439,17],[440,13,440,17],[441,6,441,10],[441,11,441,12],[441,13,443,17],[415,6,416,11],[415,12,416,13],[413,0,413,17],[422,7,422,17],[423,7,423,17],[424,7,424,17],[425,7,425,17],[426,6,426,17],[427,6,427,10],[427,11,427,17],[436,6,436,10],[436,11,436,12],[436,13,437,17],[216,6,216,7],[216,8,216,10],[205,0,206,5],[207,0,209,5],[216,11,216,13],[231,7,231,10],[209,6,209,13],[210,0,210,17],[211,0,213,5],[211,6,213,16],[214,0,215,5],[214,6,215,16],[216,0,233,5],[225,12,225,13],[225,15,225,16],[226,7,226,10],[227,6,227,10],[228,6,228,7],[228,8,228,10],[228,11,228,13],[228,14,228,16],[230,7,230,10],[230,12,230,13],[230,15,230,16],[196,0,200,5],[196,6,200,17],[196,18,200,18],[201,0,201,21],[202,0,202,17],[202,19,202,21],[203,0,204,5],[188,7,188,9],[188,10,188,12],[189,7,189,9],[189,10,189,12],[186,0,189,5],[186,7,186,9],[186,10,186,12],[192,7,192,9],[193,7,193,9],[193,10,193,12],[194,7,194,9],[190,0,190,5],[190,7,190,9],[190,10,190,12],[191,0,195,5],[191,7,191,9],[191,10,191,12],[152,12,156,15],[154,7,156,10],[145,7,146,10],[145,12,146,15],[149,18,162,18],[149,19,162,21],[150,6,150,15],[150,17,160,17],[158,12,159,15],[151,6,151,15],[152,7,153,10],[157,7,158,10],[157,12,157,15],[210,19,210,21],[211,19,215,21],[214,18,215,18],[196,19,200,21],[203,19,209,21],[205,18,206,18],[207,14,208,17],[207,18,209,18],[209,14,209,17],[211,18,213,18],[205,6,206,17],[207,6,207,10],[207,11,207,13],[208,6,208,10],[208,11,208,13],[203,6,204,17],[203,18,204,18],[190,13,190,16],[191,13,191,16],[192,13,192,16],[193,13,193,16],[194,13,194,16],[176,12,177,17],[184,13,185,16],[186,13,186,16],[184,10,185,12],[194,10,194,12],[180,6,180,17],[182,7,183,16],[187,7,187,9],[187,10,187,12],[187,13,187,16],[188,13,188,16],[192,10,192,12],[172,12,173,17],[172,18,173,18],[172,19,173,21],[177,0,177,2],[177,3,177,5],[177,6,177,8],[177,9,177,11],[178,0,178,5],[178,6,179,17],[179,0,179,2],[179,3,179,5],[176,18,177,18],[176,19,195,21],[178,18,179,18],[180,18,195,18],[176,0,176,5],[176,6,176,8],[176,9,176,11],[174,0,174,21],[175,0,175,17],[175,19,175,21],[180,0,185,5],[184,7,185,9],[189,13,189,16],[216,18,221,18],[216,19,233,21],[222,18,227,18],[228,18,233,18],[218,7,218,10],[218,12,218,13],[220,7,220,10],[221,6,221,10],[222,6,222,7],[222,8,222,10],[222,11,222,13],[222,14,222,16],[231,12,231,13],[231,15,231,16],[232,7,232,10],[233,6,233,10],[218,15,218,16],[219,7,219,10],[219,12,219,13],[219,15,219,16],[224,7,224,10],[224,12,224,13],[224,15,224,16],[225,7,225,10],[117,6,117,13],[117,14,117,17],[118,6,119,17],[120,0,120,21],[118,0,119,5],[130,18,148,18],[130,19,148,21],[133,12,134,15],[135,7,137,10],[135,12,136,15],[137,12,138,15],[138,7,141,10],[139,12,144,15],[142,7,144,10],[121,0,121,17],[121,19,121,21],[122,0,122,17],[122,18,129,18],[122,19,129,21],[123,0,129,5],[123,6,123,17],[124,6,124,17],[125,7,125,11],[126,7,126,11],[165,12,169,17],[167,7,167,11],[168,7,168,11],[110,18,112,18],[110,19,119,21],[113,18,114,18],[115,18,117,18],[118,18,119,18],[104,18,105,18],[106,18,107,18],[169,7,169,11],[162,0,162,17],[163,0,166,5],[163,6,163,17],[163,18,171,18],[163,19,171,21],[164,6,164,17],[167,0,173,5],[165,7,165,11],[166,7,166,11],[170,7,170,13],[171,7,171,11],[172,6,173,10],[172,11,173,11],[98,18,101,18],[98,19,101,21],[99,11,99,13],[106,6,107,17],[84,18,97,18],[84,19,97,21],[86,6,86,8],[86,9,86,12],[87,15,87,17],[100,11,100,13],[101,11,101,13],[102,6,103,17],[102,18,103,18],[94,13,94,14],[94,15,94,17],[95,15,95,17],[96,13,96,14],[96,15,96,17],[99,6,99,10],[100,6,100,10],[102,19,109,21],[108,18,109,18],[89,13,89,14],[89,15,89,17],[91,13,91,14],[91,15,91,17],[92,13,92,14],[92,15,92,17],[97,13,97,14],[97,15,97,17],[98,11,98,13],[98,14,101,17],[93,15,93,17],[93,13,93,14],[110,0,112,5],[110,6,110,10],[111,6,111,10],[113,0,114,5],[115,0,117,5],[115,6,115,12],[116,6,116,12],[98,0,101,5],[98,6,98,10],[101,6,101,10],[102,0,103,5],[104,0,105,5],[106,0,107,5],[108,0,109,5],[104,6,105,17],[108,6,109,17],[110,11,110,13],[110,14,111,17],[111,11,111,13],[112,6,112,13],[112,14,112,17],[113,6,114,17],[115,13,115,15],[116,13,116,15],[90,6,90,8],[90,9,90,12],[78,6,78,8],[78,9,78,12],[80,0,83,5],[80,6,80,8],[80,9,80,12],[81,9,81,12],[84,0,90,5],[83,9,83,12],[96,6,96,8],[96,9,96,12],[91,0,91,5],[91,6,91,8],[91,9,91,12],[92,0,97,5],[92,9,92,12],[93,9,93,12],[94,9,94,12],[93,6,93,8],[94,6,94,8],[92,6,92,8],[97,6,97,8],[97,9,97,12],[74,19,83,21],[76,6,76,8],[76,9,76,12],[76,13,76,14],[76,15,76,17],[77,6,77,8],[77,9,77,12],[77,13,77,14],[77,15,77,17],[82,6,82,8],[82,9,82,12],[82,13,82,14],[82,15,82,17],[83,15,83,17],[78,13,78,14],[78,15,78,17],[80,13,80,14],[80,15,80,17],[81,13,81,14],[81,15,81,17],[83,13,83,14],[74,18,83,18],[81,6,81,8],[83,6,83,8],[150,0,161,5],[159,6,160,6],[159,7,160,10],[161,6,161,15],[89,6,89,8],[89,9,89,12],[90,13,90,14],[90,15,90,17],[95,9,95,12],[147,6,147,15],[148,0,148,17],[149,0,149,17],[128,7,128,11],[128,13,128,17],[131,0,147,5],[131,6,131,15],[131,17,147,17],[132,6,132,15],[133,7,134,10],[95,6,95,8],[127,7,127,11],[127,13,127,17],[129,6,129,17],[130,0,130,17],[84,15,85,17],[84,6,85,8],[86,13,86,14],[86,15,86,17],[87,9,87,12],[87,13,87,14],[88,6,88,8],[88,9,88,12],[84,13,85,14],[88,13,88,14],[88,15,88,17],[84,9,85,12],[87,6,87,8],[125,13,125,17],[126,13,126,17],[66,15,66,17],[66,13,66,14],[67,0,67,5],[67,6,67,8],[67,9,67,12],[67,13,67,14],[67,15,67,17],[68,0,73,5],[79,0,79,5],[79,6,79,8],[79,9,79,12],[79,13,79,14],[79,15,79,17],[72,6,72,8],[72,9,72,12],[74,0,78,5],[74,6,75,8],[74,9,75,12],[74,13,75,14],[74,15,75,17],[68,13,68,14],[73,6,73,8],[60,13,61,14],[60,15,61,17],[62,13,62,14],[62,15,62,17],[63,13,63,14],[63,15,63,17],[64,13,64,14],[64,15,64,17],[65,13,65,14],[65,15,65,17],[54,0,59,5],[54,6,54,9],[54,10,54,12],[55,6,55,9],[55,10,55,12],[45,19,53,21],[54,19,59,21],[58,13,59,17],[56,6,56,9],[56,10,56,12],[57,6,57,9],[57,10,57,12],[58,6,58,9],[58,10,58,12],[59,6,59,9],[59,10,59,12],[62,9,62,12],[63,9,63,12],[64,9,64,12],[65,9,65,12],[66,9,66,12],[60,0,66,5],[60,6,61,8],[62,6,62,8],[63,6,63,8],[64,6,64,8],[65,6,65,8],[66,6,66,8],[60,9,61,12],[21,10,21,13],[21,14,21,17],[27,9,27,11],[27,12,27,17],[52,6,52,17],[53,6,53,17],[45,6,45,17],[46,6,46,17],[47,6,47,17],[48,7,48,17],[49,7,49,17],[50,7,50,17],[51,7,51,17],[39,6,40,17],[22,6,22,9],[22,10,22,13],[25,0,25,21],[26,0,26,17],[26,19,26,21],[22,14,22,17],[23,6,23,9],[23,10,23,13],[23,14,23,17],[45,0,53,5],[17,0,17,21],[18,0,18,17],[19,0,24,5],[19,9,19,11],[19,12,19,17],[20,14,20,17],[24,6,24,17],[8,3,8,6],[8,7,8,9],[9,0,9,21],[8,0,8,2],[10,0,12,5],[10,10,11,10],[10,11,11,13],[10,14,11,17],[10,18,11,18],[10,19,11,21],[18,19,18,21],[19,18,24,18],[19,19,24,21],[20,6,20,9],[20,10,20,13],[19,6,19,8],[21,6,21,9],[10,6,10,9],[11,6,11,9],[12,6,12,21],[13,0,13,21],[14,0,14,17],[14,19,14,21],[15,0,16,5],[15,18,16,18],[15,19,16,21],[15,6,16,17],[6,0,6,2],[6,10,6,13],[7,14,7,18],[8,14,8,18],[8,19,8,21],[4,14,4,18],[4,19,4,21],[5,14,5,18],[5,19,5,21],[6,14,6,18],[6,19,6,21],[7,19,7,21],[6,3,6,6],[6,7,6,9],[7,0,7,2],[7,3,7,6],[7,7,7,9],[7,10,7,13],[8,10,8,13],[3,0,3,21],[4,0,4,2],[4,3,4,6],[4,7,4,9],[4,10,4,13],[5,0,5,2],[5,3,5,6],[5,7,5,9],[5,11,5,13],[0,0,0,3],[0,4,0,5],[0,6,0,8],[0,9,0,11],[0,12,0,14],[0,15,0,17],[0,19,0,21],[1,0,2,13],[1,14,2,17],[1,18,2,18],[1,19,2,21],[73,9,73,12],[73,13,73,14],[73,15,73,17],[68,6,68,8],[68,9,68,12],[69,6,69,8],[69,9,69,12],[69,13,69,14],[69,15,69,17],[70,6,70,8],[70,9,70,12],[70,13,70,14],[70,15,70,17],[71,6,71,8],[71,9,71,12],[71,13,71,14],[71,15,71,17],[68,15,68,17],[72,13,72,14],[72,15,72,17],[41,0,42,5],[41,6,42,17],[43,6,44,17],[27,18,29,18],[27,19,29,21],[30,18,32,18],[30,19,32,21],[35,18,38,18],[35,19,44,21],[39,18,40,18],[43,0,44,5],[27,6,27,8],[28,6,29,17],[30,6,30,17],[31,8,32,17],[408,8,408,10],[408,12,408,15],[409,8,409,10],[411,0,411,16],[412,0,412,21],[27,0,29,5],[30,0,32,5],[31,6,32,7],[35,0,36,5],[35,6,35,9],[33,0,33,21],[34,0,34,17],[34,19,34,21],[35,10,35,12],[35,13,35,17],[41,18,42,18],[43,18,44,18],[45,18,53,18],[54,18,59,18],[60,18,73,18],[60,19,73,21],[36,6,38,17],[37,0,38,5],[39,0,40,5],[397,6,397,16],[398,6,398,16],[399,6,399,16],[400,6,400,16],[401,6,401,16],[402,6,403,16],[404,6,404,16],[405,6,405,16],[406,6,406,16],[391,6,391,16],[392,11,392,12],[392,14,392,16],[393,6,393,16],[394,6,394,8],[394,9,394,16],[395,6,395,16],[396,11,396,12],[396,14,396,16],[385,6,385,16],[386,6,386,8],[386,9,386,16],[387,6,387,16],[388,11,388,12],[388,14,388,16],[389,6,389,16],[390,6,390,8],[390,9,390,16],[382,17,411,17],[406,19,411,21],[419,19,427,21],[430,19,433,21],[436,19,443,21],[372,19,380,21],[377,18,380,18],[382,19,397,21],[390,18,393,18],[394,18,397,18],[398,19,405,21],[400,18,401,18],[380,0,380,17],[381,0,381,17],[381,19,381,21],[382,9,382,16],[383,6,383,16],[384,8,384,9],[388,8,388,9],[392,8,392,9],[396,8,396,9],[382,6,382,8],[384,11,384,12],[384,14,384,16],[402,18,403,18],[404,18,405,18],[398,18,399,18],[406,18,411,18],[419,18,427,18],[432,18,433,18],[439,18,440,18],[441,18,443,18],[341,18,342,18],[343,18,344,18],[354,18,358,18],[360,18,361,18],[372,18,376,18],[428,0,428,21],[429,0,429,17],[429,19,429,21],[430,18,431,18],[430,6,431,17],[431,0,431,2],[431,3,431,5],[432,6,433,17],[434,0,434,21],[435,0,435,17],[435,19,435,21],[341,19,346,21],[345,18,346,18],[353,18,353,21],[354,19,358,21],[359,18,359,21],[360,19,370,21],[362,18,363,18],[382,18,385,18],[386,18,389,18],[371,19,371,21],[439,0,440,5],[441,0,443,5],[406,0,410,5],[414,0,418,5],[419,0,427,5],[430,0,430,5],[432,0,433,5],[436,0,437,5],[438,0,438,5],[359,0,359,5],[360,0,361,5],[362,0,363,5],[364,0,366,5],[372,0,379,5],[382,0,397,5],[398,0,401,5],[402,0,403,5],[404,0,405,5],[367,0,369,5],[353,6,353,16],[354,6,354,10],[354,13,354,16],[355,13,355,16],[356,13,356,16],[341,0,346,5],[347,0,347,5],[348,0,352,5],[353,0,353,5],[354,0,358,5],[334,18,335,18],[317,18,318,18],[317,19,322,21],[319,18,320,18],[321,18,322,18],[323,18,323,21],[324,19,325,21],[326,18,326,21],[327,19,332,21],[329,18,330,18],[331,18,332,18],[327,0,332,5],[327,6,328,6],[329,6,330,6],[329,7,330,16],[331,7,331,16],[332,6,332,16],[306,18,307,18],[306,19,315,21],[308,18,309,18],[309,6,310,6],[310,18,311,18],[314,18,315,18],[319,6,320,6],[319,7,320,16],[321,6,322,6],[321,7,322,16],[324,18,325,18],[327,18,328,18],[314,0,315,5],[314,6,315,16],[316,0,316,5],[316,6,316,16],[317,0,322,5],[317,6,318,6],[317,7,318,16],[323,0,323,5],[323,6,323,16],[364,6,364,12],[364,13,364,16],[365,6,366,16],[364,18,366,18],[367,18,370,18],[375,7,375,8],[375,10,375,11],[367,6,369,16],[370,0,370,17],[371,0,371,17],[359,6,359,16],[360,6,360,12],[360,13,360,16],[361,6,361,12],[361,13,361,16],[362,6,362,12],[362,13,362,16],[363,6,363,12],[363,13,363,16],[340,0,340,5],[340,6,340,16],[376,6,376,11],[376,12,379,16],[377,6,377,11],[378,7,378,8],[379,7,379,8],[372,17,379,17],[378,10,378,11],[379,10,379,11],[373,6,373,11],[374,7,374,8],[374,10,374,11],[372,6,372,11],[372,12,375,16],[340,18,340,21],[341,7,342,16],[343,7,344,16],[345,7,345,16],[346,6,346,16],[357,13,357,16],[358,13,358,16],[350,7,350,10],[351,7,351,10],[347,6,347,16],[347,18,347,21],[348,6,348,10],[348,11,352,16],[348,18,352,18],[348,19,352,21],[349,6,349,10],[352,6,352,10],[355,6,356,10],[357,6,357,10],[357,11,357,12],[358,6,358,10],[358,11,358,12],[341,6,342,6],[343,6,344,6],[282,14,282,16],[283,14,283,16],[336,7,337,16],[338,7,338,16],[333,0,333,5],[334,0,339,5],[334,6,335,6],[334,7,335,16],[334,19,339,21],[336,6,337,6],[336,18,337,18],[338,18,339,18],[339,6,339,16],[333,18,333,21],[333,6,333,16],[324,0,325,5],[324,6,325,16],[326,0,326,5],[326,6,326,16],[327,7,328,16],[309,7,310,16],[311,7,311,16],[305,6,305,16],[306,6,307,16],[257,9,257,12],[258,6,258,8],[292,7,293,16],[281,10,281,13],[282,10,282,13],[283,10,283,13],[289,18,303,18],[289,19,303,21],[300,12,302,12],[300,13,300,16],[302,13,302,15],[283,6,283,9],[284,6,284,9],[286,6,288,11],[264,18,288,18],[264,19,288,21],[255,17,298,17],[284,14,284,16],[272,14,272,16],[273,14,273,16],[279,14,279,16],[280,14,280,16],[281,14,281,16],[285,14,285,16],[279,6,279,9],[280,6,280,9],[281,6,281,9],[282,6,282,9],[285,6,285,9],[274,6,274,9],[274,10,274,13],[277,6,277,9],[278,6,278,9],[278,10,278,13],[284,10,284,13],[285,10,285,13],[279,10,279,13],[280,10,280,13],[276,10,276,13],[276,14,276,16],[277,10,277,13],[277,14,277,16],[262,6,262,8],[262,9,262,11],[262,12,262,16],[263,6,263,8],[263,9,263,12],[263,13,263,16],[265,7,265,10],[266,6,266,16],[267,6,268,16],[269,10,271,13],[275,6,275,9],[275,10,275,13],[269,6,271,9],[272,6,272,9],[272,10,272,13],[273,6,273,9],[273,10,273,13],[254,19,254,21],[255,0,263,5],[255,9,256,16],[255,18,263,18],[255,19,263,21],[258,9,258,13],[259,6,259,8],[239,19,253,21],[245,7,248,9],[259,9,259,11],[259,12,259,16],[260,6,260,8],[260,9,260,13],[260,14,260,16],[261,6,261,8],[261,9,261,15],[241,7,241,8],[241,11,241,16],[243,6,244,10],[243,11,243,16],[244,11,244,16],[245,11,245,16],[255,6,256,8],[257,6,257,8],[289,0,302,5],[306,0,307,5],[309,0,313,5],[301,13,301,15],[301,16,302,16],[303,0,303,17],[304,0,304,17],[304,18,305,18],[304,19,305,21],[305,0,305,5],[312,7,312,16],[312,18,313,18],[313,6,313,16],[294,6,295,6],[294,7,295,16],[296,6,297,6],[296,7,297,16],[298,6,298,16],[299,6,299,16],[300,6,302,11],[289,6,289,16],[290,6,290,16],[291,7,291,16],[292,6,293,6],[234,18,238,18],[234,19,238,21],[235,6,235,16],[236,7,236,10],[236,12,236,15],[239,11,239,16],[246,11,246,16],[239,18,253,18],[253,0,253,17],[240,7,240,8],[240,11,240,16],[240,9,242,10],[242,11,242,16],[247,11,247,16],[250,11,250,16],[251,6,252,10],[251,11,251,16],[252,11,252,16],[264,0,288,5],[237,7,237,10],[238,6,238,10],[239,0,252,5],[239,6,239,10],[286,12,288,12],[286,13,286,16],[287,13,287,15],[287,16,288,16],[288,13,288,15],[248,11,248,16],[249,11,249,16],[257,13,257,16],[258,14,258,16],[265,12,265,16],[269,14,271,16],[264,6,264,16],[234,0,238,5],[234,6,234,16],[254,0,254,16],[278,14,278,16],[274,14,274,16],[275,14,275,16],[276,6,276,9]]}
[{"$f":"'Caseload Files'!B2","v":"Teacher Caseload Review"},null,null,null,{"$f":"'Caseload Files'!D23","v":"File 13"},null,"Reviewer:",null,null,{"$f":"'Caseload Files'!F23","v":"Reviewer 13"},null,null,"Staff Reviewed:",null,null,{"$f":"'Caseload Files'!I23","v":"Staff 13"},null,null,"Score","Findings/Notes"]
[{"$f":"'Caseload Files'!B2","v":"Teacher Caseload Review"},null,null,null,null,null,null,null,null,null,null,null,null,null,null,null,null,null,"Rating","Record notes\nand/or findings."]
[]
[]
["Student Name:",null,null,{"$f":"'Caseload Files'!$L$23","v":"Student 13"},null,null,null,"Date of Birth:",null,null,{"$f":"'Caseload Files'!$R$23","v":"2013-01-13"},null,null,null,"Current IEP Meeting Date:"]
["SIMS Numer:",null,null,{"$f":"'Caseload Files'!$O$23","v":130123456},null,null,null,"Age/Grade:",null,null,{"$f":"INT(YEARFRAC(K5,TODAY()))","v":8},"/Sophomore",null,null,"Previous IEP Meeting Date:"]
["School District:",null,null,{"$f":"'Caseload Files'!B3","v":"District 00-0"},null,null,null,"Disability Code:",null,null,{"$f":"'Caseload Files'!$W$23","v":"DisCode 13"},null,null,null,"Current Eligibility Determination Date:"]
["School Name:",null,null,{"$f":"'Caseload Files'!E6","v":"School Name"},null,null,null,"Race/Ethnicity:",null,null,{"$f":"'Caseload Files'!T23","v":"Race 13"},null,null,null,"Previous Eligibility Determination Date:"]
["School Year:",null,null,{"$f":"'Caseload Files'!E7","v":"1998-1999"},null,null,null,"Type of Review:",null,null,{"$f":"'Caseload Files'!Z23","v":"Type 13"},null,null,null,"Date of Review:"]
[]
[{"$f":"HYPERLINK(\"http://sdlegislature.gov/Rules/DisplayRule.aspx?Rule=24:05\",\"Subsection Title and \nCorresponding ARSD Links \")","v":"Subsection Title and \nCorresponding ARSD Links "},null,null,null,null,null,"Yellow boxes are prompts",null,null,null,null,"Use checkboxes to help record findings.",null,null,"Voided space and/or clarifying information.",null,null,null,"\"N/A\" may be appropriate for certain sections.","Findings/Notes"]
[null,null,null,null,null,null,"for information."]
[]
[]
[{"$f":"HYPERLINK(\"https://gosynth.com/p/s/aboqwv\",\"Record of Access\")","v":"Record of Access"},null,null,null,null,null,null,null,null,null,null,null,null,null,null,null,null,null,{"$f":"IFERROR(Y17/X17,\"N/A\")","v":"N/A"},"Findings/Notes"]
[{"$f":"HYPERLINK(\"http://sdlegislature.gov/Rules/DisplayRule.aspx?Rule=24:05:29:15\",\"Record of Access\n(24:05:29:15)\")","v":"Record of Access\n(24:05:29:15)"},null,null,null,null,null,null,null,null,null,null,null,null,null,null,null,null,null,"Select","V16",null,null,null,null,{"$f":"S16","v":"Select"},{"$f":"S16","v":"Select"}]
[null,null,null,null,null,null,null,null,null,null,null,null,null,null,null,null,null,null,null,null,null,null,null,{"$f":"Y17+Z17","v":0},{"$f":"COUNTIF(Y16,\"Yes\")*3","v":0},{"$f":"COUNTIF(Z16,\"No\")*3","v":0}]
[]
[{"$f":"HYPERLINK(\"https://gosynth.com/p/s/grdmsy\",\"Referral\")","v":"Referral"},null,null,null,null,null,null,null,null,null,null,null,null,null,null,null,null,null,{"$f":"IFERROR(Y21/X21,\"N/A\")","v":"N/A"}]
[{"$f":"HYPERLINK(\"http://sdlegislature.gov/Rules/DisplayRule.aspx?Rule=24:05:24:01\",\"Referral Document\n(initial only)\n(24:05:24:01)\")","v":"Referral Document\n(initial only)\n(24:05:24:01)"},null,null,null,null,null,"Date of referral:",null,null,null,null,null,"The top two spaces are available to type in.",null,null,null,null,null,"Select","V20",null,null,null,null,{"$f":"S20","v":"Select"},{"$f":"S20","v":"Select"}]
[null,null,null,null,null,null,"List all areas of referral:",null,null,null,null,null,null,null,null,null,null,null,null,null,null,null,null,{"$f":"Y21+Z21","v":0},{"$f":"COUNTIF(Y20,\"Yes\")*3","v":0},{"$f":"COUNTIF(Z20,\"No\")*3","v":0}]
[]
[]
[]
[null,null,null,null,null,null,"If referral can not be found and is older than three years, N/A is appropriate."]
[]
[{"$f":"HYPERLINK(\"https://gosynth.com/p/s/lihblf\",\"Initial Placement\")","v":"Initial Placement"},null,null,null,null,null,null,null,null,null,null,null,null,null,null,null,null,null,{"$f":"IFERROR(Y33/X33,\"N/A\")","v":"N/A"}]
[{"$f":"HYPERLINK(\"http://sdlegislature.gov/rules/DisplayRule.aspx?Rule=24:05:27:04.01\",\"Consent Signed for Initial Placement \ninto Special Education\n(24:05:27:04.01)\")","v":"Consent Signed for Initial Placement \ninto Special Education\n(24:05:27:04.01)"},null,null,null,null,null,"Date Signed:",null,null,null,null,null,null,null,null,null,null,null,"Select","V28",null,null,null,null,{"$f":"S28","v":"Select"},{"$f":"S28","v":"Select"}]
[null,null,null,null,null,null,"(The Consent Signed for Initial Placement into Special Education form is a separate document.  In the past, it may have been found at the end of the IEP.",null,null,null,null,null,null,null,null,null,null,null,null,null,null,null,null,{"$f":"Y29+Z29","v":0},{"$f":"COUNTIF(Y28,\"Yes\")*3","v":0},{"$f":"COUNTIF(Z28,\"No\")*3","v":0}]
[]
[{"$f":"HYPERLINK(\"https://sdlegislature.gov/Rules/DisplayRule.aspx?Rule=24:05:25:04.02\",\"Determination of Needed \nEvaluation Data\n(24:05:25:04.02)\")","v":"Determination of Needed \nEvaluation Data\n(24:05:25:04.02)"},null,null,null,null,null,"Did the team review existing data before completing the PPWN Consent?",null,null,null,null,null,null,null,null,null,null,null,"Select","V31",null,null,null,null,{"$f":"S31","v":"Select"},{"$f":"S31","v":"Select"}]
[null,null,null,null,null,null,"Select",null,"The existing data includes evaluations and information provided by the parents, current classroom-based local or state assessments, and observations by teachers and related services providers.",null,null,null,null,null,null,null,null,null,null,null,null,null,null,{"$f":"Y32+Z32","v":0},{"$f":"COUNTIF(Y31,\"Yes\")*3","v":0},{"$f":"COUNTIF(Z31,\"No\")*3","v":0}]
[null,null,null,null,null,null,null,null,null,null,null,null,null,null,null,null,null,null,null,null,null,null,null,{"$f":"(X32+X29)/2","v":0},{"$f":"(Y32+Y29)/2","v":0}]
[]
[{"$f":"HYPERLINK(\"https://gosynth.com/p/s/qxevgy\",\"Evaluation\")","v":"Evaluation"},null,null,null,null,null,null,null,null,null,null,null,null,null,null,null,null,null,{"$f":"IFERROR(Y38/X38,\"N/A\")","v":"N/A"},{"$f":"IFERROR(Y58/X58,\"N/A\")","v":"N/A"}]
[{"$f":"HYPERLINK(\"http://sdlegislature.gov/rules/DisplayRule.aspx?Rule=24:05:25:02.01\",\"Initial Evaluation \n(24:05:25:02.01)\")","v":"Initial Evaluation \n(24:05:25:02.01)"},null,null,null,null,null,"PPWN Consent was Sent:",null,null,null,null,null,null,"Use the most recent evaluation. ",null,null,null,null,"Select","V36",null,null,null,null,{"$f":"S36","v":"Select"},{"$f":"S36","v":"Select"}]
[null,null,null,null,null,null,{"$f":"HYPERLINK(\"https://gosynth.com/p/s/qxevgy\",\"Consent was acquired for initial evaluation. \n\nIf consent was not given by the parent for reevaluation, evidence of  attempts were made to elicit parent.\")","v":"Consent was acquired for initial evaluation. \n\nIf consent was not given by the parent for reevaluation, evidence of  attempts were made to elicit parent."},null,null,null,null,null,null,null,null,null,null,null,null,null,null,null,null,{"$f":"Y37+Z37","v":0},{"$f":"COUNTIF(Y36,\"Yes\")*3","v":0},{"$f":"COUNTIF(Z36,\"No\")*3","v":0}]
[{"$f":"HYPERLINK(\"http://sdlegislature.gov/Rules/DisplayRule.aspx?Rule=24:05:25:06.01\",\"Reevaluation\n(24:05:25:06.01)\")","v":"Reevaluation\n(24:05:25:06.01)"},null,null,null,null,null,null,null,null,null,null,null,null,null,null,null,null,null,null,null,null,null,null,{"$f":"(X37+X41+X43+X45+X47+X56+X62+X76+X86+X100+X104+X106+X108+X110+X112+X115+X117+X120)/18","v":0},{"$f":"(Y37+Y41+Y43+Y45+Y47+Y56+Y62+Y76+Y86+Y100+Y104+Y106+Y108+Y110+Y112+Y115+Y117+Y120)/18","v":0}]
[]
[{"$f":"HYPERLINK(\"http://sdlegislature.gov/Rules/DisplayRule.aspx?Rule=24:05:25:16\",\"Parent Input into Evalaution\n(24:05:25:16)\")","v":"Parent Input into Evalaution\n(24:05:25:16)"},null,null,null,null,null,{"$f":"HYPERLINK(\"https://gosynth.com/p/s/ycomsx\",\"Parent input must be documented in the PPWN Consent on input exiting data and \nupcoming evaluation.   (refer to phone logs, progress notes, prior notice)\")","v":"Parent input must be documented in the PPWN Consent on input exiting data and \nupcoming evaluation.   (refer to phone logs, progress notes, prior notice)"},null,null,null,null,null,null,null,null,null,null,null,"Select",null,null,null,null,null,{"$f":"S40","v":"Select"},{"$f":"S40","v":"Select"}]
[null,null,null,null,null,null,null,null,null,null,null,null,null,null,null,null,null,null,null,null,null,null,null,{"$f":"Y41+Z41","v":0},{"$f":"COUNTIF(Y40,\"Yes\")*3","v":0},{"$f":"COUNTIF(Z40,\"No\")*3","v":0}]
[{"$f":"HYPERLINK(\"http://sdlegislature.gov/Rules/DisplayRule.aspx?Rule=24:05:30:06.01\",\"Procedural Safeguards\n(24:05:30:06.01)\")","v":"Procedural Safeguards\n(24:05:30:06.01)"},null,null,null,null,null,{"$f":"HYPERLINK(\"https://gosynth.com/p/s/tdkmfj\",\"[INCLUDE LANGUAGE FOR THIS SECTION]\")","v":"[INCLUDE LANGUAGE FOR THIS SECTION]"},null,null,null,null,null,null,null,null,null,null,null,"Select",null,null,null,null,null,{"$f":"S42","v":"Select"},{"$f":"S42","v":"Select"}]
[null,null,null,null,null,null,null,null,null,null,null,null,null,null,null,null,null,null,null,null,null,null,null,{"$f":"Y43+Z43","v":0},{"$f":"COUNTIF(Y42,\"Yes\")*3","v":0},{"$f":"COUNTIF(Z42,\"No\")*3","v":0}]
[{"$f":"HYPERLINK(\"http://sdlegislature.gov/Rules/DisplayRule.aspx?Rule=24:05:25:03\",\"Extension on 25 Day Timeline\n(24:05:25:03)\")","v":"Extension on 25 Day Timeline\n(24:05:25:03)"},null,null,null,null,null,{"$f":"HYPERLINK(\"https://gosynth.com/p/s/wcheia\",\"Documented agreement with parent and district on new extension date.  \nEligibility and IEP developed 30 days after the agreed extension date.\")","v":"Documented agreement with parent and district on new extension date.  \nEligibility and IEP developed 30 days after the agreed extension date."},null,null,null,null,null,null,null,null,null,null,null,"Select",null,null,null,null,null,{"$f":"S44","v":"Select"},{"$f":"S44","v":"Select"}]
[null,null,null,null,null,null,null,null,null,null,null,null,null,null,null,null,null,null,null,null,null,null,null,{"$f":"Y45+Z45","v":0},{"$f":"COUNTIF(Y44,\"Yes\")*3","v":0},{"$f":"COUNTIF(Z44,\"No\")*3","v":0}]
[{"$f":"HYPERLINK(\"http://sdlegislature.gov/Rules/DisplayRule.aspx?Rule=24:05:30:05\",\"Content of Prior Written Notice/\nConsent for Evaluation\n (24:05:30:05)\")","v":"Content of Prior Written Notice/\nConsent for Evaluation\n (24:05:30:05)"},null,null,null,null,null,{"$f":"HYPERLINK(\"https://gosynth.com/p/s/xymlpn\",\"Check the following:\")","v":"Check the following:"},null,null,null,null,null,null,null,null,null,null,null,"Select","V46",null,null,null,null,{"$f":"S46","v":"Select"},{"$f":"S46","v":"Select"}]
[null,null,null,null,null,null,"PPWN must be individualized to the student, IEP team discussions and situation.",null,null,null,null,null,null,null,null,null,null,null,null,null,null,null,null,{"$f":"Y47+Z47","v":0},{"$f":"COUNTIF(Y46,\"Yes\")*3","v":0},{"$f":"COUNTIF(Z46,\"No\")*3","v":0}]
[]
[null,null,null,null,null,null,null,"Explanation of why the district proposed or refused to take the action"]
[null,null,null,null,null,null,null,"Description of other options considered and why they were rejected "]
[null,null,null,null,null,null,null,"Description of evidence used for the proposed or refused action"]
[null,null,null,null,null,null,null,"Description of other factors that are relevant to proposal or refusal"]
[]
[null,null,null,null,null,null,"All components should be completed and have a clear description."]
[{"$f":"HYPERLINK(\"http://sdlegislature.gov/Rules/DisplayRule.aspx?Rule=24:05:30:05\",\"Timeline of Prior Written Notice/\nConsent for Evaluation\n(24:05:25:03)\")","v":"Timeline of Prior Written Notice/\nConsent for Evaluation\n(24:05:25:03)"},null,null,null,null,null,{"$f":"HYPERLINK(\"https://gosynth.com/p/s/xylthm\",\"Date sent:\")","v":"Date sent:"},null,null,null,"2020-01-18",null,null,null,null,null,null,null,"Select","V54",null,null,null,null,{"$f":"S55","v":"Select"},{"$f":"S55","v":"Select"}]
[null,null,null,null,null,null,"Date signed:",null,null,null,"2020-01-19",null,null,null,null,null,null,null,null,null,null,null,null,{"$f":"Y56+Z56","v":0},{"$f":"COUNTIF(Y55,\"Yes\")*3","v":0},{"$f":"COUNTIF(Z55,\"No\")*3","v":0}]
[null,null,null,null,null,null,"Date received:",null,null,null,"2020-01-20"]
[null,null,null,null,null,null,"25 school days:",null,null,null,{"$f":"WORKDAY(K57,25)","v":"2020-02-24"}]
[null,null,null,null,null,null,"30 calendar days:"]
[null,null,null,null,null,null,"Extension on 25 day:"]
[{"$f":"HYPERLINK(\"http://sdlegislature.gov/Rules/DisplayRule.aspx?Rule=24:05:25:04.02\",\"Evaluations to be Completed by the District per Parental Prior Written/Consent for Evaluation\n(24:05:25:04.02)\")","v":"Evaluations to be Completed by the District per Parental Prior Written/Consent for Evaluation\n(24:05:25:04.02)"},null,null,null,null,null,{"$f":"HYPERLINK(\"https://gosynth.com/p/s/zgdeev\",\"List areas:\")","v":"List areas:"},null,null,"Test administered:",null,null,null,"Test date:",null,"Evaluator:",null,null,"Select","V60",null,null,null,null,{"$f":"S61","v":"Select"},{"$f":"S61","v":"Select"}]
[null,null,null,null,null,null,null,null,null,null,null,null,null,null,null,null,null,null,null,null,null,null,null,{"$f":"Y62+Z62","v":0},{"$f":"COUNTIF(Y61,\"Yes\")*3","v":0},{"$f":"COUNTIF(Z61,\"No\")*3","v":0}]
[]
[]
[]
[]
[]
["For more evaluations requested click the [+]"]
[]
[]
[]
[]
[]
[]
[{"$f":"HYPERLINK(\"http://sdlegislature.gov/Rules/DisplayRule.aspx?Rule=24:05:25:04.02\",\"Existing Evaluation Data\nto be Pulled Forward\n(24:05:25:04.02)\")","v":"Existing Evaluation Data\nto be Pulled Forward\n(24:05:25:04.02)"},null,null,null,null,null,{"$f":"HYPERLINK(\"https://gosynth.com/p/s/pfohnr\",\"List areas:\")","v":"List areas:"},null,null,"Test administered:",null,null,null,"Test date:",null,"Evaluator:",null,null,"Select","V74",null,null,null,null,{"$f":"S75","v":"Select"},{"$f":"S75","v":"Select"}]
[null,null,null,null,null,null,null,null,null,null,null,null,null,null,null,null,null,null,null,null,null,null,null,{"$f":"Y76+Z76","v":0},{"$f":"COUNTIF(Y75,\"Yes\")*3","v":0},{"$f":"COUNTIF(Z75,\"No\")*3","v":0}]
[]
[]
[]
["For more existing data requested click the [+]"]
[]
[]
[]
[]
[{"$f":"HYPERLINK(\"http://sdlegislature.gov/Rules/DisplayRule.aspx?Rule=24:05:25:04.02\",\"Skills Based Assessment and Report\n(24:05:25:04.02)\")","v":"Skills Based Assessment and Report\n(24:05:25:04.02)"},null,null,null,null,null,{"$f":"HYPERLINK(\"https://gosynth.com/p/s/tbqnts\",\"List areas:\")","v":"List areas:"},null,null,"Test administered:",null,null,null,"Test date:",null,"Evaluator:",null,null,"Select","V84",null,null,null,null,{"$f":"S85","v":"Select"},{"$f":"S85","v":"Select"}]
[null,null,null,null,null,null,null,null,null,null,null,null,null,null,null,null,null,null,null,null,null,null,null,{"$f":"Y86+Z86","v":0},{"$f":"COUNTIF(Y85,\"Yes\")*3","v":0},{"$f":"COUNTIF(Z85,\"No\")*3","v":0}]
[]
[null,null,null,null,null,null,null,null,null,null,null,null,null,null,null,null,null,null,null,null,null,null,null,{"$f":"(X86+X100+X104+X106+X108+X110+X112+X115+X117+X120)/10","v":0},{"$f":"(Y86+Y100+Y104+Y106+Y108+Y110+Y112+Y115+Y117+Y120)/10","v":0}]
[]
[]
[]
["For more skills based requested click the [+]"]
[]
[]
[]
[]
[]
[]
[{"$f":"HYPERLINK(\"http://sdlegislature.gov/Rules/DisplayRule.aspx?Rule=24:05:25:03\",\"Consent Received\n(24:05:25:03)\")","v":"Consent Received\n(24:05:25:03)"},null,null,null,null,null,{"$f":"HYPERLINK(\"https://gosynth.com/p/s/ctcnlr\",\"Consent received date:\")","v":"Consent received date:"},null,null,null,null,{"$f":"K57","v":"2020-01-20"},null,null,"Mark \"No\" if dates are outside of \"consent received\" and/or \"25 school days\".",null,null,null,"Select","V98",null,null,null,null,{"$f":"S99","v":"Select"},{"$f":"S99","v":"Select"}]
[null,null,null,null,null,null,"Earliest testing date:",null,null,null,null,{"$f":"MIN(N63:O74,N87:O98)","v":"00:00:00"},null,null,null,null,null,null,null,null,null,null,null,{"$f":"Y100+Z100","v":0},{"$f":"COUNTIF(Y99,\"Yes\")*3","v":0},{"$f":"COUNTIF(Z99,\"No\")*3","v":0}]
[null,null,null,null,null,null,"Latest testing date:",null,null,null,null,{"$f":"MAX(N63:O74,N87:O98)","v":"00:00:00"}]
[null,null,null,null,null,null,"Within 25 School Days:",null,null,null,null,{"$f":"IF(ISBLANK(K60),K58,K60)","v":"2020-02-24"}]
[{"$f":"HYPERLINK(\"http://sdlegislature.gov/Rules/DisplayRule.aspx?Rule=24:05:25:20\",\"All Evaluations Administered \n(24:05:25:20)\")","v":"All Evaluations Administered \n(24:05:25:20)"},null,null,null,null,null,{"$f":"HYPERLINK(\"https://gosynth.com/p/s/mkcdef\",\"All evaluations marked on the PWWN/Consent for Evaluation form must be administered.\")","v":"All evaluations marked on the PWWN/Consent for Evaluation form must be administered."},null,null,null,null,null,null,null,null,null,null,null,"Select","V102",null,null,null,null,{"$f":"S103","v":"Select"},{"$f":"S103","v":"Select"}]
[null,null,null,null,null,null,null,null,null,null,null,null,null,null,null,null,null,null,null,null,null,null,null,{"$f":"Y104+Z104","v":0},{"$f":"COUNTIF(Y103,\"Yes\")*3","v":0},{"$f":"COUNTIF(Z103,\"No\")*3","v":0}]
[{"$f":"HYPERLINK(\"http://sdlegislature.gov/Rules/DisplayRule.aspx?Rule=24:05:25:06.01\",\"Consent was Acquired\n(24:05:25:06.01)\")","v":"Consent was Acquired\n(24:05:25:06.01)"},null,null,null,null,null,{"$f":"HYPERLINK(\"https://gosynth.com/p/s/mkcdef\",\"All evaluations administered must be requested on the PWWN/Consent for Evaluation \nform.\")","v":"All evaluations administered must be requested on the PWWN/Consent for Evaluation \nform."},null,null,null,null,null,null,null,null,null,null,null,"Select",null,null,null,null,null,{"$f":"S105","v":"Select"},{"$f":"S105","v":"Select"}]
[null,null,null,null,null,null,null,null,null,null,null,null,null,null,null,null,null,null,null,null,null,null,null,{"$f":"Y106+Z106","v":0},{"$f":"COUNTIF(Y105,\"Yes\")*3","v":0},{"$f":"COUNTIF(Z105,\"No\")*3","v":0}]
[{"$f":"HYPERLINK(\"http://sdlegislature.gov/Rules/DisplayRule.aspx?Rule=24:05:25:04\",\"Variety of Sources \n(24:05:25:04)\")","v":"Variety of Sources \n(24:05:25:04)"},null,null,null,null,null,{"$f":"HYPERLINK(\"https://gosynth.com/p/s/mkcdef\",\"Appropritate means to provide evaluations for accurate data were used. \")","v":"Appropritate means to provide evaluations for accurate data were used. "},null,null,null,null,null,null,null,null,null,null,null,"Select",null,null,null,null,null,{"$f":"S107","v":"Select"},{"$f":"S107","v":"Select"}]
[null,null,null,null,null,null,null,null,null,null,null,null,null,null,null,null,null,null,null,null,null,null,null,{"$f":"Y108+Z108","v":0},{"$f":"COUNTIF(Y107,\"Yes\")*3","v":0},{"$f":"COUNTIF(Z107,\"No\")*3","v":0}]
[{"$f":"HYPERLINK(\"http://sdlegislature.gov/Rules/DisplayRule.aspx?Rule=24:05:25:04\",\"Met Requirements for the Disability\n(24:05:25:04) \")","v":"Met Requirements for the Disability\n(24:05:25:04) "},null,null,null,null,null,{"$f":"HYPERLINK(\"https://gosynth.com/p/s/mkcdef\",\"Comprehensive Evaluations in all areas required for the disability. \")","v":"Comprehensive Evaluations in all areas required for the disability. "},null,null,null,null,null,null,null,null,null,null,null,"Select",null,null,null,null,null,{"$f":"S109","v":"Select"},{"$f":"S109","v":"Select"}]
[null,null,null,null,null,null,null,null,null,null,null,null,null,null,null,null,null,null,null,null,null,null,null,{"$f":"Y110+Z110","v":0},{"$f":"COUNTIF(Y109,\"Yes\")*3","v":0},{"$f":"COUNTIF(Z109,\"No\")*3","v":0}]
[{"$f":"HYPERLINK(\"http://sdlegislature.gov/Rules/DisplayRule.aspx?Rule=24:05:25:03\",\"Eligibility within 30 Calendar Days \n(24:05:25:03)\")","v":"Eligibility within 30 Calendar Days \n(24:05:25:03)"},null,null,null,null,null,{"$f":"HYPERLINK(\"https://gosynth.com/p/s/mkcdef\",\"Day 26 was on:\")","v":"Day 26 was on:"},null,null,null,null,{"$f":"WORKDAY(L102,1)","v":"2020-02-25"},null,null,null,null,null,null,"Select","V110",null,null,null,null,{"$f":"S111","v":"Select"},{"$f":"S111","v":"Select"}]
[null,null,null,null,null,null,"Eligibility Determination Date:",null,null,null,null,{"$f":"T7","v":"00:00:00"},null,null,null,null,null,null,null,null,null,null,null,{"$f":"Y112+Z112","v":0},{"$f":"COUNTIF(Y111,\"Yes\")*3","v":0},{"$f":"COUNTIF(Z111,\"No\")*3","v":0}]
[null,null,null,null,null,null,"Eligibility meeting date should have been by:",null,null,null,null,null,null,null,{"$f":"K59","v":"00:00:00"}]
[{"$f":"HYPERLINK(\"http://sdlegislature.gov/Rules/DisplayRule.aspx?Rule=24:05:25:04.03\",\"Student Eligible for Special Education \n(24:05:25:04.03)\")","v":"Student Eligible for Special Education \n(24:05:25:04.03)"},null,null,null,null,null,null,null,null,null,null,null,null,null,null,null,null,null,"Select",null,null,null,null,null,{"$f":"S114","v":"Select"},{"$f":"S114","v":"Select"}]
[null,null,null,null,null,null,null,null,null,null,null,null,null,null,null,null,null,null,null,null,null,null,null,{"$f":"Y115+Z115","v":0},{"$f":"COUNTIF(Y114,\"Yes\")*3","v":0},{"$f":"COUNTIF(Z114,\"No\")*3","v":0}]
[{"$f":"HYPERLINK(\"http://sdlegislature.gov/Rules/DisplayRule.aspx?Rule=24:05:25:06\",\"Three Year Re-Evaluation\n(24:05:25:06)\")","v":"Three Year Re-Evaluation\n(24:05:25:06)"},null,null,null,null,null,{"$f":"HYPERLINK(\"https://gosynth.com/p/s/mkcdef\",\"Current Eligibility Determination Date:\")","v":"Current Eligibility Determination Date:"},null,null,null,null,null,null,{"$f":"L112","v":"00:00:00"},null,null,null,null,"Select",null,null,null,null,null,{"$f":"S116","v":"Select"},{"$f":"S116","v":"Select"}]
[null,null,null,null,null,null,"Previous Eligibility Determination Date:",null,null,null,null,null,null,{"$f":"T8","v":"00:00:00"},null,null,null,null,null,null,null,null,null,{"$f":"Y117+Z117","v":0},{"$f":"COUNTIF(Y116,\"Yes\")*3","v":0},{"$f":"COUNTIF(Z116,\"No\")*3","v":0}]
[]
[{"$f":"HYPERLINK(\"https://gosynth.com/p/s/mkcdef\",\"Evaluated to Dismiss from Services  \")","v":"Evaluated to Dismiss from Services  "},null,null,null,null,null,null,null,null,null,null,null,null,null,null,null,null,null,"Select",null,null,null,null,null,{"$f":"S119","v":"Select"},{"$f":"S119","v":"Select"}]
[null,null,null,null,null,null,null,null,null,null,null,null,null,null,null,null,null,null,null,null,null,null,null,{"$f":"Y120+Z120","v":0},{"$f":"COUNTIF(Y119,\"Yes\")*3","v":0},{"$f":"COUNTIF(Z119,\"No\")*3","v":0}]
[]
[{"$f":"HYPERLINK(\"https://gosynth.com/p/s/giwoma\",\"Eligibility Document for Specific Learning Disability\")","v":"Eligibility Document for Specific Learning Disability"},null,null,null,null,null,null,null,null,null,null,null,null,null,null,null,null,null,{"$f":"IFERROR(Y126/X126,\"N/A\")","v":"N/A"}]
["If student is not eligible for Specific Learning Disability, skip this section.  Click on the [+] button if section is not visible. ",null,null,null,null,null,null,null,null,null,null,null,null,null,null,null,null,null,"Select","V122",null,null,null,null,{"$f":"S123","v":"Select"},{"$f":"S123","v":"Select"}]
[{"$f":"HYPERLINK(\"http://sdlegislature.gov/Rules/DisplayRule.aspx?Rule=24:05:24.01:19\",\"Specific Learning Disabilities\n(24:05:24.01:19)\")","v":"Specific Learning Disabilities\n(24:05:24.01:19)"},null,null,null,null,null,"Check the following:",null,null,null,null,null,null,null,null,null,null,null,null,null,null,null,null,{"$f":"Y124+Z124","v":0},{"$f":"COUNTIF(Y123,\"Yes\")*3","v":0},{"$f":"COUNTIF(Z123,\"No\")*3","v":0}]
[]
[null,null,null,null,null,null,null,"Reading Comprehension",null,null,null,null,null,"Math Calculation",null,null,null,null,null,null,null,null,null,{"$f":"(X124+X132+X151+X165+X174)/5","v":0},{"$f":"(Y124+Y132+Y151+Y165+Y174)/5","v":0}]
[null,null,null,null,null,null,null,"Basic Reading Skills",null,null,null,null,null,"Math Problem Solving"]
[null,null,null,null,null,null,null,"Reading Fluency",null,null,null,null,null,"Listening Comprehension"]
[null,null,null,null,null,null,null,"Written Expression",null,null,null,null,null,"Oral Expression"]
[]
["For Initial Determination of Eligibility Only",null,null,null,null,null,null,null,null,null,null,null,null,null,null,null,null,null,"Select","V130",null,null,null,null,{"$f":"S131","v":"Select"},{"$f":"S131","v":"Select"}]
[{"$f":"HYPERLINK(\"http://sdlegislature.gov/Rules/DisplayRule.aspx?Rule=24:05:24.01:19\",\"Initial Eligibility\n(24:05:24.01:19)\")","v":"Initial Eligibility\n(24:05:24.01:19)"},null,null,null,null,null,"Written report must include:",null,null,null,null,null,null,null,null,null,null,null,null,null,null,null,null,{"$f":"Y132+Z132","v":0},{"$f":"COUNTIF(Y131,\"Yes\")*3","v":0},{"$f":"COUNTIF(Z131,\"No\")*3","v":0}]
[]
[null,null,null,null,null,null,null,"Student achieves adequately",null,null,null,null,"Lack of appropriate instruction"]
[]
[null,null,null,null,null,null,null,"Student exhibits pattern of strengths & weaknesses",null,null,null,null,"Observation of the student"]
[]
[null,null,null,null,null,null,null,null,null,null,null,null,"Relevant medical findings (if any)"]
[null,null,null,null,null,null,null,"Student was provided appropriate instruction in regular education settings by qualified personnel"]
[null,null,null,null,null,null,null,null,null,null,null,null,"Achievement level problem is/is not primarily the result of another factor (e.g. emotional disturbance, cognitive impairment, etc.)"]
[]
[]
[null,null,null,null,null,null,null,"Repeated assessment of achievement reflecting student progress"]
[]
[]
[null,null,null,null,null,null,null,"Attendance record",null,null,null,null,"Adverse effect on educational performance"]
[]
[]
["Click on the [+] button to expand or the [-] button to collapse."]
["For Reevaluation of Eligibility Only",null,null,null,null,null,null,null,null,null,null,null,null,null,null,null,null,null,"Select","V149",null,null,null,null,{"$f":"S150","v":"Select"},{"$f":"S150","v":"Select"}]
[{"$f":"HYPERLINK(\"http://sdlegislature.gov/Rules/DisplayRule.aspx?Rule=24:05:24.01:19\",\"Reevaluation of Eligibility\n(24:05:24.01:19)\")","v":"Reevaluation of Eligibility\n(24:05:24.01:19)"},null,null,null,null,null,"Written report must include:",null,null,null,null,null,null,null,null,null,null,null,null,null,null,null,null,{"$f":"Y151+Z151","v":0},{"$f":"COUNTIF(Y150,\"Yes\")*3","v":0},{"$f":"COUNTIF(Z150,\"No\")*3","v":0}]
[]
[null,null,null,null,null,null,null,"Student achieves adequately",null,null,null,null,"Achievement level problem is/is not primarily the result of another factor (e.g. emotional disturbance, cognitive impairment, etc.)"]
[]
[null,null,null,null,null,null,null,"Student exhibits pattern of strengths & weaknesses"]
[]
[]
[null,null,null,null,null,null,null,"Observation of the student"]
[null,null,null,null,null,null,null,null,null,null,null,null,"Adverse effect on educational performance"]
[null,null,null,null,null,null,null,"Relevant medical findings (if any)"]
[]
[]
["Click on the [+] button to expand or the [-] button to collapse."]
[{"$f":"HYPERLINK(\"http://sdlegislature.gov/Rules/DisplayRule.aspx?Rule=24:05:25:08\",\"Team Member Signatures \n(24:05:25:08)\")","v":"Team Member Signatures \n(24:05:25:08)"},null,null,null,null,null,"Check the following:",null,null,null,null,null,null,null,null,null,null,null,"Select","V163",null,null,null,null,{"$f":"S164","v":"Select"},{"$f":"S164","v":"Select"}]
[null,null,null,null,null,null,null,null,null,null,null,null,null,null,null,null,null,null,null,null,null,null,null,{"$f":"Y165+Z165","v":0},{"$f":"COUNTIF(Y164,\"Yes\")*3","v":0},{"$f":"COUNTIF(Z164,\"No\")*3","v":0}]
[null,null,null,null,null,null,null,"Parent",null,null,null,null,"Each group member shall certify in writing whether the report reflects the group member's conclusion. If it does not reflect the group member's conclusion, the group member must submit the conclusion in a separate statement."]
[null,null,null,null,null,null,null,"General Education Teacher"]
[{"$f":"HYPERLINK(\"http://sdlegislature.gov/Rules/DisplayRule.aspx?Rule=24:05:25:13\",\"Group Members to Certify \nReport in Writing \n(24:05:25:13)\")","v":"Group Members to Certify \nReport in Writing \n(24:05:25:13)"},null,null,null,null,null,null,"Special Education Teacher"]
[null,null,null,null,null,null,null,"Qualified interpreter of results"]
[null,null,null,null,null,null,null,"LEA Representative"]
[null,null,null,null,null,null,null,"If disagreed, written input was provided"]
[]
[null,null,null,null,null,null,"Check PWWN for eligibility decisions.                         ",null,null,null,null,"Skip to","PPWN.",null,null,null,null,null,"Select",null,null,null,null,null,{"$f":"S173","v":"Select"},{"$f":"S173","v":"Select"}]
[null,null,null,null,null,null,null,null,null,null,null,null,null,null,null,null,null,null,null,null,null,null,null,{"$f":"Y174+Z174","v":0},{"$f":"COUNTIF(Y173,\"Yes\")*3","v":0},{"$f":"COUNTIF(Z173,\"No\")*3","v":0}]
[]
[{"$f":"HYPERLINK(\"https://gosynth.com/p/s/mzphio\",\"Meeting Notice\")","v":"Meeting Notice"},null,null,null,null,null,null,null,null,null,null,null,null,null,null,null,null,null,{"$f":"IFERROR(Y184/X184,\"N/A\")","v":"N/A"}]
["Meeting Notice",null,null,null,null,null,"Date sent:",null,null,null,null,null,"From this point on use the current IEP's documentation.",null,null,null,null,null,"Select","V174",null,null,null,null,{"$f":"S177","v":"Select"},{"$f":"S177","v":"Select"}]
[{"$f":"HYPERLINK(\"http://sdlegislature.gov/Rules/DisplayRule.aspx?Rule=24:05:30:02.01\",\"(24:05:30:02.01)\")","v":"(24:05:30:02.01)"},null,null,{"$f":"HYPERLINK(\"http://sdlegislature.gov/Rules/DisplayRule.aspx?Rule=24:05:25:16\",\"(24:05:25:16)\")","v":"(24:05:25:16)"},null,null,"Meeting date:",null,null,{"$f":"T5","v":"00:00:00"},null,null,null,null,null,null,null,null,null,null,null,null,null,{"$f":"Y178+Z178","v":0},{"$f":"COUNTIF(Y177,\"Yes\")*3","v":0},{"$f":"COUNTIF(Z177,\"No\")*3","v":0}]
["Procedural Safeguards",null,null,null,null,null,"Must be given to parents annually.",null,null,null,null,null,null,null,null,null,null,null,"Select",null,null,null,null,null,{"$f":"S179","v":"Select"},{"$f":"S179","v":"Select"}]
[{"$f":"HYPERLINK(\"http://sdlegislature.gov/Rules/DisplayRule.aspx?Rule=24:05:30:06.01\",\"(24:05:30:06.01)\")","v":"(24:05:30:06.01)"},null,null,{"$f":"HYPERLINK(\"http://sdlegislature.gov/Rules/DisplayRule.aspx?Rule=24:05:30:06.02\",\"(24:05:30:06.02)\")","v":"(24:05:30:06.02)"},null,null,null,null,null,null,null,null,null,null,null,null,null,null,null,null,null,null,null,{"$f":"Y180+Z180","v":0},{"$f":"COUNTIF(Y179,\"Yes\")*3","v":0},{"$f":"COUNTIF(Z179,\"No\")*3","v":0}]
["IEP Team",null,null,null,null,null,"Complete the following:",null,null,null,null,null,null,null,null,null,null,null,"Select",null,null,null,null,null,{"$f":"S181","v":"Select"},{"$f":"S181","v":"Select"}]
[null,null,null,null,null,null,null,null,null,null,null,null,null,null,null,null,null,null,null,null,null,null,null,{"$f":"Y182+Z182","v":0},{"$f":"COUNTIF(Y181,\"Yes\")*3","v":0},{"$f":"COUNTIF(Z181,\"No\")*3","v":0}]
[null,null,null,null,null,null,null,"The documentation of people attending the IEP meeting on front page of the IEP does not imply agreement, it is for participation purposes only."]
[null,null,null,null,null,null,null,null,null,null,null,null,null,null,null,null,null,null,null,null,null,null,null,{"$f":"(X178+X180+X182+X198)/4","v":0},{"$f":"(Y178+Y180+Y182+Y198)/4","v":0}]
[null,null,null,null,null,null,null,"Identified on the meeting notice:",null,null,"Attended the meeting:",null,null,"Did not attend\nthe meeting:"]
[]
[{"$f":"HYPERLINK(\"http://sdlegislature.gov/Rules/DisplayRule.aspx?Rule=24:05:25:16\",\"(24:05:25:16)\")","v":"(24:05:25:16)"},null,null,null,null,null,null,"Parent/Guardian"]
[null,null,null,null,null,null,null,"Student"]
[null,null,null,null,null,null,null,"Gen. Ed. Teacher"]
[null,null,null,null,null,null,null,"Sp. Ed. Teacher"]
["Parent Participation",null,null,null,null,null,null,"Eval Interpreter"]
[{"$f":"HYPERLINK(\"http://sdlegislature.gov/Rules/DisplayRule.aspx?Rule=24:05:25:16\",\"(24:05:25:16)\")","v":"(24:05:25:16)"},null,null,null,null,null,null,"LEA Representative"]
[null,null,null,null,null,null,null,"List Others"]
[null,null,null,null,null,null,null,"List Others"]
[null,null,null,null,null,null,null,"List Others"]
[]
["IEP Team Attendance \n (24:05:27:01.05)",null,null,null,null,null,"A member of the IEP team may be excused from attending, in whole or in part, an IEP team meeting that involves a modification to or discussion of the member's area of the curriculum or related services, if:\n   (1) The parent and school district consent in writing to the excusal; and\n   (2) The member submits, in writing to the parent and the IEP team, input into the development of the IEP before the meeting.",null,null,null,null,null,null,null,null,null,null,null,"Select","V194",null,null,null,null,{"$f":"S197","v":"Select"},{"$f":"S197","v":"Select"}]
[null,null,null,null,null,null,null,null,null,null,null,null,null,null,null,null,null,null,null,null,null,null,null,{"$f":"Y198+Z198","v":0},{"$f":"COUNTIF(Y197,\"Yes\")*3","v":0},{"$f":"COUNTIF(Z197,\"No\")*3","v":0}]
[]
[]
[]
[]
[{"$f":"HYPERLINK(\"https://gosynth.com/p/s/jshfqs\",\"          Individual Education Plan (Use the most recent IEP.)\n\")","v":"          Individual Education Plan (Use the most recent IEP.)\n"},null,null,null,null,null,null,null,null,null,null,null,null,null,null,null,null,null,{"$f":"IFERROR(Y210/X210,\"N/A\")","v":"N/A"}]
[{"$f":"HYPERLINK(\"http://sdlegislature.gov/Rules/DisplayRule.aspx?Rule=24:05:25:04.03\",\"Evaluation Reports Given to Parents \n(24:05:25:04.03)\")","v":"Evaluation Reports Given to Parents \n(24:05:25:04.03)"},null,null,null,null,null,"Evidence the parent received a copy of the reports (e.g.  initials on the front page IEP or other evidence). ",null,null,null,null,null,null,null,null,null,null,null,"Select","V201",null,null,null,null,{"$f":"S204","v":"Select"},{"$f":"S204","v":"Select"}]
[null,null,null,null,null,null,null,null,null,null,null,null,null,null,null,null,null,null,null,null,null,null,null,{"$f":"Y205+Z205","v":0},{"$f":"COUNTIF(Y204,\"Yes\")*3","v":0},{"$f":"COUNTIF(Z204,\"No\")*3","v":0}]
[{"$f":"HYPERLINK(\"http://sdlegislature.gov/Rules/DisplayRule.aspx?Rule=24:05:25:19\",\"Copy of IEP Given to Parents \n(24:05:25:19)\")","v":"Copy of IEP Given to Parents \n(24:05:25:19)"},null,null,null,null,null,"Evidence copy of the IEP was given to parents (e.g.  initials on the front page, addressed in PPWN, or other evidence).",null,null,null,null,null,null,null,null,null,null,null,"Select",null,null,null,null,null,{"$f":"S206","v":"Select"},{"$f":"S206","v":"Select"}]
[null,null,null,null,null,null,null,null,null,null,null,null,null,null,null,null,null,null,null,null,null,null,null,{"$f":"Y207+Z207","v":0},{"$f":"COUNTIF(Y206,\"Yes\")*3","v":0},{"$f":"COUNTIF(Z206,\"No\")*3","v":0}]
[{"$f":"HYPERLINK(\"http://sdlegislature.gov/Rules/DisplayRule.aspx?Rule=24:05:27:08\",\"Met Annually\n(24:05:27:08)\")","v":"Met Annually\n(24:05:27:08)"},null,null,null,null,null,"Current IEP Meeting Date:",null,null,null,null,{"$f":"T5","v":"00:00:00"},null,null,null,null,null,null,"Select",null,null,null,null,null,{"$f":"S208","v":"Select"},{"$f":"S208","v":"Select"}]
[null,null,null,null,null,null,"Previous IEP Meeting Date:",null,null,null,null,{"$f":"T6","v":"00:00:00"},null,null,null,null,null,null,null,null,null,null,null,{"$f":"Y209+Z209","v":0},{"$f":"COUNTIF(Y208,\"Yes\")*3","v":0},{"$f":"COUNTIF(Z208,\"No\")*3","v":0}]
[null,null,null,null,null,null,null,null,null,null,null,null,null,null,null,null,null,null,null,null,null,null,null,{"$f":"(X205+X207+X209)/3","v":0},{"$f":"(Y205+Y207+Y209)/3","v":0}]
[{"$f":"HYPERLINK(\"https://gosynth.com/p/s/eypdgf\",\"Present Levels of Academic Achievement & Functional Performance\")","v":"Present Levels of Academic Achievement & Functional Performance"},null,null,null,null,null,null,null,null,null,null,null,null,null,null,null,null,null,{"$f":"IFERROR(Y243/X243,\"N/A\")","v":"N/A"}]
[{"$f":"HYPERLINK(\"http://sdlegislature.gov/Rules/DisplayRule.aspx?Rule=24:05:27:01.03\",\"Progress/Involvement in \nGeneral Education Curriculum\n(24:05:27:01.03)\")","v":"Progress/Involvement in \nGeneral Education Curriculum\n(24:05:27:01.03)"},null,null,null,null,null,"A statement of the student's present levels of academic achievement and functional performance, including:\n   (a)  How the student's disability affects the student's involvement and progress in the general education curriculum (i.e., the same curriculum as for nondisabled students); or\n   (b)  For preschool student, as appropriate, how the disability affects the student's participation in appropriate activities;\nis found in the document.",null,null,null,null,null,null,null,null,null,null,null,"Select","V209",null,null,null,null,{"$f":"S212","v":"Select"},{"$f":"S212","v":"Select"}]
[null,null,null,null,null,null,null,null,null,null,null,null,null,null,null,null,null,null,null,null,null,null,null,{"$f":"Y213+Z213","v":0},{"$f":"COUNTIF(Y212,\"Yes\")*3","v":0},{"$f":"COUNTIF(Z212,\"No\")*3","v":0}]
[]
[{"$f":"HYPERLINK(\"https://sdlegislature.gov/Rules/DisplayRule.aspx?Rule=24:05:25:16\",\"Parent Participation\n(24:05:25:16)\")","v":"Parent Participation\n(24:05:25:16)"},null,null,null,null,null,"The purpose of this area for parent to provide IEP team information about how the child’s disability is impacted at home. Parents can also provide input on types of strategies and supports they provide at home.",null,null,null,null,null,null,null,null,null,null,null,"Select",null,null,null,null,null,{"$f":"S215","v":"Select"},{"$f":"S215","v":"Select"}]
[null,null,null,null,null,null,null,null,null,null,null,null,null,null,null,null,null,null,null,null,null,null,null,{"$f":"Y216+Z216","v":0},{"$f":"COUNTIF(Y215,\"Yes\")*3","v":0},{"$f":"COUNTIF(Z215,\"No\")*3","v":0}]
[{"$f":"HYPERLINK(\"http://sdlegislature.gov/Rules/DisplayRule.aspx?Rule=24:05:27:01.03\",\"Present Levels of \nAcademic Achievement \n& Functional Performance\nLinked to Annual Goals\n(24:05:27:01.03)\")","v":"Present Levels of \nAcademic Achievement \n& Functional Performance\nLinked to Annual Goals\n(24:05:27:01.03)"},null,null,null,null,null,"Skill Area:",null,null,null,null,"Measuarable Goal:",null,null,null,null,null,null,"Select","V214",null,null,null,null,{"$f":"S217","v":"Select"},{"$f":"S217","v":"Select"}]
[null,null,null,null,null,null,null,null,null,null,null,null,null,null,null,null,null,null,null,null,null,null,null,{"$f":"Y218+Z218","v":0},{"$f":"COUNTIF(Y217,\"Yes\")*3","v":0},{"$f":"COUNTIF(Z217,\"No\")*3","v":0}]
[null,null,null,null,null,null,null,"Strengths",null,null,null,null,"Condition",null,null,"How well"]
[null,null,null,null,null,null,null,"Needs",null,null,null,null,"Performance",null,null,"How often"]
[null,null,null,null,null,null,null,"Link to evaluation"]
[]
[null,null,null,null,null,null,"Skill Area:",null,null,null,null,"Measuarable Goal:",null,null,null,null,null,null,"Select",null,null,null,null,null,{"$f":"S223","v":"Select"},{"$f":"S223","v":"Select"}]
[null,null,null,null,null,null,null,null,null,null,null,null,null,null,null,null,null,null,null,null,null,null,null,{"$f":"Y224+Z224","v":0},{"$f":"COUNTIF(Y223,\"Yes\")*3","v":0},{"$f":"COUNTIF(Z223,\"No\")*3","v":0}]
[null,null,null,null,null,null,null,"Strengths",null,null,null,null,"Condition",null,null,"How well"]
[null,null,null,null,null,null,null,"Needs",null,null,null,null,"Performance",null,null,"How often"]
[null,null,null,null,null,null,null,"Link to evaluation"]
[]
[null,null,null,null,null,null,"Skill Area:",null,null,null,null,"Measuarable Goal:",null,null,null,null,null,null,"Select",null,null,null,null,null,{"$f":"S229","v":"Select"},{"$f":"S229","v":"Select"}]
[null,null,null,null,null,null,null,null,null,null,null,null,null,null,null,null,null,null,null,null,null,null,null,{"$f":"Y230+Z230","v":0},{"$f":"COUNTIF(Y229,\"Yes\")*3","v":0},{"$f":"COUNTIF(Z229,\"No\")*3","v":0}]
[null,null,null,null,null,null,null,"Strengths",null,null,null,null,"Condition",null,null,"How well"]
[null,null,null,null,null,null,null,"Needs",null,null,null,null,"Performance",null,null,"How often"]
[null,null,null,null,null,null,null,"Link to evaluation"]
[]
[{"$f":"HYPERLINK(\"http://sdlegislature.gov/Rules/DisplayRule.aspx?Rule=24:05:27:01.03\",\"How Progress will be Measured\n(24:05:27:01.03)\")","v":"How Progress will be Measured\n(24:05:27:01.03)"},null,null,null,null,null,{"$f":"HYPERLINK(\"https://gosynth.com/p/s/psaxcx\",\"         Check the following:\")","v":"         Check the following:"},null,null,null,null,null,null,null,null,null,null,null,"Select","V232",null,null,null,null,{"$f":"S235","v":"Select"},{"$f":"S235","v":"Select"}]
[null,null,null,null,null,null,null,null,null,null,null,null,null,null,null,null,null,null,null,null,null,null,null,{"$f":"Y236+Z236","v":0},{"$f":"COUNTIF(Y235,\"Yes\")*3","v":0},{"$f":"COUNTIF(Z235,\"No\")*3","v":0}]
[null,null,null,null,null,null,null,"Reporting frequency",null,null,null,null,"Extent of progress"]
[null,null,null,null,null,null,null,"Reporting method"]
[]
[{"$f":"HYPERLINK(\"http://sdlegislature.gov/Rules/DisplayRule.aspx?Rule=24:05:27:01.03\",\"Accommodations/Modifications\n(24:05:27:01.03)\")","v":"Accommodations/Modifications\n(24:05:27:01.03)"},null,null,null,null,null,{"$f":"HYPERLINK(\"https://gosynth.com/p/s/rtpvrq\",\"         Check the following:\")","v":"         Check the following:"},null,null,null,null,"List Instructional Accommodations:",null,null,null,null,null,null,"Select","V237",null,null,null,null,{"$f":"S240","v":"Select"},{"$f":"S240","v":"Select"}]
[null,null,null,null,null,null,null,"Frequency",null,null,null,null,null,null,null,null,null,null,null,null,null,null,null,{"$f":"Y241+Z241","v":0},{"$f":"COUNTIF(Y240,\"Yes\")*3","v":0},{"$f":"COUNTIF(Z240,\"No\")*3","v":0}]
[null,null,null,null,null,null,null,"Duration"]
[null,null,null,null,null,null,null,"Location",null,null,null,null,null,null,null,null,null,null,null,null,null,null,null,{"$f":"(X241+X236+X230+X224+X218+X216+X213)/7","v":0},{"$f":"(Y241+Y236+Y230+Y224+Y218+Y216+Y213)/7","v":0}]
[]
[]
[null,null,null,null,null,null,null,"Are the accommodations appropriate for the skill areas affected by the diability?"]
[]
[]
[]
[null,null,null,null,null,null,null,null,"Yes"]
[null,null,null,null,null,null,null,null,"No"]
[]
[]
[]
[{"$f":"HYPERLINK(\"https://gosynth.com/p/s/ygpazf\",\"Special Factors\")","v":"Special Factors"},null,null,null,null,null,null,null,null,null,null,null,null,null,null,null,null,null,{"$f":"IFERROR(Y294/X294,\"N/A\")","v":"N/A"}]
[{"$f":"HYPERLINK(\"http://sdlegislature.gov/Rules/DisplayRule.aspx?Rule=24:05:27:01.02\",\"Considerations\n(24:05:27:01.02)\")","v":"Considerations\n(24:05:27:01.02)"},null,null,null,null,null,"Select for each:",null,null,"Determine if data supports the selection for each special factor; if not addressed, check \"N\"  for score.",null,null,null,null,null,null,null,null,"Select","V243",null,null,null,null,{"$f":"S256","v":"Select"},{"$f":"S256","v":"Select"}]
[null,null,null,null,null,null,null,null,null,null,null,null,null,null,null,null,null,null,null,null,null,null,null,{"$f":"Y257+Z257","v":0},{"$f":"COUNTIF(Y256,\"Yes\")*3","v":0},{"$f":"COUNTIF(Z256,\"No\")*3","v":0}]
[null,null,null,null,null,null,null,null,null,"Limited English proficient"]
[null,null,null,null,null,null,null,null,null,"Special communication needs"]
[null,null,null,null,null,null,null,null,null,"Requires Braille"]
[null,null,null,null,null,null,null,null,null,"Behavior impedes learning"]
[null,null,null,null,null,null,null,null,null,"Requires assistive technology & services"]
[null,null,null,null,null,null,null,null,null,"Physical education"]
[null,null,null,null,null,null,null,null,null,"Hearing aid maintenance"]
[{"$f":"HYPERLINK(\"http://sdlegislature.gov/Rules/DisplayRule.aspx?Rule=24:05:27:01.03\",\"State/District Assessments\n(24:05:27:01.03)\")","v":"State/District Assessments\n(24:05:27:01.03)"},null,null,null,null,null,{"$f":"HYPERLINK(\"https://gosynth.com/p/s/jdbbir\",\"             Students will be taking state and district-wide assessments:\")","v":"             Students will be taking state and district-wide assessments:"},null,null,null,null,null,null,null,null,null,null,null,"Select","V263",null,null,null,null,{"$f":"S265","v":"Select"},{"$f":"S265","v":"Select"}]
[null,null,null,null,null,null,null,"With accommodations",null,null,null,null,"Without accommodations",null,null,null,null,null,null,null,null,null,null,{"$f":"Y266+Z266","v":0},{"$f":"COUNTIF(Y265,\"Yes\")*3","v":0},{"$f":"COUNTIF(Z265,\"No\")*3","v":0}]
[null,null,null,null,null,null,"Testing accommodations must reflect instructional accommodations."]
[null,null,null,null,null,null,"Do the accommodations for the state/district assesment(s) \nmatch the instructional accommodations?"]
[]
[null,null,null,null,null,null,"Instructional \nAccommodations",null,null,null,"State/District\nAssessment\nAccommodations",null,null,null,"Select\nyes or no:"]
[]
[]
[null,null,null,null,null,null,{"$f":"L241","v":0},null,null,null,null,null,null,null,"- Select -"]
[null,null,null,null,null,null,0,null,null,null,null,null,null,null,"- Select -"]
[null,null,null,null,null,null,0,null,null,null,null,null,null,null,"- Select -"]
[null,null,null,null,null,null,0,null,null,null,null,null,null,null,"- Select -"]
[null,null,null,null,null,null,0]
[null,null,null,null,null,null,0,null,null,null,null,null,null,null,"- Select -"]
[null,null,null,null,null,null,0,null,null,null,null,null,null,null,"- Select -"]
[null,null,null,null,null,null,0]
[null,null,null,null,null,null,0]
[null,null,null,null,null,null,0,null,null,null,null,null,null,null,"- Select -"]
[null,null,null,null,null,null,0,null,null,null,null,null,null,null,"- Select -"]
[null,null,null,null,null,null,0,null,null,null,null,null,null,null,"- Select -"]
[null,null,null,null,null,null,0,null,null,null,null,null,null,null,"- Select -"]
[null,null,null,null,null,null,0,null,null,null,null,null,null,null,"- Select -"]
[null,null,null,null,null,null,"Were the accommodations for\n the state assessment identified \non the IEP provided according to \nthe assessment data sheet?"]
[null,null,null,null,null,null,null,null,null,null,null,null,null,"- Select -"]
[]
[{"$f":"HYPERLINK(\"http://sdlegislature.gov/Rules/DisplayRule.aspx?Rule=24:05:27:01.03\",\"Alternate Assessments\n(24:05:27:01.03)\")","v":"Alternate Assessments\n(24:05:27:01.03)"},null,null,null,null,null,{"$f":"HYPERLINK(\"https://gosynth.com/p/s/bjlejx\",\"                  The following must be met:\")","v":"                  The following must be met:"},null,null,null,null,null,null,null,null,null,null,null,"Select","V257",null,null,null,null,{"$f":"S290","v":"Select"},{"$f":"S290","v":"Select"}]
[null,null,null,null,null,null,null,null,null,null,null,null,null,null,null,null,null,null,null,null,null,null,null,{"$f":"Y291+Z291","v":0},{"$f":"COUNTIF(Y290,\"Yes\")*3","v":0},{"$f":"COUNTIF(Z290,\"No\")*3","v":0}]
[null,null,null,null,null,null,null,"Student meets the significant cognitive disability criteria"]
[null,null,null,null,null,null,null,"Explanation for why student cannot participate in the regular assessment"]
[null,null,null,null,null,null,null,null,null,null,null,null,null,null,null,null,null,null,null,null,null,null,null,{"$f":"(X291+X266+X257)/3","v":0},{"$f":"(Y291+Y266+Y257)/3","v":0}]
[null,null,null,null,null,null,null,"Explanation for why the alternate assessment selected is appropriate"]
[]
[null,null,null,null,null,null,null,"The alternate assessment is for students working in the alternate achievement standards.  Annual goals and short term objectives are required.                                                                         \n                                                                        "]
[]
[]
[null,null,null,null,null,null,"Does the PPWN explain why IEP team decided alternate assessment for the student?"]
[null,null,null,null,null,null,"Does the student taking the\n alternate assessment meet\n the criteria, has it been \ndocumented on the IEP?"]
[null,null,null,null,null,null,null,null,null,null,null,null,null,"- Select -"]
[]
[]
[{"$f":"HYPERLINK(\"https://gosynth.com/p/s/itwkve\",\"Transition\")","v":"Transition"},null,null,null,null,null,null,null,null,null,null,null,null,null,null,null,null,null,{"$f":"IFERROR(Y306/X306,\"N/A\")","v":"N/A"}]
["Indicator 13 Item 1",null,null,null,null,null,null,null,null,null,null,null,null,null,null,null,null,null,null,null,null,null,null,{"$f":"(X308+X310+X312+X314+X316+X319+X321+X323+X326+X329+X331+X333+X336+X338+X340+X343+X345+X347+X350+X356+X362+X364+X366+X369)/24","v":0},{"$f":"(Y308+Y310+Y312+Y314+Y316+Y319+Y321+Y323+Y326+Y329+Y331+Y333+Y336+Y338+Y340+Y343+Y345+Y347+Y350+Y356+Y362+Y364+Y366+Y369)/24","v":0}]
[{"$f":"HYPERLINK(\"http://sdlegislature.gov/Rules/DisplayRule.aspx?Rule=24:05:27:01.03\",\"Transition IEP*\n(24:05:27:01.03)\")","v":"Transition IEP*\n(24:05:27:01.03)"},null,null,null,null,null,{"$f":"HYPERLINK(\"https://gosynth.com/p/s/itwkve\",\"Transition IEP must be in effect for all students on their 16 birthday or for younger students if it is addressed in the IEP.   \n*This is not on the Indicator 13 checklist, but it is a compliance requirement. \")","v":"Transition IEP must be in effect for all students on their 16 birthday or for younger students if it is addressed in the IEP.   \n*This is not on the Indicator 13 checklist, but it is a compliance requirement. "},null,null,null,null,null,null,null,null,null,null,null,"Select","V269",null,null,null,null,{"$f":"S307","v":"Select"},{"$f":"S307","v":"Select"}]
[null,null,null,null,null,null,null,null,null,null,null,null,null,null,null,null,null,null,null,null,null,null,null,{"$f":"Y308+Z308","v":0},{"$f":"COUNTIF(Y307,\"Yes\")*3","v":0},{"$f":"COUNTIF(Z307,\"No\")*3","v":0}]
[null,null,null,null,null,null,null,null,null,null,null,null,null,null,null,null,null,null,"Select",null,null,null,null,null,{"$f":"S309","v":"Select"},{"$f":"S309","v":"Select"}]
[{"$f":"HYPERLINK(\"http://sdlegislature.gov/Rules/DisplayRule.aspx?Rule=24:05:27:01.03\",\"Transition Assessments\n(24:05:27:01.03)\")","v":"Transition Assessments\n(24:05:27:01.03)"},null,null,null,null,null,null,"Employment",null,null,null,null,null,null,null,null,null,null,null,null,null,null,null,{"$f":"Y310+Z310","v":0},{"$f":"COUNTIF(Y309,\"Yes\")*3","v":0},{"$f":"COUNTIF(Z309,\"No\")*3","v":0}]
[null,null,null,null,null,null,null,null,null,null,null,null,null,null,null,null,null,null,"Select",null,null,null,null,null,{"$f":"S311","v":"Select"},{"$f":"S311","v":"Select"}]
[null,null,null,null,null,null,null,"Education/Training",null,null,null,null,null,null,null,null,null,null,null,null,null,null,null,{"$f":"Y312+Z312","v":0},{"$f":"COUNTIF(Y311,\"Yes\")*3","v":0},{"$f":"COUNTIF(Z311,\"No\")*3","v":0}]
[null,null,null,null,null,null,null,"Independent Living",null,null,null,null,null,null,null,null,null,null,"Select",null,null,null,null,null,{"$f":"S313","v":"Select"},{"$f":"S313","v":"Select"}]
[null,null,null,null,null,null,{"$f":"HYPERLINK(\"https://gosynth.com/p/s/itwkve\",\"The transition assessment must be completed prior to the age of 16 and updated annually.  Evidence of transition strengths/ needs are document on the PLAAFPs.  \")","v":"The transition assessment must be completed prior to the age of 16 and updated annually.  Evidence of transition strengths/ needs are document on the PLAAFPs.  "},null,null,null,null,null,null,null,null,null,null,null,null,null,null,null,null,{"$f":"Y314+Z314","v":0},{"$f":"COUNTIF(Y313,\"Yes\")*3","v":0},{"$f":"COUNTIF(Z313,\"No\")*3","v":0}]
["Transition Evaluation Report*\n",null,null,null,null,null,{"$f":"HYPERLINK(\"https://gosynth.com/p/s/itwkve\",\"A transition evaluation report is located in the file.\n\n*This is not on the Indicator 13 checklist, but it is a compliance requirement. \")","v":"A transition evaluation report is located in the file.\n\n*This is not on the Indicator 13 checklist, but it is a compliance requirement. "},null,null,null,null,null,null,null,null,null,null,null,"Select",null,null,null,null,null,{"$f":"S315","v":"Select"},{"$f":"S315","v":"Select"}]
[null,null,null,null,null,null,null,null,null,null,null,null,null,null,null,null,null,null,null,null,null,null,null,{"$f":"Y316+Z316","v":0},{"$f":"COUNTIF(Y315,\"Yes\")*3","v":0},{"$f":"COUNTIF(Z315,\"No\")*3","v":0}]
[{"$f":"HYPERLINK(\"https://gosynth.com/p/s/itwkve\",\"Indicator 13 Item 2\")","v":"Indicator 13 Item 2"}]
[{"$f":"HYPERLINK(\"http://sdlegislature.gov/Rules/DisplayRule.aspx?Rule=24:05:27:01.03\",\"Age-Appropriate Measurable \nPost-Secondary Goals \n(24:05:27:01.03)\")","v":"Age-Appropriate Measurable \nPost-Secondary Goals \n(24:05:27:01.03)"},null,null,null,null,null,null,"Employment",null,null,null,null,null,null,null,null,null,null,"Select","V278",null,null,null,null,{"$f":"S318","v":"Select"},{"$f":"S318","v":"Select"}]
[null,null,null,null,null,null,null,null,null,null,null,null,null,null,null,null,null,null,null,null,null,null,null,{"$f":"Y319+Z319","v":0},{"$f":"COUNTIF(Y318,\"Yes\")*3","v":0},{"$f":"COUNTIF(Z318,\"No\")*3","v":0}]
[null,null,null,null,null,null,null,"Education/Training",null,null,null,null,null,null,null,null,null,null,"Select",null,null,null,null,null,{"$f":"S320","v":"Select"},{"$f":"S320","v":"Select"}]
[null,null,null,null,null,null,null,null,null,null,null,null,null,null,null,null,null,null,null,null,null,null,null,{"$f":"Y321+Z321","v":0},{"$f":"COUNTIF(Y320,\"Yes\")*3","v":0},{"$f":"COUNTIF(Z320,\"No\")*3","v":0}]
[null,null,null,null,null,null,null,"Independent Living",null,null,null,null,null,null,null,null,null,null,"Select",null,null,null,null,null,{"$f":"S322","v":"Select"},{"$f":"S322","v":"Select"}]
[null,null,null,null,null,null,null,null,null,null,null,null,null,null,null,null,null,null,null,null,null,null,null,{"$f":"Y323+Z323","v":0},{"$f":"COUNTIF(Y322,\"Yes\")*3","v":0},{"$f":"COUNTIF(Z322,\"No\")*3","v":0}]
[{"$f":"HYPERLINK(\"https://gosynth.com/p/s/itwkve\",\"Indicator 13 Item 3\")","v":"Indicator 13 Item 3"}]
["MPSGs Updated Annually",null,null,null,null,null,null,null,null,null,null,null,null,null,null,null,null,null,"Select","V282",null,null,null,null,{"$f":"S325","v":"Select"},{"$f":"S325","v":"Select"}]
[null,null,null,null,null,null,null,null,null,null,null,null,null,null,null,null,null,null,null,null,null,null,null,{"$f":"Y326+Z326","v":0},{"$f":"COUNTIF(Y325,\"Yes\")*3","v":0},{"$f":"COUNTIF(Z325,\"No\")*3","v":0}]
["Indicator 13 Item 4"]
[{"$f":"HYPERLINK(\"http://sdlegislature.gov/Rules/DisplayRule.aspx?Rule=24:05:27:01.03\",\"Course of Study Aligns to \nPost-Secondary Goals\n(24:05:27:01.03)\")","v":"Course of Study Aligns to \nPost-Secondary Goals\n(24:05:27:01.03)"},null,null,null,null,null,null,"Employment",null,null,null,null,null,null,null,null,null,null,"Select","V285",null,null,null,null,{"$f":"S328","v":"Select"},{"$f":"S328","v":"Select"}]
[null,null,null,null,null,null,null,null,null,null,null,null,null,null,null,null,null,null,null,null,null,null,null,{"$f":"Y329+Z329","v":0},{"$f":"COUNTIF(Y328,\"Yes\")*3","v":0},{"$f":"COUNTIF(Z328,\"No\")*3","v":0}]
[null,null,null,null,null,null,null,"Education/Training",null,null,null,null,null,null,null,null,null,null,"Select",null,null,null,null,null,{"$f":"S330","v":"Select"},{"$f":"S330","v":"Select"}]
[null,null,null,null,null,null,null,null,null,null,null,null,null,null,null,null,null,null,null,null,null,null,null,{"$f":"Y331+Z331","v":0},{"$f":"COUNTIF(Y330,\"Yes\")*3","v":0},{"$f":"COUNTIF(Z330,\"No\")*3","v":0}]
[null,null,null,null,null,null,null,"Independent Living",null,null,null,null,null,null,null,null,null,null,"Select",null,null,null,null,null,{"$f":"S332","v":"Select"},{"$f":"S332","v":"Select"}]
[null,null,null,null,null,null,"Completed by age 16, or younger if transition has been addressed in the IEP, and updated annually through graduation or ‘age out’.",null,null,null,null,null,null,null,null,null,null,null,null,null,null,null,null,{"$f":"Y333+Z333","v":0},{"$f":"COUNTIF(Y332,\"Yes\")*3","v":0},{"$f":"COUNTIF(Z332,\"No\")*3","v":0}]
[{"$f":"HYPERLINK(\"https://gosynth.com/p/s/itwkve\",\"Indicator 13 Item 5\")","v":"Indicator 13 Item 5"}]
[{"$f":"HYPERLINK(\"http://sdlegislature.gov/Rules/DisplayRule.aspx?Rule=24:05:27:13.02\",\"Transition Services/Activities\n(24:05:27:13.02)\")","v":"Transition Services/Activities\n(24:05:27:13.02)"},null,null,null,null,null,null,"Employment",null,null,null,null,null,null,null,null,null,null,"Select","V290",null,null,null,null,{"$f":"S335","v":"Select"},{"$f":"S335","v":"Select"}]
[null,null,null,null,null,null,null,null,null,null,null,null,null,null,null,null,null,null,null,null,null,null,null,{"$f":"Y336+Z336","v":0},{"$f":"COUNTIF(Y335,\"Yes\")*3","v":0},{"$f":"COUNTIF(Z335,\"No\")*3","v":0}]
[null,null,null,null,null,null,null,"Education/Training",null,null,null,null,null,null,null,null,null,null,"Select",null,null,null,null,null,{"$f":"S337","v":"Select"},{"$f":"S337","v":"Select"}]
[null,null,null,null,null,null,null,null,null,null,null,null,null,null,null,null,null,null,null,null,null,null,null,{"$f":"Y338+Z338","v":0},{"$f":"COUNTIF(Y337,\"Yes\")*3","v":0},{"$f":"COUNTIF(Z337,\"No\")*3","v":0}]
[null,null,null,null,null,null,null,"Independent Living",null,null,null,null,null,null,null,null,null,null,"Select",null,null,null,null,null,{"$f":"S339","v":"Select"},{"$f":"S339","v":"Select"}]
[null,null,null,null,null,null,"Services/activities will reasonably enable the student to meet post-secondary goals and have at least one activity per MPSG addressed.",null,null,null,null,null,null,null,null,null,null,null,null,null,null,null,null,{"$f":"Y340+Z340","v":0},{"$f":"COUNTIF(Y339,\"Yes\")*3","v":0},{"$f":"COUNTIF(Z339,\"No\")*3","v":0}]
[{"$f":"HYPERLINK(\"https://gosynth.com/p/s/itwkve\",\"Indicator 13 Item 6\")","v":"Indicator 13 Item 6"}]
[{"$f":"HYPERLINK(\"http://sdlegislature.gov/Rules/DisplayRule.aspx?Rule=24:05:27:13.02\",\"Annual Goal Related to Student’s Transition Service needs in\n(24:05:27:13.02)\")","v":"Annual Goal Related to Student’s Transition Service needs in\n(24:05:27:13.02)"},null,null,null,null,null,null,"Employment",null,null,null,null,null,null,null,null,null,null,"Select","V295",null,null,null,null,{"$f":"S342","v":"Select"},{"$f":"S342","v":"Select"}]
[null,null,null,null,null,null,null,null,null,null,null,null,null,null,null,null,null,null,null,null,null,null,null,{"$f":"Y343+Z343","v":0},{"$f":"COUNTIF(Y342,\"Yes\")*3","v":0},{"$f":"COUNTIF(Z342,\"No\")*3","v":0}]
[null,null,null,null,null,null,null,"Education/Training",null,null,null,null,null,null,null,null,null,null,"Select",null,null,null,null,null,{"$f":"S344","v":"Select"},{"$f":"S344","v":"Select"}]
[null,null,null,null,null,null,null,null,null,null,null,null,null,null,null,null,null,null,null,null,null,null,null,{"$f":"Y345+Z345","v":0},{"$f":"COUNTIF(Y344,\"Yes\")*3","v":0},{"$f":"COUNTIF(Z344,\"No\")*3","v":0}]
[null,null,null,null,null,null,null,"Independent Living",null,null,null,null,null,null,null,null,null,null,"Select",null,null,null,null,null,{"$f":"S346","v":"Select"},{"$f":"S346","v":"Select"}]
[null,null,null,null,null,null,{"$f":"HYPERLINK(\"https://gosynth.com/p/s/itwkve\",\"Annual goals are linked to the MPSGs.\")","v":"Annual goals are linked to the MPSGs."},null,null,null,null,null,null,null,null,null,null,null,null,null,null,null,null,{"$f":"Y347+Z347","v":0},{"$f":"COUNTIF(Y346,\"Yes\")*3","v":0},{"$f":"COUNTIF(Z346,\"No\")*3","v":0}]
[{"$f":"HYPERLINK(\"https://gosynth.com/p/s/pisllo\",\"Indicator 13 Item 7\")","v":"Indicator 13 Item 7"}]
[{"$f":"HYPERLINK(\"http://sdlegislature.gov/Rules/DisplayRule.aspx?Rule=24:05:25:16.01\",\"Student Invitation/Participation\n(24:05:25:16.01)\")","v":"Student Invitation/Participation\n(24:05:25:16.01)"},null,null,null,null,null,"How the student invited?",null,null,null,null,{"$f":"HYPERLINK(\"https://gosynth.com/p/s/pisllo\",\"If student was not in attendance at the meeting, the IEP should show evidence that student's preferences and interests were taken into account. *\")","v":"If student was not in attendance at the meeting, the IEP should show evidence that student's preferences and interests were taken into account. *"},null,null,null,null,null,null,"Select","V300",null,null,null,null,{"$f":"S349","v":"Select"},{"$f":"S349","v":"Select"}]
[null,null,null,null,null,null,null,null,null,null,null,null,null,null,null,null,null,null,null,null,null,null,null,{"$f":"Y350+Z350","v":0},{"$f":"COUNTIF(Y349,\"Yes\")*3","v":0},{"$f":"COUNTIF(Z349,\"No\")*3","v":0}]
[null,null,null,null,null,null,null,"Meeting notice"]
[null,null,null,null,null,null,null,"Individual student invite"]
[]
[{"$f":"HYPERLINK(\"https://gosynth.com/p/s/pisllo\",\"Indicator 13 Item 8\")","v":"Indicator 13 Item 8"}]
[{"$f":"HYPERLINK(\"http://sdlegislature.gov/Rules/DisplayRule.aspx?Rule=24:05:25:16.01\",\"Consent to Invite Outside Agency\n(24:05:25:16.01)\")","v":"Consent to Invite Outside Agency\n(24:05:25:16.01)"},null,null,null,null,null,{"$f":"HYPERLINK(\"https://gosynth.com/p/s/pisllo\",\" Written Consent to invite:\")","v":" Written Consent to invite:"},null,null,null,null,null,null,"List of agencies invited:",null,null,null,null,"Select","V306",null,null,null,null,{"$f":"S355","v":"Select"},{"$f":"S355","v":"Select"}]
[null,null,null,null,null,null,"Invited on Meeting Notice:",null,null,null,null,null,"Yes",null,null,null,null,null,null,null,null,null,null,{"$f":"Y356+Z356","v":0},{"$f":"COUNTIF(Y355,\"Yes\")*3","v":0},{"$f":"COUNTIF(Z355,\"No\")*3","v":0}]
[null,null,null,null,null,null,null,null,null,null,null,null,"No"]
[null,null,null,null,null,null,"Meeting Notice Date:",null,null,null,null,{"$f":"J177","v":"00:00:00"}]
[null,null,null,null,null,null,"Date of Current IEP Meeting:",null,null,null,null,{"$f":"T5","v":"00:00:00"}]
[{"$f":"HYPERLINK(\"https://gosynth.com/p/s/pisllo\",\"Other Transition Areas *\")","v":"Other Transition Areas *"}]
[{"$f":"HYPERLINK(\"http://sdlegislature.gov/Rules/DisplayRule.aspx?Rule=24:05:30:16.01\",\"Transfer of Parental Rights:\n(24:05:30:16.01)\")","v":"Transfer of Parental Rights:\n(24:05:30:16.01)"},null,null,null,null,null,"Turned 17 on:",null,null,null,null,null,null,null,null,null,null,null,"Select","V312",null,null,null,null,{"$f":"S361","v":"Select"},{"$f":"S361","v":"Select"}]
[null,null,null,null,null,null,"Rights reviewed on:",null,null,null,null,null,null,null,null,null,null,null,null,null,null,null,null,{"$f":"Y362+Z362","v":0},{"$f":"COUNTIF(Y361,\"Yes\")*3","v":0},{"$f":"COUNTIF(Z361,\"No\")*3","v":0}]
[{"$f":"HYPERLINK(\"http://sdlegislature.gov/Rules/DisplayRule.aspx?Rule=24:05:27:12\",\"Specific Graduation Requirements:\n(24:05:27:12)\")","v":"Specific Graduation Requirements:\n(24:05:27:12)"},null,null,null,null,null,"Graduation requirements addressed on:",null,null,null,null,null,null,null,null,null,null,null,"Select",null,null,null,null,null,{"$f":"S363","v":"Select"},{"$f":"S363","v":"Select"}]
[null,null,null,null,null,null,"Student is projected to graduate:",null,null,null,null,null,null,null,null,null,null,null,null,null,null,null,null,{"$f":"Y364+Z364","v":0},{"$f":"COUNTIF(Y363,\"Yes\")*3","v":0},{"$f":"COUNTIF(Z363,\"No\")*3","v":0}]
[{"$f":"HYPERLINK(\"http://sdlegislature.gov/Rules/DisplayRule.aspx?Rule=24:05:27:12\",\"When Student has Graduated\n(24:05:27:12)\")","v":"When Student has Graduated\n(24:05:27:12)"},null,null,null,null,null,"Written prior notice was sent:",null,null,null,null,null,null,null,null,null,null,null,"Select",null,null,null,null,null,{"$f":"S365","v":"Select"},{"$f":"S365","v":"Select"}]
[null,null,null,null,null,null,{"$f":"HYPERLINK(\"https://gosynth.com/p/s/pisllo\",\"When a student graduates, it is a change in placement. It must have a written\n prior notice sent.  If student has \"\"aged-out\"\", a PPWN is required.  \")","v":"When a student graduates, it is a change in placement. It must have a written\n prior notice sent.  If student has \"aged-out\", a PPWN is required.  "},null,null,null,null,null,null,null,null,null,null,null,null,null,null,null,null,{"$f":"Y366+Z366","v":0},{"$f":"COUNTIF(Y365,\"Yes\")*3","v":0},{"$f":"COUNTIF(Z365,\"No\")*3","v":0}]
[]
[{"$f":"HYPERLINK(\"http://sdlegislature.gov/Rules/DisplayRule.aspx?Rule=24:05:27:12\",\"Summary of Performance was provided to the Student/Parent/Guardian\n(24:05:27:12)\")","v":"Summary of Performance was provided to the Student/Parent/Guardian\n(24:05:27:12)"},null,null,null,null,null,{"$f":"HYPERLINK(\"https://gosynth.com/p/s/pisllo\",\"Summary of Performance (SOP) is required for students who graduated and\n aged out. A copy of the SOP should remain in the file.\")","v":"Summary of Performance (SOP) is required for students who graduated and\n aged out. A copy of the SOP should remain in the file."},null,null,null,null,null,null,null,null,null,null,null,"Select",null,null,null,null,null,{"$f":"S368","v":"Select"},{"$f":"S368","v":"Select"}]
[null,null,null,null,null,null,null,null,null,null,null,null,null,null,null,null,null,null,null,null,null,null,null,{"$f":"Y369+Z369","v":0},{"$f":"COUNTIF(Y368,\"Yes\")*3","v":0},{"$f":"COUNTIF(Z368,\"No\")*3","v":0}]
[]
["Click on the [+] button to expand or the [-] button to collapse."]
[{"$f":"HYPERLINK(\"https://gosynth.com/p/s/kldkzb\",\"Related Services\")","v":"Related Services"},null,null,null,null,null,null,null,null,null,null,null,null,null,null,null,null,null,{"$f":"IFERROR(Y375/X375,\"N/A\")","v":"N/A"}]
[{"$f":"HYPERLINK(\"http://sdlegislature.gov/Rules/DisplayRule.aspx?Rule=24:05:27:16\",\"Related Services\n(24:05:27)\")","v":"Related Services\n(24:05:27)"},null,null,null,null,null,"Service Provided:",null,null,null,null,null,"If student will receive services in a different location, then must break it out to calculate the Least Restrictive Environment.",null,null,null,null,null,"Select","V324",null,null,null,null,{"$f":"S373","v":"Select"},{"$f":"S373","v":"Select"}]
[null,null,null,null,null,null,null,null,null,null,null,null,null,null,null,null,null,null,null,null,null,null,null,{"$f":"Y374+Z374","v":0},{"$f":"COUNTIF(Y373,\"Yes\")*3","v":0},{"$f":"COUNTIF(Z373,\"No\")*3","v":0}]
[null,null,null,null,null,null,null,"Frequency",null,null,"Location",null,null,null,null,null,null,null,null,null,null,null,null,{"$f":"(X374+X379)/2","v":0},{"$f":"(Y374+Y379)/2","v":0}]
[null,null,null,null,null,null,null,"Duration",null,null,"Other"]
[null,null,null,null,null,null,"Service Provided:",null,null,null,null,null,"At a minimum, all areas student qualifies and has an annual goal must have service time documented. If not addressed, then PPWN must explain reason."]
[null,null,null,null,null,null,null,null,null,null,null,null,null,null,null,null,null,null,"Select",null,null,null,null,null,{"$f":"S378","v":"Select"},{"$f":"S378","v":"Select"}]
[null,null,null,null,null,null,null,"Frequency",null,null,"Location",null,null,null,null,null,null,null,null,null,null,null,null,{"$f":"Y379+Z379","v":0},{"$f":"COUNTIF(Y378,\"Yes\")*3","v":0},{"$f":"COUNTIF(Z378,\"No\")*3","v":0}]
[null,null,null,null,null,null,null,"Duration",null,null,"Other"]
[]
["Least Restrictive Environment ",null,null,null,null,null,null,null,null,null,null,null,null,null,null,null,null,null,{"$f":"IFERROR(Y382/X382,\"N/A\")","v":"N/A"},null,null,null,null,{"$f":"(X384+X388+X392+X396+X400+X402+X404+X406+X408)/9","v":0},{"$f":"(Y384+Y388+Y392+Y396+Y400+Y402+Y404+Y406+Y408)/9","v":0}]
[{"$f":"HYPERLINK(\"https://sdlegislature.gov/Rules/DisplayRule.aspx?Rule=24:05:28\",\"Least Restrictive Enviornment \n(Chapter 24:05:28)\")","v":"Least Restrictive Enviornment \n(Chapter 24:05:28)"},null,null,null,null,null,{"$f":"HYPERLINK(\"https://gosynth.com/p/s/llxjsq\",\"Skill area:\")","v":"Skill area:"},null,null,null,null,null,null,null,null,null,null,null,"Select","V334",null,null,null,null,{"$f":"S383","v":"Select"},{"$f":"S383","v":"Select"}]
[null,null,null,null,null,null,null,null,null,null,null,null,null,null,null,null,null,null,null,null,null,null,null,{"$f":"Y384+Z384","v":0},{"$f":"COUNTIF(Y383,\"Yes\")*3","v":0},{"$f":"COUNTIF(Z383,\"No\")*3","v":0}]
[null,null,null,null,null,null,null,null,"Frequency",null,null,"Duration",null,null,"Location"]
[]
[null,null,null,null,null,null,"Skill area:",null,null,null,null,null,null,null,null,null,null,null,"Select",null,null,null,null,null,{"$f":"S387","v":"Select"},{"$f":"S387","v":"Select"}]
[null,null,null,null,null,null,null,null,null,null,null,null,null,null,null,null,null,null,null,null,null,null,null,{"$f":"Y388+Z388","v":0},{"$f":"COUNTIF(Y387,\"Yes\")*3","v":0},{"$f":"COUNTIF(Z387,\"No\")*3","v":0}]
[null,null,null,null,null,null,null,null,"Frequency",null,null,"Duration",null,null,"Location"]
[]
[null,null,null,null,null,null,"Skill area:",null,null,null,null,null,null,null,null,null,null,null,"Select",null,null,null,null,null,{"$f":"S391","v":"Select"},{"$f":"S391","v":"Select"}]
[null,null,null,null,null,null,null,null,null,null,null,null,null,null,null,null,null,null,null,null,null,null,null,{"$f":"Y392+Z392","v":0},{"$f":"COUNTIF(Y391,\"Yes\")*3","v":0},{"$f":"COUNTIF(Z391,\"No\")*3","v":0}]
[null,null,null,null,null,null,null,null,"Frequency",null,null,"Duration",null,null,"Location"]
[]
[null,null,null,null,null,null,"Skill area:",null,null,null,null,null,null,null,null,null,null,null,"Select",null,null,null,null,null,{"$f":"S395","v":"Select"},{"$f":"S395","v":"Select"}]
[null,null,null,null,null,null,null,null,null,null,null,null,null,null,null,null,null,null,null,null,null,null,null,{"$f":"Y396+Z396","v":0},{"$f":"COUNTIF(Y395,\"Yes\")*3","v":0},{"$f":"COUNTIF(Z395,\"No\")*3","v":0}]
[null,null,null,null,null,null,null,null,"Frequency",null,null,"Duration",null,null,"Location"]
[]
[{"$f":"HYPERLINK(\"http://sdlegislature.gov/Rules/DisplayRule.aspx?Rule=24:05:28:02\",\"Continuum of Placement\n(24:05:28:02)\")","v":"Continuum of Placement\n(24:05:28:02)"},null,null,null,null,null,"Select:",null,null,null,null,null,null,null,null,null,null,null,"Select","V350",null,null,null,null,{"$f":"S399","v":"Select"},{"$f":"S399","v":"Select"}]
[null,null,null,null,null,null,null,null,null,null,null,null,null,null,null,null,null,null,null,null,null,null,null,{"$f":"Y400+Z400","v":0},{"$f":"COUNTIF(Y399,\"Yes\")*3","v":0},{"$f":"COUNTIF(Z399,\"No\")*3","v":0}]
[null,null,null,null,null,null,"Select for Early Childhood (Ages 3-5):",null,null,null,null,null,null,null,null,null,null,null,"Select",null,null,null,null,null,{"$f":"S401","v":"Select"},{"$f":"S401","v":"Select"}]
[null,null,null,null,null,null,null,null,null,null,null,null,null,null,null,null,null,null,null,null,null,null,null,{"$f":"Y402+Z402","v":0},{"$f":"COUNTIF(Y401,\"Yes\")*3","v":0},{"$f":"COUNTIF(Z401,\"No\")*3","v":0}]
[{"$f":"HYPERLINK(\"http://sdlegislature.gov/Rules/DisplayRule.aspx?Rule=24:05:27:01.03\",\"Participation with Non-disabled Peers\n(24:05:27:01.03)\")","v":"Participation with Non-disabled Peers\n(24:05:27:01.03)"},null,null,null,null,null,{"$f":"HYPERLINK(\"https://gosynth.com/p/s/wjqcuh\",\"Document opportunities to participate with non-disabled peers.\")","v":"Document opportunities to participate with non-disabled peers."},null,null,null,null,null,null,null,null,null,null,null,"Select",null,null,null,null,null,{"$f":"S403","v":"Select"},{"$f":"S403","v":"Select"}]
[null,null,null,null,null,null,null,null,null,null,null,null,null,null,null,null,null,null,null,null,null,null,null,{"$f":"Y404+Z404","v":0},{"$f":"COUNTIF(Y403,\"Yes\")*3","v":0},{"$f":"COUNTIF(Z403,\"No\")*3","v":0}]
[{"$f":"HYPERLINK(\"http://sdlegislature.gov/Rules/DisplayRule.aspx?Rule=24:05:28:03\",\"Justification for Placement \n(24:05:28:03)\")","v":"Justification for Placement \n(24:05:28:03)"},null,null,null,null,null,{"$f":"HYPERLINK(\"https://gosynth.com/p/s/rjxcoc\",\"                  Select from the following:\")","v":"                  Select from the following:"},null,null,null,null,null,null,null,null,null,null,null,"Select",null,null,null,null,null,{"$f":"S405","v":"Select"},{"$f":"S405","v":"Select"}]
[null,null,null,null,null,null,null,null,null,null,null,null,null,null,null,null,null,null,null,null,null,null,null,{"$f":"Y406+Z406","v":0},{"$f":"COUNTIF(Y405,\"Yes\")*3","v":0},{"$f":"COUNTIF(Z405,\"No\")*3","v":0}]
[{"$f":"HYPERLINK(\"http://sdlegislature.gov/Rules/DisplayRule.aspx?Rule=24:05:25:26\",\"Extended School Year\n(24:05:25:26)\")","v":"Extended School Year\n(24:05:25:26)"},null,null,null,null,null,{"$f":"HYPERLINK(\"https://gosynth.com/p/s/bbepxx\",\"                  Check the following:\")","v":"                  Check the following:"},null,null,null,null,null,null,null,null,null,null,null,"Select","V358",null,null,null,null,{"$f":"S407","v":"Select"},{"$f":"S407","v":"Select"}]
[null,null,null,null,null,null,null,null,null,null,null,null,null,null,null,null,null,null,null,null,null,null,null,{"$f":"Y408+Z408","v":0},{"$f":"COUNTIF(Y407,\"Yes\")*3","v":0},{"$f":"COUNTIF(Z407,\"No\")*3","v":0}]
[null,null,null,null,null,null,null,null,"Determination",null,null,null,"Beginning/end dates"]
[null,null,null,null,null,null,null,null,"Goals",null,null,null,"Amount of service"]
[]
[]
[]
[{"$f":"HYPERLINK(\"https://gosynth.com/p/s/acbbuk\",\"Prior Parental Written Notice\")","v":"Prior Parental Written Notice"},null,null,null,null,null,null,null,null,null,null,null,null,null,null,null,null,null,{"$f":"IFERROR(Y414/X414,\"N/A\")","v":"N/A"},null,null,null,null,{"$f":"(X416+X421)/2","v":0},{"$f":"(Y416+Y421)/2","v":0}]
[{"$f":"HYPERLINK(\"http://sdlegislature.gov/Rules/DisplayRule.aspx?Rule=24:05:30:04\",\"Prior Written Notice Sent to Parent Regarding IEP Implementation\n(24:05:30:04)\")","v":"Prior Written Notice Sent to Parent Regarding IEP Implementation\n(24:05:30:04)"},null,null,null,null,null,"Date the district sent the PPWN:",null,null,null,null,null,null,null,"The implementation date documented on the PPWN must be reflected on IEP.\n\nThe five-day notice requirement may be waived by the parents.",null,null,null,"Select","V366",null,null,null,null,{"$f":"S415","v":"Select"},{"$f":"S415","v":"Select"}]
[null,null,null,null,null,null,"District proposed at least 5 calendar days to begin implementation:",null,null,null,null,null,{"$f":"M415+5","v":"1900-01-05"},null,null,null,null,null,null,null,null,null,null,{"$f":"Y416+Z416","v":0},{"$f":"COUNTIF(Y415,\"Yes\")*3","v":0},{"$f":"COUNTIF(Z415,\"No\")*3","v":0}]
[]
[null,null,null,null,null,null,"Was the 5 calendar day notice requirement met?",null,null,null,null,null,null,"Yes"]
[null,null,null,null,null,null,null,null,null,null,null,null,null,"No"]
[{"$f":"HYPERLINK(\"http://sdlegislature.gov/Rules/DisplayRule.aspx?Rule=24:05:30:05\",\"Content of PPWN\n(24:05:30:05)\")","v":"Content of PPWN\n(24:05:30:05)"},null,null,null,null,null,"Check the following:",null,null,null,null,null,null,null,null,null,null,null,"Select","V371",null,null,null,null,{"$f":"S420","v":"Select"},{"$f":"S420","v":"Select"}]
[null,null,null,null,null,null,"PPWN must be individualized to the student, IEP team discussions and situation.",null,null,null,null,null,null,null,null,null,null,null,null,null,null,null,null,{"$f":"Y421+Z421","v":0},{"$f":"COUNTIF(Y420,\"Yes\")*3","v":0},{"$f":"COUNTIF(Z420,\"No\")*3","v":0}]
[]
[null,null,null,null,null,null,null,"Explanation of why the district proposed or refused to take the action"]
[null,null,null,null,null,null,null,"Description of other options considered and why they were rejected "]
[null,null,null,null,null,null,null,"Description of evidence used for the proposed or refused action"]
[null,null,null,null,null,null,null,"Description of other factors that are relevant to proposal or refusal"]
[]
[null,null,null,null,null,null,"To skip back to Eligibility section click ",null,null,null,null,"HERE."]
[]
[{"$f":"HYPERLINK(\"https://gosynth.com/p/s/iwvzyu\",\"Amendment to IEP\")","v":"Amendment to IEP"},null,null,null,null,null,null,null,null,null,null,null,null,null,null,null,null,null,{"$f":"IFERROR(Z430/Y430,\"N/A\")","v":"N/A"},null,null,null,null,null,{"$f":"(X432+X434)/2","v":0},{"$f":"(Y432+Y434)/2","v":0}]
["Amendment to IEP",null,null,null,null,null,null,null,null,null,null,null,null,null,null,null,null,null,"Select","V381",null,null,null,null,{"$f":"S431","v":"Select"},{"$f":"S431","v":"Select"}]
[{"$f":"HYPERLINK(\"http://sdlegislature.gov/Rules/DisplayRule.aspx?Rule=24:05:27:08.01\",\"(24:05:27:08.01)\")","v":"(24:05:27:08.01)"},null,null,{"$f":"HYPERLINK(\"http://sdlegislature.gov/Rules/DisplayRule.aspx?Rule=24:05:27:08.02\",\"(24:05:27:08.02)\")","v":"(24:05:27:08.02)"},null,null,null,null,null,null,null,null,null,null,null,null,null,null,null,null,null,null,null,{"$f":"Y432+Z432","v":0},{"$f":"COUNTIF(Y431,\"Yes\")*3","v":0},{"$f":"COUNTIF(Z431,\"No\")*3","v":0}]
[{"$f":"HYPERLINK(\"http://sdlegislature.gov/Rules/DisplayRule.aspx?Rule=24:05:30:04\",\"Prior Notice\n(24:05:30:04)\")","v":"Prior Notice\n(24:05:30:04)"},null,null,null,null,null,"Document if the amendment was made with or without a meeting.",null,null,null,null,null,null,null,null,null,null,null,"Select",null,null,null,null,null,{"$f":"S433","v":"Select"},{"$f":"S433","v":"Select"}]
[null,null,null,null,null,null,null,null,null,null,null,null,null,null,null,null,null,null,null,null,null,null,null,{"$f":"Y434+Z434","v":0},{"$f":"COUNTIF(Y433,\"Yes\")*3","v":0},{"$f":"COUNTIF(Z433,\"No\")*3","v":0}]
[]
[{"$f":"HYPERLINK(\"https://gosynth.com/p/s/jdtswp\",\"Additional Items\")","v":"Additional Items"},null,null,null,null,null,null,null,null,null,null,null,null,null,null,null,null,null,{"$f":"IFERROR(AB436/AA436,\"N/A\")","v":"N/A"},null,null,null,null,null,{"$f":"S437","v":"Select"},{"$f":"S437","v":"Select"},{"$f":"(X437+X439+X441+X443)/4","v":0},{"$f":"(Y437+Y439+Y441+Y443)/4","v":0}]
["Parent Declined/\nWithdrew Consent for Services ",null,null,null,null,null,"Revocation signed:",null,null,null,null,null,null,{"$f":"HYPERLINK(\"http://sdlegislature.gov/Rules/DisplayRule.aspx?Rule=24:05:27:04.02\",\"(24:05:27:04.02)\")","v":"(24:05:27:04.02)"},null,null,null,null,"Select","V387",null,null,null,{"$f":"Y437+Z437","v":0},{"$f":"COUNTIF(Y436,\"Yes\")*3","v":0},{"$f":"COUNTIF(Z436,\"No\")*3","v":0}]
[null,null,null,null,null,null,"Date prior notice was sent:",null,null,null,null,null,null,null,null,null,null,null,null,null,null,null,null,null,{"$f":"S439","v":"Select"},{"$f":"S439","v":"Select"}]
["Surrogate Parent",null,null,null,null,null,null,null,null,null,null,null,null,null,null,null,null,null,"Select",null,null,null,null,{"$f":"Y439+Z439","v":0},{"$f":"COUNTIF(Y438,\"Yes\")*3","v":0},{"$f":"COUNTIF(Z438,\"No\")*3","v":0}]
["Transfer Students Provided with  FAPE/Comparable Services ",null,null,null,null,null,"Date prior notice was sent:",null,null,null,null,null,null,{"$f":"HYPERLINK(\"http://sdlegislature.gov/Rules/DisplayRule.aspx?Rule=24:05:27:15.01\",\"In-state (24:05:27:15.01)\")","v":"In-state (24:05:27:15.01)"},null,null,null,null,"Select",null,null,null,null,null,{"$f":"S440","v":"Select"},{"$f":"S440","v":"Select"}]
[null,null,null,null,null,null,null,null,null,null,null,null,null,{"$f":"HYPERLINK(\"http://sdlegislature.gov/Rules/DisplayRule.aspx?Rule=24:05:27:15.02\",\"Out-of-state (24:05:27:15.02)\")","v":"Out-of-state (24:05:27:15.02)"},null,null,null,null,null,null,null,null,null,{"$f":"Y441+Z441","v":0},{"$f":"COUNTIF(Y440,\"Yes\")*3","v":0},{"$f":"COUNTIF(Z440,\"No\")*3","v":0}]
["Transfer Students Evaluated for \nSouth Dakota Eligibility",null,null,null,null,null,"Eligibility determination date:",null,null,null,null,null,null,null,null,null,null,null,"Select",null,null,null,null,null,{"$f":"S442","v":"Select"},{"$f":"S442","v":"Select"}]
[null,null,null,null,null,null,"IEP date:",null,null,null,null,null,null,null,null,null,null,null,null,null,null,null,null,{"$f":"Y443+Z443","v":0},{"$f":"COUNTIF(Y442,\"Yes\")*3","v":0},{"$f":"COUNTIF(Z442,\"No\")*3","v":0}]
[null,null,null,null,null,null,"PPWN Implementing IEP sent:"]

{"sheet":"Sheet1","index":17,"n_rows":0,"n_cols":0,"rows_kept":0,"cut":false,"hidden":false,"merged":[]}

{"sheet":"File 14","index":18,"n_rows":444,"n_cols":28,"rows_kept":444,"cut":false,"hidden":false,"merged":[[436,18,437,18],[437,6,437,10],[437,11,437,12],[438,6,438,17],[442,6,442,10],[442,11,442,12],[413,19,413,21],[414,6,414,11],[414,12,414,13],[414,14,418,17],[414,18,418,18],[414,19,418,21],[417,6,418,11],[419,6,419,17],[420,6,420,17],[216,14,216,16],[443,6,443,10],[443,11,443,12],[446,11,447,12],[439,6,440,10],[439,11,440,12],[439,13,439,17],[440,13,440,17],[441,6,441,10],[441,11,441,12],[441,13,443,17],[415,6,416,11],[415,12,416,13],[413,0,413,17],[422,7,422,17],[423,7,423,17],[424,7,424,17],[425,7,425,17],[426,6,426,17],[427,6,427,10],[427,11,427,17],[436,6,436,10],[436,11,436,12],[436,13,437,17],[216,6,216,7],[216,8,216,10],[205,0,206,5],[207,0,209,5],[216,11,216,13],[231,7,231,10],[209,6,209,13],[210,0,210,17],[211,0,213,5],[211,6,213,16],[214,0,215,5],[214,6,215,16],[216,0,233,5],[225,12,225,13],[225,15,225,16],[226,7,226,10],[227,6,227,10],[228,6,228,7],[228,8,228,10],[228,11,228,13],[228,14,228,16],[230,7,230,10],[230,12,230,13],[230,15,230,16],[196,0,200,5],[196,6,200,17],[196,18,200,18],[201,0,201,21],[202,0,202,17],[202,19,202,21],[203,0,204,5],[188,7,188,9],[188,10,188,12],[189,7,189,9],[189,10,189,12],[186,0,189,5],[186,7,186,9],[186,10,186,12],[192,7,192,9],[193,7,193,9],[193,10,193,12],[194,7,194,9],[190,0,190,5],[190,7,190,9],[190,10,190,12],[191,0,195,5],[191,7,191,9],[191,10,191,12],[152,12,156,15],[154,7,156,10],[145,7,146,10],[145,12,146,15],[149,18,162,18],[149,19,162,21],[150,6,150,15],[150,17,160,17],[158,12,159,15],[151,6,151,15],[152,7,153,10],[157,7,158,10],[157,12,157,15],[210,19,210,21],[211,19,215,21],[214,18,215,18],[196,19,200,21],[203,19,209,21],[205,18,206,18],[207,14,208,17],[207,18,209,18],[209,14,209,17],[211,18,213,18],[205,6,206,17],[207,6,207,10],[207,11,207,13],[208,6,208,10],[208,11,208,13],[203,6,204,17],[203,18,204,18],[190,13,190,16],[191,13,191,16],[192,13,192,16],[193,13,193,16],[194,13,194,16],[176,12,177,17],[184,13,185,16],[186,13,186,16],[184,10,185,12],[194,10,194,12],[180,6,180,17],[182,7,183,16],[187,7,187,9],[187,10,187,12],[187,13,187,16],[188,13,188,16],[192,10,192,12],[172,12,173,17],[172,18,173,18],[172,19,173,21],[177,0,177,2],[177,3,177,5],[177,6,177,8],[177,9,177,11],[178,0,178,5],[178,6,179,17],[179,0,179,2],[179,3,179,5],[176,18,177,18],[176,19,195,21],[178,18,179,18],[180,18,195,18],[176,0,176,5],[176,6,176,8],[176,9,176,11],[174,0,174,21],[175,0,175,17],[175,19,175,21],[180,0,185,5],[184,7,185,9],[189,13,189,16],[216,18,221,18],[216,19,233,21],[222,18,227,18],[228,18,233,18],[218,7,218,10],[218,12,218,13],[220,7,220,10],[221,6,221,10],[222,6,222,7],[222,8,222,10],[222,11,222,13],[222,14,222,16],[231,12,231,13],[231,15,231,16],[232,7,232,10],[233,6,233,10],[218,15,218,16],[219,7,219,10],[219,12,219,13],[219,15,219,16],[224,7,224,10],[224,12,224,13],[224,15,224,16],[225,7,225,10],[117,6,117,13],[117,14,117,17],[118,6,119,17],[120,0,120,21],[118,0,119,5],[130,18,148,18],[130,19,148,21],[133,12,134,15],[135,7,137,10],[135,12,136,15],[137,12,138,15],[138,7,141,10],[139,12,144,15],[142,7,144,10],[121,0,121,17],[121,19,121,21],[122,0,122,17],[122,18,129,18],[122,19,129,21],[123,0,129,5],[123,6,123,17],[124,6,124,17],[125,7,125,11],[126,7,126,11],[165,12,169,17],[167,7,167,11],[168,7,168,11],[110,18,112,18],[110,19,119,21],[113,18,114,18],[115,18,117,18],[118,18,119,18],[104,18,105,18],[106,18,107,18],[169,7,169,11],[162,0,162,17],[163,0,166,5],[163,6,163,17],[163,18,171,18],[163,19,171,21],[164,6,164,17],[167,0,173,5],[165,7,165,11],[166,7,166,11],[170,7,170,13],[171,7,171,11],[172,6,173,10],[172,11,173,11],[98,18,101,18],[98,19,101,21],[99,11,99,13],[106,6,107,17],[84,18,97,18],[84,19,97,21],[86,6,86,8],[86,9,86,12],[87,15,87,17],[100,11,100,13],[101,11,101,13],[102,6,103,17],[102,18,103,18],[94,13,94,14],[94,15,94,17],[95,15,95,17],[96,13,96,14],[96,15,96,17],[99,6,99,10],[100,6,100,10],[102,19,109,21],[108,18,109,18],[89,13,89,14],[89,15,89,17],[91,13,91,14],[91,15,91,17],[92,13,92,14],[92,15,92,17],[97,13,97,14],[97,15,97,17],[98,11,98,13],[98,14,101,17],[93,15,93,17],[93,13,93,14],[110,0,112,5],[110,6,110,10],[111,6,111,10],[113,0,114,5],[115,0,117,5],[115,6,115,12],[116,6,116,12],[98,0,101,5],[98,6,98,10],[101,6,101,10],[102,0,103,5],[104,0,105,5],[106,0,107,5],[108,0,109,5],[104,6,105,17],[108,6,109,17],[110,11,110,13],[110,14,111,17],[111,11,111,13],[112,6,112,13],[112,14,112,17],[113,6,114,17],[115,13,115,15],[116,13,116,15],[90,6,90,8],[90,9,90,12],[78,6,78,8],[78,9,78,12],[80,0,83,5],[80,6,80,8],[80,9,80,12],[81,9,81,12],[84,0,90,5],[83,9,83,12],[96,6,96,8],[96,9,96,12],[91,0,91,5],[91,6,91,8],[91,9,91,12],[92,0,97,5],[92,9,92,12],[93,9,93,12],[94,9,94,12],[93,6,93,8],[94,6,94,8],[92,6,92,8],[97,6,97,8],[97,9,97,12],[74,19,83,21],[76,6,76,8],[76,9,76,12],[76,13,76,14],[76,15,76,17],[77,6,77,8],[77,9,77,12],[77,13,77,14],[77,15,77,17],[82,6,82,8],[82,9,82,12],[82,13,82,14],[82,15,82,17],[83,15,83,17],[78,13,78,14],[78,15,78,17],[80,13,80,14],[80,15,80,17],[81,13,81,14],[81,15,81,17],[83,13,83,14],[74,18,83,18],[81,6,81,8],[83,6,83,8],[150,0,161,5],[159,6,160,6],[159,7,160,10],[161,6,161,15],[89,6,89,8],[89,9,89,12],[90,13,90,14],[90,15,90,17],[95,9,95,12],[147,6,147,15],[148,0,148,17],[149,0,149,17],[128,7,128,11],[128,13,128,17],[131,0,147,5],[131,6,131,15],[131,17,147,17],[132,6,132,15],[133,7,134,10],[95,6,95,8],[127,7,127,11],[127,13,127,17],[129,6,129,17],[130,0,130,17],[84,15,85,17],[84,6,85,8],[86,13,86,14],[86,15,86,17],[87,9,87,12],[87,13,87,14],[88,6,88,8],[88,9,88,12],[84,13,85,14],[88,13,88,14],[88,15,88,17],[84,9,85,12],[87,6,87,8],[125,13,125,17],[126,13,126,17],[66,15,66,17],[66,13,66,14],[67,0,67,5],[67,6,67,8],[67,9,67,12],[67,13,67,14],[67,15,67,17],[68,0,73,5],[79,0,79,5],[79,6,79,8],[79,9,79,12],[79,13,79,14],[79,15,79,17],[72,6,72,8],[72,9,72,12],[74,0,78,5],[74,6,75,8],[74,9,75,12],[74,13,75,14],[74,15,75,17],[68,13,68,14],[73,6,73,8],[60,13,61,14],[60,15,61,17],[62,13,62,14],[62,15,62,17],[63,13,63,14],[63,15,63,17],[64,13,64,14],[64,15,64,17],[65,13,65,14],[65,15,65,17],[54,0,59,5],[54,6,54,9],[54,10,54,12],[55,6,55,9],[55,10,55,12],[45,19,53,21],[54,19,59,21],[58,13,59,17],[56,6,56,9],[56,10,56,12],[57,6,57,9],[57,10,57,12],[58,6,58,9],[58,10,58,12],[59,6,59,9],[59,10,59,12],[62,9,62,12],[63,9,63,12],[64,9,64,12],[65,9,65,12],[66,9,66,12],[60,0,66,5],[60,6,61,8],[62,6,62,8],[63,6,63,8],[64,6,64,8],[65,6,65,8],[66,6,66,8],[60,9,61,12],[21,10,21,13],[21,14,21,17],[27,9,27,11],[27,12,27,17],[52,6,52,17],[53,6,53,17],[45,6,45,17],[46,6,46,17],[47,6,47,17],[48,7,48,17],[49,7,49,17],[50,7,50,17],[51,7,51,17],[39,6,40,17],[22,6,22,9],[22,10,22,13],[25,0,25,21],[26,0,26,17],[26,19,26,21],[22,14,22,17],[23,6,23,9],[23,10,23,13],[23,14,23,17],[45,0,53,5],[17,0,17,21],[18,0,18,17],[19,0,24,5],[19,9,19,11],[19,12,19,17],[20,14,20,17],[24,6,24,17],[8,3,8,6],[8,7,8,9],[9,0,9,21],[8,0,8,2],[10,0,12,5],[10,10,11,10],[10,11,11,13],[10,14,11,17],[10,18,11,18],[10,19,11,21],[18,19,18,21],[19,18,24,18],[19,19,24,21],[20,6,20,9],[20,10,20,13],[19,6,19,8],[21,6,21,9],[10,6,10,9],[11,6,11,9],[12,6,12,21],[13,0,13,21],[14,0,14,17],[14,19,14,21],[15,0,16,5],[15,18,16,18],[15,19,16,21],[15,6,16,17],[6,0,6,2],[6,10,6,13],[7,14,7,18],[8,14,8,18],[8,19,8,21],[4,14,4,18],[4,19,4,21],[5,14,5,18],[5,19,5,21],[6,14,6,18],[6,19,6,21],[7,19,7,21],[6,3,6,6],[6,7,6,9],[7,0,7,2],[7,3,7,6],[7,7,7,9],[7,10,7,13],[8,10,8,13],[3,0,3,21],[4,0,4,2],[4,3,4,6],[4,7,4,9],[4,10,4,13],[5,0,5,2],[5,3,5,6],[5,7,5,9],[5,11,5,13],[0,0,0,3],[0,4,0,5],[0,6,0,8],[0,9,0,11],[0,12,0,14],[0,15,0,17],[0,19,0,21],[1,0,2,13],[1,14,2,17],[1,18,2,18],[1,19,2,21],[73,9,73,12],[73,13,73,14],[73,15,73,17],[68,6,68,8],[68,9,68,12],[69,6,69,8],[69,9,69,12],[69,13,69,14],[69,15,69,17],[70,6,70,8],[70,9,70,12],[70,13,70,14],[70,15,70,17],[71,6,71,8],[71,9,71,12],[71,13,71,14],[71,15,71,17],[68,15,68,17],[72,13,72,14],[72,15,72,17],[41,0,42,5],[41,6,42,17],[43,6,44,17],[27,18,29,18],[27,19,29,21],[30,18,32,18],[30,19,32,21],[35,18,38,18],[35,19,44,21],[39,18,40,18],[43,0,44,5],[27,6,27,8],[28,6,29,17],[30,6,30,17],[31,8,32,17],[408,8,408,10],[408,12,408,15],[409,8,409,10],[411,0,411,16],[412,0,412,21],[27,0,29,5],[30,0,32,5],[31,6,32,7],[35,0,36,5],[35,6,35,9],[33,0,33,21],[34,0,34,17],[34,19,34,21],[35,10,35,12],[35,13,35,17],[41,18,42,18],[43,18,44,18],[45,18,53,18],[54,18,59,18],[60,18,73,18],[60,19,73,21],[36,6,38,17],[37,0,38,5],[39,0,40,5],[397,6,397,16],[398,6,398,16],[399,6,399,16],[400,6,400,16],[401,6,401,16],[402,6,403,16],[404,6,404,16],[405,6,405,16],[406,6,406,16],[391,6,391,16],[392,11,392,12],[392,14,392,16],[393,6,393,16],[394,6,394,8],[394,9,394,16],[395,6,395,16],[396,11,396,12],[396,14,396,16],[385,6,385,16],[386,6,386,8],[386,9,386,16],[387,6,387,16],[388,11,388,12],[388,14,388,16],[389,6,389,16],[390,6,390,8],[390,9,390,16],[382,17,411,17],[406,19,411,21],[419,19,427,21],[430,19,433,21],[436,19,443,21],[372,19,380,21],[377,18,380,18],[382,19,397,21],[390,18,393,18],[394,18,397,18],[398,19,405,21],[400,18,401,18],[380,0,380,17],[381,0,381,17],[381,19,381,21],[382,9,382,16],[383,6,383,16],[384,8,384,9],[388,8,388,9],[392,8,392,9],[396,8,396,9],[382,6,382,8],[384,11,384,12],[384,14,384,16],[402,18,403,18],[404,18,405,18],[398,18,399,18],[406,18,411,18],[419,18,427,18],[432,18,433,18],[439,18,440,18],[441,18,443,18],[341,18,342,18],[343,18,344,18],[354,18,358,18],[360,18,361,18],[372,18,376,18],[428,0,428,21],[429,0,429,17],[429,19,429,21],[430,18,431,18],[430,6,431,17],[431,0,431,2],[431,3,431,5],[432,6,433,17],[434,0,434,21],[435,0,435,17],[435,19,435,21],[341,19,346,21],[345,18,346,18],[353,18,353,21],[354,19,358,21],[359,18,359,21],[360,19,370,21],[362,18,363,18],[382,18,385,18],[386,18,389,18],[371,19,371,21],[439,0,440,5],[441,0,443,5],[406,0,410,5],[414,0,418,5],[419,0,427,5],[430,0,430,5],[432,0,433,5],[436,0,437,5],[438,0,438,5],[359,0,359,5],[360,0,361,5],[362,0,363,5],[364,0,366,5],[372,0,379,5],[382,0,397,5],[398,0,401,5],[402,0,403,5],[404,0,405,5],[367,0,369,5],[353,6,353,16],[354,6,354,10],[354,13,354,16],[355,13,355,16],[356,13,356,16],[341,0,346,5],[347,0,347,5],[348,0,352,5],[353,0,353,5],[354,0,358,5],[334,18,335,18],[317,18,318,18],[317,19,322,21],[319,18,320,18],[321,18,322,18],[323,18,323,21],[324,19,325,21],[326,18,326,21],[327,19,332,21],[329,18,330,18],[331,18,332,18],[327,0,332,5],[327,6,328,6],[329,6,330,6],[329,7,330,16],[331,7,331,16],[332,6,332,16],[306,18,307,18],[306,19,315,21],[308,18,309,18],[309,6,310,6],[310,18,311,18],[314,18,315,18],[319,6,320,6],[319,7,320,16],[321,6,322,6],[321,7,322,16],[324,18,325,18],[327,18,328,18],[314,0,315,5],[314,6,315,16],[316,0,316,5],[316,6,316,16],[317,0,322,5],[317,6,318,6],[317,7,318,16],[323,0,323,5],[323,6,323,16],[364,6,364,12],[364,13,364,16],[365,6,366,16],[364,18,366,18],[367,18,370,18],[375,7,375,8],[375,10,375,11],[367,6,369,16],[370,0,370,17],[371,0,371,17],[359,6,359,16],[360,6,360,12],[360,13,360,16],[361,6,361,12],[361,13,361,16],[362,6,362,12],[362,13,362,16],[363,6,363,12],[363,13,363,16],[340,0,340,5],[340,6,340,16],[376,6,376,11],[376,12,379,16],[377,6,377,11],[378,7,378,8],[379,7,379,8],[372,17,379,17],[378,10,378,11],[379,10,379,11],[373,6,373,11],[374,7,374,8],[374,10,374,11],[372,6,372,11],[372,12,375,16],[340,18,340,21],[341,7,342,16],[343,7,344,16],[345,7,345,16],[346,6,346,16],[357,13,357,16],[358,13,358,16],[350,7,350,10],[351,7,351,10],[347,6,347,16],[347,18,347,21],[348,6,348,10],[348,11,352,16],[348,18,352,18],[348,19,352,21],[349,6,349,10],[352,6,352,10],[355,6,356,10],[357,6,357,10],[357,11,357,12],[358,6,358,10],[358,11,358,12],[341,6,342,6],[343,6,344,6],[282,14,282,16],[283,14,283,16],[336,7,337,16],[338,7,338,16],[333,0,333,5],[334,0,339,5],[334,6,335,6],[334,7,335,16],[334,19,339,21],[336,6,337,6],[336,18,337,18],[338,18,339,18],[339,6,339,16],[333,18,333,21],[333,6,333,16],[324,0,325,5],[324,6,325,16],[326,0,326,5],[326,6,326,16],[327,7,328,16],[309,7,310,16],[311,7,311,16],[305,6,305,16],[306,6,307,16],[257,9,257,12],[258,6,258,8],[292,7,293,16],[281,10,281,13],[282,10,282,13],[283,10,283,13],[289,18,303,18],[289,19,303,21],[300,12,302,12],[300,13,300,16],[302,13,302,15],[283,6,283,9],[284,6,284,9],[286,6,288,11],[264,18,288,18],[264,19,288,21],[255,17,298,17],[284,14,284,16],[272,14,272,16],[273,14,273,16],[279,14,279,16],[280,14,280,16],[281,14,281,16],[285,14,285,16],[279,6,279,9],[280,6,280,9],[281,6,281,9],[282,6,282,9],[285,6,285,9],[274,6,274,9],[274,10,274,13],[277,6,277,9],[278,6,278,9],[278,10,278,13],[284,10,284,13],[285,10,285,13],[279,10,279,13],[280,10,280,13],[276,10,276,13],[276,14,276,16],[277,10,277,13],[277,14,277,16],[262,6,262,8],[262,9,262,11],[262,12,262,16],[263,6,263,8],[263,9,263,12],[263,13,263,16],[265,7,265,10],[266,6,266,16],[267,6,268,16],[269,10,271,13],[275,6,275,9],[275,10,275,13],[269,6,271,9],[272,6,272,9],[272,10,272,13],[273,6,273,9],[273,10,273,13],[254,19,254,21],[255,0,263,5],[255,9,256,16],[255,18,263,18],[255,19,263,21],[258,9,258,13],[259,6,259,8],[239,19,253,21],[245,7,248,9],[259,9,259,11],[259,12,259,16],[260,6,260,8],[260,9,260,13],[260,14,260,16],[261,6,261,8],[261,9,261,15],[241,7,241,8],[241,11,241,16],[243,6,244,10],[243,11,243,16],[244,11,244,16],[245,11,245,16],[255,6,256,8],[257,6,257,8],[289,0,302,5],[306,0,307,5],[309,0,313,5],[301,13,301,15],[301,16,302,16],[303,0,303,17],[304,0,304,17],[304,18,305,18],[304,19,305,21],[305,0,305,5],[312,7,312,16],[312,18,313,18],[313,6,313,16],[294,6,295,6],[294,7,295,16],[296,6,297,6],[296,7,297,16],[298,6,298,16],[299,6,299,16],[300,6,302,11],[289,6,289,16],[290,6,290,16],[291,7,291,16],[292,6,293,6],[234,18,238,18],[234,19,238,21],[235,6,235,16],[236,7,236,10],[236,12,236,15],[239,11,239,16],[246,11,246,16],[239,18,253,18],[253,0,253,17],[240,7,240,8],[240,11,240,16],[240,9,242,10],[242,11,242,16],[247,11,247,16],[250,11,250,16],[251,6,252,10],[251,11,251,16],[252,11,252,16],[264,0,288,5],[237,7,237,10],[238,6,238,10],[239,0,252,5],[239,6,239,10],[286,12,288,12],[286,13,286,16],[287,13,287,15],[287,16,288,16],[288,13,288,15],[248,11,248,16],[249,11,249,16],[257,13,257,16],[258,14,258,16],[265,12,265,16],[269,14,271,16],[264,6,264,16],[234,0,238,5],[234,6,234,16],[254,0,254,16],[278,14,278,16],[274,14,274,16],[275,14,275,16],[276,6,276,9]]}
[{"$f":"'Caseload Files'!B2","v":"Teacher Caseload Review"},null,null,null,{"$f":"'Caseload Files'!D24","v":"File 14"},null,"Reviewer:",null,null,{"$f":"'Caseload Files'!F24","v":"Reviewer 14"},null,null,"Staff Reviewed:",null,null,{"$f":"'Caseload Files'!I24","v":"Staff 14"},null,null,"Score","Findings/Notes"]
[{"$f":"'Caseload Files'!B2","v":"Teacher Caseload Review"},null,null,null,null,null,null,null,null,null,null,null,null,null,null,null,null,null,"Rating","Record notes\nand/or findings."]
[]
[]
["Student Name:",null,null,{"$f":"'Caseload Files'!$L$24","v":"Student 14"},null,null,null,"Date of Birth:",null,null,{"$f":"'Caseload Files'!$R$24","v":"2014-01-14"},null,null,null,"Current IEP Meeting Date:"]
["SIMS Numer:",null,null,{"$f":"'Caseload Files'!$O$24","v":140123456},null,null,null,"Age/Grade:",null,null,{"$f":"INT(YEARFRAC(K5,TODAY()))","v":7},"/Sophomore",null,null,"Previous IEP Meeting Date:"]
["School District:",null,null,{"$f":"'Caseload Files'!B3","v":"District 00-0"},null,null,null,"Disability Code:",null,null,{"$f":"'Caseload Files'!$W$24","v":"DisCode 14"},null,null,null,"Current Eligibility Determination Date:"]
["School Name:",null,null,{"$f":"'Caseload Files'!E6","v":"School Name"},null,null,null,"Race/Ethnicity:",null,null,{"$f":"'Caseload Files'!T24","v":"Race 14"},null,null,null,"Previous Eligibility Determination Date:"]
["School Year:",null,null,{"$f":"'Caseload Files'!E7","v":"1998-1999"},null,null,null,"Type of Review:",null,null,{"$f":"'Caseload Files'!Z24","v":"Type 14"},null,null,null,"Date of Review:"]
[]
[{"$f":"HYPERLINK(\"http://sdlegislature.gov/Rules/DisplayRule.aspx?Rule=24:05\",\"Subsection Title and \nCorresponding ARSD Links \")","v":"Subsection Title and \nCorresponding ARSD Links "},null,null,null,null,null,"Yellow boxes are prompts",null,null,null,null,"Use checkboxes to help record findings.",null,null,"Voided space and/or clarifying information.",null,null,null,"\"N/A\" may be appropriate for certain sections.","Findings/Notes"]
[null,null,null,null,null,null,"for information."]
[]
[]
[{"$f":"HYPERLINK(\"https://gosynth.com/p/s/aboqwv\",\"Record of Access\")","v":"Record of Access"},null,null,null,null,null,null,null,null,null,null,null,null,null,null,null,null,null,{"$f":"IFERROR(Y17/X17,\"N/A\")","v":"N/A"},"Findings/Notes"]
[{"$f":"HYPERLINK(\"http://sdlegislature.gov/Rules/DisplayRule.aspx?Rule=24:05:29:15\",\"Record of Access\n(24:05:29:15)\")","v":"Record of Access\n(24:05:29:15)"},null,null,null,null,null,null,null,null,null,null,null,null,null,null,null,null,null,"Select","V16",null,null,null,null,{"$f":"S16","v":"Select"},{"$f":"S16","v":"Select"}]
[null,null,null,null,null,null,null,null,null,null,null,null,null,null,null,null,null,null,null,null,null,null,null,{"$f":"Y17+Z17","v":0},{"$f":"COUNTIF(Y16,\"Yes\")*3","v":0},{"$f":"COUNTIF(Z16,\"No\")*3","v":0}]
[]
[{"$f":"HYPERLINK(\"https://gosynth.com/p/s/grdmsy\",\"Referral\")","v":"Referral"},null,null,null,null,null,null,null,null,null,null,null,null,null,null,null,null,null,{"$f":"IFERROR(Y21/X21,\"N/A\")","v":"N/A"}]
[{"$f":"HYPERLINK(\"http://sdlegislature.gov/Rules/DisplayRule.aspx?Rule=24:05:24:01\",\"Referral Document\n(initial only)\n(24:05:24:01)\")","v":"Referral Document\n(initial only)\n(24:05:24:01)"},null,null,null,null,null,"Date of referral:",null,null,null,null,null,"The top two spaces are available to type in.",null,null,null,null,null,"Select","V20",null,null,null,null,{"$f":"S20","v":"Select"},{"$f":"S20","v":"Select"}]
[null,null,null,null,null,null,"List all areas of referral:",null,null,null,null,null,null,null,null,null,null,null,null,null,null,null,null,{"$f":"Y21+Z21","v":0},{"$f":"COUNTIF(Y20,\"Yes\")*3","v":0},{"$f":"COUNTIF(Z20,\"No\")*3","v":0}]
[]
[]
[]
[null,null,null,null,null,null,"If referral can not be found and is older than three years, N/A is appropriate."]
[]
[{"$f":"HYPERLINK(\"https://gosynth.com/p/s/lihblf\",\"Initial Placement\")","v":"Initial Placement"},null,null,null,null,null,null,null,null,null,null,null,null,null,null,null,null,null,{"$f":"IFERROR(Y33/X33,\"N/A\")","v":"N/A"}]
[{"$f":"HYPERLINK(\"http://sdlegislature.gov/rules/DisplayRule.aspx?Rule=24:05:27:04.01\",\"Consent Signed for Initial Placement \ninto Special Education\n(24:05:27:04.01)\")","v":"Consent Signed for Initial Placement \ninto Special Education\n(24:05:27:04.01)"},null,null,null,null,null,"Date Signed:",null,null,null,null,null,null,null,null,null,null,null,"Select","V28",null,null,null,null,{"$f":"S28","v":"Select"},{"$f":"S28","v":"Select"}]
[null,null,null,null,null,null,"(The Consent Signed for Initial Placement into Special Education form is a separate document.  In the past, it may have been found at the end of the IEP.",null,null,null,null,null,null,null,null,null,null,null,null,null,null,null,null,{"$f":"Y29+Z29","v":0},{"$f":"COUNTIF(Y28,\"Yes\")*3","v":0},{"$f":"COUNTIF(Z28,\"No\")*3","v":0}]
[]
[{"$f":"HYPERLINK(\"https://sdlegislature.gov/Rules/DisplayRule.aspx?Rule=24:05:25:04.02\",\"Determination of Needed \nEvaluation Data\n(24:05:25:04.02)\")","v":"Determination of Needed \nEvaluation Data\n(24:05:25:04.02)"},null,null,null,null,null,"Did the team review existing data before completing the PPWN Consent?",null,null,null,null,null,null,null,null,null,null,null,"Select","V31",null,null,null,null,{"$f":"S31","v":"Select"},{"$f":"S31","v":"Select"}]
[null,null,null,null,null,null,"Select",null,"The existing data includes evaluations and information provided by the parents, current classroom-based local or state assessments, and observations by teachers and related services providers.",null,null,null,null,null,null,null,null,null,null,null,null,null,null,{"$f":"Y32+Z32","v":0},{"$f":"COUNTIF(Y31,\"Yes\")*3","v":0},{"$f":"COUNTIF(Z31,\"No\")*3","v":0}]
[null,null,null,null,null,null,null,null,null,null,null,null,null,null,null,null,null,null,null,null,null,null,null,{"$f":"(X32+X29)/2","v":0},{"$f":"(Y32+Y29)/2","v":0}]
[]
[{"$f":"HYPERLINK(\"https://gosynth.com/p/s/qxevgy\",\"Evaluation\")","v":"Evaluation"},null,null,null,null,null,null,null,null,null,null,null,null,null,null,null,null,null,{"$f":"IFERROR(Y38/X38,\"N/A\")","v":"N/A"},{"$f":"IFERROR(Y58/X58,\"N/A\")","v":"N/A"}]
[{"$f":"HYPERLINK(\"http://sdlegislature.gov/rules/DisplayRule.aspx?Rule=24:05:25:02.01\",\"Initial Evaluation \n(24:05:25:02.01)\")","v":"Initial Evaluation \n(24:05:25:02.01)"},null,null,null,null,null,"PPWN Consent was Sent:",null,null,null,null,null,null,"Use the most recent evaluation. ",null,null,null,null,"Select","V36",null,null,null,null,{"$f":"S36","v":"Select"},{"$f":"S36","v":"Select"}]
[null,null,null,null,null,null,{"$f":"HYPERLINK(\"https://gosynth.com/p/s/qxevgy\",\"Consent was acquired for initial evaluation. \n\nIf consent was not given by the parent for reevaluation, evidence of  attempts were made to elicit parent.\")","v":"Consent was acquired for initial evaluation. \n\nIf consent was not given by the parent for reevaluation, evidence of  attempts were made to elicit parent."},null,null,null,null,null,null,null,null,null,null,null,null,null,null,null,null,{"$f":"Y37+Z37","v":0},{"$f":"COUNTIF(Y36,\"Yes\")*3","v":0},{"$f":"COUNTIF(Z36,\"No\")*3","v":0}]
[{"$f":"HYPERLINK(\"http://sdlegislature.gov/Rules/DisplayRule.aspx?Rule=24:05:25:06.01\",\"Reevaluation\n(24:05:25:06.01)\")","v":"Reevaluation\n(24:05:25:06.01)"},null,null,null,null,null,null,null,null,null,null,null,null,null,null,null,null,null,null,null,null,null,null,{"$f":"(X37+X41+X43+X45+X47+X56+X62+X76+X86+X100+X104+X106+X108+X110+X112+X115+X117+X120)/18","v":0},{"$f":"(Y37+Y41+Y43+Y45+Y47+Y56+Y62+Y76+Y86+Y100+Y104+Y106+Y108+Y110+Y112+Y115+Y117+Y120)/18","v":0}]
[]
[{"$f":"HYPERLINK(\"http://sdlegislature.gov/Rules/DisplayRule.aspx?Rule=24:05:25:16\",\"Parent Input into Evalaution\n(24:05:25:16)\")","v":"Parent Input into Evalaution\n(24:05:25:16)"},null,null,null,null,null,{"$f":"HYPERLINK(\"https://gosynth.com/p/s/ycomsx\",\"Parent input must be documented in the PPWN Consent on input exiting data and \nupcoming evaluation.   (refer to phone logs, progress notes, prior notice)\")","v":"Parent input must be documented in the PPWN Consent on input exiting data and \nupcoming evaluation.   (refer to phone logs, progress notes, prior notice)"},null,null,null,null,null,null,null,null,null,null,null,"Select",null,null,null,null,null,{"$f":"S40","v":"Select"},{"$f":"S40","v":"Select"}]
[null,null,null,null,null,null,null,null,null,null,null,null,null,null,null,null,null,null,null,null,null,null,null,{"$f":"Y41+Z41","v":0},{"$f":"COUNTIF(Y40,\"Yes\")*3","v":0},{"$f":"COUNTIF(Z40,\"No\")*3","v":0}]
[{"$f":"HYPERLINK(\"http://sdlegislature.gov/Rules/DisplayRule.aspx?Rule=24:05:30:06.01\",\"Procedural Safeguards\n(24:05:30:06.01)\")","v":"Procedural Safeguards\n(24:05:30:06.01)"},null,null,null,null,null,{"$f":"HYPERLINK(\"https://gosynth.com/p/s/tdkmfj\",\"[INCLUDE LANGUAGE FOR THIS SECTION]\")","v":"[INCLUDE LANGUAGE FOR THIS SECTION]"},null,null,null,null,null,null,null,null,null,null,null,"Select",null,null,null,null,null,{"$f":"S42","v":"Select"},{"$f":"S42","v":"Select"}]
[null,null,null,null,null,null,null,null,null,null,null,null,null,null,null,null,null,null,null,null,null,null,null,{"$f":"Y43+Z43","v":0},{"$f":"COUNTIF(Y42,\"Yes\")*3","v":0},{"$f":"COUNTIF(Z42,\"No\")*3","v":0}]
[{"$f":"HYPERLINK(\"http://sdlegislature.gov/Rules/DisplayRule.aspx?Rule=24:05:25:03\",\"Extension on 25 Day Timeline\n(24:05:25:03)\")","v":"Extension on 25 Day Timeline\n(24:05:25:03)"},null,null,null,null,null,{"$f":"HYPERLINK(\"https://gosynth.com/p/s/wcheia\",\"Documented agreement with parent and district on new extension date.  \nEligibility and IEP developed 30 days after the agreed extension date.\")","v":"Documented agreement with parent and district on new extension date.  \nEligibility and IEP developed 30 days after the agreed extension date."},null,null,null,null,null,null,null,null,null,null,null,"Select",null,null,null,null,null,{"$f":"S44","v":"Select"},{"$f":"S44","v":"Select"}]
[null,null,null,null,null,null,null,null,null,null,null,null,null,null,null,null,null,null,null,null,null,null,null,{"$f":"Y45+Z45","v":0},{"$f":"COUNTIF(Y44,\"Yes\")*3","v":0},{"$f":"COUNTIF(Z44,\"No\")*3","v":0}]
[{"$f":"HYPERLINK(\"http://sdlegislature.gov/Rules/DisplayRule.aspx?Rule=24:05:30:05\",\"Content of Prior Written Notice/\nConsent for Evaluation\n (24:05:30:05)\")","v":"Content of Prior Written Notice/\nConsent for Evaluation\n (24:05:30:05)"},null,null,null,null,null,{"$f":"HYPERLINK(\"https://gosynth.com/p/s/xymlpn\",\"Check the following:\")","v":"Check the following:"},null,null,null,null,null,null,null,null,null,null,null,"Select","V46",null,null,null,null,{"$f":"S46","v":"Select"},{"$f":"S46","v":"Select"}]
[null,null,null,null,null,null,"PPWN must be individualized to the student, IEP team discussions and situation.",null,null,null,null,null,null,null,null,null,null,null,null,null,null,null,null,{"$f":"Y47+Z47","v":0},{"$f":"COUNTIF(Y46,\"Yes\")*3","v":0},{"$f":"COUNTIF(Z46,\"No\")*3","v":0}]
[]
[null,null,null,null,null,null,null,"Explanation of why the district proposed or refused to take the action"]
[null,null,null,null,null,null,null,"Description of other options considered and why they were rejected "]
[null,null,null,null,null,null,null,"Description of evidence used for the proposed or refused action"]
[null,null,null,null,null,null,null,"Description of other factors that are relevant to proposal or refusal"]
[]
[null,null,null,null,null,null,"All components should be completed and have a clear description."]
[{"$f":"HYPERLINK(\"http://sdlegislature.gov/Rules/DisplayRule.aspx?Rule=24:05:30:05\",\"Timeline of Prior Written Notice/\nConsent for Evaluation\n(24:05:25:03)\")","v":"Timeline of Prior Written Notice/\nConsent for Evaluation\n(24:05:25:03)"},null,null,null,null,null,{"$f":"HYPERLINK(\"https://gosynth.com/p/s/xylthm\",\"Date sent:\")","v":"Date sent:"},null,null,null,"2020-01-18",null,null,null,null,null,null,null,"Select","V54",null,null,null,null,{"$f":"S55","v":"Select"},{"$f":"S55","v":"Select"}]
[null,null,null,null,null,null,"Date signed:",null,null,null,"2020-01-19",null,null,null,null,null,null,null,null,null,null,null,null,{"$f":"Y56+Z56","v":0},{"$f":"COUNTIF(Y55,\"Yes\")*3","v":0},{"$f":"COUNTIF(Z55,\"No\")*3","v":0}]
[null,null,null,null,null,null,"Date received:",null,null,null,"2020-01-20"]
[null,null,null,null,null,null,"25 school days:",null,null,null,{"$f":"WORKDAY(K57,25)","v":"2020-02-24"}]
[null,null,null,null,null,null,"30 calendar days:"]
[null,null,null,null,null,null,"Extension on 25 day:"]
[{"$f":"HYPERLINK(\"http://sdlegislature.gov/Rules/DisplayRule.aspx?Rule=24:05:25:04.02\",\"Evaluations to be Completed by the District per Parental Prior Written/Consent for Evaluation\n(24:05:25:04.02)\")","v":"Evaluations to be Completed by the District per Parental Prior Written/Consent for Evaluation\n(24:05:25:04.02)"},null,null,null,null,null,{"$f":"HYPERLINK(\"https://gosynth.com/p/s/zgdeev\",\"List areas:\")","v":"List areas:"},null,null,"Test administered:",null,null,null,"Test date:",null,"Evaluator:",null,null,"Select","V60",null,null,null,null,{"$f":"S61","v":"Select"},{"$f":"S61","v":"Select"}]
[null,null,null,null,null,null,null,null,null,null,null,null,null,null,null,null,null,null,null,null,null,null,null,{"$f":"Y62+Z62","v":0},{"$f":"COUNTIF(Y61,\"Yes\")*3","v":0},{"$f":"COUNTIF(Z61,\"No\")*3","v":0}]
[]
[]
[]
[]
[]
["For more evaluations requested click the [+]"]
[]
[]
[]
[]
[]
[]
[{"$f":"HYPERLINK(\"http://sdlegislature.gov/Rules/DisplayRule.aspx?Rule=24:05:25:04.02\",\"Existing Evaluation Data\nto be Pulled Forward\n(24:05:25:04.02)\")","v":"Existing Evaluation Data\nto be Pulled Forward\n(24:05:25:04.02)"},null,null,null,null,null,{"$f":"HYPERLINK(\"https://gosynth.com/p/s/pfohnr\",\"List areas:\")","v":"List areas:"},null,null,"Test administered:",null,null,null,"Test date:",null,"Evaluator:",null,null,"Select","V74",null,null,null,null,{"$f":"S75","v":"Select"},{"$f":"S75","v":"Select"}]
[null,null,null,null,null,null,null,null,null,null,null,null,null,null,null,null,null,null,null,null,null,null,null,{"$f":"Y76+Z76","v":0},{"$f":"COUNTIF(Y75,\"Yes\")*3","v":0},{"$f":"COUNTIF(Z75,\"No\")*3","v":0}]
[]
[]
[]
["For more existing data requested click the [+]"]
[]
[]
[]
[]
[{"$f":"HYPERLINK(\"http://sdlegislature.gov/Rules/DisplayRule.aspx?Rule=24:05:25:04.02\",\"Skills Based Assessment and Report\n(24:05:25:04.02)\")","v":"Skills Based Assessment and Report\n(24:05:25:04.02)"},null,null,null,null,null,{"$f":"HYPERLINK(\"https://gosynth.com/p/s/tbqnts\",\"List areas:\")","v":"List areas:"},null,null,"Test administered:",null,null,null,"Test date:",null,"Evaluator:",null,null,"Select","V84",null,null,null,null,{"$f":"S85","v":"Select"},{"$f":"S85","v":"Select"}]
[null,null,null,null,null,null,null,null,null,null,null,null,null,null,null,null,null,null,null,null,null,null,null,{"$f":"Y86+Z86","v":0},{"$f":"COUNTIF(Y85,\"Yes\")*3","v":0},{"$f":"COUNTIF(Z85,\"No\")*3","v":0}]
[]
[null,null,null,null,null,null,null,null,null,null,null,null,null,null,null,null,null,null,null,null,null,null,null,{"$f":"(X86+X100+X104+X106+X108+X110+X112+X115+X117+X120)/10","v":0},{"$f":"(Y86+Y100+Y104+Y106+Y108+Y110+Y112+Y115+Y117+Y120)/10","v":0}]
[]
[]
[]
["For more skills based requested click the [+]"]
[]
[]
[]
[]
[]
[]
[{"$f":"HYPERLINK(\"http://sdlegislature.gov/Rules/DisplayRule.aspx?Rule=24:05:25:03\",\"Consent Received\n(24:05:25:03)\")","v":"Consent Received\n(24:05:25:03)"},null,null,null,null,null,{"$f":"HYPERLINK(\"https://gosynth.com/p/s/ctcnlr\",\"Consent received date:\")","v":"Consent received date:"},null,null,null,null,{"$f":"K57","v":"2020-01-20"},null,null,"Mark \"No\" if dates are outside of \"consent received\" and/or \"25 school days\".",null,null,null,"Select","V98",null,null,null,null,{"$f":"S99","v":"Select"},{"$f":"S99","v":"Select"}]
[null,null,null,null,null,null,"Earliest testing date:",null,null,null,null,{"$f":"MIN(N63:O74,N87:O98)","v":"00:00:00"},null,null,null,null,null,null,null,null,null,null,null,{"$f":"Y100+Z100","v":0},{"$f":"COUNTIF(Y99,\"Yes\")*3","v":0},{"$f":"COUNTIF(Z99,\"No\")*3","v":0}]
[null,null,null,null,null,null,"Latest testing date:",null,null,null,null,{"$f":"MAX(N63:O74,N87:O98)","v":"00:00:00"}]
[null,null,null,null,null,null,"Within 25 School Days:",null,null,null,null,{"$f":"IF(ISBLANK(K60),K58,K60)","v":"2020-02-24"}]
[{"$f":"HYPERLINK(\"http://sdlegislature.gov/Rules/DisplayRule.aspx?Rule=24:05:25:20\",\"All Evaluations Administered \n(24:05:25:20)\")","v":"All Evaluations Administered \n(24:05:25:20)"},null,null,null,null,null,{"$f":"HYPERLINK(\"https://gosynth.com/p/s/mkcdef\",\"All evaluations marked on the PWWN/Consent for Evaluation form must be administered.\")","v":"All evaluations marked on the PWWN/Consent for Evaluation form must be administered."},null,null,null,null,null,null,null,null,null,null,null,"Select","V102",null,null,null,null,{"$f":"S103","v":"Select"},{"$f":"S103","v":"Select"}]
[null,null,null,null,null,null,null,null,null,null,null,null,null,null,null,null,null,null,null,null,null,null,null,{"$f":"Y104+Z104","v":0},{"$f":"COUNTIF(Y103,\"Yes\")*3","v":0},{"$f":"COUNTIF(Z103,\"No\")*3","v":0}]
[{"$f":"HYPERLINK(\"http://sdlegislature.gov/Rules/DisplayRule.aspx?Rule=24:05:25:06.01\",\"Consent was Acquired\n(24:05:25:06.01)\")","v":"Consent was Acquired\n(24:05:25:06.01)"},null,null,null,null,null,{"$f":"HYPERLINK(\"https://gosynth.com/p/s/mkcdef\",\"All evaluations administered must be requested on the PWWN/Consent for Evaluation \nform.\")","v":"All evaluations administered must be requested on the PWWN/Consent for Evaluation \nform."},null,null,null,null,null,null,null,null,null,null,null,"Select",null,null,null,null,null,{"$f":"S105","v":"Select"},{"$f":"S105","v":"Select"}]
[null,null,null,null,null,null,null,null,null,null,null,null,null,null,null,null,null,null,null,null,null,null,null,{"$f":"Y106+Z106","v":0},{"$f":"COUNTIF(Y105,\"Yes\")*3","v":0},{"$f":"COUNTIF(Z105,\"No\")*3","v":0}]
[{"$f":"HYPERLINK(\"http://sdlegislature.gov/Rules/DisplayRule.aspx?Rule=24:05:25:04\",\"Variety of Sources \n(24:05:25:04)\")","v":"Variety of Sources \n(24:05:25:04)"},null,null,null,null,null,{"$f":"HYPERLINK(\"https://gosynth.com/p/s/mkcdef\",\"Appropritate means to provide evaluations for accurate data were used. \")","v":"Appropritate means to provide evaluations for accurate data were used. "},null,null,null,null,null,null,null,null,null,null,null,"Select",null,null,null,null,null,{"$f":"S107","v":"Select"},{"$f":"S107","v":"Select"}]
[null,null,null,null,null,null,null,null,null,null,null,null,null,null,null,null,null,null,null,null,null,null,null,{"$f":"Y108+Z108","v":0},{"$f":"COUNTIF(Y107,\"Yes\")*3","v":0},{"$f":"COUNTIF(Z107,\"No\")*3","v":0}]
[{"$f":"HYPERLINK(\"http://sdlegislature.gov/Rules/DisplayRule.aspx?Rule=24:05:25:04\",\"Met Requirements for the Disability\n(24:05:25:04) \")","v":"Met Requirements for the Disability\n(24:05:25:04) "},null,null,null,null,null,{"$f":"HYPERLINK(\"https://gosynth.com/p/s/mkcdef\",\"Comprehensive Evaluations in all areas required for the disability. \")","v":"Comprehensive Evaluations in all areas required for the disability. "},null,null,null,null,null,null,null,null,null,null,null,"Select",null,null,null,null,null,{"$f":"S109","v":"Select"},{"$f":"S109","v":"Select"}]
[null,null,null,null,null,null,null,null,null,null,null,null,null,null,null,null,null,null,null,null,null,null,null,{"$f":"Y110+Z110","v":0},{"$f":"COUNTIF(Y109,\"Yes\")*3","v":0},{"$f":"COUNTIF(Z109,\"No\")*3","v":0}]
[{"$f":"HYPERLINK(\"http://sdlegislature.gov/Rules/DisplayRule.aspx?Rule=24:05:25:03\",\"Eligibility within 30 Calendar Days \n(24:05:25:03)\")","v":"Eligibility within 30 Calendar Days \n(24:05:25:03)"},null,null,null,null,null,{"$f":"HYPERLINK(\"https://gosynth.com/p/s/mkcdef\",\"Day 26 was on:\")","v":"Day 26 was on:"},null,null,null,null,{"$f":"WORKDAY(L102,1)","v":"2020-02-25"},null,null,null,null,null,null,"Select","V110",null,null,null,null,{"$f":"S111","v":"Select"},{"$f":"S111","v":"Select"}]
[null,null,null,null,null,null,"Eligibility Determination Date:",null,null,null,null,{"$f":"T7","v":"00:00:00"},null,null,null,null,null,null,null,null,null,null,null,{"$f":"Y112+Z112","v":0},{"$f":"COUNTIF(Y111,\"Yes\")*3","v":0},{"$f":"COUNTIF(Z111,\"No\")*3","v":0}]
[null,null,null,null,null,null,"Eligibility meeting date should have been by:",null,null,null,null,null,null,null,{"$f":"K59","v":"00:00:00"}]
[{"$f":"HYPERLINK(\"http://sdlegislature.gov/Rules/DisplayRule.aspx?Rule=24:05:25:04.03\",\"Student Eligible for Special Education \n(24:05:25:04.03)\")","v":"Student Eligible for Special Education \n(24:05:25:04.03)"},null,null,null,null,null,null,null,null,null,null,null,null,null,null,null,null,null,"Select",null,null,null,null,null,{"$f":"S114","v":"Select"},{"$f":"S114","v":"Select"}]
[null,null,null,null,null,null,null,null,null,null,null,null,null,null,null,null,null,null,null,null,null,null,null,{"$f":"Y115+Z115","v":0},{"$f":"COUNTIF(Y114,\"Yes\")*3","v":0},{"$f":"COUNTIF(Z114,\"No\")*3","v":0}]
[{"$f":"HYPERLINK(\"http://sdlegislature.gov/Rules/DisplayRule.aspx?Rule=24:05:25:06\",\"Three Year Re-Evaluation\n(24:05:25:06)\")","v":"Three Year Re-Evaluation\n(24:05:25:06)"},null,null,null,null,null,{"$f":"HYPERLINK(\"https://gosynth.com/p/s/mkcdef\",\"Current Eligibility Determination Date:\")","v":"Current Eligibility Determination Date:"},null,null,null,null,null,null,{"$f":"L112","v":"00:00:00"},null,null,null,null,"Select",null,null,null,null,null,{"$f":"S116","v":"Select"},{"$f":"S116","v":"Select"}]
[null,null,null,null,null,null,"Previous Eligibility Determination Date:",null,null,null,null,null,null,{"$f":"T8","v":"00:00:00"},null,null,null,null,null,null,null,null,null,{"$f":"Y117+Z117","v":0},{"$f":"COUNTIF(Y116,\"Yes\")*3","v":0},{"$f":"COUNTIF(Z116,\"No\")*3","v":0}]
[]
[{"$f":"HYPERLINK(\"https://gosynth.com/p/s/mkcdef\",\"Evaluated to Dismiss from Services  \")","v":"Evaluated to Dismiss from Services  "},null,null,null,null,null,null,null,null,null,null,null,null,null,null,null,null,null,"Select",null,null,null,null,null,{"$f":"S119","v":"Select"},{"$f":"S119","v":"Select"}]
[null,null,null,null,null,null,null,null,null,null,null,null,null,null,null,null,null,null,null,null,null,null,null,{"$f":"Y120+Z120","v":0},{"$f":"COUNTIF(Y119,\"Yes\")*3","v":0},{"$f":"COUNTIF(Z119,\"No\")*3","v":0}]
[]
[{"$f":"HYPERLINK(\"https://gosynth.com/p/s/giwoma\",\"Eligibility Document for Specific Learning Disability\")","v":"Eligibility Document for Specific Learning Disability"},null,null,null,null,null,null,null,null,null,null,null,null,null,null,null,null,null,{"$f":"IFERROR(Y126/X126,\"N/A\")","v":"N/A"}]
["If student is not eligible for Specific Learning Disability, skip this section.  Click on the [+] button if section is not visible. ",null,null,null,null,null,null,null,null,null,null,null,null,null,null,null,null,null,"Select","V122",null,null,null,null,{"$f":"S123","v":"Select"},{"$f":"S123","v":"Select"}]
[{"$f":"HYPERLINK(\"http://sdlegislature.gov/Rules/DisplayRule.aspx?Rule=24:05:24.01:19\",\"Specific Learning Disabilities\n(24:05:24.01:19)\")","v":"Specific Learning Disabilities\n(24:05:24.01:19)"},null,null,null,null,null,"Check the following:",null,null,null,null,null,null,null,null,null,null,null,null,null,null,null,null,{"$f":"Y124+Z124","v":0},{"$f":"COUNTIF(Y123,\"Yes\")*3","v":0},{"$f":"COUNTIF(Z123,\"No\")*3","v":0}]
[]
[null,null,null,null,null,null,null,"Reading Comprehension",null,null,null,null,null,"Math Calculation",null,null,null,null,null,null,null,null,null,{"$f":"(X124+X132+X151+X165+X174)/5","v":0},{"$f":"(Y124+Y132+Y151+Y165+Y174)/5","v":0}]
[null,null,null,null,null,null,null,"Basic Reading Skills",null,null,null,null,null,"Math Problem Solving"]
[null,null,null,null,null,null,null,"Reading Fluency",null,null,null,null,null,"Listening Comprehension"]
[null,null,null,null,null,null,null,"Written Expression",null,null,null,null,null,"Oral Expression"]
[]
["For Initial Determination of Eligibility Only",null,null,null,null,null,null,null,null,null,null,null,null,null,null,null,null,null,"Select","V130",null,null,null,null,{"$f":"S131","v":"Select"},{"$f":"S131","v":"Select"}]
[{"$f":"HYPERLINK(\"http://sdlegislature.gov/Rules/DisplayRule.aspx?Rule=24:05:24.01:19\",\"Initial Eligibility\n(24:05:24.01:19)\")","v":"Initial Eligibility\n(24:05:24.01:19)"},null,null,null,null,null,"Written report must include:",null,null,null,null,null,null,null,null,null,null,null,null,null,null,null,null,{"$f":"Y132+Z132","v":0},{"$f":"COUNTIF(Y131,\"Yes\")*3","v":0},{"$f":"COUNTIF(Z131,\"No\")*3","v":0}]
[]
[null,null,null,null,null,null,null,"Student achieves adequately",null,null,null,null,"Lack of appropriate instruction"]
[]
[null,null,null,null,null,null,null,"Student exhibits pattern of strengths & weaknesses",null,null,null,null,"Observation of the student"]
[]
[null,null,null,null,null,null,null,null,null,null,null,null,"Relevant medical findings (if any)"]
[null,null,null,null,null,null,null,"Student was provided appropriate instruction in regular education settings by qualified personnel"]
[null,null,null,null,null,null,null,null,null,null,null,null,"Achievement level problem is/is not primarily the result of another factor (e.g. emotional disturbance, cognitive impairment, etc.)"]
[]
[]
[null,null,null,null,null,null,null,"Repeated assessment of achievement reflecting student progress"]
[]
[]
[null,null,null,null,null,null,null,"Attendance record",null,null,null,null,"Adverse effect on educational performance"]
[]
[]
["Click on the [+] button to expand or the [-] button to collapse."]
["For Reevaluation of Eligibility Only",null,null,null,null,null,null,null,null,null,null,null,null,null,null,null,null,null,"Select","V149",null,null,null,null,{"$f":"S150","v":"Select"},{"$f":"S150","v":"Select"}]
[{"$f":"HYPERLINK(\"http://sdlegislature.gov/Rules/DisplayRule.aspx?Rule=24:05:24.01:19\",\"Reevaluation of Eligibility\n(24:05:24.01:19)\")","v":"Reevaluation of Eligibility\n(24:05:24.01:19)"},null,null,null,null,null,"Written report must include:",null,null,null,null,null,null,null,null,null,null,null,null,null,null,null,null,{"$f":"Y151+Z151","v":0},{"$f":"COUNTIF(Y150,\"Yes\")*3","v":0},{"$f":"COUNTIF(Z150,\"No\")*3","v":0}]
[]
[null,null,null,null,null,null,null,"Student achieves adequately",null,null,null,null,"Achievement level problem is/is not primarily the result of another factor (e.g. emotional disturbance, cognitive impairment, etc.)"]
[]
[null,null,null,null,null,null,null,"Student exhibits pattern of strengths & weaknesses"]
[]
[]
[null,null,null,null,null,null,null,"Observation of the student"]
[null,null,null,null,null,null,null,null,null,null,null,null,"Adverse effect on educational performance"]
[null,null,null,null,null,null,null,"Relevant medical findings (if any)"]
[]
[]
["Click on the [+] button to expand or the [-] button to collapse."]
[{"$f":"HYPERLINK(\"http://sdlegislature.gov/Rules/DisplayRule.aspx?Rule=24:05:25:08\",\"Team Member Signatures \n(24:05:25:08)\")","v":"Team Member Signatures \n(24:05:25:08)"},null,null,null,null,null,"Check the following:",null,null,null,null,null,null,null,null,null,null,null,"Select","V163",null,null,null,null,{"$f":"S164","v":"Select"},{"$f":"S164","v":"Select"}]
[null,null,null,null,null,null,null,null,null,null,null,null,null,null,null,null,null,null,null,null,null,null,null,{"$f":"Y165+Z165","v":0},{"$f":"COUNTIF(Y164,\"Yes\")*3","v":0},{"$f":"COUNTIF(Z164,\"No\")*3","v":0}]
[null,null,null,null,null,null,null,"Parent",null,null,null,null,"Each group member shall certify in writing whether the report reflects the group member's conclusion. If it does not reflect the group member's conclusion, the group member must submit the conclusion in a separate statement."]
[null,null,null,null,null,null,null,"General Education Teacher"]
[{"$f":"HYPERLINK(\"http://sdlegislature.gov/Rules/DisplayRule.aspx?Rule=24:05:25:13\",\"Group Members to Certify \nReport in Writing \n(24:05:25:13)\")","v":"Group Members to Certify \nReport in Writing \n(24:05:25:13)"},null,null,null,null,null,null,"Special Education Teacher"]
[null,null,null,null,null,null,null,"Qualified interpreter of results"]
[null,null,null,null,null,null,null,"LEA Representative"]
[null,null,null,null,null,null,null,"If disagreed, written input was provided"]
[]
[null,null,null,null,null,null,"Check PWWN for eligibility decisions.                         ",null,null,null,null,"Skip to","PPWN.",null,null,null,null,null,"Select",null,null,null,null,null,{"$f":"S173","v":"Select"},{"$f":"S173","v":"Select"}]
[null,null,null,null,null,null,null,null,null,null,null,null,null,null,null,null,null,null,null,null,null,null,null,{"$f":"Y174+Z174","v":0},{"$f":"COUNTIF(Y173,\"Yes\")*3","v":0},{"$f":"COUNTIF(Z173,\"No\")*3","v":0}]
[]
[{"$f":"HYPERLINK(\"https://gosynth.com/p/s/mzphio\",\"Meeting Notice\")","v":"Meeting Notice"},null,null,null,null,null,null,null,null,null,null,null,null,null,null,null,null,null,{"$f":"IFERROR(Y184/X184,\"N/A\")","v":"N/A"}]
["Meeting Notice",null,null,null,null,null,"Date sent:",null,null,null,null,null,"From this point on use the current IEP's documentation.",null,null,null,null,null,"Select","V174",null,null,null,null,{"$f":"S177","v":"Select"},{"$f":"S177","v":"Select"}]
[{"$f":"HYPERLINK(\"http://sdlegislature.gov/Rules/DisplayRule.aspx?Rule=24:05:30:02.01\",\"(24:05:30:02.01)\")","v":"(24:05:30:02.01)"},null,null,{"$f":"HYPERLINK(\"http://sdlegislature.gov/Rules/DisplayRule.aspx?Rule=24:05:25:16\",\"(24:05:25:16)\")","v":"(24:05:25:16)"},null,null,"Meeting date:",null,null,{"$f":"T5","v":"00:00:00"},null,null,null,null,null,null,null,null,null,null,null,null,null,{"$f":"Y178+Z178","v":0},{"$f":"COUNTIF(Y177,\"Yes\")*3","v":0},{"$f":"COUNTIF(Z177,\"No\")*3","v":0}]
["Procedural Safeguards",null,null,null,null,null,"Must be given to parents annually.",null,null,null,null,null,null,null,null,null,null,null,"Select",null,null,null,null,null,{"$f":"S179","v":"Select"},{"$f":"S179","v":"Select"}]
[{"$f":"HYPERLINK(\"http://sdlegislature.gov/Rules/DisplayRule.aspx?Rule=24:05:30:06.01\",\"(24:05:30:06.01)\")","v":"(24:05:30:06.01)"},null,null,{"$f":"HYPERLINK(\"http://sdlegislature.gov/Rules/DisplayRule.aspx?Rule=24:05:30:06.02\",\"(24:05:30:06.02)\")","v":"(24:05:30:06.02)"},null,null,null,null,null,null,null,null,null,null,null,null,null,null,null,null,null,null,null,{"$f":"Y180+Z180","v":0},{"$f":"COUNTIF(Y179,\"Yes\")*3","v":0},{"$f":"COUNTIF(Z179,\"No\")*3","v":0}]
["IEP Team",null,null,null,null,null,"Complete the following:",null,null,null,null,null,null,null,null,null,null,null,"Select",null,null,null,null,null,{"$f":"S181","v":"Select"},{"$f":"S181","v":"Select"}]
[null,null,null,null,null,null,null,null,null,null,null,null,null,null,null,null,null,null,null,null,null,null,null,{"$f":"Y182+Z182","v":0},{"$f":"COUNTIF(Y181,\"Yes\")*3","v":0},{"$f":"COUNTIF(Z181,\"No\")*3","v":0}]
[null,null,null,null,null,null,null,"The documentation of people attending the IEP meeting on front page of the IEP does not imply agreement, it is for participation purposes only."]
[null,null,null,null,null,null,null,null,null,null,null,null,null,null,null,null,null,null,null,null,null,null,null,{"$f":"(X178+X180+X182+X198)/4","v":0},{"$f":"(Y178+Y180+Y182+Y198)/4","v":0}]
[null,null,null,null,null,null,null,"Identified on the meeting notice:",null,null,"Attended the meeting:",null,null,"Did not attend\nthe meeting:"]
[]
[{"$f":"HYPERLINK(\"http://sdlegislature.gov/Rules/DisplayRule.aspx?Rule=24:05:25:16\",\"(24:05:25:16)\")","v":"(24:05:25:16)"},null,null,null,null,null,null,"Parent/Guardian"]
[null,null,null,null,null,null,null,"Student"]
[null,null,null,null,null,null,null,"Gen. Ed. Teacher"]
[null,null,null,null,null,null,null,"Sp. Ed. Teacher"]
["Parent Participation",null,null,null,null,null,null,"Eval Interpreter"]
[{"$f":"HYPERLINK(\"http://sdlegislature.gov/Rules/DisplayRule.aspx?Rule=24:05:25:16\",\"(24:05:25:16)\")","v":"(24:05:25:16)"},null,null,null,null,null,null,"LEA Representative"]
[null,null,null,null,null,null,null,"List Others"]
[null,null,null,null,null,null,null,"List Others"]
[null,null,null,null,null,null,null,"List Others"]
[]
["IEP Team Attendance \n (24:05:27:01.05)",null,null,null,null,null,"A member of the IEP team may be excused from attending, in whole or in part, an IEP team meeting that involves a modification to or discussion of the member's area of the curriculum or related services, if:\n   (1) The parent and school district consent in writing to the excusal; and\n   (2) The member submits, in writing to the parent and the IEP team, input into the development of the IEP before the meeting.",null,null,null,null,null,null,null,null,null,null,null,"Select","V194",null,null,null,null,{"$f":"S197","v":"Select"},{"$f":"S197","v":"Select"}]
[null,null,null,null,null,null,null,null,null,null,null,null,null,null,null,null,null,null,null,null,null,null,null,{"$f":"Y198+Z198","v":0},{"$f":"COUNTIF(Y197,\"Yes\")*3","v":0},{"$f":"COUNTIF(Z197,\"No\")*3","v":0}]
[]
[]
[]
[]
[{"$f":"HYPERLINK(\"https://gosynth.com/p/s/jshfqs\",\"          Individual Education Plan (Use the most recent IEP.)\n\")","v":"          Individual Education Plan (Use the most recent IEP.)\n"},null,null,null,null,null,null,null,null,null,null,null,null,null,null,null,null,null,{"$f":"IFERROR(Y210/X210,\"N/A\")","v":"N/A"}]
[{"$f":"HYPERLINK(\"http://sdlegislature.gov/Rules/DisplayRule.aspx?Rule=24:05:25:04.03\",\"Evaluation Reports Given to Parents \n(24:05:25:04.03)\")","v":"Evaluation Reports Given to Parents \n(24:05:25:04.03)"},null,null,null,null,null,"Evidence the parent received a copy of the reports (e.g.  initials on the front page IEP or other evidence). ",null,null,null,null,null,null,null,null,null,null,null,"Select","V201",null,null,null,null,{"$f":"S204","v":"Select"},{"$f":"S204","v":"Select"}]
[null,null,null,null,null,null,null,null,null,null,null,null,null,null,null,null,null,null,null,null,null,null,null,{"$f":"Y205+Z205","v":0},{"$f":"COUNTIF(Y204,\"Yes\")*3","v":0},{"$f":"COUNTIF(Z204,\"No\")*3","v":0}]
[{"$f":"HYPERLINK(\"http://sdlegislature.gov/Rules/DisplayRule.aspx?Rule=24:05:25:19\",\"Copy of IEP Given to Parents \n(24:05:25:19)\")","v":"Copy of IEP Given to Parents \n(24:05:25:19)"},null,null,null,null,null,"Evidence copy of the IEP was given to parents (e.g.  initials on the front page, addressed in PPWN, or other evidence).",null,null,null,null,null,null,null,null,null,null,null,"Select",null,null,null,null,null,{"$f":"S206","v":"Select"},{"$f":"S206","v":"Select"}]
[null,null,null,null,null,null,null,null,null,null,null,null,null,null,null,null,null,null,null,null,null,null,null,{"$f":"Y207+Z207","v":0},{"$f":"COUNTIF(Y206,\"Yes\")*3","v":0},{"$f":"COUNTIF(Z206,\"No\")*3","v":0}]
[{"$f":"HYPERLINK(\"http://sdlegislature.gov/Rules/DisplayRule.aspx?Rule=24:05:27:08\",\"Met Annually\n(24:05:27:08)\")","v":"Met Annually\n(24:05:27:08)"},null,null,null,null,null,"Current IEP Meeting Date:",null,null,null,null,{"$f":"T5","v":"00:00:00"},null,null,null,null,null,null,"Select",null,null,null,null,null,{"$f":"S208","v":"Select"},{"$f":"S208","v":"Select"}]
[null,null,null,null,null,null,"Previous IEP Meeting Date:",null,null,null,null,{"$f":"T6","v":"00:00:00"},null,null,null,null,null,null,null,null,null,null,null,{"$f":"Y209+Z209","v":0},{"$f":"COUNTIF(Y208,\"Yes\")*3","v":0},{"$f":"COUNTIF(Z208,\"No\")*3","v":0}]
[null,null,null,null,null,null,null,null,null,null,null,null,null,null,null,null,null,null,null,null,null,null,null,{"$f":"(X205+X207+X209)/3","v":0},{"$f":"(Y205+Y207+Y209)/3","v":0}]
[{"$f":"HYPERLINK(\"https://gosynth.com/p/s/eypdgf\",\"Present Levels of Academic Achievement & Functional Performance\")","v":"Present Levels of Academic Achievement & Functional Performance"},null,null,null,null,null,null,null,null,null,null,null,null,null,null,null,null,null,{"$f":"IFERROR(Y243/X243,\"N/A\")","v":"N/A"}]
[{"$f":"HYPERLINK(\"http://sdlegislature.gov/Rules/DisplayRule.aspx?Rule=24:05:27:01.03\",\"Progress/Involvement in \nGeneral Education Curriculum\n(24:05:27:01.03)\")","v":"Progress/Involvement in \nGeneral Education Curriculum\n(24:05:27:01.03)"},null,null,null,null,null,"A statement of the student's present levels of academic achievement and functional performance, including:\n   (a)  How the student's disability affects the student's involvement and progress in the general education curriculum (i.e., the same curriculum as for nondisabled students); or\n   (b)  For preschool student, as appropriate, how the disability affects the student's participation in appropriate activities;\nis found in the document.",null,null,null,null,null,null,null,null,null,null,null,"Select","V209",null,null,null,null,{"$f":"S212","v":"Select"},{"$f":"S212","v":"Select"}]
[null,null,null,null,null,null,null,null,null,null,null,null,null,null,null,null,null,null,null,null,null,null,null,{"$f":"Y213+Z213","v":0},{"$f":"COUNTIF(Y212,\"Yes\")*3","v":0},{"$f":"COUNTIF(Z212,\"No\")*3","v":0}]
[]
[{"$f":"HYPERLINK(\"https://sdlegislature.gov/Rules/DisplayRule.aspx?Rule=24:05:25:16\",\"Parent Participation\n(24:05:25:16)\")","v":"Parent Participation\n(24:05:25:16)"},null,null,null,null,null,"The purpose of this area for parent to provide IEP team information about how the child’s disability is impacted at home. Parents can also provide input on types of strategies and supports they provide at home.",null,null,null,null,null,null,null,null,null,null,null,"Select",null,null,null,null,null,{"$f":"S215","v":"Select"},{"$f":"S215","v":"Select"}]
[null,null,null,null,null,null,null,null,null,null,null,null,null,null,null,null,null,null,null,null,null,null,null,{"$f":"Y216+Z216","v":0},{"$f":"COUNTIF(Y215,\"Yes\")*3","v":0},{"$f":"COUNTIF(Z215,\"No\")*3","v":0}]
[{"$f":"HYPERLINK(\"http://sdlegislature.gov/Rules/DisplayRule.aspx?Rule=24:05:27:01.03\",\"Present Levels of \nAcademic Achievement \n& Functional Performance\nLinked to Annual Goals\n(24:05:27:01.03)\")","v":"Present Levels of \nAcademic Achievement \n& Functional Performance\nLinked to Annual Goals\n(24:05:27:01.03)"},null,null,null,null,null,"Skill Area:",null,null,null,null,"Measuarable Goal:",null,null,null,null,null,null,"Select","V214",null,null,null,null,{"$f":"S217","v":"Select"},{"$f":"S217","v":"Select"}]
[null,null,null,null,null,null,null,null,null,null,null,null,null,null,null,null,null,null,null,null,null,null,null,{"$f":"Y218+Z218","v":0},{"$f":"COUNTIF(Y217,\"Yes\")*3","v":0},{"$f":"COUNTIF(Z217,\"No\")*3","v":0}]
[null,null,null,null,null,null,null,"Strengths",null,null,null,null,"Condition",null,null,"How well"]
[null,null,null,null,null,null,null,"Needs",null,null,null,null,"Performance",null,null,"How often"]
[null,null,null,null,null,null,null,"Link to evaluation"]
[]
[null,null,null,null,null,null,"Skill Area:",null,null,null,null,"Measuarable Goal:",null,null,null,null,null,null,"Select",null,null,null,null,null,{"$f":"S223","v":"Select"},{"$f":"S223","v":"Select"}]
[null,null,null,null,null,null,null,null,null,null,null,null,null,null,null,null,null,null,null,null,null,null,null,{"$f":"Y224+Z224","v":0},{"$f":"COUNTIF(Y223,\"Yes\")*3","v":0},{"$f":"COUNTIF(Z223,\"No\")*3","v":0}]
[null,null,null,null,null,null,null,"Strengths",null,null,null,null,"Condition",null,null,"How well"]
[null,null,null,null,null,null,null,"Needs",null,null,null,null,"Performance",null,null,"How often"]
[null,null,null,null,null,null,null,"Link to evaluation"]
[]
[null,null,null,null,null,null,"Skill Area:",null,null,null,null,"Measuarable Goal:",null,null,null,null,null,null,"Select",null,null,null,null,null,{"$f":"S229","v":"Select"},{"$f":"S229","v":"Select"}]
[null,null,null,null,null,null,null,null,null,null,null,null,null,null,null,null,null,null,null,null,null,null,null,{"$f":"Y230+Z230","v":0},{"$f":"COUNTIF(Y229,\"Yes\")*3","v":0},{"$f":"COUNTIF(Z229,\"No\")*3","v":0}]
[null,null,null,null,null,null,null,"Strengths",null,null,null,null,"Condition",null,null,"How well"]
[null,null,null,null,null,null,null,"Needs",null,null,null,null,"Performance",null,null,"How often"]
[null,null,null,null,null,null,null,"Link to evaluation"]
[]
[{"$f":"HYPERLINK(\"http://sdlegislature.gov/Rules/DisplayRule.aspx?Rule=24:05:27:01.03\",\"How Progress will be Measured\n(24:05:27:01.03)\")","v":"How Progress will be Measured\n(24:05:27:01.03)"},null,null,null,null,null,{"$f":"HYPERLINK(\"https://gosynth.com/p/s/psaxcx\",\"         Check the following:\")","v":"         Check the following:"},null,null,null,null,null,null,null,null,null,null,null,"Select","V232",null,null,null,null,{"$f":"S235","v":"Select"},{"$f":"S235","v":"Select"}]
[null,null,null,null,null,null,null,null,null,null,null,null,null,null,null,null,null,null,null,null,null,null,null,{"$f":"Y236+Z236","v":0},{"$f":"COUNTIF(Y235,\"Yes\")*3","v":0},{"$f":"COUNTIF(Z235,\"No\")*3","v":0}]
[null,null,null,null,null,null,null,"Reporting frequency",null,null,null,null,"Extent of progress"]
[null,null,null,null,null,null,null,"Reporting method"]
[]
[{"$f":"HYPERLINK(\"http://sdlegislature.gov/Rules/DisplayRule.aspx?Rule=24:05:27:01.03\",\"Accommodations/Modifications\n(24:05:27:01.03)\")","v":"Accommodations/Modifications\n(24:05:27:01.03)"},null,null,null,null,null,{"$f":"HYPERLINK(\"https://gosynth.com/p/s/rtpvrq\",\"         Check the following:\")","v":"         Check the following:"},null,null,null,null,"List Instructional Accommodations:",null,null,null,null,null,null,"Select","V237",null,null,null,null,{"$f":"S240","v":"Select"},{"$f":"S240","v":"Select"}]
[null,null,null,null,null,null,null,"Frequency",null,null,null,null,null,null,null,null,null,null,null,null,null,null,null,{"$f":"Y241+Z241","v":0},{"$f":"COUNTIF(Y240,\"Yes\")*3","v":0},{"$f":"COUNTIF(Z240,\"No\")*3","v":0}]
[null,null,null,null,null,null,null,"Duration"]
[null,null,null,null,null,null,null,"Location",null,null,null,null,null,null,null,null,null,null,null,null,null,null,null,{"$f":"(X241+X236+X230+X224+X218+X216+X213)/7","v":0},{"$f":"(Y241+Y236+Y230+Y224+Y218+Y216+Y213)/7","v":0}]
[]
[]
[null,null,null,null,null,null,null,"Are the accommodations appropriate for the skill areas affected by the diability?"]
[]
[]
[]
[null,null,null,null,null,null,null,null,"Yes"]
[null,null,null,null,null,null,null,null,"No"]
[]
[]
[]
[{"$f":"HYPERLINK(\"https://gosynth.com/p/s/ygpazf\",\"Special Factors\")","v":"Special Factors"},null,null,null,null,null,null,null,null,null,null,null,null,null,null,null,null,null,{"$f":"IFERROR(Y294/X294,\"N/A\")","v":"N/A"}]
[{"$f":"HYPERLINK(\"http://sdlegislature.gov/Rules/DisplayRule.aspx?Rule=24:05:27:01.02\",\"Considerations\n(24:05:27:01.02)\")","v":"Considerations\n(24:05:27:01.02)"},null,null,null,null,null,"Select for each:",null,null,"Determine if data supports the selection for each special factor; if not addressed, check \"N\"  for score.",null,null,null,null,null,null,null,null,"Select","V243",null,null,null,null,{"$f":"S256","v":"Select"},{"$f":"S256","v":"Select"}]
[null,null,null,null,null,null,null,null,null,null,null,null,null,null,null,null,null,null,null,null,null,null,null,{"$f":"Y257+Z257","v":0},{"$f":"COUNTIF(Y256,\"Yes\")*3","v":0},{"$f":"COUNTIF(Z256,\"No\")*3","v":0}]
[null,null,null,null,null,null,null,null,null,"Limited English proficient"]
[null,null,null,null,null,null,null,null,null,"Special communication needs"]
[null,null,null,null,null,null,null,null,null,"Requires Braille"]
[null,null,null,null,null,null,null,null,null,"Behavior impedes learning"]
[null,null,null,null,null,null,null,null,null,"Requires assistive technology & services"]
[null,null,null,null,null,null,null,null,null,"Physical education"]
[null,null,null,null,null,null,null,null,null,"Hearing aid maintenance"]
[{"$f":"HYPERLINK(\"http://sdlegislature.gov/Rules/DisplayRule.aspx?Rule=24:05:27:01.03\",\"State/District Assessments\n(24:05:27:01.03)\")","v":"State/District Assessments\n(24:05:27:01.03)"},null,null,null,null,null,{"$f":"HYPERLINK(\"https://gosynth.com/p/s/jdbbir\",\"             Students will be taking state and district-wide assessments:\")","v":"             Students will be taking state and district-wide assessments:"},null,null,null,null,null,null,null,null,null,null,null,"Select","V263",null,null,null,null,{"$f":"S265","v":"Select"},{"$f":"S265","v":"Select"}]
[null,null,null,null,null,null,null,"With accommodations",null,null,null,null,"Without accommodations",null,null,null,null,null,null,null,null,null,null,{"$f":"Y266+Z266","v":0},{"$f":"COUNTIF(Y265,\"Yes\")*3","v":0},{"$f":"COUNTIF(Z265,\"No\")*3","v":0}]
[null,null,null,null,null,null,"Testing accommodations must reflect instructional accommodations."]
[null,null,null,null,null,null,"Do the accommodations for the state/district assesment(s) \nmatch the instructional accommodations?"]
[]
[null,null,null,null,null,null,"Instructional \nAccommodations",null,null,null,"State/District\nAssessment\nAccommodations",null,null,null,"Select\nyes or no:"]
[]
[]
[null,null,null,null,null,null,{"$f":"L241","v":0},null,null,null,null,null,null,null,"- Select -"]
[null,null,null,null,null,null,0,null,null,null,null,null,null,null,"- Select -"]
[null,null,null,null,null,null,0,null,null,null,null,null,null,null,"- Select -"]
[null,null,null,null,null,null,0,null,null,null,null,null,null,null,"- Select -"]
[null,null,null,null,null,null,0]
[null,null,null,null,null,null,0,null,null,null,null,null,null,null,"- Select -"]
[null,null,null,null,null,null,0,null,null,null,null,null,null,null,"- Select -"]
[null,null,null,null,null,null,0]
[null,null,null,null,null,null,0]
[null,null,null,null,null,null,0,null,null,null,null,null,null,null,"- Select -"]
[null,null,null,null,null,null,0,null,null,null,null,null,null,null,"- Select -"]
[null,null,null,null,null,null,0,null,null,null,null,null,null,null,"- Select -"]
[null,null,null,null,null,null,0,null,null,null,null,null,null,null,"- Select -"]
[null,null,null,null,null,null,0,null,null,null,null,null,null,null,"- Select -"]
[null,null,null,null,null,null,"Were the accommodations for\n the state assessment identified \non the IEP provided according to \nthe assessment data sheet?"]
[null,null,null,null,null,null,null,null,null,null,null,null,null,"- Select -"]
[]
[{"$f":"HYPERLINK(\"http://sdlegislature.gov/Rules/DisplayRule.aspx?Rule=24:05:27:01.03\",\"Alternate Assessments\n(24:05:27:01.03)\")","v":"Alternate Assessments\n(24:05:27:01.03)"},null,null,null,null,null,{"$f":"HYPERLINK(\"https://gosynth.com/p/s/bjlejx\",\"                  The following must be met:\")","v":"                  The following must be met:"},null,null,null,null,null,null,null,null,null,null,null,"Select","V257",null,null,null,null,{"$f":"S290","v":"Select"},{"$f":"S290","v":"Select"}]
[null,null,null,null,null,null,null,null,null,null,null,null,null,null,null,null,null,null,null,null,null,null,null,{"$f":"Y291+Z291","v":0},{"$f":"COUNTIF(Y290,\"Yes\")*3","v":0},{"$f":"COUNTIF(Z290,\"No\")*3","v":0}]
[null,null,null,null,null,null,null,"Student meets the significant cognitive disability criteria"]
[null,null,null,null,null,null,null,"Explanation for why student cannot participate in the regular assessment"]
[null,null,null,null,null,null,null,null,null,null,null,null,null,null,null,null,null,null,null,null,null,null,null,{"$f":"(X291+X266+X257)/3","v":0},{"$f":"(Y291+Y266+Y257)/3","v":0}]
[null,null,null,null,null,null,null,"Explanation for why the alternate assessment selected is appropriate"]
[]
[null,null,null,null,null,null,null,"The alternate assessment is for students working in the alternate achievement standards.  Annual goals and short term objectives are required.                                                                         \n                                                                        "]
[]
[]
[null,null,null,null,null,null,"Does the PPWN explain why IEP team decided alternate assessment for the student?"]
[null,null,null,null,null,null,"Does the student taking the\n alternate assessment meet\n the criteria, has it been \ndocumented on the IEP?"]
[null,null,null,null,null,null,null,null,null,null,null,null,null,"- Select -"]
[]
[]
[{"$f":"HYPERLINK(\"https://gosynth.com/p/s/itwkve\",\"Transition\")","v":"Transition"},null,null,null,null,null,null,null,null,null,null,null,null,null,null,null,null,null,{"$f":"IFERROR(Y306/X306,\"N/A\")","v":"N/A"}]
["Indicator 13 Item 1",null,null,null,null,null,null,null,null,null,null,null,null,null,null,null,null,null,null,null,null,null,null,{"$f":"(X308+X310+X312+X314+X316+X319+X321+X323+X326+X329+X331+X333+X336+X338+X340+X343+X345+X347+X350+X356+X362+X364+X366+X369)/24","v":0},{"$f":"(Y308+Y310+Y312+Y314+Y316+Y319+Y321+Y323+Y326+Y329+Y331+Y333+Y336+Y338+Y340+Y343+Y345+Y347+Y350+Y356+Y362+Y364+Y366+Y369)/24","v":0}]
[{"$f":"HYPERLINK(\"http://sdlegislature.gov/Rules/DisplayRule.aspx?Rule=24:05:27:01.03\",\"Transition IEP*\n(24:05:27:01.03)\")","v":"Transition IEP*\n(24:05:27:01.03)"},null,null,null,null,null,{"$f":"HYPERLINK(\"https://gosynth.com/p/s/itwkve\",\"Transition IEP must be in effect for all students on their 16 birthday or for younger students if it is addressed in the IEP.   \n*This is not on the Indicator 13 checklist, but it is a compliance requirement. \")","v":"Transition IEP must be in effect for all students on their 16 birthday or for younger students if it is addressed in the IEP.   \n*This is not on the Indicator 13 checklist, but it is a compliance requirement. "},null,null,null,null,null,null,null,null,null,null,null,"Select","V269",null,null,null,null,{"$f":"S307","v":"Select"},{"$f":"S307","v":"Select"}]
[null,null,null,null,null,null,null,null,null,null,null,null,null,null,null,null,null,null,null,null,null,null,null,{"$f":"Y308+Z308","v":0},{"$f":"COUNTIF(Y307,\"Yes\")*3","v":0},{"$f":"COUNTIF(Z307,\"No\")*3","v":0}]
[null,null,null,null,null,null,null,null,null,null,null,null,null,null,null,null,null,null,"Select",null,null,null,null,null,{"$f":"S309","v":"Select"},{"$f":"S309","v":"Select"}]
[{"$f":"HYPERLINK(\"http://sdlegislature.gov/Rules/DisplayRule.aspx?Rule=24:05:27:01.03\",\"Transition Assessments\n(24:05:27:01.03)\")","v":"Transition Assessments\n(24:05:27:01.03)"},null,null,null,null,null,null,"Employment",null,null,null,null,null,null,null,null,null,null,null,null,null,null,null,{"$f":"Y310+Z310","v":0},{"$f":"COUNTIF(Y309,\"Yes\")*3","v":0},{"$f":"COUNTIF(Z309,\"No\")*3","v":0}]
[null,null,null,null,null,null,null,null,null,null,null,null,null,null,null,null,null,null,"Select",null,null,null,null,null,{"$f":"S311","v":"Select"},{"$f":"S311","v":"Select"}]
[null,null,null,null,null,null,null,"Education/Training",null,null,null,null,null,null,null,null,null,null,null,null,null,null,null,{"$f":"Y312+Z312","v":0},{"$f":"COUNTIF(Y311,\"Yes\")*3","v":0},{"$f":"COUNTIF(Z311,\"No\")*3","v":0}]
[null,null,null,null,null,null,null,"Independent Living",null,null,null,null,null,null,null,null,null,null,"Select",null,null,null,null,null,{"$f":"S313","v":"Select"},{"$f":"S313","v":"Select"}]
[null,null,null,null,null,null,{"$f":"HYPERLINK(\"https://gosynth.com/p/s/itwkve\",\"The transition assessment must be completed prior to the age of 16 and updated annually.  Evidence of transition strengths/ needs are document on the PLAAFPs.  \")","v":"The transition assessment must be completed prior to the age of 16 and updated annually.  Evidence of transition strengths/ needs are document on the PLAAFPs.  "},null,null,null,null,null,null,null,null,null,null,null,null,null,null,null,null,{"$f":"Y314+Z314","v":0},{"$f":"COUNTIF(Y313,\"Yes\")*3","v":0},{"$f":"COUNTIF(Z313,\"No\")*3","v":0}]
["Transition Evaluation Report*\n",null,null,null,null,null,{"$f":"HYPERLINK(\"https://gosynth.com/p/s/itwkve\",\"A transition evaluation report is located in the file.\n\n*This is not on the Indicator 13 checklist, but it is a compliance requirement. \")","v":"A transition evaluation report is located in the file.\n\n*This is not on the Indicator 13 checklist, but it is a compliance requirement. "},null,null,null,null,null,null,null,null,null,null,null,"Select",null,null,null,null,null,{"$f":"S315","v":"Select"},{"$f":"S315","v":"Select"}]
[null,null,null,null,null,null,null,null,null,null,null,null,null,null,null,null,null,null,null,null,null,null,null,{"$f":"Y316+Z316","v":0},{"$f":"COUNTIF(Y315,\"Yes\")*3","v":0},{"$f":"COUNTIF(Z315,\"No\")*3","v":0}]
[{"$f":"HYPERLINK(\"https://gosynth.com/p/s/itwkve\",\"Indicator 13 Item 2\")","v":"Indicator 13 Item 2"}]
[{"$f":"HYPERLINK(\"http://sdlegislature.gov/Rules/DisplayRule.aspx?Rule=24:05:27:01.03\",\"Age-Appropriate Measurable \nPost-Secondary Goals \n(24:05:27:01.03)\")","v":"Age-Appropriate Measurable \nPost-Secondary Goals \n(24:05:27:01.03)"},null,null,null,null,null,null,"Employment",null,null,null,null,null,null,null,null,null,null,"Select","V278",null,null,null,null,{"$f":"S318","v":"Select"},{"$f":"S318","v":"Select"}]
[null,null,null,null,null,null,null,null,null,null,null,null,null,null,null,null,null,null,null,null,null,null,null,{"$f":"Y319+Z319","v":0},{"$f":"COUNTIF(Y318,\"Yes\")*3","v":0},{"$f":"COUNTIF(Z318,\"No\")*3","v":0}]
[null,null,null,null,null,null,null,"Education/Training",null,null,null,null,null,null,null,null,null,null,"Select",null,null,null,null,null,{"$f":"S320","v":"Select"},{"$f":"S320","v":"Select"}]
[null,null,null,null,null,null,null,null,null,null,null,null,null,null,null,null,null,null,null,null,null,null,null,{"$f":"Y321+Z321","v":0},{"$f":"COUNTIF(Y320,\"Yes\")*3","v":0},{"$f":"COUNTIF(Z320,\"No\")*3","v":0}]
[null,null,null,null,null,null,null,"Independent Living",null,null,null,null,null,null,null,null,null,null,"Select",null,null,null,null,null,{"$f":"S322","v":"Select"},{"$f":"S322","v":"Select"}]
[null,null,null,null,null,null,null,null,null,null,null,null,null,null,null,null,null,null,null,null,null,null,null,{"$f":"Y323+Z323","v":0},{"$f":"COUNTIF(Y322,\"Yes\")*3","v":0},{"$f":"COUNTIF(Z322,\"No\")*3","v":0}]
[{"$f":"HYPERLINK(\"https://gosynth.com/p/s/itwkve\",\"Indicator 13 Item 3\")","v":"Indicator 13 Item 3"}]
["MPSGs Updated Annually",null,null,null,null,null,null,null,null,null,null,null,null,null,null,null,null,null,"Select","V282",null,null,null,null,{"$f":"S325","v":"Select"},{"$f":"S325","v":"Select"}]
[null,null,null,null,null,null,null,null,null,null,null,null,null,null,null,null,null,null,null,null,null,null,null,{"$f":"Y326+Z326","v":0},{"$f":"COUNTIF(Y325,\"Yes\")*3","v":0},{"$f":"COUNTIF(Z325,\"No\")*3","v":0}]
["Indicator 13 Item 4"]
[{"$f":"HYPERLINK(\"http://sdlegislature.gov/Rules/DisplayRule.aspx?Rule=24:05:27:01.03\",\"Course of Study Aligns to \nPost-Secondary Goals\n(24:05:27:01.03)\")","v":"Course of Study Aligns to \nPost-Secondary Goals\n(24:05:27:01.03)"},null,null,null,null,null,null,"Employment",null,null,null,null,null,null,null,null,null,null,"Select","V285",null,null,null,null,{"$f":"S328","v":"Select"},{"$f":"S328","v":"Select"}]
[null,null,null,null,null,null,null,null,null,null,null,null,null,null,null,null,null,null,null,null,null,null,null,{"$f":"Y329+Z329","v":0},{"$f":"COUNTIF(Y328,\"Yes\")*3","v":0},{"$f":"COUNTIF(Z328,\"No\")*3","v":0}]
[null,null,null,null,null,null,null,"Education/Training",null,null,null,null,null,null,null,null,null,null,"Select",null,null,null,null,null,{"$f":"S330","v":"Select"},{"$f":"S330","v":"Select"}]
[null,null,null,null,null,null,null,null,null,null,null,null,null,null,null,null,null,null,null,null,null,null,null,{"$f":"Y331+Z331","v":0},{"$f":"COUNTIF(Y330,\"Yes\")*3","v":0},{"$f":"COUNTIF(Z330,\"No\")*3","v":0}]
[null,null,null,null,null,null,null,"Independent Living",null,null,null,null,null,null,null,null,null,null,"Select",null,null,null,null,null,{"$f":"S332","v":"Select"},{"$f":"S332","v":"Select"}]
[null,null,null,null,null,null,"Completed by age 16, or younger if transition has been addressed in the IEP, and updated annually through graduation or ‘age out’.",null,null,null,null,null,null,null,null,null,null,null,null,null,null,null,null,{"$f":"Y333+Z333","v":0},{"$f":"COUNTIF(Y332,\"Yes\")*3","v":0},{"$f":"COUNTIF(Z332,\"No\")*3","v":0}]
[{"$f":"HYPERLINK(\"https://gosynth.com/p/s/itwkve\",\"Indicator 13 Item 5\")","v":"Indicator 13 Item 5"}]
[{"$f":"HYPERLINK(\"http://sdlegislature.gov/Rules/DisplayRule.aspx?Rule=24:05:27:13.02\",\"Transition Services/Activities\n(24:05:27:13.02)\")","v":"Transition Services/Activities\n(24:05:27:13.02)"},null,null,null,null,null,null,"Employment",null,null,null,null,null,null,null,null,null,null,"Select","V290",null,null,null,null,{"$f":"S335","v":"Select"},{"$f":"S335","v":"Select"}]
[null,null,null,null,null,null,null,null,null,null,null,null,null,null,null,null,null,null,null,null,null,null,null,{"$f":"Y336+Z336","v":0},{"$f":"COUNTIF(Y335,\"Yes\")*3","v":0},{"$f":"COUNTIF(Z335,\"No\")*3","v":0}]
[null,null,null,null,null,null,null,"Education/Training",null,null,null,null,null,null,null,null,null,null,"Select",null,null,null,null,null,{"$f":"S337","v":"Select"},{"$f":"S337","v":"Select"}]
[null,null,null,null,null,null,null,null,null,null,null,null,null,null,null,null,null,null,null,null,null,null,null,{"$f":"Y338+Z338","v":0},{"$f":"COUNTIF(Y337,\"Yes\")*3","v":0},{"$f":"COUNTIF(Z337,\"No\")*3","v":0}]
[null,null,null,null,null,null,null,"Independent Living",null,null,null,null,null,null,null,null,null,null,"Select",null,null,null,null,null,{"$f":"S339","v":"Select"},{"$f":"S339","v":"Select"}]
[null,null,null,null,null,null,"Services/activities will reasonably enable the student to meet post-secondary goals and have at least one activity per MPSG addressed.",null,null,null,null,null,null,null,null,null,null,null,null,null,null,null,null,{"$f":"Y340+Z340","v":0},{"$f":"COUNTIF(Y339,\"Yes\")*3","v":0},{"$f":"COUNTIF(Z339,\"No\")*3","v":0}]
[{"$f":"HYPERLINK(\"https://gosynth.com/p/s/itwkve\",\"Indicator 13 Item 6\")","v":"Indicator 13 Item 6"}]
[{"$f":"HYPERLINK(\"http://sdlegislature.gov/Rules/DisplayRule.aspx?Rule=24:05:27:13.02\",\"Annual Goal Related to Student’s Transition Service needs in\n(24:05:27:13.02)\")","v":"Annual Goal Related to Student’s Transition Service needs in\n(24:05:27:13.02)"},null,null,null,null,null,null,"Employment",null,null,null,null,null,null,null,null,null,null,"Select","V295",null,null,null,null,{"$f":"S342","v":"Select"},{"$f":"S342","v":"Select"}]
[null,null,null,null,null,null,null,null,null,null,null,null,null,null,null,null,null,null,null,null,null,null,null,{"$f":"Y343+Z343","v":0},{"$f":"COUNTIF(Y342,\"Yes\")*3","v":0},{"$f":"COUNTIF(Z342,\"No\")*3","v":0}]
[null,null,null,null,null,null,null,"Education/Training",null,null,null,null,null,null,null,null,null,null,"Select",null,null,null,null,null,{"$f":"S344","v":"Select"},{"$f":"S344","v":"Select"}]
[null,null,null,null,null,null,null,null,null,null,null,null,null,null,null,null,null,null,null,null,null,null,null,{"$f":"Y345+Z345","v":0},{"$f":"COUNTIF(Y344,\"Yes\")*3","v":0},{"$f":"COUNTIF(Z344,\"No\")*3","v":0}]
[null,null,null,null,null,null,null,"Independent Living",null,null,null,null,null,null,null,null,null,null,"Select",null,null,null,null,null,{"$f":"S346","v":"Select"},{"$f":"S346","v":"Select"}]
[null,null,null,null,null,null,{"$f":"HYPERLINK(\"https://gosynth.com/p/s/itwkve\",\"Annual goals are linked to the MPSGs.\")","v":"Annual goals are linked to the MPSGs."},null,null,null,null,null,null,null,null,null,null,null,null,null,null,null,null,{"$f":"Y347+Z347","v":0},{"$f":"COUNTIF(Y346,\"Yes\")*3","v":0},{"$f":"COUNTIF(Z346,\"No\")*3","v":0}]
[{"$f":"HYPERLINK(\"https://gosynth.com/p/s/pisllo\",\"Indicator 13 Item 7\")","v":"Indicator 13 Item 7"}]
[{"$f":"HYPERLINK(\"http://sdlegislature.gov/Rules/DisplayRule.aspx?Rule=24:05:25:16.01\",\"Student Invitation/Participation\n(24:05:25:16.01)\")","v":"Student Invitation/Participation\n(24:05:25:16.01)"},null,null,null,null,null,"How the student invited?",null,null,null,null,{"$f":"HYPERLINK(\"https://gosynth.com/p/s/pisllo\",\"If student was not in attendance at the meeting, the IEP should show evidence that student's preferences and interests were taken into account. *\")","v":"If student was not in attendance at the meeting, the IEP should show evidence that student's preferences and interests were taken into account. *"},null,null,null,null,null,null,"Select","V300",null,null,null,null,{"$f":"S349","v":"Select"},{"$f":"S349","v":"Select"}]
[null,null,null,null,null,null,null,null,null,null,null,null,null,null,null,null,null,null,null,null,null,null,null,{"$f":"Y350+Z350","v":0},{"$f":"COUNTIF(Y349,\"Yes\")*3","v":0},{"$f":"COUNTIF(Z349,\"No\")*3","v":0}]
[null,null,null,null,null,null,null,"Meeting notice"]
[null,null,null,null,null,null,null,"Individual student invite"]
[]
[{"$f":"HYPERLINK(\"https://gosynth.com/p/s/pisllo\",\"Indicator 13 Item 8\")","v":"Indicator 13 Item 8"}]
[{"$f":"HYPERLINK(\"http://sdlegislature.gov/Rules/DisplayRule.aspx?Rule=24:05:25:16.01\",\"Consent to Invite Outside Agency\n(24:05:25:16.01)\")","v":"Consent to Invite Outside Agency\n(24:05:25:16.01)"},null,null,null,null,null,{"$f":"HYPERLINK(\"https://gosynth.com/p/s/pisllo\",\" Written Consent to invite:\")","v":" Written Consent to invite:"},null,null,null,null,null,null,"List of agencies invited:",null,null,null,null,"Select","V306",null,null,null,null,{"$f":"S355","v":"Select"},{"$f":"S355","v":"Select"}]
[null,null,null,null,null,null,"Invited on Meeting Notice:",null,null,null,null,null,"Yes",null,null,null,null,null,null,null,null,null,null,{"$f":"Y356+Z356","v":0},{"$f":"COUNTIF(Y355,\"Yes\")*3","v":0},{"$f":"COUNTIF(Z355,\"No\")*3","v":0}]
[null,null,null,null,null,null,null,null,null,null,null,null,"No"]
[null,null,null,null,null,null,"Meeting Notice Date:",null,null,null,null,{"$f":"J177","v":"00:00:00"}]
[null,null,null,null,null,null,"Date of Current IEP Meeting:",null,null,null,null,{"$f":"T5","v":"00:00:00"}]
[{"$f":"HYPERLINK(\"https://gosynth.com/p/s/pisllo\",\"Other Transition Areas *\")","v":"Other Transition Areas *"}]
[{"$f":"HYPERLINK(\"http://sdlegislature.gov/Rules/DisplayRule.aspx?Rule=24:05:30:16.01\",\"Transfer of Parental Rights:\n(24:05:30:16.01)\")","v":"Transfer of Parental Rights:\n(24:05:30:16.01)"},null,null,null,null,null,"Turned 17 on:",null,null,null,null,null,null,null,null,null,null,null,"Select","V312",null,null,null,null,{"$f":"S361","v":"Select"},{"$f":"S361","v":"Select"}]
[null,null,null,null,null,null,"Rights reviewed on:",null,null,null,null,null,null,null,null,null,null,null,null,null,null,null,null,{"$f":"Y362+Z362","v":0},{"$f":"COUNTIF(Y361,\"Yes\")*3","v":0},{"$f":"COUNTIF(Z361,\"No\")*3","v":0}]
[{"$f":"HYPERLINK(\"http://sdlegislature.gov/Rules/DisplayRule.aspx?Rule=24:05:27:12\",\"Specific Graduation Requirements:\n(24:05:27:12)\")","v":"Specific Graduation Requirements:\n(24:05:27:12)"},null,null,null,null,null,"Graduation requirements addressed on:",null,null,null,null,null,null,null,null,null,null,null,"Select",null,null,null,null,null,{"$f":"S363","v":"Select"},{"$f":"S363","v":"Select"}]
[null,null,null,null,null,null,"Student is projected to graduate:",null,null,null,null,null,null,null,null,null,null,null,null,null,null,null,null,{"$f":"Y364+Z364","v":0},{"$f":"COUNTIF(Y363,\"Yes\")*3","v":0},{"$f":"COUNTIF(Z363,\"No\")*3","v":0}]
[{"$f":"HYPERLINK(\"http://sdlegislature.gov/Rules/DisplayRule.aspx?Rule=24:05:27:12\",\"When Student has Graduated\n(24:05:27:12)\")","v":"When Student has Graduated\n(24:05:27:12)"},null,null,null,null,null,"Written prior notice was sent:",null,null,null,null,null,null,null,null,null,null,null,"Select",null,null,null,null,null,{"$f":"S365","v":"Select"},{"$f":"S365","v":"Select"}]
[null,null,null,null,null,null,{"$f":"HYPERLINK(\"https://gosynth.com/p/s/pisllo\",\"When a student graduates, it is a change in placement. It must have a written\n prior notice sent.  If student has \"\"aged-out\"\", a PPWN is required.  \")","v":"When a student graduates, it is a change in placement. It must have a written\n prior notice sent.  If student has \"aged-out\", a PPWN is required.  "},null,null,null,null,null,null,null,null,null,null,null,null,null,null,null,null,{"$f":"Y366+Z366","v":0},{"$f":"COUNTIF(Y365,\"Yes\")*3","v":0},{"$f":"COUNTIF(Z365,\"No\")*3","v":0}]
[]
[{"$f":"HYPERLINK(\"http://sdlegislature.gov/Rules/DisplayRule.aspx?Rule=24:05:27:12\",\"Summary of Performance was provided to the Student/Parent/Guardian\n(24:05:27:12)\")","v":"Summary of Performance was provided to the Student/Parent/Guardian\n(24:05:27:12)"},null,null,null,null,null,{"$f":"HYPERLINK(\"https://gosynth.com/p/s/pisllo\",\"Summary of Performance (SOP) is required for students who graduated and\n aged out. A copy of the SOP should remain in the file.\")","v":"Summary of Performance (SOP) is required for students who graduated and\n aged out. A copy of the SOP should remain in the file."},null,null,null,null,null,null,null,null,null,null,null,"Select",null,null,null,null,null,{"$f":"S368","v":"Select"},{"$f":"S368","v":"Select"}]
[null,null,null,null,null,null,null,null,null,null,null,null,null,null,null,null,null,null,null,null,null,null,null,{"$f":"Y369+Z369","v":0},{"$f":"COUNTIF(Y368,\"Yes\")*3","v":0},{"$f":"COUNTIF(Z368,\"No\")*3","v":0}]
[]
["Click on the [+] button to expand or the [-] button to collapse."]
[{"$f":"HYPERLINK(\"https://gosynth.com/p/s/kldkzb\",\"Related Services\")","v":"Related Services"},null,null,null,null,null,null,null,null,null,null,null,null,null,null,null,null,null,{"$f":"IFERROR(Y375/X375,\"N/A\")","v":"N/A"}]
[{"$f":"HYPERLINK(\"http://sdlegislature.gov/Rules/DisplayRule.aspx?Rule=24:05:27:16\",\"Related Services\n(24:05:27)\")","v":"Related Services\n(24:05:27)"},null,null,null,null,null,"Service Provided:",null,null,null,null,null,"If student will receive services in a different location, then must break it out to calculate the Least Restrictive Environment.",null,null,null,null,null,"Select","V324",null,null,null,null,{"$f":"S373","v":"Select"},{"$f":"S373","v":"Select"}]
[null,null,null,null,null,null,null,null,null,null,null,null,null,null,null,null,null,null,null,null,null,null,null,{"$f":"Y374+Z374","v":0},{"$f":"COUNTIF(Y373,\"Yes\")*3","v":0},{"$f":"COUNTIF(Z373,\"No\")*3","v":0}]
[null,null,null,null,null,null,null,"Frequency",null,null,"Location",null,null,null,null,null,null,null,null,null,null,null,null,{"$f":"(X374+X379)/2","v":0},{"$f":"(Y374+Y379)/2","v":0}]
[null,null,null,null,null,null,null,"Duration",null,null,"Other"]
[null,null,null,null,null,null,"Service Provided:",null,null,null,null,null,"At a minimum, all areas student qualifies and has an annual goal must have service time documented. If not addressed, then PPWN must explain reason."]
[null,null,null,null,null,null,null,null,null,null,null,null,null,null,null,null,null,null,"Select",null,null,null,null,null,{"$f":"S378","v":"Select"},{"$f":"S378","v":"Select"}]
[null,null,null,null,null,null,null,"Frequency",null,null,"Location",null,null,null,null,null,null,null,null,null,null,null,null,{"$f":"Y379+Z379","v":0},{"$f":"COUNTIF(Y378,\"Yes\")*3","v":0},{"$f":"COUNTIF(Z378,\"No\")*3","v":0}]
[null,null,null,null,null,null,null,"Duration",null,null,"Other"]
[]
["Least Restrictive Environment ",null,null,null,null,null,null,null,null,null,null,null,null,null,null,null,null,null,{"$f":"IFERROR(Y382/X382,\"N/A\")","v":"N/A"},null,null,null,null,{"$f":"(X384+X388+X392+X396+X400+X402+X404+X406+X408)/9","v":0},{"$f":"(Y384+Y388+Y392+Y396+Y400+Y402+Y404+Y406+Y408)/9","v":0}]
[{"$f":"HYPERLINK(\"https://sdlegislature.gov/Rules/DisplayRule.aspx?Rule=24:05:28\",\"Least Restrictive Enviornment \n(Chapter 24:05:28)\")","v":"Least Restrictive Enviornment \n(Chapter 24:05:28)"},null,null,null,null,null,{"$f":"HYPERLINK(\"https://gosynth.com/p/s/llxjsq\",\"Skill area:\")","v":"Skill area:"},null,null,null,null,null,null,null,null,null,null,null,"Select","V334",null,null,null,null,{"$f":"S383","v":"Select"},{"$f":"S383","v":"Select"}]
[null,null,null,null,null,null,null,null,null,null,null,null,null,null,null,null,null,null,null,null,null,null,null,{"$f":"Y384+Z384","v":0},{"$f":"COUNTIF(Y383,\"Yes\")*3","v":0},{"$f":"COUNTIF(Z383,\"No\")*3","v":0}]
[null,null,null,null,null,null,null,null,"Frequency",null,null,"Duration",null,null,"Location"]
[]
[null,null,null,null,null,null,"Skill area:",null,null,null,null,null,null,null,null,null,null,null,"Select",null,null,null,null,null,{"$f":"S387","v":"Select"},{"$f":"S387","v":"Select"}]
[null,null,null,null,null,null,null,null,null,null,null,null,null,null,null,null,null,null,null,null,null,null,null,{"$f":"Y388+Z388","v":0},{"$f":"COUNTIF(Y387,\"Yes\")*3","v":0},{"$f":"COUNTIF(Z387,\"No\")*3","v":0}]
[null,null,null,null,null,null,null,null,"Frequency",null,null,"Duration",null,null,"Location"]
[]
[null,null,null,null,null,null,"Skill area:",null,null,null,null,null,null,null,null,null,null,null,"Select",null,null,null,null,null,{"$f":"S391","v":"Select"},{"$f":"S391","v":"Select"}]
[null,null,null,null,null,null,null,null,null,null,null,null,null,null,null,null,null,null,null,null,null,null,null,{"$f":"Y392+Z392","v":0},{"$f":"COUNTIF(Y391,\"Yes\")*3","v":0},{"$f":"COUNTIF(Z391,\"No\")*3","v":0}]
[null,null,null,null,null,null,null,null,"Frequency",null,null,"Duration",null,null,"Location"]
[]
[null,null,null,null,null,null,"Skill area:",null,null,null,null,null,null,null,null,null,null,null,"Select",null,null,null,null,null,{"$f":"S395","v":"Select"},{"$f":"S395","v":"Select"}]
[null,null,null,null,null,null,null,null,null,null,null,null,null,null,null,null,null,null,null,null,null,null,null,{"$f":"Y396+Z396","v":0},{"$f":"COUNTIF(Y395,\"Yes\")*3","v":0},{"$f":"COUNTIF(Z395,\"No\")*3","v":0}]
[null,null,null,null,null,null,null,null,"Frequency",null,null,"Duration",null,null,"Location"]
[]
[{"$f":"HYPERLINK(\"http://sdlegislature.gov/Rules/DisplayRule.aspx?Rule=24:05:28:02\",\"Continuum of Placement\n(24:05:28:02)\")","v":"Continuum of Placement\n(24:05:28:02)"},null,null,null,null,null,"Select:",null,null,null,null,null,null,null,null,null,null,null,"Select","V350",null,null,null,null,{"$f":"S399","v":"Select"},{"$f":"S399","v":"Select"}]
[null,null,null,null,null,null,null,null,null,null,null,null,null,null,null,null,null,null,null,null,null,null,null,{"$f":"Y400+Z400","v":0},{"$f":"COUNTIF(Y399,\"Yes\")*3","v":0},{"$f":"COUNTIF(Z399,\"No\")*3","v":0}]
[null,null,null,null,null,null,"Select for Early Childhood (Ages 3-5):",null,null,null,null,null,null,null,null,null,null,null,"Select",null,null,null,null,null,{"$f":"S401","v":"Select"},{"$f":"S401","v":"Select"}]
[null,null,null,null,null,null,null,null,null,null,null,null,null,null,null,null,null,null,null,null,null,null,null,{"$f":"Y402+Z402","v":0},{"$f":"COUNTIF(Y401,\"Yes\")*3","v":0},{"$f":"COUNTIF(Z401,\"No\")*3","v":0}]
[{"$f":"HYPERLINK(\"http://sdlegislature.gov/Rules/DisplayRule.aspx?Rule=24:05:27:01.03\",\"Participation with Non-disabled Peers\n(24:05:27:01.03)\")","v":"Participation with Non-disabled Peers\n(24:05:27:01.03)"},null,null,null,null,null,{"$f":"HYPERLINK(\"https://gosynth.com/p/s/wjqcuh\",\"Document opportunities to participate with non-disabled peers.\")","v":"Document opportunities to participate with non-disabled peers."},null,null,null,null,null,null,null,null,null,null,null,"Select",null,null,null,null,null,{"$f":"S403","v":"Select"},{"$f":"S403","v":"Select"}]
[null,null,null,null,null,null,null,null,null,null,null,null,null,null,null,null,null,null,null,null,null,null,null,{"$f":"Y404+Z404","v":0},{"$f":"COUNTIF(Y403,\"Yes\")*3","v":0},{"$f":"COUNTIF(Z403,\"No\")*3","v":0}]
[{"$f":"HYPERLINK(\"http://sdlegislature.gov/Rules/DisplayRule.aspx?Rule=24:05:28:03\",\"Justification for Placement \n(24:05:28:03)\")","v":"Justification for Placement \n(24:05:28:03)"},null,null,null,null,null,{"$f":"HYPERLINK(\"https://gosynth.com/p/s/rjxcoc\",\"                  Select from the following:\")","v":"                  Select from the following:"},null,null,null,null,null,null,null,null,null,null,null,"Select",null,null,null,null,null,{"$f":"S405","v":"Select"},{"$f":"S405","v":"Select"}]
[null,null,null,null,null,null,null,null,null,null,null,null,null,null,null,null,null,null,null,null,null,null,null,{"$f":"Y406+Z406","v":0},{"$f":"COUNTIF(Y405,\"Yes\")*3","v":0},{"$f":"COUNTIF(Z405,\"No\")*3","v":0}]
[{"$f":"HYPERLINK(\"http://sdlegislature.gov/Rules/DisplayRule.aspx?Rule=24:05:25:26\",\"Extended School Year\n(24:05:25:26)\")","v":"Extended School Year\n(24:05:25:26)"},null,null,null,null,null,{"$f":"HYPERLINK(\"https://gosynth.com/p/s/bbepxx\",\"                  Check the following:\")","v":"                  Check the following:"},null,null,null,null,null,null,null,null,null,null,null,"Select","V358",null,null,null,null,{"$f":"S407","v":"Select"},{"$f":"S407","v":"Select"}]
[null,null,null,null,null,null,null,null,null,null,null,null,null,null,null,null,null,null,null,null,null,null,null,{"$f":"Y408+Z408","v":0},{"$f":"COUNTIF(Y407,\"Yes\")*3","v":0},{"$f":"COUNTIF(Z407,\"No\")*3","v":0}]
[null,null,null,null,null,null,null,null,"Determination",null,null,null,"Beginning/end dates"]
[null,null,null,null,null,null,null,null,"Goals",null,null,null,"Amount of service"]
[]
[]
[]
[{"$f":"HYPERLINK(\"https://gosynth.com/p/s/acbbuk\",\"Prior Parental Written Notice\")","v":"Prior Parental Written Notice"},null,null,null,null,null,null,null,null,null,null,null,null,null,null,null,null,null,{"$f":"IFERROR(Y414/X414,\"N/A\")","v":"N/A"},null,null,null,null,{"$f":"(X416+X421)/2","v":0},{"$f":"(Y416+Y421)/2","v":0}]
[{"$f":"HYPERLINK(\"http://sdlegislature.gov/Rules/DisplayRule.aspx?Rule=24:05:30:04\",\"Prior Written Notice Sent to Parent Regarding IEP Implementation\n(24:05:30:04)\")","v":"Prior Written Notice Sent to Parent Regarding IEP Implementation\n(24:05:30:04)"},null,null,null,null,null,"Date the district sent the PPWN:",null,null,null,null,null,null,null,"The implementation date documented on the PPWN must be reflected on IEP.\n\nThe five-day notice requirement may be waived by the parents.",null,null,null,"Select","V366",null,null,null,null,{"$f":"S415","v":"Select"},{"$f":"S415","v":"Select"}]
[null,null,null,null,null,null,"District proposed at least 5 calendar days to begin implementation:",null,null,null,null,null,{"$f":"M415+5","v":"1900-01-05"},null,null,null,null,null,null,null,null,null,null,{"$f":"Y416+Z416","v":0},{"$f":"COUNTIF(Y415,\"Yes\")*3","v":0},{"$f":"COUNTIF(Z415,\"No\")*3","v":0}]
[]
[null,null,null,null,null,null,"Was the 5 calendar day notice requirement met?",null,null,null,null,null,null,"Yes"]
[null,null,null,null,null,null,null,null,null,null,null,null,null,"No"]
[{"$f":"HYPERLINK(\"http://sdlegislature.gov/Rules/DisplayRule.aspx?Rule=24:05:30:05\",\"Content of PPWN\n(24:05:30:05)\")","v":"Content of PPWN\n(24:05:30:05)"},null,null,null,null,null,"Check the following:",null,null,null,null,null,null,null,null,null,null,null,"Select","V371",null,null,null,null,{"$f":"S420","v":"Select"},{"$f":"S420","v":"Select"}]
[null,null,null,null,null,null,"PPWN must be individualized to the student, IEP team discussions and situation.",null,null,null,null,null,null,null,null,null,null,null,null,null,null,null,null,{"$f":"Y421+Z421","v":0},{"$f":"COUNTIF(Y420,\"Yes\")*3","v":0},{"$f":"COUNTIF(Z420,\"No\")*3","v":0}]
[]
[null,null,null,null,null,null,null,"Explanation of why the district proposed or refused to take the action"]
[null,null,null,null,null,null,null,"Description of other options considered and why they were rejected "]
[null,null,null,null,null,null,null,"Description of evidence used for the proposed or refused action"]
[null,null,null,null,null,null,null,"Description of other factors that are relevant to proposal or refusal"]
[]
[null,null,null,null,null,null,"To skip back to Eligibility section click ",null,null,null,null,"HERE."]
[]
[{"$f":"HYPERLINK(\"https://gosynth.com/p/s/iwvzyu\",\"Amendment to IEP\")","v":"Amendment to IEP"},null,null,null,null,null,null,null,null,null,null,null,null,null,null,null,null,null,{"$f":"IFERROR(Z430/Y430,\"N/A\")","v":"N/A"},null,null,null,null,null,{"$f":"(X432+X434)/2","v":0},{"$f":"(Y432+Y434)/2","v":0}]
["Amendment to IEP",null,null,null,null,null,null,null,null,null,null,null,null,null,null,null,null,null,"Select","V381",null,null,null,null,{"$f":"S431","v":"Select"},{"$f":"S431","v":"Select"}]
[{"$f":"HYPERLINK(\"http://sdlegislature.gov/Rules/DisplayRule.aspx?Rule=24:05:27:08.01\",\"(24:05:27:08.01)\")","v":"(24:05:27:08.01)"},null,null,{"$f":"HYPERLINK(\"http://sdlegislature.gov/Rules/DisplayRule.aspx?Rule=24:05:27:08.02\",\"(24:05:27:08.02)\")","v":"(24:05:27:08.02)"},null,null,null,null,null,null,null,null,null,null,null,null,null,null,null,null,null,null,null,{"$f":"Y432+Z432","v":0},{"$f":"COUNTIF(Y431,\"Yes\")*3","v":0},{"$f":"COUNTIF(Z431,\"No\")*3","v":0}]
[{"$f":"HYPERLINK(\"http://sdlegislature.gov/Rules/DisplayRule.aspx?Rule=24:05:30:04\",\"Prior Notice\n(24:05:30:04)\")","v":"Prior Notice\n(24:05:30:04)"},null,null,null,null,null,"Document if the amendment was made with or without a meeting.",null,null,null,null,null,null,null,null,null,null,null,"Select",null,null,null,null,null,{"$f":"S433","v":"Select"},{"$f":"S433","v":"Select"}]
[null,null,null,null,null,null,null,null,null,null,null,null,null,null,null,null,null,null,null,null,null,null,null,{"$f":"Y434+Z434","v":0},{"$f":"COUNTIF(Y433,\"Yes\")*3","v":0},{"$f":"COUNTIF(Z433,\"No\")*3","v":0}]
[]
[{"$f":"HYPERLINK(\"https://gosynth.com/p/s/jdtswp\",\"Additional Items\")","v":"Additional Items"},null,null,null,null,null,null,null,null,null,null,null,null,null,null,null,null,null,{"$f":"IFERROR(AB436/AA436,\"N/A\")","v":"N/A"},null,null,null,null,null,{"$f":"S437","v":"Select"},{"$f":"S437","v":"Select"},{"$f":"(X437+X439+X441+X443)/4","v":0},{"$f":"(Y437+Y439+Y441+Y443)/4","v":0}]
["Parent Declined/\nWithdrew Consent for Services ",null,null,null,null,null,"Revocation signed:",null,null,null,null,null,null,{"$f":"HYPERLINK(\"http://sdlegislature.gov/Rules/DisplayRule.aspx?Rule=24:05:27:04.02\",\"(24:05:27:04.02)\")","v":"(24:05:27:04.02)"},null,null,null,null,"Select","V387",null,null,null,{"$f":"Y437+Z437","v":0},{"$f":"COUNTIF(Y436,\"Yes\")*3","v":0},{"$f":"COUNTIF(Z436,\"No\")*3","v":0}]
[null,null,null,null,null,null,"Date prior notice was sent:",null,null,null,null,null,null,null,null,null,null,null,null,null,null,null,null,null,{"$f":"S439","v":"Select"},{"$f":"S439","v":"Select"}]
["Surrogate Parent",null,null,null,null,null,null,null,null,null,null,null,null,null,null,null,null,null,"Select",null,null,null,null,{"$f":"Y439+Z439","v":0},{"$f":"COUNTIF(Y438,\"Yes\")*3","v":0},{"$f":"COUNTIF(Z438,\"No\")*3","v":0}]
["Transfer Students Provided with  FAPE/Comparable Services ",null,null,null,null,null,"Date prior notice was sent:",null,null,null,null,null,null,{"$f":"HYPERLINK(\"http://sdlegislature.gov/Rules/DisplayRule.aspx?Rule=24:05:27:15.01\",\"In-state (24:05:27:15.01)\")","v":"In-state (24:05:27:15.01)"},null,null,null,null,"Select",null,null,null,null,null,{"$f":"S440","v":"Select"},{"$f":"S440","v":"Select"}]
[null,null,null,null,null,null,null,null,null,null,null,null,null,{"$f":"HYPERLINK(\"http://sdlegislature.gov/Rules/DisplayRule.aspx?Rule=24:05:27:15.02\",\"Out-of-state (24:05:27:15.02)\")","v":"Out-of-state (24:05:27:15.02)"},null,null,null,null,null,null,null,null,null,{"$f":"Y441+Z441","v":0},{"$f":"COUNTIF(Y440,\"Yes\")*3","v":0},{"$f":"COUNTIF(Z440,\"No\")*3","v":0}]
["Transfer Students Evaluated for \nSouth Dakota Eligibility",null,null,null,null,null,"Eligibility determination date:",null,null,null,null,null,null,null,null,null,null,null,"Select",null,null,null,null,null,{"$f":"S442","v":"Select"},{"$f":"S442","v":"Select"}]
[null,null,null,null,null,null,"IEP date:",null,null,null,null,null,null,null,null,null,null,null,null,null,null,null,null,{"$f":"Y443+Z443","v":0},{"$f":"COUNTIF(Y442,\"Yes\")*3","v":0},{"$f":"COUNTIF(Z442,\"No\")*3","v":0}]
[null,null,null,null,null,null,"PPWN Implementing IEP sent:"]

{"sheet":"File 15","index":19,"n_rows":444,"n_cols":28,"rows_kept":444,"cut":false,"hidden":false,"merged":[[436,18,437,18],[437,6,437,10],[437,11,437,12],[438,6,438,17],[442,6,442,10],[442,11,442,12],[413,19,413,21],[414,6,414,11],[414,12,414,13],[414,14,418,17],[414,18,418,18],[414,19,418,21],[417,6,418,11],[419,6,419,17],[420,6,420,17],[216,14,216,16],[443,6,443,10],[443,11,443,12],[446,11,447,12],[439,6,440,10],[439,11,440,12],[439,13,439,17],[440,13,440,17],[441,6,441,10],[441,11,441,12],[441,13,443,17],[415,6,416,11],[415,12,416,13],[413,0,413,17],[422,7,422,17],[423,7,423,17],[424,7,424,17],[425,7,425,17],[426,6,426,17],[427,6,427,10],[427,11,427,17],[436,6,436,10],[436,11,436,12],[436,13,437,17],[216,6,216,7],[216,8,216,10],[205,0,206,5],[207,0,209,5],[216,11,216,13],[231,7,231,10],[209,6,209,13],[210,0,210,17],[211,0,213,5],[211,6,213,16],[214,0,215,5],[214,6,215,16],[216,0,233,5],[225,12,225,13],[225,15,225,16],[226,7,226,10],[227,6,227,10],[228,6,228,7],[228,8,228,10],[228,11,228,13],[228,14,228,16],[230,7,230,10],[230,12,230,13],[230,15,230,16],[196,0,200,5],[196,6,200,17],[196,18,200,18],[201,0,201,21],[202,0,202,17],[202,19,202,21],[203,0,204,5],[188,7,188,9],[188,10,188,12],[189,7,189,9],[189,10,189,12],[186,0,189,5],[186,7,186,9],[186,10,186,12],[192,7,192,9],[193,7,193,9],[193,10,193,12],[194,7,194,9],[190,0,190,5],[190,7,190,9],[190,10,190,12],[191,0,195,5],[191,7,191,9],[191,10,191,12],[152,12,156,15],[154,7,156,10],[145,7,146,10],[145,12,146,15],[149,18,162,18],[149,19,162,21],[150,6,150,15],[150,17,160,17],[158,12,159,15],[151,6,151,15],[152,7,153,10],[157,7,158,10],[157,12,157,15],[210,19,210,21],[211,19,215,21],[214,18,215,18],[196,19,200,21],[203,19,209,21],[205,18,206,18],[207,14,208,17],[207,18,209,18],[209,14,209,17],[211,18,213,18],[205,6,206,17],[207,6,207,10],[207,11,207,13],[208,6,208,10],[208,11,208,13],[203,6,204,17],[203,18,204,18],[190,13,190,16],[191,13,191,16],[192,13,192,16],[193,13,193,16],[194,13,194,16],[176,12,177,17],[184,13,185,16],[186,13,186,16],[184,10,185,12],[194,10,194,12],[180,6,180,17],[182,7,183,16],[187,7,187,9],[187,10,187,12],[187,13,187,16],[188,13,188,16],[192,10,192,12],[172,12,173,17],[172,18,173,18],[172,19,173,21],[177,0,177,2],[177,3,177,5],[177,6,177,8],[177,9,177,11],[178,0,178,5],[178,6,179,17],[179,0,179,2],[179,3,179,5],[176,18,177,18],[176,19,195,21],[178,18,179,18],[180,18,195,18],[176,0,176,5],[176,6,176,8],[176,9,176,11],[174,0,174,21],[175,0,175,17],[175,19,175,21],[180,0,185,5],[184,7,185,9],[189,13,189,16],[216,18,221,18],[216,19,233,21],[222,18,227,18],[228,18,233,18],[218,7,218,10],[218,12,218,13],[220,7,220,10],[221,6,221,10],[222,6,222,7],[222,8,222,10],[222,11,222,13],[222,14,222,16],[231,12,231,13],[231,15,231,16],[232,7,232,10],[233,6,233,10],[218,15,218,16],[219,7,219,10],[219,12,219,13],[219,15,219,16],[224,7,224,10],[224,12,224,13],[224,15,224,16],[225,7,225,10],[117,6,117,13],[117,14,117,17],[118,6,119,17],[120,0,120,21],[118,0,119,5],[130,18,148,18],[130,19,148,21],[133,12,134,15],[135,7,137,10],[135,12,136,15],[137,12,138,15],[138,7,141,10],[139,12,144,15],[142,7,144,10],[121,0,121,17],[121,19,121,21],[122,0,122,17],[122,18,129,18],[122,19,129,21],[123,0,129,5],[123,6,123,17],[124,6,124,17],[125,7,125,11],[126,7,126,11],[165,12,169,17],[167,7,167,11],[168,7,168,11],[110,18,112,18],[110,19,119,21],[113,18,114,18],[115,18,117,18],[118,18,119,18],[104,18,105,18],[106,18,107,18],[169,7,169,11],[162,0,162,17],[163,0,166,5],[163,6,163,17],[163,18,171,18],[163,19,171,21],[164,6,164,17],[167,0,173,5],[165,7,165,11],[166,7,166,11],[170,7,170,13],[171,7,171,11],[172,6,173,10],[172,11,173,11],[98,18,101,18],[98,19,101,21],[99,11,99,13],[106,6,107,17],[84,18,97,18],[84,19,97,21],[86,6,86,8],[86,9,86,12],[87,15,87,17],[100,11,100,13],[101,11,101,13],[102,6,103,17],[102,18,103,18],[94,13,94,14],[94,15,94,17],[95,15,95,17],[96,13,96,14],[96,15,96,17],[99,6,99,10],[100,6,100,10],[102,19,109,21],[108,18,109,18],[89,13,89,14],[89,15,89,17],[91,13,91,14],[91,15,91,17],[92,13,92,14],[92,15,92,17],[97,13,97,14],[97,15,97,17],[98,11,98,13],[98,14,101,17],[93,15,93,17],[93,13,93,14],[110,0,112,5],[110,6,110,10],[111,6,111,10],[113,0,114,5],[115,0,117,5],[115,6,115,12],[116,6,116,12],[98,0,101,5],[98,6,98,10],[101,6,101,10],[102,0,103,5],[104,0,105,5],[106,0,107,5],[108,0,109,5],[104,6,105,17],[108,6,109,17],[110,11,110,13],[110,14,111,17],[111,11,111,13],[112,6,112,13],[112,14,112,17],[113,6,114,17],[115,13,115,15],[116,13,116,15],[90,6,90,8],[90,9,90,12],[78,6,78,8],[78,9,78,12],[80,0,83,5],[80,6,80,8],[80,9,80,12],[81,9,81,12],[84,0,90,5],[83,9,83,12],[96,6,96,8],[96,9,96,12],[91,0,91,5],[91,6,91,8],[91,9,91,12],[92,0,97,5],[92,9,92,12],[93,9,93,12],[94,9,94,12],[93,6,93,8],[94,6,94,8],[92,6,92,8],[97,6,97,8],[97,9,97,12],[74,19,83,21],[76,6,76,8],[76,9,76,12],[76,13,76,14],[76,15,76,17],[77,6,77,8],[77,9,77,12],[77,13,77,14],[77,15,77,17],[82,6,82,8],[82,9,82,12],[82,13,82,14],[82,15,82,17],[83,15,83,17],[78,13,78,14],[78,15,78,17],[80,13,80,14],[80,15,80,17],[81,13,81,14],[81,15,81,17],[83,13,83,14],[74,18,83,18],[81,6,81,8],[83,6,83,8],[150,0,161,5],[159,6,160,6],[159,7,160,10],[161,6,161,15],[89,6,89,8],[89,9,89,12],[90,13,90,14],[90,15,90,17],[95,9,95,12],[147,6,147,15],[148,0,148,17],[149,0,149,17],[128,7,128,11],[128,13,128,17],[131,0,147,5],[131,6,131,15],[131,17,147,17],[132,6,132,15],[133,7,134,10],[95,6,95,8],[127,7,127,11],[127,13,127,17],[129,6,129,17],[130,0,130,17],[84,15,85,17],[84,6,85,8],[86,13,86,14],[86,15,86,17],[87,9,87,12],[87,13,87,14],[88,6,88,8],[88,9,88,12],[84,13,85,14],[88,13,88,14],[88,15,88,17],[84,9,85,12],[87,6,87,8],[125,13,125,17],[126,13,126,17],[66,15,66,17],[66,13,66,14],[67,0,67,5],[67,6,67,8],[67,9,67,12],[67,13,67,14],[67,15,67,17],[68,0,73,5],[79,0,79,5],[79,6,79,8],[79,9,79,12],[79,13,79,14],[79,15,79,17],[72,6,72,8],[72,9,72,12],[74,0,78,5],[74,6,75,8],[74,9,75,12],[74,13,75,14],[74,15,75,17],[68,13,68,14],[73,6,73,8],[60,13,61,14],[60,15,61,17],[62,13,62,14],[62,15,62,17],[63,13,63,14],[63,15,63,17],[64,13,64,14],[64,15,64,17],[65,13,65,14],[65,15,65,17],[54,0,59,5],[54,6,54,9],[54,10,54,12],[55,6,55,9],[55,10,55,12],[45,19,53,21],[54,19,59,21],[58,13,59,17],[56,6,56,9],[56,10,56,12],[57,6,57,9],[57,10,57,12],[58,6,58,9],[58,10,58,12],[59,6,59,9],[59,10,59,12],[62,9,62,12],[63,9,63,12],[64,9,64,12],[65,9,65,12],[66,9,66,12],[60,0,66,5],[60,6,61,8],[62,6,62,8],[63,6,63,8],[64,6,64,8],[65,6,65,8],[66,6,66,8],[60,9,61,12],[21,10,21,13],[21,14,21,17],[27,9,27,11],[27,12,27,17],[52,6,52,17],[53,6,53,17],[45,6,45,17],[46,6,46,17],[47,6,47,17],[48,7,48,17],[49,7,49,17],[50,7,50,17],[51,7,51,17],[39,6,40,17],[22,6,22,9],[22,10,22,13],[25,0,25,21],[26,0,26,17],[26,19,26,21],[22,14,22,17],[23,6,23,9],[23,10,23,13],[23,14,23,17],[45,0,53,5],[17,0,17,21],[18,0,18,17],[19,0,24,5],[19,9,19,11],[19,12,19,17],[20,14,20,17],[24,6,24,17],[8,3,8,6],[8,7,8,9],[9,0,9,21],[8,0,8,2],[10,0,12,5],[10,10,11,10],[10,11,11,13],[10,14,11,17],[10,18,11,18],[10,19,11,21],[18,19,18,21],[19,18,24,18],[19,19,24,21],[20,6,20,9],[20,10,20,13],[19,6,19,8],[21,6,21,9],[10,6,10,9],[11,6,11,9],[12,6,12,21],[13,0,13,21],[14,0,14,17],[14,19,14,21],[15,0,16,5],[15,18,16,18],[15,19,16,21],[15,6,16,17],[6,0,6,2],[6,10,6,13],[7,14,7,18],[8,14,8,18],[8,19,8,21],[4,14,4,18],[4,19,4,21],[5,14,5,18],[5,19,5,21],[6,14,6,18],[6,19,6,21],[7,19,7,21],[6,3,6,6],[6,7,6,9],[7,0,7,2],[7,3,7,6],[7,7,7,9],[7,10,7,13],[8,10,8,13],[3,0,3,21],[4,0,4,2],[4,3,4,6],[4,7,4,9],[4,10,4,13],[5,0,5,2],[5,3,5,6],[5,7,5,9],[5,11,5,13],[0,0,0,3],[0,4,0,5],[0,6,0,8],[0,9,0,11],[0,12,0,14],[0,15,0,17],[0,19,0,21],[1,0,2,13],[1,14,2,17],[1,18,2,18],[1,19,2,21],[73,9,73,12],[73,13,73,14],[73,15,73,17],[68,6,68,8],[68,9,68,12],[69,6,69,8],[69,9,69,12],[69,13,69,14],[69,15,69,17],[70,6,70,8],[70,9,70,12],[70,13,70,14],[70,15,70,17],[71,6,71,8],[71,9,71,12],[71,13,71,14],[71,15,71,17],[68,15,68,17],[72,13,72,14],[72,15,72,17],[41,0,42,5],[41,6,42,17],[43,6,44,17],[27,18,29,18],[27,19,29,21],[30,18,32,18],[30,19,32,21],[35,18,38,18],[35,19,44,21],[39,18,40,18],[43,0,44,5],[27,6,27,8],[28,6,29,17],[30,6,30,17],[31,8,32,17],[408,8,408,10],[408,12,408,15],[409,8,409,10],[411,0,411,16],[412,0,412,21],[27,0,29,5],[30,0,32,5],[31,6,32,7],[35,0,36,5],[35,6,35,9],[33,0,33,21],[34,0,34,17],[34,19,34,21],[35,10,35,12],[35,13,35,17],[41,18,42,18],[43,18,44,18],[45,18,53,18],[54,18,59,18],[60,18,73,18],[60,19,73,21],[36,6,38,17],[37,0,38,5],[39,0,40,5],[397,6,397,16],[398,6,398,16],[399,6,399,16],[400,6,400,16],[401,6,401,16],[402,6,403,16],[404,6,404,16],[405,6,405,16],[406,6,406,16],[391,6,391,16],[392,11,392,12],[392,14,392,16],[393,6,393,16],[394,6,394,8],[394,9,394,16],[395,6,395,16],[396,11,396,12],[396,14,396,16],[385,6,385,16],[386,6,386,8],[386,9,386,16],[387,6,387,16],[388,11,388,12],[388,14,388,16],[389,6,389,16],[390,6,390,8],[390,9,390,16],[382,17,411,17],[406,19,411,21],[419,19,427,21],[430,19,433,21],[436,19,443,21],[372,19,380,21],[377,18,380,18],[382,19,397,21],[390,18,393,18],[394,18,397,18],[398,19,405,21],[400,18,401,18],[380,0,380,17],[381,0,381,17],[381,19,381,21],[382,9,382,16],[383,6,383,16],[384,8,384,9],[388,8,388,9],[392,8,392,9],[396,8,396,9],[382,6,382,8],[384,11,384,12],[384,14,384,16],[402,18,403,18],[404,18,405,18],[398,18,399,18],[406,18,411,18],[419,18,427,18],[432,18,433,18],[439,18,440,18],[441,18,443,18],[341,18,342,18],[343,18,344,18],[354,18,358,18],[360,18,361,18],[372,18,376,18],[428,0,428,21],[429,0,429,17],[429,19,429,21],[430,18,431,18],[430,6,431,17],[431,0,431,2],[431,3,431,5],[432,6,433,17],[434,0,434,21],[435,0,435,17],[435,19,435,21],[341,19,346,21],[345,18,346,18],[353,18,353,21],[354,19,358,21],[359,18,359,21],[360,19,370,21],[362,18,363,18],[382,18,385,18],[386,18,389,18],[371,19,371,21],[439,0,440,5],[441,0,443,5],[406,0,410,5],[414,0,418,5],[419,0,427,5],[430,0,430,5],[432,0,433,5],[436,0,437,5],[438,0,438,5],[359,0,359,5],[360,0,361,5],[362,0,363,5],[364,0,366,5],[372,0,379,5],[382,0,397,5],[398,0,401,5],[402,0,403,5],[404,0,405,5],[367,0,369,5],[353,6,353,16],[354,6,354,10],[354,13,354,16],[355,13,355,16],[356,13,356,16],[341,0,346,5],[347,0,347,5],[348,0,352,5],[353,0,353,5],[354,0,358,5],[334,18,335,18],[317,18,318,18],[317,19,322,21],[319,18,320,18],[321,18,322,18],[323,18,323,21],[324,19,325,21],[326,18,326,21],[327,19,332,21],[329,18,330,18],[331,18,332,18],[327,0,332,5],[327,6,328,6],[329,6,330,6],[329,7,330,16],[331,7,331,16],[332,6,332,16],[306,18,307,18],[306,19,315,21],[308,18,309,18],[309,6,310,6],[310,18,311,18],[314,18,315,18],[319,6,320,6],[319,7,320,16],[321,6,322,6],[321,7,322,16],[324,18,325,18],[327,18,328,18],[314,0,315,5],[314,6,315,16],[316,0,316,5],[316,6,316,16],[317,0,322,5],[317,6,318,6],[317,7,318,16],[323,0,323,5],[323,6,323,16],[364,6,364,12],[364,13,364,16],[365,6,366,16],[364,18,366,18],[367,18,370,18],[375,7,375,8],[375,10,375,11],[367,6,369,16],[370,0,370,17],[371,0,371,17],[359,6,359,16],[360,6,360,12],[360,13,360,16],[361,6,361,12],[361,13,361,16],[362,6,362,12],[362,13,362,16],[363,6,363,12],[363,13,363,16],[340,0,340,5],[340,6,340,16],[376,6,376,11],[376,12,379,16],[377,6,377,11],[378,7,378,8],[379,7,379,8],[372,17,379,17],[378,10,378,11],[379,10,379,11],[373,6,373,11],[374,7,374,8],[374,10,374,11],[372,6,372,11],[372,12,375,16],[340,18,340,21],[341,7,342,16],[343,7,344,16],[345,7,345,16],[346,6,346,16],[357,13,357,16],[358,13,358,16],[350,7,350,10],[351,7,351,10],[347,6,347,16],[347,18,347,21],[348,6,348,10],[348,11,352,16],[348,18,352,18],[348,19,352,21],[349,6,349,10],[352,6,352,10],[355,6,356,10],[357,6,357,10],[357,11,357,12],[358,6,358,10],[358,11,358,12],[341,6,342,6],[343,6,344,6],[282,14,282,16],[283,14,283,16],[336,7,337,16],[338,7,338,16],[333,0,333,5],[334,0,339,5],[334,6,335,6],[334,7,335,16],[334,19,339,21],[336,6,337,6],[336,18,337,18],[338,18,339,18],[339,6,339,16],[333,18,333,21],[333,6,333,16],[324,0,325,5],[324,6,325,16],[326,0,326,5],[326,6,326,16],[327,7,328,16],[309,7,310,16],[311,7,311,16],[305,6,305,16],[306,6,307,16],[257,9,257,12],[258,6,258,8],[292,7,293,16],[281,10,281,13],[282,10,282,13],[283,10,283,13],[289,18,303,18],[289,19,303,21],[300,12,302,12],[300,13,300,16],[302,13,302,15],[283,6,283,9],[284,6,284,9],[286,6,288,11],[264,18,288,18],[264,19,288,21],[255,17,298,17],[284,14,284,16],[272,14,272,16],[273,14,273,16],[279,14,279,16],[280,14,280,16],[281,14,281,16],[285,14,285,16],[279,6,279,9],[280,6,280,9],[281,6,281,9],[282,6,282,9],[285,6,285,9],[274,6,274,9],[274,10,274,13],[277,6,277,9],[278,6,278,9],[278,10,278,13],[284,10,284,13],[285,10,285,13],[279,10,279,13],[280,10,280,13],[276,10,276,13],[276,14,276,16],[277,10,277,13],[277,14,277,16],[262,6,262,8],[262,9,262,11],[262,12,262,16],[263,6,263,8],[263,9,263,12],[263,13,263,16],[265,7,265,10],[266,6,266,16],[267,6,268,16],[269,10,271,13],[275,6,275,9],[275,10,275,13],[269,6,271,9],[272,6,272,9],[272,10,272,13],[273,6,273,9],[273,10,273,13],[254,19,254,21],[255,0,263,5],[255,9,256,16],[255,18,263,18],[255,19,263,21],[258,9,258,13],[259,6,259,8],[239,19,253,21],[245,7,248,9],[259,9,259,11],[259,12,259,16],[260,6,260,8],[260,9,260,13],[260,14,260,16],[261,6,261,8],[261,9,261,15],[241,7,241,8],[241,11,241,16],[243,6,244,10],[243,11,243,16],[244,11,244,16],[245,11,245,16],[255,6,256,8],[257,6,257,8],[289,0,302,5],[306,0,307,5],[309,0,313,5],[301,13,301,15],[301,16,302,16],[303,0,303,17],[304,0,304,17],[304,18,305,18],[304,19,305,21],[305,0,305,5],[312,7,312,16],[312,18,313,18],[313,6,313,16],[294,6,295,6],[294,7,295,16],[296,6,297,6],[296,7,297,16],[298,6,298,16],[299,6,299,16],[300,6,302,11],[289,6,289,16],[290,6,290,16],[291,7,291,16],[292,6,293,6],[234,18,238,18],[234,19,238,21],[235,6,235,16],[236,7,236,10],[236,12,236,15],[239,11,239,16],[246,11,246,16],[239,18,253,18],[253,0,253,17],[240,7,240,8],[240,11,240,16],[240,9,242,10],[242,11,242,16],[247,11,247,16],[250,11,250,16],[251,6,252,10],[251,11,251,16],[252,11,252,16],[264,0,288,5],[237,7,237,10],[238,6,238,10],[239,0,252,5],[239,6,239,10],[286,12,288,12],[286,13,286,16],[287,13,287,15],[287,16,288,16],[288,13,288,15],[248,11,248,16],[249,11,249,16],[257,13,257,16],[258,14,258,16],[265,12,265,16],[269,14,271,16],[264,6,264,16],[234,0,238,5],[234,6,234,16],[254,0,254,16],[278,14,278,16],[274,14,274,16],[275,14,275,16],[276,6,276,9]]}
[{"$f":"'Caseload Files'!B2","v":"Teacher Caseload Review"},null,null,null,{"$f":"'Caseload Files'!D25","v":"File 15"},null,"Reviewer:",null,null,{"$f":"'Caseload Files'!F25","v":"Reviewer 15"},null,null,"Staff Reviewed:",null,null,{"$f":"'Caseload Files'!I25","v":"Staff 15"},null,null,"Score","Findings/Notes"]
[{"$f":"'Caseload Files'!B2","v":"Teacher Caseload Review"},null,null,null,null,null,null,null,null,null,null,null,null,null,null,null,null,null,"Rating","Record notes\nand/or findings."]
[]
[]
["Student Name:",null,null,{"$f":"'Caseload Files'!$L$25","v":"Student 15"},null,null,null,"Date of Birth:",null,null,{"$f":"'Caseload Files'!$R$25","v":"2015-01-15"},null,null,null,"Current IEP Meeting Date:"]
["SIMS Numer:",null,null,{"$f":"'Caseload Files'!$O$25","v":150123456},null,null,null,"Age/Grade:",null,null,{"$f":"INT(YEARFRAC(K5,TODAY()))","v":6},"/Sophomore",null,null,"Previous IEP Meeting Date:"]
["School District:",null,null,{"$f":"'Caseload Files'!B3","v":"District 00-0"},null,null,null,"Disability Code:",null,null,{"$f":"'Caseload Files'!$W$25","v":"DisCode 15"},null,null,null,"Current Eligibility Determination Date:"]
["School Name:",null,null,{"$f":"'Caseload Files'!E6","v":"School Name"},null,null,null,"Race/Ethnicity:",null,null,{"$f":"'Caseload Files'!T25","v":"Race 15"},null,null,null,"Previous Eligibility Determination Date:"]
["School Year:",null,null,{"$f":"'Caseload Files'!E7","v":"1998-1999"},null,null,null,"Type of Review:",null,null,{"$f":"'Caseload Files'!Z25","v":"Type 15"},null,null,null,"Date of Review:"]
[]
[{"$f":"HYPERLINK(\"http://sdlegislature.gov/Rules/DisplayRule.aspx?Rule=24:05\",\"Subsection Title and \nCorresponding ARSD Links \")","v":"Subsection Title and \nCorresponding ARSD Links "},null,null,null,null,null,"Yellow boxes are prompts",null,null,null,null,"Use checkboxes to help record findings.",null,null,"Voided space and/or clarifying information.",null,null,null,"\"N/A\" may be appropriate for certain sections.","Findings/Notes"]
[null,null,null,null,null,null,"for information."]
[]
[]
[{"$f":"HYPERLINK(\"https://gosynth.com/p/s/aboqwv\",\"Record of Access\")","v":"Record of Access"},null,null,null,null,null,null,null,null,null,null,null,null,null,null,null,null,null,{"$f":"IFERROR(Y17/X17,\"N/A\")","v":"N/A"},"Findings/Notes"]
[{"$f":"HYPERLINK(\"http://sdlegislature.gov/Rules/DisplayRule.aspx?Rule=24:05:29:15\",\"Record of Access\n(24:05:29:15)\")","v":"Record of Access\n(24:05:29:15)"},null,null,null,null,null,null,null,null,null,null,null,null,null,null,null,null,null,"Select","V16",null,null,null,null,{"$f":"S16","v":"Select"},{"$f":"S16","v":"Select"}]
[null,null,null,null,null,null,null,null,null,null,null,null,null,null,null,null,null,null,null,null,null,null,null,{"$f":"Y17+Z17","v":0},{"$f":"COUNTIF(Y16,\"Yes\")*3","v":0},{"$f":"COUNTIF(Z16,\"No\")*3","v":0}]
[]
[{"$f":"HYPERLINK(\"https://gosynth.com/p/s/grdmsy\",\"Referral\")","v":"Referral"},null,null,null,null,null,null,null,null,null,null,null,null,null,null,null,null,null,{"$f":"IFERROR(Y21/X21,\"N/A\")","v":"N/A"}]
[{"$f":"HYPERLINK(\"http://sdlegislature.gov/Rules/DisplayRule.aspx?Rule=24:05:24:01\",\"Referral Document\n(initial only)\n(24:05:24:01)\")","v":"Referral Document\n(initial only)\n(24:05:24:01)"},null,null,null,null,null,"Date of referral:",null,null,null,null,null,"The top two spaces are available to type in.",null,null,null,null,null,"Select","V20",null,null,null,null,{"$f":"S20","v":"Select"},{"$f":"S20","v":"Select"}]
[null,null,null,null,null,null,"List all areas of referral:",null,null,null,null,null,null,null,null,null,null,null,null,null,null,null,null,{"$f":"Y21+Z21","v":0},{"$f":"COUNTIF(Y20,\"Yes\")*3","v":0},{"$f":"COUNTIF(Z20,\"No\")*3","v":0}]
[]
[]
[]
[null,null,null,null,null,null,"If referral can not be found and is older than three years, N/A is appropriate."]
[]
[{"$f":"HYPERLINK(\"https://gosynth.com/p/s/lihblf\",\"Initial Placement\")","v":"Initial Placement"},null,null,null,null,null,null,null,null,null,null,null,null,null,null,null,null,null,{"$f":"IFERROR(Y33/X33,\"N/A\")","v":"N/A"}]
[{"$f":"HYPERLINK(\"http://sdlegislature.gov/rules/DisplayRule.aspx?Rule=24:05:27:04.01\",\"Consent Signed for Initial Placement \ninto Special Education\n(24:05:27:04.01)\")","v":"Consent Signed for Initial Placement \ninto Special Education\n(24:05:27:04.01)"},null,null,null,null,null,"Date Signed:",null,null,null,null,null,null,null,null,null,null,null,"Select","V28",null,null,null,null,{"$f":"S28","v":"Select"},{"$f":"S28","v":"Select"}]
[null,null,null,null,null,null,"(The Consent Signed for Initial Placement into Special Education form is a separate document.  In the past, it may have been found at the end of the IEP.",null,null,null,null,null,null,null,null,null,null,null,null,null,null,null,null,{"$f":"Y29+Z29","v":0},{"$f":"COUNTIF(Y28,\"Yes\")*3","v":0},{"$f":"COUNTIF(Z28,\"No\")*3","v":0}]
[]
[{"$f":"HYPERLINK(\"https://sdlegislature.gov/Rules/DisplayRule.aspx?Rule=24:05:25:04.02\",\"Determination of Needed \nEvaluation Data\n(24:05:25:04.02)\")","v":"Determination of Needed \nEvaluation Data\n(24:05:25:04.02)"},null,null,null,null,null,"Did the team review existing data before completing the PPWN Consent?",null,null,null,null,null,null,null,null,null,null,null,"Select","V31",null,null,null,null,{"$f":"S31","v":"Select"},{"$f":"S31","v":"Select"}]
[null,null,null,null,null,null,"Select",null,"The existing data includes evaluations and information provided by the parents, current classroom-based local or state assessments, and observations by teachers and related services providers.",null,null,null,null,null,null,null,null,null,null,null,null,null,null,{"$f":"Y32+Z32","v":0},{"$f":"COUNTIF(Y31,\"Yes\")*3","v":0},{"$f":"COUNTIF(Z31,\"No\")*3","v":0}]
[null,null,null,null,null,null,null,null,null,null,null,null,null,null,null,null,null,null,null,null,null,null,null,{"$f":"(X32+X29)/2","v":0},{"$f":"(Y32+Y29)/2","v":0}]
[]
[{"$f":"HYPERLINK(\"https://gosynth.com/p/s/qxevgy\",\"Evaluation\")","v":"Evaluation"},null,null,null,null,null,null,null,null,null,null,null,null,null,null,null,null,null,{"$f":"IFERROR(Y38/X38,\"N/A\")","v":"N/A"},{"$f":"IFERROR(Y58/X58,\"N/A\")","v":"N/A"}]
[{"$f":"HYPERLINK(\"http://sdlegislature.gov/rules/DisplayRule.aspx?Rule=24:05:25:02.01\",\"Initial Evaluation \n(24:05:25:02.01)\")","v":"Initial Evaluation \n(24:05:25:02.01)"},null,null,null,null,null,"PPWN Consent was Sent:",null,null,null,null,null,null,"Use the most recent evaluation. ",null,null,null,null,"Select","V36",null,null,null,null,{"$f":"S36","v":"Select"},{"$f":"S36","v":"Select"}]
[null,null,null,null,null,null,{"$f":"HYPERLINK(\"https://gosynth.com/p/s/qxevgy\",\"Consent was acquired for initial evaluation. \n\nIf consent was not given by the parent for reevaluation, evidence of  attempts were made to elicit parent.\")","v":"Consent was acquired for initial evaluation. \n\nIf consent was not given by the parent for reevaluation, evidence of  attempts were made to elicit parent."},null,null,null,null,null,null,null,null,null,null,null,null,null,null,null,null,{"$f":"Y37+Z37","v":0},{"$f":"COUNTIF(Y36,\"Yes\")*3","v":0},{"$f":"COUNTIF(Z36,\"No\")*3","v":0}]
[{"$f":"HYPERLINK(\"http://sdlegislature.gov/Rules/DisplayRule.aspx?Rule=24:05:25:06.01\",\"Reevaluation\n(24:05:25:06.01)\")","v":"Reevaluation\n(24:05:25:06.01)"},null,null,null,null,null,null,null,null,null,null,null,null,null,null,null,null,null,null,null,null,null,null,{"$f":"(X37+X41+X43+X45+X47+X56+X62+X76+X86+X100+X104+X106+X108+X110+X112+X115+X117+X120)/18","v":0},{"$f":"(Y37+Y41+Y43+Y45+Y47+Y56+Y62+Y76+Y86+Y100+Y104+Y106+Y108+Y110+Y112+Y115+Y117+Y120)/18","v":0}]
[]
[{"$f":"HYPERLINK(\"http://sdlegislature.gov/Rules/DisplayRule.aspx?Rule=24:05:25:16\",\"Parent Input into Evalaution\n(24:05:25:16)\")","v":"Parent Input into Evalaution\n(24:05:25:16)"},null,null,null,null,null,{"$f":"HYPERLINK(\"https://gosynth.com/p/s/ycomsx\",\"Parent input must be documented in the PPWN Consent on input exiting data and \nupcoming evaluation.   (refer to phone logs, progress notes, prior notice)\")","v":"Parent input must be documented in the PPWN Consent on input exiting data and \nupcoming evaluation.   (refer to phone logs, progress notes, prior notice)"},null,null,null,null,null,null,null,null,null,null,null,"Select",null,null,null,null,null,{"$f":"S40","v":"Select"},{"$f":"S40","v":"Select"}]
[null,null,null,null,null,null,null,null,null,null,null,null,null,null,null,null,null,null,null,null,null,null,null,{"$f":"Y41+Z41","v":0},{"$f":"COUNTIF(Y40,\"Yes\")*3","v":0},{"$f":"COUNTIF(Z40,\"No\")*3","v":0}]
[{"$f":"HYPERLINK(\"http://sdlegislature.gov/Rules/DisplayRule.aspx?Rule=24:05:30:06.01\",\"Procedural Safeguards\n(24:05:30:06.01)\")","v":"Procedural Safeguards\n(24:05:30:06.01)"},null,null,null,null,null,{"$f":"HYPERLINK(\"https://gosynth.com/p/s/tdkmfj\",\"[INCLUDE LANGUAGE FOR THIS SECTION]\")","v":"[INCLUDE LANGUAGE FOR THIS SECTION]"},null,null,null,null,null,null,null,null,null,null,null,"Select",null,null,null,null,null,{"$f":"S42","v":"Select"},{"$f":"S42","v":"Select"}]
[null,null,null,null,null,null,null,null,null,null,null,null,null,null,null,null,null,null,null,null,null,null,null,{"$f":"Y43+Z43","v":0},{"$f":"COUNTIF(Y42,\"Yes\")*3","v":0},{"$f":"COUNTIF(Z42,\"No\")*3","v":0}]
[{"$f":"HYPERLINK(\"http://sdlegislature.gov/Rules/DisplayRule.aspx?Rule=24:05:25:03\",\"Extension on 25 Day Timeline\n(24:05:25:03)\")","v":"Extension on 25 Day Timeline\n(24:05:25:03)"},null,null,null,null,null,{"$f":"HYPERLINK(\"https://gosynth.com/p/s/wcheia\",\"Documented agreement with parent and district on new extension date.  \nEligibility and IEP developed 30 days after the agreed extension date.\")","v":"Documented agreement with parent and district on new extension date.  \nEligibility and IEP developed 30 days after the agreed extension date."},null,null,null,null,null,null,null,null,null,null,null,"Select",null,null,null,null,null,{"$f":"S44","v":"Select"},{"$f":"S44","v":"Select"}]
[null,null,null,null,null,null,null,null,null,null,null,null,null,null,null,null,null,null,null,null,null,null,null,{"$f":"Y45+Z45","v":0},{"$f":"COUNTIF(Y44,\"Yes\")*3","v":0},{"$f":"COUNTIF(Z44,\"No\")*3","v":0}]
[{"$f":"HYPERLINK(\"http://sdlegislature.gov/Rules/DisplayRule.aspx?Rule=24:05:30:05\",\"Content of Prior Written Notice/\nConsent for Evaluation\n (24:05:30:05)\")","v":"Content of Prior Written Notice/\nConsent for Evaluation\n (24:05:30:05)"},null,null,null,null,null,{"$f":"HYPERLINK(\"https://gosynth.com/p/s/xymlpn\",\"Check the following:\")","v":"Check the following:"},null,null,null,null,null,null,null,null,null,null,null,"Select","V46",null,null,null,null,{"$f":"S46","v":"Select"},{"$f":"S46","v":"Select"}]
[null,null,null,null,null,null,"PPWN must be individualized to the student, IEP team discussions and situation.",null,null,null,null,null,null,null,null,null,null,null,null,null,null,null,null,{"$f":"Y47+Z47","v":0},{"$f":"COUNTIF(Y46,\"Yes\")*3","v":0},{"$f":"COUNTIF(Z46,\"No\")*3","v":0}]
[]
[null,null,null,null,null,null,null,"Explanation of why the district proposed or refused to take the action"]
[null,null,null,null,null,null,null,"Description of other options considered and why they were rejected "]
[null,null,null,null,null,null,null,"Description of evidence used for the proposed or refused action"]
[null,null,null,null,null,null,null,"Description of other factors that are relevant to proposal or refusal"]
[]
[null,null,null,null,null,null,"All components should be completed and have a clear description."]
[{"$f":"HYPERLINK(\"http://sdlegislature.gov/Rules/DisplayRule.aspx?Rule=24:05:30:05\",\"Timeline of Prior Written Notice/\nConsent for Evaluation\n(24:05:25:03)\")","v":"Timeline of Prior Written Notice/\nConsent for Evaluation\n(24:05:25:03)"},null,null,null,null,null,{"$f":"HYPERLINK(\"https://gosynth.com/p/s/xylthm\",\"Date sent:\")","v":"Date sent:"},null,null,null,"2020-01-18",null,null,null,null,null,null,null,"Select","V54",null,null,null,null,{"$f":"S55","v":"Select"},{"$f":"S55","v":"Select"}]
[null,null,null,null,null,null,"Date signed:",null,null,null,"2020-01-19",null,null,null,null,null,null,null,null,null,null,null,null,{"$f":"Y56+Z56","v":0},{"$f":"COUNTIF(Y55,\"Yes\")*3","v":0},{"$f":"COUNTIF(Z55,\"No\")*3","v":0}]
[null,null,null,null,null,null,"Date received:",null,null,null,"2020-01-20"]
[null,null,null,null,null,null,"25 school days:",null,null,null,{"$f":"WORKDAY(K57,25)","v":"2020-02-24"}]
[null,null,null,null,null,null,"30 calendar days:"]
[null,null,null,null,null,null,"Extension on 25 day:"]
[{"$f":"HYPERLINK(\"http://sdlegislature.gov/Rules/DisplayRule.aspx?Rule=24:05:25:04.02\",\"Evaluations to be Completed by the District per Parental Prior Written/Consent for Evaluation\n(24:05:25:04.02)\")","v":"Evaluations to be Completed by the District per Parental Prior Written/Consent for Evaluation\n(24:05:25:04.02)"},null,null,null,null,null,{"$f":"HYPERLINK(\"https://gosynth.com/p/s/zgdeev\",\"List areas:\")","v":"List areas:"},null,null,"Test administered:",null,null,null,"Test date:",null,"Evaluator:",null,null,"Select","V60",null,null,null,null,{"$f":"S61","v":"Select"},{"$f":"S61","v":"Select"}]
[null,null,null,null,null,null,null,null,null,null,null,null,null,null,null,null,null,null,null,null,null,null,null,{"$f":"Y62+Z62","v":0},{"$f":"COUNTIF(Y61,\"Yes\")*3","v":0},{"$f":"COUNTIF(Z61,\"No\")*3","v":0}]
[]
[]
[]
[]
[]
["For more evaluations requested click the [+]"]
[]
[]
[]
[]
[]
[]
[{"$f":"HYPERLINK(\"http://sdlegislature.gov/Rules/DisplayRule.aspx?Rule=24:05:25:04.02\",\"Existing Evaluation Data\nto be Pulled Forward\n(24:05:25:04.02)\")","v":"Existing Evaluation Data\nto be Pulled Forward\n(24:05:25:04.02)"},null,null,null,null,null,{"$f":"HYPERLINK(\"https://gosynth.com/p/s/pfohnr\",\"List areas:\")","v":"List areas:"},null,null,"Test administered:",null,null,null,"Test date:",null,"Evaluator:",null,null,"Select","V74",null,null,null,null,{"$f":"S75","v":"Select"},{"$f":"S75","v":"Select"}]
[null,null,null,null,null,null,null,null,null,null,null,null,null,null,null,null,null,null,null,null,null,null,null,{"$f":"Y76+Z76","v":0},{"$f":"COUNTIF(Y75,\"Yes\")*3","v":0},{"$f":"COUNTIF(Z75,\"No\")*3","v":0}]
[]
[]
[]
["For more existing data requested click the [+]"]
[]
[]
[]
[]
[{"$f":"HYPERLINK(\"http://sdlegislature.gov/Rules/DisplayRule.aspx?Rule=24:05:25:04.02\",\"Skills Based Assessment and Report\n(24:05:25:04.02)\")","v":"Skills Based Assessment and Report\n(24:05:25:04.02)"},null,null,null,null,null,{"$f":"HYPERLINK(\"https://gosynth.com/p/s/tbqnts\",\"List areas:\")","v":"List areas:"},null,null,"Test administered:",null,null,null,"Test date:",null,"Evaluator:",null,null,"Select","V84",null,null,null,null,{"$f":"S85","v":"Select"},{"$f":"S85","v":"Select"}]
[null,null,null,null,null,null,null,null,null,null,null,null,null,null,null,null,null,null,null,null,null,null,null,{"$f":"Y86+Z86","v":0},{"$f":"COUNTIF(Y85,\"Yes\")*3","v":0},{"$f":"COUNTIF(Z85,\"No\")*3","v":0}]
[]
[null,null,null,null,null,null,null,null,null,null,null,null,null,null,null,null,null,null,null,null,null,null,null,{"$f":"(X86+X100+X104+X106+X108+X110+X112+X115+X117+X120)/10","v":0},{"$f":"(Y86+Y100+Y104+Y106+Y108+Y110+Y112+Y115+Y117+Y120)/10","v":0}]
[]
[]
[]
["For more skills based requested click the [+]"]
[]
[]
[]
[]
[]
[]
[{"$f":"HYPERLINK(\"http://sdlegislature.gov/Rules/DisplayRule.aspx?Rule=24:05:25:03\",\"Consent Received\n(24:05:25:03)\")","v":"Consent Received\n(24:05:25:03)"},null,null,null,null,null,{"$f":"HYPERLINK(\"https://gosynth.com/p/s/ctcnlr\",\"Consent received date:\")","v":"Consent received date:"},null,null,null,null,{"$f":"K57","v":"2020-01-20"},null,null,"Mark \"No\" if dates are outside of \"consent received\" and/or \"25 school days\".",null,null,null,"Select","V98",null,null,null,null,{"$f":"S99","v":"Select"},{"$f":"S99","v":"Select"}]
[null,null,null,null,null,null,"Earliest testing date:",null,null,null,null,{"$f":"MIN(N63:O74,N87:O98)","v":"00:00:00"},null,null,null,null,null,null,null,null,null,null,null,{"$f":"Y100+Z100","v":0},{"$f":"COUNTIF(Y99,\"Yes\")*3","v":0},{"$f":"COUNTIF(Z99,\"No\")*3","v":0}]
[null,null,null,null,null,null,"Latest testing date:",null,null,null,null,{"$f":"MAX(N63:O74,N87:O98)","v":"00:00:00"}]
[null,null,null,null,null,null,"Within 25 School Days:",null,null,null,null,{"$f":"IF(ISBLANK(K60),K58,K60)","v":"2020-02-24"}]
[{"$f":"HYPERLINK(\"http://sdlegislature.gov/Rules/DisplayRule.aspx?Rule=24:05:25:20\",\"All Evaluations Administered \n(24:05:25:20)\")","v":"All Evaluations Administered \n(24:05:25:20)"},null,null,null,null,null,{"$f":"HYPERLINK(\"https://gosynth.com/p/s/mkcdef\",\"All evaluations marked on the PWWN/Consent for Evaluation form must be administered.\")","v":"All evaluations marked on the PWWN/Consent for Evaluation form must be administered."},null,null,null,null,null,null,null,null,null,null,null,"Select","V102",null,null,null,null,{"$f":"S103","v":"Select"},{"$f":"S103","v":"Select"}]
[null,null,null,null,null,null,null,null,null,null,null,null,null,null,null,null,null,null,null,null,null,null,null,{"$f":"Y104+Z104","v":0},{"$f":"COUNTIF(Y103,\"Yes\")*3","v":0},{"$f":"COUNTIF(Z103,\"No\")*3","v":0}]
[{"$f":"HYPERLINK(\"http://sdlegislature.gov/Rules/DisplayRule.aspx?Rule=24:05:25:06.01\",\"Consent was Acquired\n(24:05:25:06.01)\")","v":"Consent was Acquired\n(24:05:25:06.01)"},null,null,null,null,null,{"$f":"HYPERLINK(\"https://gosynth.com/p/s/mkcdef\",\"All evaluations administered must be requested on the PWWN/Consent for Evaluation \nform.\")","v":"All evaluations administered must be requested on the PWWN/Consent for Evaluation \nform."},null,null,null,null,null,null,null,null,null,null,null,"Select",null,null,null,null,null,{"$f":"S105","v":"Select"},{"$f":"S105","v":"Select"}]
[null,null,null,null,null,null,null,null,null,null,null,null,null,null,null,null,null,null,null,null,null,null,null,{"$f":"Y106+Z106","v":0},{"$f":"COUNTIF(Y105,\"Yes\")*3","v":0},{"$f":"COUNTIF(Z105,\"No\")*3","v":0}]
[{"$f":"HYPERLINK(\"http://sdlegislature.gov/Rules/DisplayRule.aspx?Rule=24:05:25:04\",\"Variety of Sources \n(24:05:25:04)\")","v":"Variety of Sources \n(24:05:25:04)"},null,null,null,null,null,{"$f":"HYPERLINK(\"https://gosynth.com/p/s/mkcdef\",\"Appropritate means to provide evaluations for accurate data were used. \")","v":"Appropritate means to provide evaluations for accurate data were used. "},null,null,null,null,null,null,null,null,null,null,null,"Select",null,null,null,null,null,{"$f":"S107","v":"Select"},{"$f":"S107","v":"Select"}]
[null,null,null,null,null,null,null,null,null,null,null,null,null,null,null,null,null,null,null,null,null,null,null,{"$f":"Y108+Z108","v":0},{"$f":"COUNTIF(Y107,\"Yes\")*3","v":0},{"$f":"COUNTIF(Z107,\"No\")*3","v":0}]
[{"$f":"HYPERLINK(\"http://sdlegislature.gov/Rules/DisplayRule.aspx?Rule=24:05:25:04\",\"Met Requirements for the Disability\n(24:05:25:04) \")","v":"Met Requirements for the Disability\n(24:05:25:04) "},null,null,null,null,null,{"$f":"HYPERLINK(\"https://gosynth.com/p/s/mkcdef\",\"Comprehensive Evaluations in all areas required for the disability. \")","v":"Comprehensive Evaluations in all areas required for the disability. "},null,null,null,null,null,null,null,null,null,null,null,"Select",null,null,null,null,null,{"$f":"S109","v":"Select"},{"$f":"S109","v":"Select"}]
[null,null,null,null,null,null,null,null,null,null,null,null,null,null,null,null,null,null,null,null,null,null,null,{"$f":"Y110+Z110","v":0},{"$f":"COUNTIF(Y109,\"Yes\")*3","v":0},{"$f":"COUNTIF(Z109,\"No\")*3","v":0}]
[{"$f":"HYPERLINK(\"http://sdlegislature.gov/Rules/DisplayRule.aspx?Rule=24:05:25:03\",\"Eligibility within 30 Calendar Days \n(24:05:25:03)\")","v":"Eligibility within 30 Calendar Days \n(24:05:25:03)"},null,null,null,null,null,{"$f":"HYPERLINK(\"https://gosynth.com/p/s/mkcdef\",\"Day 26 was on:\")","v":"Day 26 was on:"},null,null,null,null,{"$f":"WORKDAY(L102,1)","v":"2020-02-25"},null,null,null,null,null,null,"Select","V110",null,null,null,null,{"$f":"S111","v":"Select"},{"$f":"S111","v":"Select"}]
[null,null,null,null,null,null,"Eligibility Determination Date:",null,null,null,null,{"$f":"T7","v":"00:00:00"},null,null,null,null,null,null,null,null,null,null,null,{"$f":"Y112+Z112","v":0},{"$f":"COUNTIF(Y111,\"Yes\")*3","v":0},{"$f":"COUNTIF(Z111,\"No\")*3","v":0}]
[null,null,null,null,null,null,"Eligibility meeting date should have been by:",null,null,null,null,null,null,null,{"$f":"K59","v":"00:00:00"}]
[{"$f":"HYPERLINK(\"http://sdlegislature.gov/Rules/DisplayRule.aspx?Rule=24:05:25:04.03\",\"Student Eligible for Special Education \n(24:05:25:04.03)\")","v":"Student Eligible for Special Education \n(24:05:25:04.03)"},null,null,null,null,null,null,null,null,null,null,null,null,null,null,null,null,null,"Select",null,null,null,null,null,{"$f":"S114","v":"Select"},{"$f":"S114","v":"Select"}]
[null,null,null,null,null,null,null,null,null,null,null,null,null,null,null,null,null,null,null,null,null,null,null,{"$f":"Y115+Z115","v":0},{"$f":"COUNTIF(Y114,\"Yes\")*3","v":0},{"$f":"COUNTIF(Z114,\"No\")*3","v":0}]
[{"$f":"HYPERLINK(\"http://sdlegislature.gov/Rules/DisplayRule.aspx?Rule=24:05:25:06\",\"Three Year Re-Evaluation\n(24:05:25:06)\")","v":"Three Year Re-Evaluation\n(24:05:25:06)"},null,null,null,null,null,{"$f":"HYPERLINK(\"https://gosynth.com/p/s/mkcdef\",\"Current Eligibility Determination Date:\")","v":"Current Eligibility Determination Date:"},null,null,null,null,null,null,{"$f":"L112","v":"00:00:00"},null,null,null,null,"Select",null,null,null,null,null,{"$f":"S116","v":"Select"},{"$f":"S116","v":"Select"}]
[null,null,null,null,null,null,"Previous Eligibility Determination Date:",null,null,null,null,null,null,{"$f":"T8","v":"00:00:00"},null,null,null,null,null,null,null,null,null,{"$f":"Y117+Z117","v":0},{"$f":"COUNTIF(Y116,\"Yes\")*3","v":0},{"$f":"COUNTIF(Z116,\"No\")*3","v":0}]
[]
[{"$f":"HYPERLINK(\"https://gosynth.com/p/s/mkcdef\",\"Evaluated to Dismiss from Services  \")","v":"Evaluated to Dismiss from Services  "},null,null,null,null,null,null,null,null,null,null,null,null,null,null,null,null,null,"Select",null,null,null,null,null,{"$f":"S119","v":"Select"},{"$f":"S119","v":"Select"}]
[null,null,null,null,null,null,null,null,null,null,null,null,null,null,null,null,null,null,null,null,null,null,null,{"$f":"Y120+Z120","v":0},{"$f":"COUNTIF(Y119,\"Yes\")*3","v":0},{"$f":"COUNTIF(Z119,\"No\")*3","v":0}]
[]
[{"$f":"HYPERLINK(\"https://gosynth.com/p/s/giwoma\",\"Eligibility Document for Specific Learning Disability\")","v":"Eligibility Document for Specific Learning Disability"},null,null,null,null,null,null,null,null,null,null,null,null,null,null,null,null,null,{"$f":"IFERROR(Y126/X126,\"N/A\")","v":"N/A"}]
["If student is not eligible for Specific Learning Disability, skip this section.  Click on the [+] button if section is not visible. ",null,null,null,null,null,null,null,null,null,null,null,null,null,null,null,null,null,"Select","V122",null,null,null,null,{"$f":"S123","v":"Select"},{"$f":"S123","v":"Select"}]
[{"$f":"HYPERLINK(\"http://sdlegislature.gov/Rules/DisplayRule.aspx?Rule=24:05:24.01:19\",\"Specific Learning Disabilities\n(24:05:24.01:19)\")","v":"Specific Learning Disabilities\n(24:05:24.01:19)"},null,null,null,null,null,"Check the following:",null,null,null,null,null,null,null,null,null,null,null,null,null,null,null,null,{"$f":"Y124+Z124","v":0},{"$f":"COUNTIF(Y123,\"Yes\")*3","v":0},{"$f":"COUNTIF(Z123,\"No\")*3","v":0}]
[]
[null,null,null,null,null,null,null,"Reading Comprehension",null,null,null,null,null,"Math Calculation",null,null,null,null,null,null,null,null,null,{"$f":"(X124+X132+X151+X165+X174)/5","v":0},{"$f":"(Y124+Y132+Y151+Y165+Y174)/5","v":0}]
[null,null,null,null,null,null,null,"Basic Reading Skills",null,null,null,null,null,"Math Problem Solving"]
[null,null,null,null,null,null,null,"Reading Fluency",null,null,null,null,null,"Listening Comprehension"]
[null,null,null,null,null,null,null,"Written Expression",null,null,null,null,null,"Oral Expression"]
[]
["For Initial Determination of Eligibility Only",null,null,null,null,null,null,null,null,null,null,null,null,null,null,null,null,null,"Select","V130",null,null,null,null,{"$f":"S131","v":"Select"},{"$f":"S131","v":"Select"}]
[{"$f":"HYPERLINK(\"http://sdlegislature.gov/Rules/DisplayRule.aspx?Rule=24:05:24.01:19\",\"Initial Eligibility\n(24:05:24.01:19)\")","v":"Initial Eligibility\n(24:05:24.01:19)"},null,null,null,null,null,"Written report must include:",null,null,null,null,null,null,null,null,null,null,null,null,null,null,null,null,{"$f":"Y132+Z132","v":0},{"$f":"COUNTIF(Y131,\"Yes\")*3","v":0},{"$f":"COUNTIF(Z131,\"No\")*3","v":0}]
[]
[null,null,null,null,null,null,null,"Student achieves adequately",null,null,null,null,"Lack of appropriate instruction"]
[]
[null,null,null,null,null,null,null,"Student exhibits pattern of strengths & weaknesses",null,null,null,null,"Observation of the student"]
[]
[null,null,null,null,null,null,null,null,null,null,null,null,"Relevant medical findings (if any)"]
[null,null,null,null,null,null,null,"Student was provided appropriate instruction in regular education settings by qualified personnel"]
[null,null,null,null,null,null,null,null,null,null,null,null,"Achievement level problem is/is not primarily the result of another factor (e.g. emotional disturbance, cognitive impairment, etc.)"]
[]
[]
[null,null,null,null,null,null,null,"Repeated assessment of achievement reflecting student progress"]
[]
[]
[null,null,null,null,null,null,null,"Attendance record",null,null,null,null,"Adverse effect on educational performance"]
[]
[]
["Click on the [+] button to expand or the [-] button to collapse."]
["For Reevaluation of Eligibility Only",null,null,null,null,null,null,null,null,null,null,null,null,null,null,null,null,null,"Select","V149",null,null,null,null,{"$f":"S150","v":"Select"},{"$f":"S150","v":"Select"}]
[{"$f":"HYPERLINK(\"http://sdlegislature.gov/Rules/DisplayRule.aspx?Rule=24:05:24.01:19\",\"Reevaluation of Eligibility\n(24:05:24.01:19)\")","v":"Reevaluation of Eligibility\n(24:05:24.01:19)"},null,null,null,null,null,"Written report must include:",null,null,null,null,null,null,null,null,null,null,null,null,null,null,null,null,{"$f":"Y151+Z151","v":0},{"$f":"COUNTIF(Y150,\"Yes\")*3","v":0},{"$f":"COUNTIF(Z150,\"No\")*3","v":0}]
[]
[null,null,null,null,null,null,null,"Student achieves adequately",null,null,null,null,"Achievement level problem is/is not primarily the result of another factor (e.g. emotional disturbance, cognitive impairment, etc.)"]
[]
[null,null,null,null,null,null,null,"Student exhibits pattern of strengths & weaknesses"]
[]
[]
[null,null,null,null,null,null,null,"Observation of the student"]
[null,null,null,null,null,null,null,null,null,null,null,null,"Adverse effect on educational performance"]
[null,null,null,null,null,null,null,"Relevant medical findings (if any)"]
[]
[]
["Click on the [+] button to expand or the [-] button to collapse."]
[{"$f":"HYPERLINK(\"http://sdlegislature.gov/Rules/DisplayRule.aspx?Rule=24:05:25:08\",\"Team Member Signatures \n(24:05:25:08)\")","v":"Team Member Signatures \n(24:05:25:08)"},null,null,null,null,null,"Check the following:",null,null,null,null,null,null,null,null,null,null,null,"Select","V163",null,null,null,null,{"$f":"S164","v":"Select"},{"$f":"S164","v":"Select"}]
[null,null,null,null,null,null,null,null,null,null,null,null,null,null,null,null,null,null,null,null,null,null,null,{"$f":"Y165+Z165","v":0},{"$f":"COUNTIF(Y164,\"Yes\")*3","v":0},{"$f":"COUNTIF(Z164,\"No\")*3","v":0}]
[null,null,null,null,null,null,null,"Parent",null,null,null,null,"Each group member shall certify in writing whether the report reflects the group member's conclusion. If it does not reflect the group member's conclusion, the group member must submit the conclusion in a separate statement."]
[null,null,null,null,null,null,null,"General Education Teacher"]
[{"$f":"HYPERLINK(\"http://sdlegislature.gov/Rules/DisplayRule.aspx?Rule=24:05:25:13\",\"Group Members to Certify \nReport in Writing \n(24:05:25:13)\")","v":"Group Members to Certify \nReport in Writing \n(24:05:25:13)"},null,null,null,null,null,null,"Special Education Teacher"]
[null,null,null,null,null,null,null,"Qualified interpreter of results"]
[null,null,null,null,null,null,null,"LEA Representative"]
[null,null,null,null,null,null,null,"If disagreed, written input was provided"]
[]
[null,null,null,null,null,null,"Check PWWN for eligibility decisions.                         ",null,null,null,null,"Skip to","PPWN.",null,null,null,null,null,"Select",null,null,null,null,null,{"$f":"S173","v":"Select"},{"$f":"S173","v":"Select"}]
[null,null,null,null,null,null,null,null,null,null,null,null,null,null,null,null,null,null,null,null,null,null,null,{"$f":"Y174+Z174","v":0},{"$f":"COUNTIF(Y173,\"Yes\")*3","v":0},{"$f":"COUNTIF(Z173,\"No\")*3","v":0}]
[]
[{"$f":"HYPERLINK(\"https://gosynth.com/p/s/mzphio\",\"Meeting Notice\")","v":"Meeting Notice"},null,null,null,null,null,null,null,null,null,null,null,null,null,null,null,null,null,{"$f":"IFERROR(Y184/X184,\"N/A\")","v":"N/A"}]
["Meeting Notice",null,null,null,null,null,"Date sent:",null,null,null,null,null,"From this point on use the current IEP's documentation.",null,null,null,null,null,"Select","V174",null,null,null,null,{"$f":"S177","v":"Select"},{"$f":"S177","v":"Select"}]
[{"$f":"HYPERLINK(\"http://sdlegislature.gov/Rules/DisplayRule.aspx?Rule=24:05:30:02.01\",\"(24:05:30:02.01)\")","v":"(24:05:30:02.01)"},null,null,{"$f":"HYPERLINK(\"http://sdlegislature.gov/Rules/DisplayRule.aspx?Rule=24:05:25:16\",\"(24:05:25:16)\")","v":"(24:05:25:16)"},null,null,"Meeting date:",null,null,{"$f":"T5","v":"00:00:00"},null,null,null,null,null,null,null,null,null,null,null,null,null,{"$f":"Y178+Z178","v":0},{"$f":"COUNTIF(Y177,\"Yes\")*3","v":0},{"$f":"COUNTIF(Z177,\"No\")*3","v":0}]
["Procedural Safeguards",null,null,null,null,null,"Must be given to parents annually.",null,null,null,null,null,null,null,null,null,null,null,"Select",null,null,null,null,null,{"$f":"S179","v":"Select"},{"$f":"S179","v":"Select"}]
[{"$f":"HYPERLINK(\"http://sdlegislature.gov/Rules/DisplayRule.aspx?Rule=24:05:30:06.01\",\"(24:05:30:06.01)\")","v":"(24:05:30:06.01)"},null,null,{"$f":"HYPERLINK(\"http://sdlegislature.gov/Rules/DisplayRule.aspx?Rule=24:05:30:06.02\",\"(24:05:30:06.02)\")","v":"(24:05:30:06.02)"},null,null,null,null,null,null,null,null,null,null,null,null,null,null,null,null,null,null,null,{"$f":"Y180+Z180","v":0},{"$f":"COUNTIF(Y179,\"Yes\")*3","v":0},{"$f":"COUNTIF(Z179,\"No\")*3","v":0}]
["IEP Team",null,null,null,null,null,"Complete the following:",null,null,null,null,null,null,null,null,null,null,null,"Select",null,null,null,null,null,{"$f":"S181","v":"Select"},{"$f":"S181","v":"Select"}]
[null,null,null,null,null,null,null,null,null,null,null,null,null,null,null,null,null,null,null,null,null,null,null,{"$f":"Y182+Z182","v":0},{"$f":"COUNTIF(Y181,\"Yes\")*3","v":0},{"$f":"COUNTIF(Z181,\"No\")*3","v":0}]
[null,null,null,null,null,null,null,"The documentation of people attending the IEP meeting on front page of the IEP does not imply agreement, it is for participation purposes only."]
[null,null,null,null,null,null,null,null,null,null,null,null,null,null,null,null,null,null,null,null,null,null,null,{"$f":"(X178+X180+X182+X198)/4","v":0},{"$f":"(Y178+Y180+Y182+Y198)/4","v":0}]
[null,null,null,null,null,null,null,"Identified on the meeting notice:",null,null,"Attended the meeting:",null,null,"Did not attend\nthe meeting:"]
[]
[{"$f":"HYPERLINK(\"http://sdlegislature.gov/Rules/DisplayRule.aspx?Rule=24:05:25:16\",\"(24:05:25:16)\")","v":"(24:05:25:16)"},null,null,null,null,null,null,"Parent/Guardian"]
[null,null,null,null,null,null,null,"Student"]
[null,null,null,null,null,null,null,"Gen. Ed. Teacher"]
[null,null,null,null,null,null,null,"Sp. Ed. Teacher"]
["Parent Participation",null,null,null,null,null,null,"Eval Interpreter"]
[{"$f":"HYPERLINK(\"http://sdlegislature.gov/Rules/DisplayRule.aspx?Rule=24:05:25:16\",\"(24:05:25:16)\")","v":"(24:05:25:16)"},null,null,null,null,null,null,"LEA Representative"]
[null,null,null,null,null,null,null,"List Others"]
[null,null,null,null,null,null,null,"List Others"]
[null,null,null,null,null,null,null,"List Others"]
[]
["IEP Team Attendance \n (24:05:27:01.05)",null,null,null,null,null,"A member of the IEP team may be excused from attending, in whole or in part, an IEP team meeting that involves a modification to or discussion of the member's area of the curriculum or related services, if:\n   (1) The parent and school district consent in writing to the excusal; and\n   (2) The member submits, in writing to the parent and the IEP team, input into the development of the IEP before the meeting.",null,null,null,null,null,null,null,null,null,null,null,"Select","V194",null,null,null,null,{"$f":"S197","v":"Select"},{"$f":"S197","v":"Select"}]
[null,null,null,null,null,null,null,null,null,null,null,null,null,null,null,null,null,null,null,null,null,null,null,{"$f":"Y198+Z198","v":0},{"$f":"COUNTIF(Y197,\"Yes\")*3","v":0},{"$f":"COUNTIF(Z197,\"No\")*3","v":0}]
[]
[]
[]
[]
[{"$f":"HYPERLINK(\"https://gosynth.com/p/s/jshfqs\",\"          Individual Education Plan (Use the most recent IEP.)\n\")","v":"          Individual Education Plan (Use the most recent IEP.)\n"},null,null,null,null,null,null,null,null,null,null,null,null,null,null,null,null,null,{"$f":"IFERROR(Y210/X210,\"N/A\")","v":"N/A"}]
[{"$f":"HYPERLINK(\"http://sdlegislature.gov/Rules/DisplayRule.aspx?Rule=24:05:25:04.03\",\"Evaluation Reports Given to Parents \n(24:05:25:04.03)\")","v":"Evaluation Reports Given to Parents \n(24:05:25:04.03)"},null,null,null,null,null,"Evidence the parent received a copy of the reports (e.g.  initials on the front page IEP or other evidence). ",null,null,null,null,null,null,null,null,null,null,null,"Select","V201",null,null,null,null,{"$f":"S204","v":"Select"},{"$f":"S204","v":"Select"}]
[null,null,null,null,null,null,null,null,null,null,null,null,null,null,null,null,null,null,null,null,null,null,null,{"$f":"Y205+Z205","v":0},{"$f":"COUNTIF(Y204,\"Yes\")*3","v":0},{"$f":"COUNTIF(Z204,\"No\")*3","v":0}]
[{"$f":"HYPERLINK(\"http://sdlegislature.gov/Rules/DisplayRule.aspx?Rule=24:05:25:19\",\"Copy of IEP Given to Parents \n(24:05:25:19)\")","v":"Copy of IEP Given to Parents \n(24:05:25:19)"},null,null,null,null,null,"Evidence copy of the IEP was given to parents (e.g.  initials on the front page, addressed in PPWN, or other evidence).",null,null,null,null,null,null,null,null,null,null,null,"Select",null,null,null,null,null,{"$f":"S206","v":"Select"},{"$f":"S206","v":"Select"}]
[null,null,null,null,null,null,null,null,null,null,null,null,null,null,null,null,null,null,null,null,null,null,null,{"$f":"Y207+Z207","v":0},{"$f":"COUNTIF(Y206,\"Yes\")*3","v":0},{"$f":"COUNTIF(Z206,\"No\")*3","v":0}]
[{"$f":"HYPERLINK(\"http://sdlegislature.gov/Rules/DisplayRule.aspx?Rule=24:05:27:08\",\"Met Annually\n(24:05:27:08)\")","v":"Met Annually\n(24:05:27:08)"},null,null,null,null,null,"Current IEP Meeting Date:",null,null,null,null,{"$f":"T5","v":"00:00:00"},null,null,null,null,null,null,"Select",null,null,null,null,null,{"$f":"S208","v":"Select"},{"$f":"S208","v":"Select"}]
[null,null,null,null,null,null,"Previous IEP Meeting Date:",null,null,null,null,{"$f":"T6","v":"00:00:00"},null,null,null,null,null,null,null,null,null,null,null,{"$f":"Y209+Z209","v":0},{"$f":"COUNTIF(Y208,\"Yes\")*3","v":0},{"$f":"COUNTIF(Z208,\"No\")*3","v":0}]
[null,null,null,null,null,null,null,null,null,null,null,null,null,null,null,null,null,null,null,null,null,null,null,{"$f":"(X205+X207+X209)/3","v":0},{"$f":"(Y205+Y207+Y209)/3","v":0}]
[{"$f":"HYPERLINK(\"https://gosynth.com/p/s/eypdgf\",\"Present Levels of Academic Achievement & Functional Performance\")","v":"Present Levels of Academic Achievement & Functional Performance"},null,null,null,null,null,null,null,null,null,null,null,null,null,null,null,null,null,{"$f":"IFERROR(Y243/X243,\"N/A\")","v":"N/A"}]
[{"$f":"HYPERLINK(\"http://sdlegislature.gov/Rules/DisplayRule.aspx?Rule=24:05:27:01.03\",\"Progress/Involvement in \nGeneral Education Curriculum\n(24:05:27:01.03)\")","v":"Progress/Involvement in \nGeneral Education Curriculum\n(24:05:27:01.03)"},null,null,null,null,null,"A statement of the student's present levels of academic achievement and functional performance, including:\n   (a)  How the student's disability affects the student's involvement and progress in the general education curriculum (i.e., the same curriculum as for nondisabled students); or\n   (b)  For preschool student, as appropriate, how the disability affects the student's participation in appropriate activities;\nis found in the document.",null,null,null,null,null,null,null,null,null,null,null,"Select","V209",null,null,null,null,{"$f":"S212","v":"Select"},{"$f":"S212","v":"Select"}]
[null,null,null,null,null,null,null,null,null,null,null,null,null,null,null,null,null,null,null,null,null,null,null,{"$f":"Y213+Z213","v":0},{"$f":"COUNTIF(Y212,\"Yes\")*3","v":0},{"$f":"COUNTIF(Z212,\"No\")*3","v":0}]
[]
[{"$f":"HYPERLINK(\"https://sdlegislature.gov/Rules/DisplayRule.aspx?Rule=24:05:25:16\",\"Parent Participation\n(24:05:25:16)\")","v":"Parent Participation\n(24:05:25:16)"},null,null,null,null,null,"The purpose of this area for parent to provide IEP team information about how the child’s disability is impacted at home. Parents can also provide input on types of strategies and supports they provide at home.",null,null,null,null,null,null,null,null,null,null,null,"Select",null,null,null,null,null,{"$f":"S215","v":"Select"},{"$f":"S215","v":"Select"}]
[null,null,null,null,null,null,null,null,null,null,null,null,null,null,null,null,null,null,null,null,null,null,null,{"$f":"Y216+Z216","v":0},{"$f":"COUNTIF(Y215,\"Yes\")*3","v":0},{"$f":"COUNTIF(Z215,\"No\")*3","v":0}]
[{"$f":"HYPERLINK(\"http://sdlegislature.gov/Rules/DisplayRule.aspx?Rule=24:05:27:01.03\",\"Present Levels of \nAcademic Achievement \n& Functional Performance\nLinked to Annual Goals\n(24:05:27:01.03)\")","v":"Present Levels of \nAcademic Achievement \n& Functional Performance\nLinked to Annual Goals\n(24:05:27:01.03)"},null,null,null,null,null,"Skill Area:",null,null,null,null,"Measuarable Goal:",null,null,null,null,null,null,"Select","V214",null,null,null,null,{"$f":"S217","v":"Select"},{"$f":"S217","v":"Select"}]
[null,null,null,null,null,null,null,null,null,null,null,null,null,null,null,null,null,null,null,null,null,null,null,{"$f":"Y218+Z218","v":0},{"$f":"COUNTIF(Y217,\"Yes\")*3","v":0},{"$f":"COUNTIF(Z217,\"No\")*3","v":0}]
[null,null,null,null,null,null,null,"Strengths",null,null,null,null,"Condition",null,null,"How well"]
[null,null,null,null,null,null,null,"Needs",null,null,null,null,"Performance",null,null,"How often"]
[null,null,null,null,null,null,null,"Link to evaluation"]
[]
[null,null,null,null,null,null,"Skill Area:",null,null,null,null,"Measuarable Goal:",null,null,null,null,null,null,"Select",null,null,null,null,null,{"$f":"S223","v":"Select"},{"$f":"S223","v":"Select"}]
[null,null,null,null,null,null,null,null,null,null,null,null,null,null,null,null,null,null,null,null,null,null,null,{"$f":"Y224+Z224","v":0},{"$f":"COUNTIF(Y223,\"Yes\")*3","v":0},{"$f":"COUNTIF(Z223,\"No\")*3","v":0}]
[null,null,null,null,null,null,null,"Strengths",null,null,null,null,"Condition",null,null,"How well"]
[null,null,null,null,null,null,null,"Needs",null,null,null,null,"Performance",null,null,"How often"]
[null,null,null,null,null,null,null,"Link to evaluation"]
[]
[null,null,null,null,null,null,"Skill Area:",null,null,null,null,"Measuarable Goal:",null,null,null,null,null,null,"Select",null,null,null,null,null,{"$f":"S229","v":"Select"},{"$f":"S229","v":"Select"}]
[null,null,null,null,null,null,null,null,null,null,null,null,null,null,null,null,null,null,null,null,null,null,null,{"$f":"Y230+Z230","v":0},{"$f":"COUNTIF(Y229,\"Yes\")*3","v":0},{"$f":"COUNTIF(Z229,\"No\")*3","v":0}]
[null,null,null,null,null,null,null,"Strengths",null,null,null,null,"Condition",null,null,"How well"]
[null,null,null,null,null,null,null,"Needs",null,null,null,null,"Performance",null,null,"How often"]
[null,null,null,null,null,null,null,"Link to evaluation"]
[]
[{"$f":"HYPERLINK(\"http://sdlegislature.gov/Rules/DisplayRule.aspx?Rule=24:05:27:01.03\",\"How Progress will be Measured\n(24:05:27:01.03)\")","v":"How Progress will be Measured\n(24:05:27:01.03)"},null,null,null,null,null,{"$f":"HYPERLINK(\"https://gosynth.com/p/s/psaxcx\",\"         Check the following:\")","v":"         Check the following:"},null,null,null,null,null,null,null,null,null,null,null,"Select","V232",null,null,null,null,{"$f":"S235","v":"Select"},{"$f":"S235","v":"Select"}]
[null,null,null,null,null,null,null,null,null,null,null,null,null,null,null,null,null,null,null,null,null,null,null,{"$f":"Y236+Z236","v":0},{"$f":"COUNTIF(Y235,\"Yes\")*3","v":0},{"$f":"COUNTIF(Z235,\"No\")*3","v":0}]
[null,null,null,null,null,null,null,"Reporting frequency",null,null,null,null,"Extent of progress"]
[null,null,null,null,null,null,null,"Reporting method"]
[]
[{"$f":"HYPERLINK(\"http://sdlegislature.gov/Rules/DisplayRule.aspx?Rule=24:05:27:01.03\",\"Accommodations/Modifications\n(24:05:27:01.03)\")","v":"Accommodations/Modifications\n(24:05:27:01.03)"},null,null,null,null,null,{"$f":"HYPERLINK(\"https://gosynth.com/p/s/rtpvrq\",\"         Check the following:\")","v":"         Check the following:"},null,null,null,null,"List Instructional Accommodations:",null,null,null,null,null,null,"Select","V237",null,null,null,null,{"$f":"S240","v":"Select"},{"$f":"S240","v":"Select"}]
[null,null,null,null,null,null,null,"Frequency",null,null,null,null,null,null,null,null,null,null,null,null,null,null,null,{"$f":"Y241+Z241","v":0},{"$f":"COUNTIF(Y240,\"Yes\")*3","v":0},{"$f":"COUNTIF(Z240,\"No\")*3","v":0}]
[null,null,null,null,null,null,null,"Duration"]
[null,null,null,null,null,null,null,"Location",null,null,null,null,null,null,null,null,null,null,null,null,null,null,null,{"$f":"(X241+X236+X230+X224+X218+X216+X213)/7","v":0},{"$f":"(Y241+Y236+Y230+Y224+Y218+Y216+Y213)/7","v":0}]
[]
[]
[null,null,null,null,null,null,null,"Are the accommodations appropriate for the skill areas affected by the diability?"]
[]
[]
[]
[null,null,null,null,null,null,null,null,"Yes"]
[null,null,null,null,null,null,null,null,"No"]
[]
[]
[]
[{"$f":"HYPERLINK(\"https://gosynth.com/p/s/ygpazf\",\"Special Factors\")","v":"Special Factors"},null,null,null,null,null,null,null,null,null,null,null,null,null,null,null,null,null,{"$f":"IFERROR(Y294/X294,\"N/A\")","v":"N/A"}]
[{"$f":"HYPERLINK(\"http://sdlegislature.gov/Rules/DisplayRule.aspx?Rule=24:05:27:01.02\",\"Considerations\n(24:05:27:01.02)\")","v":"Considerations\n(24:05:27:01.02)"},null,null,null,null,null,"Select for each:",null,null,"Determine if data supports the selection for each special factor; if not addressed, check \"N\"  for score.",null,null,null,null,null,null,null,null,"Select","V243",null,null,null,null,{"$f":"S256","v":"Select"},{"$f":"S256","v":"Select"}]
[null,null,null,null,null,null,null,null,null,null,null,null,null,null,null,null,null,null,null,null,null,null,null,{"$f":"Y257+Z257","v":0},{"$f":"COUNTIF(Y256,\"Yes\")*3","v":0},{"$f":"COUNTIF(Z256,\"No\")*3","v":0}]
[null,null,null,null,null,null,null,null,null,"Limited English proficient"]
[null,null,null,null,null,null,null,null,null,"Special communication needs"]
[null,null,null,null,null,null,null,null,null,"Requires Braille"]
[null,null,null,null,null,null,null,null,null,"Behavior impedes learning"]
[null,null,null,null,null,null,null,null,null,"Requires assistive technology & services"]
[null,null,null,null,null,null,null,null,null,"Physical education"]
[null,null,null,null,null,null,null,null,null,"Hearing aid maintenance"]
[{"$f":"HYPERLINK(\"http://sdlegislature.gov/Rules/DisplayRule.aspx?Rule=24:05:27:01.03\",\"State/District Assessments\n(24:05:27:01.03)\")","v":"State/District Assessments\n(24:05:27:01.03)"},null,null,null,null,null,{"$f":"HYPERLINK(\"https://gosynth.com/p/s/jdbbir\",\"             Students will be taking state and district-wide assessments:\")","v":"             Students will be taking state and district-wide assessments:"},null,null,null,null,null,null,null,null,null,null,null,"Select","V263",null,null,null,null,{"$f":"S265","v":"Select"},{"$f":"S265","v":"Select"}]
[null,null,null,null,null,null,null,"With accommodations",null,null,null,null,"Without accommodations",null,null,null,null,null,null,null,null,null,null,{"$f":"Y266+Z266","v":0},{"$f":"COUNTIF(Y265,\"Yes\")*3","v":0},{"$f":"COUNTIF(Z265,\"No\")*3","v":0}]
[null,null,null,null,null,null,"Testing accommodations must reflect instructional accommodations."]
[null,null,null,null,null,null,"Do the accommodations for the state/district assesment(s) \nmatch the instructional accommodations?"]
[]
[null,null,null,null,null,null,"Instructional \nAccommodations",null,null,null,"State/District\nAssessment\nAccommodations",null,null,null,"Select\nyes or no:"]
[]
[]
[null,null,null,null,null,null,{"$f":"L241","v":0},null,null,null,null,null,null,null,"- Select -"]
[null,null,null,null,null,null,0,null,null,null,null,null,null,null,"- Select -"]
[null,null,null,null,null,null,0,null,null,null,null,null,null,null,"- Select -"]
[null,null,null,null,null,null,0,null,null,null,null,null,null,null,"- Select -"]
[null,null,null,null,null,null,0]
[null,null,null,null,null,null,0,null,null,null,null,null,null,null,"- Select -"]
[null,null,null,null,null,null,0,null,null,null,null,null,null,null,"- Select -"]
[null,null,null,null,null,null,0]
[null,null,null,null,null,null,0]
[null,null,null,null,null,null,0,null,null,null,null,null,null,null,"- Select -"]
[null,null,null,null,null,null,0,null,null,null,null,null,null,null,"- Select -"]
[null,null,null,null,null,null,0,null,null,null,null,null,null,null,"- Select -"]
[null,null,null,null,null,null,0,null,null,null,null,null,null,null,"- Select -"]
[null,null,null,null,null,null,0,null,null,null,null,null,null,null,"- Select -"]
[null,null,null,null,null,null,"Were the accommodations for\n the state assessment identified \non the IEP provided according to \nthe assessment data sheet?"]
[null,null,null,null,null,null,null,null,null,null,null,null,null,"- Select -"]
[]
[{"$f":"HYPERLINK(\"http://sdlegislature.gov/Rules/DisplayRule.aspx?Rule=24:05:27:01.03\",\"Alternate Assessments\n(24:05:27:01.03)\")","v":"Alternate Assessments\n(24:05:27:01.03)"},null,null,null,null,null,{"$f":"HYPERLINK(\"https://gosynth.com/p/s/bjlejx\",\"                  The following must be met:\")","v":"                  The following must be met:"},null,null,null,null,null,null,null,null,null,null,null,"Select","V257",null,null,null,null,{"$f":"S290","v":"Select"},{"$f":"S290","v":"Select"}]
[null,null,null,null,null,null,null,null,null,null,null,null,null,null,null,null,null,null,null,null,null,null,null,{"$f":"Y291+Z291","v":0},{"$f":"COUNTIF(Y290,\"Yes\")*3","v":0},{"$f":"COUNTIF(Z290,\"No\")*3","v":0}]
[null,null,null,null,null,null,null,"Student meets the significant cognitive disability criteria"]
[null,null,null,null,null,null,null,"Explanation for why student cannot participate in the regular assessment"]
[null,null,null,null,null,null,null,null,null,null,null,null,null,null,null,null,null,null,null,null,null,null,null,{"$f":"(X291+X266+X257)/3","v":0},{"$f":"(Y291+Y266+Y257)/3","v":0}]
[null,null,null,null,null,null,null,"Explanation for why the alternate assessment selected is appropriate"]
[]
[null,null,null,null,null,null,null,"The alternate assessment is for students working in the alternate achievement standards.  Annual goals and short term objectives are required.                                                                         \n                                                                        "]
[]
[]
[null,null,null,null,null,null,"Does the PPWN explain why IEP team decided alternate assessment for the student?"]
[null,null,null,null,null,null,"Does the student taking the\n alternate assessment meet\n the criteria, has it been \ndocumented on the IEP?"]
[null,null,null,null,null,null,null,null,null,null,null,null,null,"- Select -"]
[]
[]
[{"$f":"HYPERLINK(\"https://gosynth.com/p/s/itwkve\",\"Transition\")","v":"Transition"},null,null,null,null,null,null,null,null,null,null,null,null,null,null,null,null,null,{"$f":"IFERROR(Y306/X306,\"N/A\")","v":"N/A"}]
["Indicator 13 Item 1",null,null,null,null,null,null,null,null,null,null,null,null,null,null,null,null,null,null,null,null,null,null,{"$f":"(X308+X310+X312+X314+X316+X319+X321+X323+X326+X329+X331+X333+X336+X338+X340+X343+X345+X347+X350+X356+X362+X364+X366+X369)/24","v":0},{"$f":"(Y308+Y310+Y312+Y314+Y316+Y319+Y321+Y323+Y326+Y329+Y331+Y333+Y336+Y338+Y340+Y343+Y345+Y347+Y350+Y356+Y362+Y364+Y366+Y369)/24","v":0}]
[{"$f":"HYPERLINK(\"http://sdlegislature.gov/Rules/DisplayRule.aspx?Rule=24:05:27:01.03\",\"Transition IEP*\n(24:05:27:01.03)\")","v":"Transition IEP*\n(24:05:27:01.03)"},null,null,null,null,null,{"$f":"HYPERLINK(\"https://gosynth.com/p/s/itwkve\",\"Transition IEP must be in effect for all students on their 16 birthday or for younger students if it is addressed in the IEP.   \n*This is not on the Indicator 13 checklist, but it is a compliance requirement. \")","v":"Transition IEP must be in effect for all students on their 16 birthday or for younger students if it is addressed in the IEP.   \n*This is not on the Indicator 13 checklist, but it is a compliance requirement. "},null,null,null,null,null,null,null,null,null,null,null,"Select","V269",null,null,null,null,{"$f":"S307","v":"Select"},{"$f":"S307","v":"Select"}]
[null,null,null,null,null,null,null,null,null,null,null,null,null,null,null,null,null,null,null,null,null,null,null,{"$f":"Y308+Z308","v":0},{"$f":"COUNTIF(Y307,\"Yes\")*3","v":0},{"$f":"COUNTIF(Z307,\"No\")*3","v":0}]
[null,null,null,null,null,null,null,null,null,null,null,null,null,null,null,null,null,null,"Select",null,null,null,null,null,{"$f":"S309","v":"Select"},{"$f":"S309","v":"Select"}]
[{"$f":"HYPERLINK(\"http://sdlegislature.gov/Rules/DisplayRule.aspx?Rule=24:05:27:01.03\",\"Transition Assessments\n(24:05:27:01.03)\")","v":"Transition Assessments\n(24:05:27:01.03)"},null,null,null,null,null,null,"Employment",null,null,null,null,null,null,null,null,null,null,null,null,null,null,null,{"$f":"Y310+Z310","v":0},{"$f":"COUNTIF(Y309,\"Yes\")*3","v":0},{"$f":"COUNTIF(Z309,\"No\")*3","v":0}]
[null,null,null,null,null,null,null,null,null,null,null,null,null,null,null,null,null,null,"Select",null,null,null,null,null,{"$f":"S311","v":"Select"},{"$f":"S311","v":"Select"}]
[null,null,null,null,null,null,null,"Education/Training",null,null,null,null,null,null,null,null,null,null,null,null,null,null,null,{"$f":"Y312+Z312","v":0},{"$f":"COUNTIF(Y311,\"Yes\")*3","v":0},{"$f":"COUNTIF(Z311,\"No\")*3","v":0}]
[null,null,null,null,null,null,null,"Independent Living",null,null,null,null,null,null,null,null,null,null,"Select",null,null,null,null,null,{"$f":"S313","v":"Select"},{"$f":"S313","v":"Select"}]
[null,null,null,null,null,null,{"$f":"HYPERLINK(\"https://gosynth.com/p/s/itwkve\",\"The transition assessment must be completed prior to the age of 16 and updated annually.  Evidence of transition strengths/ needs are document on the PLAAFPs.  \")","v":"The transition assessment must be completed prior to the age of 16 and updated annually.  Evidence of transition strengths/ needs are document on the PLAAFPs.  "},null,null,null,null,null,null,null,null,null,null,null,null,null,null,null,null,{"$f":"Y314+Z314","v":0},{"$f":"COUNTIF(Y313,\"Yes\")*3","v":0},{"$f":"COUNTIF(Z313,\"No\")*3","v":0}]
["Transition Evaluation Report*\n",null,null,null,null,null,{"$f":"HYPERLINK(\"https://gosynth.com/p/s/itwkve\",\"A transition evaluation report is located in the file.\n\n*This is not on the Indicator 13 checklist, but it is a compliance requirement. \")","v":"A transition evaluation report is located in the file.\n\n*This is not on the Indicator 13 checklist, but it is a compliance requirement. "},null,null,null,null,null,null,null,null,null,null,null,"Select",null,null,null,null,null,{"$f":"S315","v":"Select"},{"$f":"S315","v":"Select"}]
[null,null,null,null,null,null,null,null,null,null,null,null,null,null,null,null,null,null,null,null,null,null,null,{"$f":"Y316+Z316","v":0},{"$f":"COUNTIF(Y315,\"Yes\")*3","v":0},{"$f":"COUNTIF(Z315,\"No\")*3","v":0}]
[{"$f":"HYPERLINK(\"https://gosynth.com/p/s/itwkve\",\"Indicator 13 Item 2\")","v":"Indicator 13 Item 2"}]
[{"$f":"HYPERLINK(\"http://sdlegislature.gov/Rules/DisplayRule.aspx?Rule=24:05:27:01.03\",\"Age-Appropriate Measurable \nPost-Secondary Goals \n(24:05:27:01.03)\")","v":"Age-Appropriate Measurable \nPost-Secondary Goals \n(24:05:27:01.03)"},null,null,null,null,null,null,"Employment",null,null,null,null,null,null,null,null,null,null,"Select","V278",null,null,null,null,{"$f":"S318","v":"Select"},{"$f":"S318","v":"Select"}]
[null,null,null,null,null,null,null,null,null,null,null,null,null,null,null,null,null,null,null,null,null,null,null,{"$f":"Y319+Z319","v":0},{"$f":"COUNTIF(Y318,\"Yes\")*3","v":0},{"$f":"COUNTIF(Z318,\"No\")*3","v":0}]
[null,null,null,null,null,null,null,"Education/Training",null,null,null,null,null,null,null,null,null,null,"Select",null,null,null,null,null,{"$f":"S320","v":"Select"},{"$f":"S320","v":"Select"}]
[null,null,null,null,null,null,null,null,null,null,null,null,null,null,null,null,null,null,null,null,null,null,null,{"$f":"Y321+Z321","v":0},{"$f":"COUNTIF(Y320,\"Yes\")*3","v":0},{"$f":"COUNTIF(Z320,\"No\")*3","v":0}]
[null,null,null,null,null,null,null,"Independent Living",null,null,null,null,null,null,null,null,null,null,"Select",null,null,null,null,null,{"$f":"S322","v":"Select"},{"$f":"S322","v":"Select"}]
[null,null,null,null,null,null,null,null,null,null,null,null,null,null,null,null,null,null,null,null,null,null,null,{"$f":"Y323+Z323","v":0},{"$f":"COUNTIF(Y322,\"Yes\")*3","v":0},{"$f":"COUNTIF(Z322,\"No\")*3","v":0}]
[{"$f":"HYPERLINK(\"https://gosynth.com/p/s/itwkve\",\"Indicator 13 Item 3\")","v":"Indicator 13 Item 3"}]
["MPSGs Updated Annually",null,null,null,null,null,null,null,null,null,null,null,null,null,null,null,null,null,"Select","V282",null,null,null,null,{"$f":"S325","v":"Select"},{"$f":"S325","v":"Select"}]
[null,null,null,null,null,null,null,null,null,null,null,null,null,null,null,null,null,null,null,null,null,null,null,{"$f":"Y326+Z326","v":0},{"$f":"COUNTIF(Y325,\"Yes\")*3","v":0},{"$f":"COUNTIF(Z325,\"No\")*3","v":0}]
["Indicator 13 Item 4"]
[{"$f":"HYPERLINK(\"http://sdlegislature.gov/Rules/DisplayRule.aspx?Rule=24:05:27:01.03\",\"Course of Study Aligns to \nPost-Secondary Goals\n(24:05:27:01.03)\")","v":"Course of Study Aligns to \nPost-Secondary Goals\n(24:05:27:01.03)"},null,null,null,null,null,null,"Employment",null,null,null,null,null,null,null,null,null,null,"Select","V285",null,null,null,null,{"$f":"S328","v":"Select"},{"$f":"S328","v":"Select"}]
[null,null,null,null,null,null,null,null,null,null,null,null,null,null,null,null,null,null,null,null,null,null,null,{"$f":"Y329+Z329","v":0},{"$f":"COUNTIF(Y328,\"Yes\")*3","v":0},{"$f":"COUNTIF(Z328,\"No\")*3","v":0}]
[null,null,null,null,null,null,null,"Education/Training",null,null,null,null,null,null,null,null,null,null,"Select",null,null,null,null,null,{"$f":"S330","v":"Select"},{"$f":"S330","v":"Select"}]
[null,null,null,null,null,null,null,null,null,null,null,null,null,null,null,null,null,null,null,null,null,null,null,{"$f":"Y331+Z331","v":0},{"$f":"COUNTIF(Y330,\"Yes\")*3","v":0},{"$f":"COUNTIF(Z330,\"No\")*3","v":0}]
[null,null,null,null,null,null,null,"Independent Living",null,null,null,null,null,null,null,null,null,null,"Select",null,null,null,null,null,{"$f":"S332","v":"Select"},{"$f":"S332","v":"Select"}]
[null,null,null,null,null,null,"Completed by age 16, or younger if transition has been addressed in the IEP, and updated annually through graduation or ‘age out’.",null,null,null,null,null,null,null,null,null,null,null,null,null,null,null,null,{"$f":"Y333+Z333","v":0},{"$f":"COUNTIF(Y332,\"Yes\")*3","v":0},{"$f":"COUNTIF(Z332,\"No\")*3","v":0}]
[{"$f":"HYPERLINK(\"https://gosynth.com/p/s/itwkve\",\"Indicator 13 Item 5\")","v":"Indicator 13 Item 5"}]
[{"$f":"HYPERLINK(\"http://sdlegislature.gov/Rules/DisplayRule.aspx?Rule=24:05:27:13.02\",\"Transition Services/Activities\n(24:05:27:13.02)\")","v":"Transition Services/Activities\n(24:05:27:13.02)"},null,null,null,null,null,null,"Employment",null,null,null,null,null,null,null,null,null,null,"Select","V290",null,null,null,null,{"$f":"S335","v":"Select"},{"$f":"S335","v":"Select"}]
[null,null,null,null,null,null,null,null,null,null,null,null,null,null,null,null,null,null,null,null,null,null,null,{"$f":"Y336+Z336","v":0},{"$f":"COUNTIF(Y335,\"Yes\")*3","v":0},{"$f":"COUNTIF(Z335,\"No\")*3","v":0}]
[null,null,null,null,null,null,null,"Education/Training",null,null,null,null,null,null,null,null,null,null,"Select",null,null,null,null,null,{"$f":"S337","v":"Select"},{"$f":"S337","v":"Select"}]
[null,null,null,null,null,null,null,null,null,null,null,null,null,null,null,null,null,null,null,null,null,null,null,{"$f":"Y338+Z338","v":0},{"$f":"COUNTIF(Y337,\"Yes\")*3","v":0},{"$f":"COUNTIF(Z337,\"No\")*3","v":0}]
[null,null,null,null,null,null,null,"Independent Living",null,null,null,null,null,null,null,null,null,null,"Select",null,null,null,null,null,{"$f":"S339","v":"Select"},{"$f":"S339","v":"Select"}]
[null,null,null,null,null,null,"Services/activities will reasonably enable the student to meet post-secondary goals and have at least one activity per MPSG addressed.",null,null,null,null,null,null,null,null,null,null,null,null,null,null,null,null,{"$f":"Y340+Z340","v":0},{"$f":"COUNTIF(Y339,\"Yes\")*3","v":0},{"$f":"COUNTIF(Z339,\"No\")*3","v":0}]
[{"$f":"HYPERLINK(\"https://gosynth.com/p/s/itwkve\",\"Indicator 13 Item 6\")","v":"Indicator 13 Item 6"}]
[{"$f":"HYPERLINK(\"http://sdlegislature.gov/Rules/DisplayRule.aspx?Rule=24:05:27:13.02\",\"Annual Goal Related to Student’s Transition Service needs in\n(24:05:27:13.02)\")","v":"Annual Goal Related to Student’s Transition Service needs in\n(24:05:27:13.02)"},null,null,null,null,null,null,"Employment",null,null,null,null,null,null,null,null,null,null,"Select","V295",null,null,null,null,{"$f":"S342","v":"Select"},{"$f":"S342","v":"Select"}]
[null,null,null,null,null,null,null,null,null,null,null,null,null,null,null,null,null,null,null,null,null,null,null,{"$f":"Y343+Z343","v":0},{"$f":"COUNTIF(Y342,\"Yes\")*3","v":0},{"$f":"COUNTIF(Z342,\"No\")*3","v":0}]
[null,null,null,null,null,null,null,"Education/Training",null,null,null,null,null,null,null,null,null,null,"Select",null,null,null,null,null,{"$f":"S344","v":"Select"},{"$f":"S344","v":"Select"}]
[null,null,null,null,null,null,null,null,null,null,null,null,null,null,null,null,null,null,null,null,null,null,null,{"$f":"Y345+Z345","v":0},{"$f":"COUNTIF(Y344,\"Yes\")*3","v":0},{"$f":"COUNTIF(Z344,\"No\")*3","v":0}]
[null,null,null,null,null,null,null,"Independent Living",null,null,null,null,null,null,null,null,null,null,"Select",null,null,null,null,null,{"$f":"S346","v":"Select"},{"$f":"S346","v":"Select"}]
[null,null,null,null,null,null,{"$f":"HYPERLINK(\"https://gosynth.com/p/s/itwkve\",\"Annual goals are linked to the MPSGs.\")","v":"Annual goals are linked to the MPSGs."},null,null,null,null,null,null,null,null,null,null,null,null,null,null,null,null,{"$f":"Y347+Z347","v":0},{"$f":"COUNTIF(Y346,\"Yes\")*3","v":0},{"$f":"COUNTIF(Z346,\"No\")*3","v":0}]
[{"$f":"HYPERLINK(\"https://gosynth.com/p/s/pisllo\",\"Indicator 13 Item 7\")","v":"Indicator 13 Item 7"}]
[{"$f":"HYPERLINK(\"http://sdlegislature.gov/Rules/DisplayRule.aspx?Rule=24:05:25:16.01\",\"Student Invitation/Participation\n(24:05:25:16.01)\")","v":"Student Invitation/Participation\n(24:05:25:16.01)"},null,null,null,null,null,"How the student invited?",null,null,null,null,{"$f":"HYPERLINK(\"https://gosynth.com/p/s/pisllo\",\"If student was not in attendance at the meeting, the IEP should show evidence that student's preferences and interests were taken into account. *\")","v":"If student was not in attendance at the meeting, the IEP should show evidence that student's preferences and interests were taken into account. *"},null,null,null,null,null,null,"Select","V300",null,null,null,null,{"$f":"S349","v":"Select"},{"$f":"S349","v":"Select"}]
[null,null,null,null,null,null,null,null,null,null,null,null,null,null,null,null,null,null,null,null,null,null,null,{"$f":"Y350+Z350","v":0},{"$f":"COUNTIF(Y349,\"Yes\")*3","v":0},{"$f":"COUNTIF(Z349,\"No\")*3","v":0}]
[null,null,null,null,null,null,null,"Meeting notice"]
[null,null,null,null,null,null,null,"Individual student invite"]
[]
[{"$f":"HYPERLINK(\"https://gosynth.com/p/s/pisllo\",\"Indicator 13 Item 8\")","v":"Indicator 13 Item 8"}]
[{"$f":"HYPERLINK(\"http://sdlegislature.gov/Rules/DisplayRule.aspx?Rule=24:05:25:16.01\",\"Consent to Invite Outside Agency\n(24:05:25:16.01)\")","v":"Consent to Invite Outside Agency\n(24:05:25:16.01)"},null,null,null,null,null,{"$f":"HYPERLINK(\"https://gosynth.com/p/s/pisllo\",\" Written Consent to invite:\")","v":" Written Consent to invite:"},null,null,null,null,null,null,"List of agencies invited:",null,null,null,null,"Select","V306",null,null,null,null,{"$f":"S355","v":"Select"},{"$f":"S355","v":"Select"}]
[null,null,null,null,null,null,"Invited on Meeting Notice:",null,null,null,null,null,"Yes",null,null,null,null,null,null,null,null,null,null,{"$f":"Y356+Z356","v":0},{"$f":"COUNTIF(Y355,\"Yes\")*3","v":0},{"$f":"COUNTIF(Z355,\"No\")*3","v":0}]
[null,null,null,null,null,null,null,null,null,null,null,null,"No"]
[null,null,null,null,null,null,"Meeting Notice Date:",null,null,null,null,{"$f":"J177","v":"00:00:00"}]
[null,null,null,null,null,null,"Date of Current IEP Meeting:",null,null,null,null,{"$f":"T5","v":"00:00:00"}]
[{"$f":"HYPERLINK(\"https://gosynth.com/p/s/pisllo\",\"Other Transition Areas *\")","v":"Other Transition Areas *"}]
[{"$f":"HYPERLINK(\"http://sdlegislature.gov/Rules/DisplayRule.aspx?Rule=24:05:30:16.01\",\"Transfer of Parental Rights:\n(24:05:30:16.01)\")","v":"Transfer of Parental Rights:\n(24:05:30:16.01)"},null,null,null,null,null,"Turned 17 on:",null,null,null,null,null,null,null,null,null,null,null,"Select","V312",null,null,null,null,{"$f":"S361","v":"Select"},{"$f":"S361","v":"Select"}]
[null,null,null,null,null,null,"Rights reviewed on:",null,null,null,null,null,null,null,null,null,null,null,null,null,null,null,null,{"$f":"Y362+Z362","v":0},{"$f":"COUNTIF(Y361,\"Yes\")*3","v":0},{"$f":"COUNTIF(Z361,\"No\")*3","v":0}]
[{"$f":"HYPERLINK(\"http://sdlegislature.gov/Rules/DisplayRule.aspx?Rule=24:05:27:12\",\"Specific Graduation Requirements:\n(24:05:27:12)\")","v":"Specific Graduation Requirements:\n(24:05:27:12)"},null,null,null,null,null,"Graduation requirements addressed on:",null,null,null,null,null,null,null,null,null,null,null,"Select",null,null,null,null,null,{"$f":"S363","v":"Select"},{"$f":"S363","v":"Select"}]
[null,null,null,null,null,null,"Student is projected to graduate:",null,null,null,null,null,null,null,null,null,null,null,null,null,null,null,null,{"$f":"Y364+Z364","v":0},{"$f":"COUNTIF(Y363,\"Yes\")*3","v":0},{"$f":"COUNTIF(Z363,\"No\")*3","v":0}]
[{"$f":"HYPERLINK(\"http://sdlegislature.gov/Rules/DisplayRule.aspx?Rule=24:05:27:12\",\"When Student has Graduated\n(24:05:27:12)\")","v":"When Student has Graduated\n(24:05:27:12)"},null,null,null,null,null,"Written prior notice was sent:",null,null,null,null,null,null,null,null,null,null,null,"Select",null,null,null,null,null,{"$f":"S365","v":"Select"},{"$f":"S365","v":"Select"}]
[null,null,null,null,null,null,{"$f":"HYPERLINK(\"https://gosynth.com/p/s/pisllo\",\"When a student graduates, it is a change in placement. It must have a written\n prior notice sent.  If student has \"\"aged-out\"\", a PPWN is required.  \")","v":"When a student graduates, it is a change in placement. It must have a written\n prior notice sent.  If student has \"aged-out\", a PPWN is required.  "},null,null,null,null,null,null,null,null,null,null,null,null,null,null,null,null,{"$f":"Y366+Z366","v":0},{"$f":"COUNTIF(Y365,\"Yes\")*3","v":0},{"$f":"COUNTIF(Z365,\"No\")*3","v":0}]
[]
[{"$f":"HYPERLINK(\"http://sdlegislature.gov/Rules/DisplayRule.aspx?Rule=24:05:27:12\",\"Summary of Performance was provided to the Student/Parent/Guardian\n(24:05:27:12)\")","v":"Summary of Performance was provided to the Student/Parent/Guardian\n(24:05:27:12)"},null,null,null,null,null,{"$f":"HYPERLINK(\"https://gosynth.com/p/s/pisllo\",\"Summary of Performance (SOP) is required for students who graduated and\n aged out. A copy of the SOP should remain in the file.\")","v":"Summary of Performance (SOP) is required for students who graduated and\n aged out. A copy of the SOP should remain in the file."},null,null,null,null,null,null,null,null,null,null,null,"Select",null,null,null,null,null,{"$f":"S368","v":"Select"},{"$f":"S368","v":"Select"}]
[null,null,null,null,null,null,null,null,null,null,null,null,null,null,null,null,null,null,null,null,null,null,null,{"$f":"Y369+Z369","v":0},{"$f":"COUNTIF(Y368,\"Yes\")*3","v":0},{"$f":"COUNTIF(Z368,\"No\")*3","v":0}]
[]
["Click on the [+] button to expand or the [-] button to collapse."]
[{"$f":"HYPERLINK(\"https://gosynth.com/p/s/kldkzb\",\"Related Services\")","v":"Related Services"},null,null,null,null,null,null,null,null,null,null,null,null,null,null,null,null,null,{"$f":"IFERROR(Y375/X375,\"N/A\")","v":"N/A"}]
[{"$f":"HYPERLINK(\"http://sdlegislature.gov/Rules/DisplayRule.aspx?Rule=24:05:27:16\",\"Related Services\n(24:05:27)\")","v":"Related Services\n(24:05:27)"},null,null,null,null,null,"Service Provided:",null,null,null,null,null,"If student will receive services in a different location, then must break it out to calculate the Least Restrictive Environment.",null,null,null,null,null,"Select","V324",null,null,null,null,{"$f":"S373","v":"Select"},{"$f":"S373","v":"Select"}]
[null,null,null,null,null,null,null,null,null,null,null,null,null,null,null,null,null,null,null,null,null,null,null,{"$f":"Y374+Z374","v":0},{"$f":"COUNTIF(Y373,\"Yes\")*3","v":0},{"$f":"COUNTIF(Z373,\"No\")*3","v":0}]
[null,null,null,null,null,null,null,"Frequency",null,null,"Location",null,null,null,null,null,null,null,null,null,null,null,null,{"$f":"(X374+X379)/2","v":0},{"$f":"(Y374+Y379)/2","v":0}]
[null,null,null,null,null,null,null,"Duration",null,null,"Other"]
[null,null,null,null,null,null,"Service Provided:",null,null,null,null,null,"At a minimum, all areas student qualifies and has an annual goal must have service time documented. If not addressed, then PPWN must explain reason."]
[null,null,null,null,null,null,null,null,null,null,null,null,null,null,null,null,null,null,"Select",null,null,null,null,null,{"$f":"S378","v":"Select"},{"$f":"S378","v":"Select"}]
[null,null,null,null,null,null,null,"Frequency",null,null,"Location",null,null,null,null,null,null,null,null,null,null,null,null,{"$f":"Y379+Z379","v":0},{"$f":"COUNTIF(Y378,\"Yes\")*3","v":0},{"$f":"COUNTIF(Z378,\"No\")*3","v":0}]
[null,null,null,null,null,null,null,"Duration",null,null,"Other"]
[]
["Least Restrictive Environment ",null,null,null,null,null,null,null,null,null,null,null,null,null,null,null,null,null,{"$f":"IFERROR(Y382/X382,\"N/A\")","v":"N/A"},null,null,null,null,{"$f":"(X384+X388+X392+X396+X400+X402+X404+X406+X408)/9","v":0},{"$f":"(Y384+Y388+Y392+Y396+Y400+Y402+Y404+Y406+Y408)/9","v":0}]
[{"$f":"HYPERLINK(\"https://sdlegislature.gov/Rules/DisplayRule.aspx?Rule=24:05:28\",\"Least Restrictive Enviornment \n(Chapter 24:05:28)\")","v":"Least Restrictive Enviornment \n(Chapter 24:05:28)"},null,null,null,null,null,{"$f":"HYPERLINK(\"https://gosynth.com/p/s/llxjsq\",\"Skill area:\")","v":"Skill area:"},null,null,null,null,null,null,null,null,null,null,null,"Select","V334",null,null,null,null,{"$f":"S383","v":"Select"},{"$f":"S383","v":"Select"}]
[null,null,null,null,null,null,null,null,null,null,null,null,null,null,null,null,null,null,null,null,null,null,null,{"$f":"Y384+Z384","v":0},{"$f":"COUNTIF(Y383,\"Yes\")*3","v":0},{"$f":"COUNTIF(Z383,\"No\")*3","v":0}]
[null,null,null,null,null,null,null,null,"Frequency",null,null,"Duration",null,null,"Location"]
[]
[null,null,null,null,null,null,"Skill area:",null,null,null,null,null,null,null,null,null,null,null,"Select",null,null,null,null,null,{"$f":"S387","v":"Select"},{"$f":"S387","v":"Select"}]
[null,null,null,null,null,null,null,null,null,null,null,null,null,null,null,null,null,null,null,null,null,null,null,{"$f":"Y388+Z388","v":0},{"$f":"COUNTIF(Y387,\"Yes\")*3","v":0},{"$f":"COUNTIF(Z387,\"No\")*3","v":0}]
[null,null,null,null,null,null,null,null,"Frequency",null,null,"Duration",null,null,"Location"]
[]
[null,null,null,null,null,null,"Skill area:",null,null,null,null,null,null,null,null,null,null,null,"Select",null,null,null,null,null,{"$f":"S391","v":"Select"},{"$f":"S391","v":"Select"}]
[null,null,null,null,null,null,null,null,null,null,null,null,null,null,null,null,null,null,null,null,null,null,null,{"$f":"Y392+Z392","v":0},{"$f":"COUNTIF(Y391,\"Yes\")*3","v":0},{"$f":"COUNTIF(Z391,\"No\")*3","v":0}]
[null,null,null,null,null,null,null,null,"Frequency",null,null,"Duration",null,null,"Location"]
[]
[null,null,null,null,null,null,"Skill area:",null,null,null,null,null,null,null,null,null,null,null,"Select",null,null,null,null,null,{"$f":"S395","v":"Select"},{"$f":"S395","v":"Select"}]
[null,null,null,null,null,null,null,null,null,null,null,null,null,null,null,null,null,null,null,null,null,null,null,{"$f":"Y396+Z396","v":0},{"$f":"COUNTIF(Y395,\"Yes\")*3","v":0},{"$f":"COUNTIF(Z395,\"No\")*3","v":0}]
[null,null,null,null,null,null,null,null,"Frequency",null,null,"Duration",null,null,"Location"]
[]
[{"$f":"HYPERLINK(\"http://sdlegislature.gov/Rules/DisplayRule.aspx?Rule=24:05:28:02\",\"Continuum of Placement\n(24:05:28:02)\")","v":"Continuum of Placement\n(24:05:28:02)"},null,null,null,null,null,"Select:",null,null,null,null,null,null,null,null,null,null,null,"Select","V350",null,null,null,null,{"$f":"S399","v":"Select"},{"$f":"S399","v":"Select"}]
[null,null,null,null,null,null,null,null,null,null,null,null,null,null,null,null,null,null,null,null,null,null,null,{"$f":"Y400+Z400","v":0},{"$f":"COUNTIF(Y399,\"Yes\")*3","v":0},{"$f":"COUNTIF(Z399,\"No\")*3","v":0}]
[null,null,null,null,null,null,"Select for Early Childhood (Ages 3-5):",null,null,null,null,null,null,null,null,null,null,null,"Select",null,null,null,null,null,{"$f":"S401","v":"Select"},{"$f":"S401","v":"Select"}]
[null,null,null,null,null,null,null,null,null,null,null,null,null,null,null,null,null,null,null,null,null,null,null,{"$f":"Y402+Z402","v":0},{"$f":"COUNTIF(Y401,\"Yes\")*3","v":0},{"$f":"COUNTIF(Z401,\"No\")*3","v":0}]
[{"$f":"HYPERLINK(\"http://sdlegislature.gov/Rules/DisplayRule.aspx?Rule=24:05:27:01.03\",\"Participation with Non-disabled Peers\n(24:05:27:01.03)\")","v":"Participation with Non-disabled Peers\n(24:05:27:01.03)"},null,null,null,null,null,{"$f":"HYPERLINK(\"https://gosynth.com/p/s/wjqcuh\",\"Document opportunities to participate with non-disabled peers.\")","v":"Document opportunities to participate with non-disabled peers."},null,null,null,null,null,null,null,null,null,null,null,"Select",null,null,null,null,null,{"$f":"S403","v":"Select"},{"$f":"S403","v":"Select"}]
[null,null,null,null,null,null,null,null,null,null,null,null,null,null,null,null,null,null,null,null,null,null,null,{"$f":"Y404+Z404","v":0},{"$f":"COUNTIF(Y403,\"Yes\")*3","v":0},{"$f":"COUNTIF(Z403,\"No\")*3","v":0}]
[{"$f":"HYPERLINK(\"http://sdlegislature.gov/Rules/DisplayRule.aspx?Rule=24:05:28:03\",\"Justification for Placement \n(24:05:28:03)\")","v":"Justification for Placement \n(24:05:28:03)"},null,null,null,null,null,{"$f":"HYPERLINK(\"https://gosynth.com/p/s/rjxcoc\",\"                  Select from the following:\")","v":"                  Select from the following:"},null,null,null,null,null,null,null,null,null,null,null,"Select",null,null,null,null,null,{"$f":"S405","v":"Select"},{"$f":"S405","v":"Select"}]
[null,null,null,null,null,null,null,null,null,null,null,null,null,null,null,null,null,null,null,null,null,null,null,{"$f":"Y406+Z406","v":0},{"$f":"COUNTIF(Y405,\"Yes\")*3","v":0},{"$f":"COUNTIF(Z405,\"No\")*3","v":0}]
[{"$f":"HYPERLINK(\"http://sdlegislature.gov/Rules/DisplayRule.aspx?Rule=24:05:25:26\",\"Extended School Year\n(24:05:25:26)\")","v":"Extended School Year\n(24:05:25:26)"},null,null,null,null,null,{"$f":"HYPERLINK(\"https://gosynth.com/p/s/bbepxx\",\"                  Check the following:\")","v":"                  Check the following:"},null,null,null,null,null,null,null,null,null,null,null,"Select","V358",null,null,null,null,{"$f":"S407","v":"Select"},{"$f":"S407","v":"Select"}]
[null,null,null,null,null,null,null,null,null,null,null,null,null,null,null,null,null,null,null,null,null,null,null,{"$f":"Y408+Z408","v":0},{"$f":"COUNTIF(Y407,\"Yes\")*3","v":0},{"$f":"COUNTIF(Z407,\"No\")*3","v":0}]
[null,null,null,null,null,null,null,null,"Determination",null,null,null,"Beginning/end dates"]
[null,null,null,null,null,null,null,null,"Goals",null,null,null,"Amount of service"]
[]
[]
[]
[{"$f":"HYPERLINK(\"https://gosynth.com/p/s/acbbuk\",\"Prior Parental Written Notice\")","v":"Prior Parental Written Notice"},null,null,null,null,null,null,null,null,null,null,null,null,null,null,null,null,null,{"$f":"IFERROR(Y414/X414,\"N/A\")","v":"N/A"},null,null,null,null,{"$f":"(X416+X421)/2","v":0},{"$f":"(Y416+Y421)/2","v":0}]
[{"$f":"HYPERLINK(\"http://sdlegislature.gov/Rules/DisplayRule.aspx?Rule=24:05:30:04\",\"Prior Written Notice Sent to Parent Regarding IEP Implementation\n(24:05:30:04)\")","v":"Prior Written Notice Sent to Parent Regarding IEP Implementation\n(24:05:30:04)"},null,null,null,null,null,"Date the district sent the PPWN:",null,null,null,null,null,null,null,"The implementation date documented on the PPWN must be reflected on IEP.\n\nThe five-day notice requirement may be waived by the parents.",null,null,null,"Select","V366",null,null,null,null,{"$f":"S415","v":"Select"},{"$f":"S415","v":"Select"}]
[null,null,null,null,null,null,"District proposed at least 5 calendar days to begin implementation:",null,null,null,null,null,{"$f":"M415+5","v":"1900-01-05"},null,null,null,null,null,null,null,null,null,null,{"$f":"Y416+Z416","v":0},{"$f":"COUNTIF(Y415,\"Yes\")*3","v":0},{"$f":"COUNTIF(Z415,\"No\")*3","v":0}]
[]
[null,null,null,null,null,null,"Was the 5 calendar day notice requirement met?",null,null,null,null,null,null,"Yes"]
[null,null,null,null,null,null,null,null,null,null,null,null,null,"No"]
[{"$f":"HYPERLINK(\"http://sdlegislature.gov/Rules/DisplayRule.aspx?Rule=24:05:30:05\",\"Content of PPWN\n(24:05:30:05)\")","v":"Content of PPWN\n(24:05:30:05)"},null,null,null,null,null,"Check the following:",null,null,null,null,null,null,null,null,null,null,null,"Select","V371",null,null,null,null,{"$f":"S420","v":"Select"},{"$f":"S420","v":"Select"}]
[null,null,null,null,null,null,"PPWN must be individualized to the student, IEP team discussions and situation.",null,null,null,null,null,null,null,null,null,null,null,null,null,null,null,null,{"$f":"Y421+Z421","v":0},{"$f":"COUNTIF(Y420,\"Yes\")*3","v":0},{"$f":"COUNTIF(Z420,\"No\")*3","v":0}]
[]
[null,null,null,null,null,null,null,"Explanation of why the district proposed or refused to take the action"]
[null,null,null,null,null,null,null,"Description of other options considered and why they were rejected "]
[null,null,null,null,null,null,null,"Description of evidence used for the proposed or refused action"]
[null,null,null,null,null,null,null,"Description of other factors that are relevant to proposal or refusal"]
[]
[null,null,null,null,null,null,"To skip back to Eligibility section click ",null,null,null,null,"HERE."]
[]
[{"$f":"HYPERLINK(\"https://gosynth.com/p/s/iwvzyu\",\"Amendment to IEP\")","v":"Amendment to IEP"},null,null,null,null,null,null,null,null,null,null,null,null,null,null,null,null,null,{"$f":"IFERROR(Z430/Y430,\"N/A\")","v":"N/A"},null,null,null,null,null,{"$f":"(X432+X434)/2","v":0},{"$f":"(Y432+Y434)/2","v":0}]
["Amendment to IEP",null,null,null,null,null,null,null,null,null,null,null,null,null,null,null,null,null,"Select","V381",null,null,null,null,{"$f":"S431","v":"Select"},{"$f":"S431","v":"Select"}]
[{"$f":"HYPERLINK(\"http://sdlegislature.gov/Rules/DisplayRule.aspx?Rule=24:05:27:08.01\",\"(24:05:27:08.01)\")","v":"(24:05:27:08.01)"},null,null,{"$f":"HYPERLINK(\"http://sdlegislature.gov/Rules/DisplayRule.aspx?Rule=24:05:27:08.02\",\"(24:05:27:08.02)\")","v":"(24:05:27:08.02)"},null,null,null,null,null,null,null,null,null,null,null,null,null,null,null,null,null,null,null,{"$f":"Y432+Z432","v":0},{"$f":"COUNTIF(Y431,\"Yes\")*3","v":0},{"$f":"COUNTIF(Z431,\"No\")*3","v":0}]
[{"$f":"HYPERLINK(\"http://sdlegislature.gov/Rules/DisplayRule.aspx?Rule=24:05:30:04\",\"Prior Notice\n(24:05:30:04)\")","v":"Prior Notice\n(24:05:30:04)"},null,null,null,null,null,"Document if the amendment was made with or without a meeting.",null,null,null,null,null,null,null,null,null,null,null,"Select",null,null,null,null,null,{"$f":"S433","v":"Select"},{"$f":"S433","v":"Select"}]
[null,null,null,null,null,null,null,null,null,null,null,null,null,null,null,null,null,null,null,null,null,null,null,{"$f":"Y434+Z434","v":0},{"$f":"COUNTIF(Y433,\"Yes\")*3","v":0},{"$f":"COUNTIF(Z433,\"No\")*3","v":0}]
[]
[{"$f":"HYPERLINK(\"https://gosynth.com/p/s/jdtswp\",\"Additional Items\")","v":"Additional Items"},null,null,null,null,null,null,null,null,null,null,null,null,null,null,null,null,null,{"$f":"IFERROR(AB436/AA436,\"N/A\")","v":"N/A"},null,null,null,null,null,{"$f":"S437","v":"Select"},{"$f":"S437","v":"Select"},{"$f":"(X437+X439+X441+X443)/4","v":0},{"$f":"(Y437+Y439+Y441+Y443)/4","v":0}]
["Parent Declined/\nWithdrew Consent for Services ",null,null,null,null,null,"Revocation signed:",null,null,null,null,null,null,{"$f":"HYPERLINK(\"http://sdlegislature.gov/Rules/DisplayRule.aspx?Rule=24:05:27:04.02\",\"(24:05:27:04.02)\")","v":"(24:05:27:04.02)"},null,null,null,null,"Select","V387",null,null,null,{"$f":"Y437+Z437","v":0},{"$f":"COUNTIF(Y436,\"Yes\")*3","v":0},{"$f":"COUNTIF(Z436,\"No\")*3","v":0}]
[null,null,null,null,null,null,"Date prior notice was sent:",null,null,null,null,null,null,null,null,null,null,null,null,null,null,null,null,null,{"$f":"S439","v":"Select"},{"$f":"S439","v":"Select"}]
["Surrogate Parent",null,null,null,null,null,null,null,null,null,null,null,null,null,null,null,null,null,"Select",null,null,null,null,{"$f":"Y439+Z439","v":0},{"$f":"COUNTIF(Y438,\"Yes\")*3","v":0},{"$f":"COUNTIF(Z438,\"No\")*3","v":0}]
["Transfer Students Provided with  FAPE/Comparable Services ",null,null,null,null,null,"Date prior notice was sent:",null,null,null,null,null,null,{"$f":"HYPERLINK(\"http://sdlegislature.gov/Rules/DisplayRule.aspx?Rule=24:05:27:15.01\",\"In-state (24:05:27:15.01)\")","v":"In-state (24:05:27:15.01)"},null,null,null,null,"Select",null,null,null,null,null,{"$f":"S440","v":"Select"},{"$f":"S440","v":"Select"}]
[null,null,null,null,null,null,null,null,null,null,null,null,null,{"$f":"HYPERLINK(\"http://sdlegislature.gov/Rules/DisplayRule.aspx?Rule=24:05:27:15.02\",\"Out-of-state (24:05:27:15.02)\")","v":"Out-of-state (24:05:27:15.02)"},null,null,null,null,null,null,null,null,null,{"$f":"Y441+Z441","v":0},{"$f":"COUNTIF(Y440,\"Yes\")*3","v":0},{"$f":"COUNTIF(Z440,\"No\")*3","v":0}]
["Transfer Students Evaluated for \nSouth Dakota Eligibility",null,null,null,null,null,"Eligibility determination date:",null,null,null,null,null,null,null,null,null,null,null,"Select",null,null,null,null,null,{"$f":"S442","v":"Select"},{"$f":"S442","v":"Select"}]
[null,null,null,null,null,null,"IEP date:",null,null,null,null,null,null,null,null,null,null,null,null,null,null,null,null,{"$f":"Y443+Z443","v":0},{"$f":"COUNTIF(Y442,\"Yes\")*3","v":0},{"$f":"COUNTIF(Z442,\"No\")*3","v":0}]
[null,null,null,null,null,null,"PPWN Implementing IEP sent:"]

{"sheet":"File 16","index":20,"n_rows":444,"n_cols":28,"rows_kept":444,"cut":false,"hidden":false,"merged":[[436,18,437,18],[437,6,437,10],[437,11,437,12],[438,6,438,17],[442,6,442,10],[442,11,442,12],[413,19,413,21],[414,6,414,11],[414,12,414,13],[414,14,418,17],[414,18,418,18],[414,19,418,21],[417,6,418,11],[419,6,419,17],[420,6,420,17],[216,14,216,16],[443,6,443,10],[443,11,443,12],[446,11,447,12],[439,6,440,10],[439,11,440,12],[439,13,439,17],[440,13,440,17],[441,6,441,10],[441,11,441,12],[441,13,443,17],[415,6,416,11],[415,12,416,13],[413,0,413,17],[422,7,422,17],[423,7,423,17],[424,7,424,17],[425,7,425,17],[426,6,426,17],[427,6,427,10],[427,11,427,17],[436,6,436,10],[436,11,436,12],[436,13,437,17],[216,6,216,7],[216,8,216,10],[205,0,206,5],[207,0,209,5],[216,11,216,13],[231,7,231,10],[209,6,209,13],[210,0,210,17],[211,0,213,5],[211,6,213,16],[214,0,215,5],[214,6,215,16],[216,0,233,5],[225,12,225,13],[225,15,225,16],[226,7,226,10],[227,6,227,10],[228,6,228,7],[228,8,228,10],[228,11,228,13],[228,14,228,16],[230,7,230,10],[230,12,230,13],[230,15,230,16],[196,0,200,5],[196,6,200,17],[196,18,200,18],[201,0,201,21],[202,0,202,17],[202,19,202,21],[203,0,204,5],[188,7,188,9],[188,10,188,12],[189,7,189,9],[189,10,189,12],[186,0,189,5],[186,7,186,9],[186,10,186,12],[192,7,192,9],[193,7,193,9],[193,10,193,12],[194,7,194,9],[190,0,190,5],[190,7,190,9],[190,10,190,12],[191,0,195,5],[191,7,191,9],[191,10,191,12],[152,12,156,15],[154,7,156,10],[145,7,146,10],[145,12,146,15],[149,18,162,18],[149,19,162,21],[150,6,150,15],[150,17,160,17],[158,12,159,15],[151,6,151,15],[152,7,153,10],[157,7,158,10],[157,12,157,15],[210,19,210,21],[211,19,215,21],[214,18,215,18],[196,19,200,21],[203,19,209,21],[205,18,206,18],[207,14,208,17],[207,18,209,18],[209,14,209,17],[211,18,213,18],[205,6,206,17],[207,6,207,10],[207,11,207,13],[208,6,208,10],[208,11,208,13],[203,6,204,17],[203,18,204,18],[190,13,190,16],[191,13,191,16],[192,13,192,16],[193,13,193,16],[194,13,194,16],[176,12,177,17],[184,13,185,16],[186,13,186,16],[184,10,185,12],[194,10,194,12],[180,6,180,17],[182,7,183,16],[187,7,187,9],[187,10,187,12],[187,13,187,16],[188,13,188,16],[192,10,192,12],[172,12,173,17],[172,18,173,18],[172,19,173,21],[177,0,177,2],[177,3,177,5],[177,6,177,8],[177,9,177,11],[178,0,178,5],[178,6,179,17],[179,0,179,2],[179,3,179,5],[176,18,177,18],[176,19,195,21],[178,18,179,18],[180,18,195,18],[176,0,176,5],[176,6,176,8],[176,9,176,11],[174,0,174,21],[175,0,175,17],[175,19,175,21],[180,0,185,5],[184,7,185,9],[189,13,189,16],[216,18,221,18],[216,19,233,21],[222,18,227,18],[228,18,233,18],[218,7,218,10],[218,12,218,13],[220,7,220,10],[221,6,221,10],[222,6,222,7],[222,8,222,10],[222,11,222,13],[222,14,222,16],[231,12,231,13],[231,15,231,16],[232,7,232,10],[233,6,233,10],[218,15,218,16],[219,7,219,10],[219,12,219,13],[219,15,219,16],[224,7,224,10],[224,12,224,13],[224,15,224,16],[225,7,225,10],[117,6,117,13],[117,14,117,17],[118,6,119,17],[120,0,120,21],[118,0,119,5],[130,18,148,18],[130,19,148,21],[133,12,134,15],[135,7,137,10],[135,12,136,15],[137,12,138,15],[138,7,141,10],[139,12,144,15],[142,7,144,10],[121,0,121,17],[121,19,121,21],[122,0,122,17],[122,18,129,18],[122,19,129,21],[123,0,129,5],[123,6,123,17],[124,6,124,17],[125,7,125,11],[126,7,126,11],[165,12,169,17],[167,7,167,11],[168,7,168,11],[110,18,112,18],[110,19,119,21],[113,18,114,18],[115,18,117,18],[118,18,119,18],[104,18,105,18],[106,18,107,18],[169,7,169,11],[162,0,162,17],[163,0,166,5],[163,6,163,17],[163,18,171,18],[163,19,171,21],[164,6,164,17],[167,0,173,5],[165,7,165,11],[166,7,166,11],[170,7,170,13],[171,7,171,11],[172,6,173,10],[172,11,173,11],[98,18,101,18],[98,19,101,21],[99,11,99,13],[106,6,107,17],[84,18,97,18],[84,19,97,21],[86,6,86,8],[86,9,86,12],[87,15,87,17],[100,11,100,13],[101,11,101,13],[102,6,103,17],[102,18,103,18],[94,13,94,14],[94,15,94,17],[95,15,95,17],[96,13,96,14],[96,15,96,17],[99,6,99,10],[100,6,100,10],[102,19,109,21],[108,18,109,18],[89,13,89,14],[89,15,89,17],[91,13,91,14],[91,15,91,17],[92,13,92,14],[92,15,92,17],[97,13,97,14],[97,15,97,17],[98,11,98,13],[98,14,101,17],[93,15,93,17],[93,13,93,14],[110,0,112,5],[110,6,110,10],[111,6,111,10],[113,0,114,5],[115,0,117,5],[115,6,115,12],[116,6,116,12],[98,0,101,5],[98,6,98,10],[101,6,101,10],[102,0,103,5],[104,0,105,5],[106,0,107,5],[108,0,109,5],[104,6,105,17],[108,6,109,17],[110,11,110,13],[110,14,111,17],[111,11,111,13],[112,6,112,13],[112,14,112,17],[113,6,114,17],[115,13,115,15],[116,13,116,15],[90,6,90,8],[90,9,90,12],[78,6,78,8],[78,9,78,12],[80,0,83,5],[80,6,80,8],[80,9,80,12],[81,9,81,12],[84,0,90,5],[83,9,83,12],[96,6,96,8],[96,9,96,12],[91,0,91,5],[91,6,91,8],[91,9,91,12],[92,0,97,5],[92,9,92,12],[93,9,93,12],[94,9,94,12],[93,6,93,8],[94,6,94,8],[92,6,92,8],[97,6,97,8],[97,9,97,12],[74,19,83,21],[76,6,76,8],[76,9,76,12],[76,13,76,14],[76,15,76,17],[77,6,77,8],[77,9,77,12],[77,13,77,14],[77,15,77,17],[82,6,82,8],[82,9,82,12],[82,13,82,14],[82,15,82,17],[83,15,83,17],[78,13,78,14],[78,15,78,17],[80,13,80,14],[80,15,80,17],[81,13,81,14],[81,15,81,17],[83,13,83,14],[74,18,83,18],[81,6,81,8],[83,6,83,8],[150,0,161,5],[159,6,160,6],[159,7,160,10],[161,6,161,15],[89,6,89,8],[89,9,89,12],[90,13,90,14],[90,15,90,17],[95,9,95,12],[147,6,147,15],[148,0,148,17],[149,0,149,17],[128,7,128,11],[128,13,128,17],[131,0,147,5],[131,6,131,15],[131,17,147,17],[132,6,132,15],[133,7,134,10],[95,6,95,8],[127,7,127,11],[127,13,127,17],[129,6,129,17],[130,0,130,17],[84,15,85,17],[84,6,85,8],[86,13,86,14],[86,15,86,17],[87,9,87,12],[87,13,87,14],[88,6,88,8],[88,9,88,12],[84,13,85,14],[88,13,88,14],[88,15,88,17],[84,9,85,12],[87,6,87,8],[125,13,125,17],[126,13,126,17],[66,15,66,17],[66,13,66,14],[67,0,67,5],[67,6,67,8],[67,9,67,12],[67,13,67,14],[67,15,67,17],[68,0,73,5],[79,0,79,5],[79,6,79,8],[79,9,79,12],[79,13,79,14],[79,15,79,17],[72,6,72,8],[72,9,72,12],[74,0,78,5],[74,6,75,8],[74,9,75,12],[74,13,75,14],[74,15,75,17],[68,13,68,14],[73,6,73,8],[60,13,61,14],[60,15,61,17],[62,13,62,14],[62,15,62,17],[63,13,63,14],[63,15,63,17],[64,13,64,14],[64,15,64,17],[65,13,65,14],[65,15,65,17],[54,0,59,5],[54,6,54,9],[54,10,54,12],[55,6,55,9],[55,10,55,12],[45,19,53,21],[54,19,59,21],[58,13,59,17],[56,6,56,9],[56,10,56,12],[57,6,57,9],[57,10,57,12],[58,6,58,9],[58,10,58,12],[59,6,59,9],[59,10,59,12],[62,9,62,12],[63,9,63,12],[64,9,64,12],[65,9,65,12],[66,9,66,12],[60,0,66,5],[60,6,61,8],[62,6,62,8],[63,6,63,8],[64,6,64,8],[65,6,65,8],[66,6,66,8],[60,9,61,12],[21,10,21,13],[21,14,21,17],[27,9,27,11],[27,12,27,17],[52,6,52,17],[53,6,53,17],[45,6,45,17],[46,6,46,17],[47,6,47,17],[48,7,48,17],[49,7,49,17],[50,7,50,17],[51,7,51,17],[39,6,40,17],[22,6,22,9],[22,10,22,13],[25,0,25,21],[26,0,26,17],[26,19,26,21],[22,14,22,17],[23,6,23,9],[23,10,23,13],[23,14,23,17],[45,0,53,5],[17,0,17,21],[18,0,18,17],[19,0,24,5],[19,9,19,11],[19,12,19,17],[20,14,20,17],[24,6,24,17],[8,3,8,6],[8,7,8,9],[9,0,9,21],[8,0,8,2],[10,0,12,5],[10,10,11,10],[10,11,11,13],[10,14,11,17],[10,18,11,18],[10,19,11,21],[18,19,18,21],[19,18,24,18],[19,19,24,21],[20,6,20,9],[20,10,20,13],[19,6,19,8],[21,6,21,9],[10,6,10,9],[11,6,11,9],[12,6,12,21],[13,0,13,21],[14,0,14,17],[14,19,14,21],[15,0,16,5],[15,18,16,18],[15,19,16,21],[15,6,16,17],[6,0,6,2],[6,10,6,13],[7,14,7,18],[8,14,8,18],[8,19,8,21],[4,14,4,18],[4,19,4,21],[5,14,5,18],[5,19,5,21],[6,14,6,18],[6,19,6,21],[7,19,7,21],[6,3,6,6],[6,7,6,9],[7,0,7,2],[7,3,7,6],[7,7,7,9],[7,10,7,13],[8,10,8,13],[3,0,3,21],[4,0,4,2],[4,3,4,6],[4,7,4,9],[4,10,4,13],[5,0,5,2],[5,3,5,6],[5,7,5,9],[5,11,5,13],[0,0,0,3],[0,4,0,5],[0,6,0,8],[0,9,0,11],[0,12,0,14],[0,15,0,17],[0,19,0,21],[1,0,2,13],[1,14,2,17],[1,18,2,18],[1,19,2,21],[73,9,73,12],[73,13,73,14],[73,15,73,17],[68,6,68,8],[68,9,68,12],[69,6,69,8],[69,9,69,12],[69,13,69,14],[69,15,69,17],[70,6,70,8],[70,9,70,12],[70,13,70,14],[70,15,70,17],[71,6,71,8],[71,9,71,12],[71,13,71,14],[71,15,71,17],[68,15,68,17],[72,13,72,14],[72,15,72,17],[41,0,42,5],[41,6,42,17],[43,6,44,17],[27,18,29,18],[27,19,29,21],[30,18,32,18],[30,19,32,21],[35,18,38,18],[35,19,44,21],[39,18,40,18],[43,0,44,5],[27,6,27,8],[28,6,29,17],[30,6,30,17],[31,8,32,17],[408,8,408,10],[408,12,408,15],[409,8,409,10],[411,0,411,16],[412,0,412,21],[27,0,29,5],[30,0,32,5],[31,6,32,7],[35,0,36,5],[35,6,35,9],[33,0,33,21],[34,0,34,17],[34,19,34,21],[35,10,35,12],[35,13,35,17],[41,18,42,18],[43,18,44,18],[45,18,53,18],[54,18,59,18],[60,18,73,18],[60,19,73,21],[36,6,38,17],[37,0,38,5],[39,0,40,5],[397,6,397,16],[398,6,398,16],[399,6,399,16],[400,6,400,16],[401,6,401,16],[402,6,403,16],[404,6,404,16],[405,6,405,16],[406,6,406,16],[391,6,391,16],[392,11,392,12],[392,14,392,16],[393,6,393,16],[394,6,394,8],[394,9,394,16],[395,6,395,16],[396,11,396,12],[396,14,396,16],[385,6,385,16],[386,6,386,8],[386,9,386,16],[387,6,387,16],[388,11,388,12],[388,14,388,16],[389,6,389,16],[390,6,390,8],[390,9,390,16],[382,17,411,17],[406,19,411,21],[419,19,427,21],[430,19,433,21],[436,19,443,21],[372,19,380,21],[377,18,380,18],[382,19,397,21],[390,18,393,18],[394,18,397,18],[398,19,405,21],[400,18,401,18],[380,0,380,17],[381,0,381,17],[381,19,381,21],[382,9,382,16],[383,6,383,16],[384,8,384,9],[388,8,388,9],[392,8,392,9],[396,8,396,9],[382,6,382,8],[384,11,384,12],[384,14,384,16],[402,18,403,18],[404,18,405,18],[398,18,399,18],[406,18,411,18],[419,18,427,18],[432,18,433,18],[439,18,440,18],[441,18,443,18],[341,18,342,18],[343,18,344,18],[354,18,358,18],[360,18,361,18],[372,18,376,18],[428,0,428,21],[429,0,429,17],[429,19,429,21],[430,18,431,18],[430,6,431,17],[431,0,431,2],[431,3,431,5],[432,6,433,17],[434,0,434,21],[435,0,435,17],[435,19,435,21],[341,19,346,21],[345,18,346,18],[353,18,353,21],[354,19,358,21],[359,18,359,21],[360,19,370,21],[362,18,363,18],[382,18,385,18],[386,18,389,18],[371,19,371,21],[439,0,440,5],[441,0,443,5],[406,0,410,5],[414,0,418,5],[419,0,427,5],[430,0,430,5],[432,0,433,5],[436,0,437,5],[438,0,438,5],[359,0,359,5],[360,0,361,5],[362,0,363,5],[364,0,366,5],[372,0,379,5],[382,0,397,5],[398,0,401,5],[402,0,403,5],[404,0,405,5],[367,0,369,5],[353,6,353,16],[354,6,354,10],[354,13,354,16],[355,13,355,16],[356,13,356,16],[341,0,346,5],[347,0,347,5],[348,0,352,5],[353,0,353,5],[354,0,358,5],[334,18,335,18],[317,18,318,18],[317,19,322,21],[319,18,320,18],[321,18,322,18],[323,18,323,21],[324,19,325,21],[326,18,326,21],[327,19,332,21],[329,18,330,18],[331,18,332,18],[327,0,332,5],[327,6,328,6],[329,6,330,6],[329,7,330,16],[331,7,331,16],[332,6,332,16],[306,18,307,18],[306,19,315,21],[308,18,309,18],[309,6,310,6],[310,18,311,18],[314,18,315,18],[319,6,320,6],[319,7,320,16],[321,6,322,6],[321,7,322,16],[324,18,325,18],[327,18,328,18],[314,0,315,5],[314,6,315,16],[316,0,316,5],[316,6,316,16],[317,0,322,5],[317,6,318,6],[317,7,318,16],[323,0,323,5],[323,6,323,16],[364,6,364,12],[364,13,364,16],[365,6,366,16],[364,18,366,18],[367,18,370,18],[375,7,375,8],[375,10,375,11],[367,6,369,16],[370,0,370,17],[371,0,371,17],[359,6,359,16],[360,6,360,12],[360,13,360,16],[361,6,361,12],[361,13,361,16],[362,6,362,12],[362,13,362,16],[363,6,363,12],[363,13,363,16],[340,0,340,5],[340,6,340,16],[376,6,376,11],[376,12,379,16],[377,6,377,11],[378,7,378,8],[379,7,379,8],[372,17,379,17],[378,10,378,11],[379,10,379,11],[373,6,373,11],[374,7,374,8],[374,10,374,11],[372,6,372,11],[372,12,375,16],[340,18,340,21],[341,7,342,16],[343,7,344,16],[345,7,345,16],[346,6,346,16],[357,13,357,16],[358,13,358,16],[350,7,350,10],[351,7,351,10],[347,6,347,16],[347,18,347,21],[348,6,348,10],[348,11,352,16],[348,18,352,18],[348,19,352,21],[349,6,349,10],[352,6,352,10],[355,6,356,10],[357,6,357,10],[357,11,357,12],[358,6,358,10],[358,11,358,12],[341,6,342,6],[343,6,344,6],[282,14,282,16],[283,14,283,16],[336,7,337,16],[338,7,338,16],[333,0,333,5],[334,0,339,5],[334,6,335,6],[334,7,335,16],[334,19,339,21],[336,6,337,6],[336,18,337,18],[338,18,339,18],[339,6,339,16],[333,18,333,21],[333,6,333,16],[324,0,325,5],[324,6,325,16],[326,0,326,5],[326,6,326,16],[327,7,328,16],[309,7,310,16],[311,7,311,16],[305,6,305,16],[306,6,307,16],[257,9,257,12],[258,6,258,8],[292,7,293,16],[281,10,281,13],[282,10,282,13],[283,10,283,13],[289,18,303,18],[289,19,303,21],[300,12,302,12],[300,13,300,16],[302,13,302,15],[283,6,283,9],[284,6,284,9],[286,6,288,11],[264,18,288,18],[264,19,288,21],[255,17,298,17],[284,14,284,16],[272,14,272,16],[273,14,273,16],[279,14,279,16],[280,14,280,16],[281,14,281,16],[285,14,285,16],[279,6,279,9],[280,6,280,9],[281,6,281,9],[282,6,282,9],[285,6,285,9],[274,6,274,9],[274,10,274,13],[277,6,277,9],[278,6,278,9],[278,10,278,13],[284,10,284,13],[285,10,285,13],[279,10,279,13],[280,10,280,13],[276,10,276,13],[276,14,276,16],[277,10,277,13],[277,14,277,16],[262,6,262,8],[262,9,262,11],[262,12,262,16],[263,6,263,8],[263,9,263,12],[263,13,263,16],[265,7,265,10],[266,6,266,16],[267,6,268,16],[269,10,271,13],[275,6,275,9],[275,10,275,13],[269,6,271,9],[272,6,272,9],[272,10,272,13],[273,6,273,9],[273,10,273,13],[254,19,254,21],[255,0,263,5],[255,9,256,16],[255,18,263,18],[255,19,263,21],[258,9,258,13],[259,6,259,8],[239,19,253,21],[245,7,248,9],[259,9,259,11],[259,12,259,16],[260,6,260,8],[260,9,260,13],[260,14,260,16],[261,6,261,8],[261,9,261,15],[241,7,241,8],[241,11,241,16],[243,6,244,10],[243,11,243,16],[244,11,244,16],[245,11,245,16],[255,6,256,8],[257,6,257,8],[289,0,302,5],[306,0,307,5],[309,0,313,5],[301,13,301,15],[301,16,302,16],[303,0,303,17],[304,0,304,17],[304,18,305,18],[304,19,305,21],[305,0,305,5],[312,7,312,16],[312,18,313,18],[313,6,313,16],[294,6,295,6],[294,7,295,16],[296,6,297,6],[296,7,297,16],[298,6,298,16],[299,6,299,16],[300,6,302,11],[289,6,289,16],[290,6,290,16],[291,7,291,16],[292,6,293,6],[234,18,238,18],[234,19,238,21],[235,6,235,16],[236,7,236,10],[236,12,236,15],[239,11,239,16],[246,11,246,16],[239,18,253,18],[253,0,253,17],[240,7,240,8],[240,11,240,16],[240,9,242,10],[242,11,242,16],[247,11,247,16],[250,11,250,16],[251,6,252,10],[251,11,251,16],[252,11,252,16],[264,0,288,5],[237,7,237,10],[238,6,238,10],[239,0,252,5],[239,6,239,10],[286,12,288,12],[286,13,286,16],[287,13,287,15],[287,16,288,16],[288,13,288,15],[248,11,248,16],[249,11,249,16],[257,13,257,16],[258,14,258,16],[265,12,265,16],[269,14,271,16],[264,6,264,16],[234,0,238,5],[234,6,234,16],[254,0,254,16],[278,14,278,16],[274,14,274,16],[275,14,275,16],[276,6,276,9]]}
[{"$f":"'Caseload Files'!B2","v":"Teacher Caseload Review"},null,null,null,{"$f":"'Caseload Files'!D26","v":"File 16"},null,"Reviewer:",null,null,{"$f":"'Caseload Files'!F26","v":"Reviewer 16"},null,null,"Staff Reviewed:",null,null,{"$f":"'Caseload Files'!I26","v":"Staff 16"},null,null,"Score","Findings/Notes"]
[{"$f":"'Caseload Files'!B2","v":"Teacher Caseload Review"},null,null,null,null,null,null,null,null,null,null,null,null,null,null,null,null,null,"Rating","Record notes\nand/or findings."]
[]
[]
["Student Name:",null,null,{"$f":"'Caseload Files'!$L$26","v":"Student 16"},null,null,null,"Date of Birth:",null,null,{"$f":"'Caseload Files'!$R$26","v":"2016-01-16"},null,null,null,"Current IEP Meeting Date:"]
["SIMS Numer:",null,null,{"$f":"'Caseload Files'!$O$26","v":160123456},null,null,null,"Age/Grade:",null,null,{"$f":"INT(YEARFRAC(K5,TODAY()))","v":5},"/Sophomore",null,null,"Previous IEP Meeting Date:"]
["School District:",null,null,{"$f":"'Caseload Files'!B3","v":"District 00-0"},null,null,null,"Disability Code:",null,null,{"$f":"'Caseload Files'!$W$26","v":"DisCode 16"},null,null,null,"Current Eligibility Determination Date:"]
["School Name:",null,null,{"$f":"'Caseload Files'!E6","v":"School Name"},null,null,null,"Race/Ethnicity:",null,null,{"$f":"'Caseload Files'!T26","v":"Race 16"},null,null,null,"Previous Eligibility Determination Date:"]
["School Year:",null,null,{"$f":"'Caseload Files'!E7","v":"1998-1999"},null,null,null,"Type of Review:",null,null,{"$f":"'Caseload Files'!Z26","v":"Type 16"},null,null,null,"Date of Review:"]
[]
[{"$f":"HYPERLINK(\"http://sdlegislature.gov/Rules/DisplayRule.aspx?Rule=24:05\",\"Subsection Title and \nCorresponding ARSD Links \")","v":"Subsection Title and \nCorresponding ARSD Links "},null,null,null,null,null,"Yellow boxes are prompts",null,null,null,null,"Use checkboxes to help record findings.",null,null,"Voided space and/or clarifying information.",null,null,null,"\"N/A\" may be appropriate for certain sections.","Findings/Notes"]
[null,null,null,null,null,null,"for information."]
[]
[]
[{"$f":"HYPERLINK(\"https://gosynth.com/p/s/aboqwv\",\"Record of Access\")","v":"Record of Access"},null,null,null,null,null,null,null,null,null,null,null,null,null,null,null,null,null,{"$f":"IFERROR(Y17/X17,\"N/A\")","v":"N/A"},"Findings/Notes"]
[{"$f":"HYPERLINK(\"http://sdlegislature.gov/Rules/DisplayRule.aspx?Rule=24:05:29:15\",\"Record of Access\n(24:05:29:15)\")","v":"Record of Access\n(24:05:29:15)"},null,null,null,null,null,null,null,null,null,null,null,null,null,null,null,null,null,"Select","V16",null,null,null,null,{"$f":"S16","v":"Select"},{"$f":"S16","v":"Select"}]
[null,null,null,null,null,null,null,null,null,null,null,null,null,null,null,null,null,null,null,null,null,null,null,{"$f":"Y17+Z17","v":0},{"$f":"COUNTIF(Y16,\"Yes\")*3","v":0},{"$f":"COUNTIF(Z16,\"No\")*3","v":0}]
[]
[{"$f":"HYPERLINK(\"https://gosynth.com/p/s/grdmsy\",\"Referral\")","v":"Referral"},null,null,null,null,null,null,null,null,null,null,null,null,null,null,null,null,null,{"$f":"IFERROR(Y21/X21,\"N/A\")","v":"N/A"}]
[{"$f":"HYPERLINK(\"http://sdlegislature.gov/Rules/DisplayRule.aspx?Rule=24:05:24:01\",\"Referral Document\n(initial only)\n(24:05:24:01)\")","v":"Referral Document\n(initial only)\n(24:05:24:01)"},null,null,null,null,null,"Date of referral:",null,null,null,null,null,"The top two spaces are available to type in.",null,null,null,null,null,"Select","V20",null,null,null,null,{"$f":"S20","v":"Select"},{"$f":"S20","v":"Select"}]
[null,null,null,null,null,null,"List all areas of referral:",null,null,null,null,null,null,null,null,null,null,null,null,null,null,null,null,{"$f":"Y21+Z21","v":0},{"$f":"COUNTIF(Y20,\"Yes\")*3","v":0},{"$f":"COUNTIF(Z20,\"No\")*3","v":0}]
[]
[]
[]
[null,null,null,null,null,null,"If referral can not be found and is older than three years, N/A is appropriate."]
[]
[{"$f":"HYPERLINK(\"https://gosynth.com/p/s/lihblf\",\"Initial Placement\")","v":"Initial Placement"},null,null,null,null,null,null,null,null,null,null,null,null,null,null,null,null,null,{"$f":"IFERROR(Y33/X33,\"N/A\")","v":"N/A"}]
[{"$f":"HYPERLINK(\"http://sdlegislature.gov/rules/DisplayRule.aspx?Rule=24:05:27:04.01\",\"Consent Signed for Initial Placement \ninto Special Education\n(24:05:27:04.01)\")","v":"Consent Signed for Initial Placement \ninto Special Education\n(24:05:27:04.01)"},null,null,null,null,null,"Date Signed:",null,null,null,null,null,null,null,null,null,null,null,"Select","V28",null,null,null,null,{"$f":"S28","v":"Select"},{"$f":"S28","v":"Select"}]
[null,null,null,null,null,null,"(The Consent Signed for Initial Placement into Special Education form is a separate document.  In the past, it may have been found at the end of the IEP.",null,null,null,null,null,null,null,null,null,null,null,null,null,null,null,null,{"$f":"Y29+Z29","v":0},{"$f":"COUNTIF(Y28,\"Yes\")*3","v":0},{"$f":"COUNTIF(Z28,\"No\")*3","v":0}]
[]
[{"$f":"HYPERLINK(\"https://sdlegislature.gov/Rules/DisplayRule.aspx?Rule=24:05:25:04.02\",\"Determination of Needed \nEvaluation Data\n(24:05:25:04.02)\")","v":"Determination of Needed \nEvaluation Data\n(24:05:25:04.02)"},null,null,null,null,null,"Did the team review existing data before completing the PPWN Consent?",null,null,null,null,null,null,null,null,null,null,null,"Select","V31",null,null,null,null,{"$f":"S31","v":"Select"},{"$f":"S31","v":"Select"}]
[null,null,null,null,null,null,"Select",null,"The existing data includes evaluations and information provided by the parents, current classroom-based local or state assessments, and observations by teachers and related services providers.",null,null,null,null,null,null,null,null,null,null,null,null,null,null,{"$f":"Y32+Z32","v":0},{"$f":"COUNTIF(Y31,\"Yes\")*3","v":0},{"$f":"COUNTIF(Z31,\"No\")*3","v":0}]
[null,null,null,null,null,null,null,null,null,null,null,null,null,null,null,null,null,null,null,null,null,null,null,{"$f":"(X32+X29)/2","v":0},{"$f":"(Y32+Y29)/2","v":0}]
[]
[{"$f":"HYPERLINK(\"https://gosynth.com/p/s/qxevgy\",\"Evaluation\")","v":"Evaluation"},null,null,null,null,null,null,null,null,null,null,null,null,null,null,null,null,null,{"$f":"IFERROR(Y38/X38,\"N/A\")","v":"N/A"},{"$f":"IFERROR(Y58/X58,\"N/A\")","v":"N/A"}]
[{"$f":"HYPERLINK(\"http://sdlegislature.gov/rules/DisplayRule.aspx?Rule=24:05:25:02.01\",\"Initial Evaluation \n(24:05:25:02.01)\")","v":"Initial Evaluation \n(24:05:25:02.01)"},null,null,null,null,null,"PPWN Consent was Sent:",null,null,null,null,null,null,"Use the most recent evaluation. ",null,null,null,null,"Select","V36",null,null,null,null,{"$f":"S36","v":"Select"},{"$f":"S36","v":"Select"}]
[null,null,null,null,null,null,{"$f":"HYPERLINK(\"https://gosynth.com/p/s/qxevgy\",\"Consent was acquired for initial evaluation. \n\nIf consent was not given by the parent for reevaluation, evidence of  attempts were made to elicit parent.\")","v":"Consent was acquired for initial evaluation. \n\nIf consent was not given by the parent for reevaluation, evidence of  attempts were made to elicit parent."},null,null,null,null,null,null,null,null,null,null,null,null,null,null,null,null,{"$f":"Y37+Z37","v":0},{"$f":"COUNTIF(Y36,\"Yes\")*3","v":0},{"$f":"COUNTIF(Z36,\"No\")*3","v":0}]
[{"$f":"HYPERLINK(\"http://sdlegislature.gov/Rules/DisplayRule.aspx?Rule=24:05:25:06.01\",\"Reevaluation\n(24:05:25:06.01)\")","v":"Reevaluation\n(24:05:25:06.01)"},null,null,null,null,null,null,null,null,null,null,null,null,null,null,null,null,null,null,null,null,null,null,{"$f":"(X37+X41+X43+X45+X47+X56+X62+X76+X86+X100+X104+X106+X108+X110+X112+X115+X117+X120)/18","v":0},{"$f":"(Y37+Y41+Y43+Y45+Y47+Y56+Y62+Y76+Y86+Y100+Y104+Y106+Y108+Y110+Y112+Y115+Y117+Y120)/18","v":0}]
[]
[{"$f":"HYPERLINK(\"http://sdlegislature.gov/Rules/DisplayRule.aspx?Rule=24:05:25:16\",\"Parent Input into Evalaution\n(24:05:25:16)\")","v":"Parent Input into Evalaution\n(24:05:25:16)"},null,null,null,null,null,{"$f":"HYPERLINK(\"https://gosynth.com/p/s/ycomsx\",\"Parent input must be documented in the PPWN Consent on input exiting data and \nupcoming evaluation.   (refer to phone logs, progress notes, prior notice)\")","v":"Parent input must be documented in the PPWN Consent on input exiting data and \nupcoming evaluation.   (refer to phone logs, progress notes, prior notice)"},null,null,null,null,null,null,null,null,null,null,null,"Select",null,null,null,null,null,{"$f":"S40","v":"Select"},{"$f":"S40","v":"Select"}]
[null,null,null,null,null,null,null,null,null,null,null,null,null,null,null,null,null,null,null,null,null,null,null,{"$f":"Y41+Z41","v":0},{"$f":"COUNTIF(Y40,\"Yes\")*3","v":0},{"$f":"COUNTIF(Z40,\"No\")*3","v":0}]
[{"$f":"HYPERLINK(\"http://sdlegislature.gov/Rules/DisplayRule.aspx?Rule=24:05:30:06.01\",\"Procedural Safeguards\n(24:05:30:06.01)\")","v":"Procedural Safeguards\n(24:05:30:06.01)"},null,null,null,null,null,{"$f":"HYPERLINK(\"https://gosynth.com/p/s/tdkmfj\",\"[INCLUDE LANGUAGE FOR THIS SECTION]\")","v":"[INCLUDE LANGUAGE FOR THIS SECTION]"},null,null,null,null,null,null,null,null,null,null,null,"Select",null,null,null,null,null,{"$f":"S42","v":"Select"},{"$f":"S42","v":"Select"}]
[null,null,null,null,null,null,null,null,null,null,null,null,null,null,null,null,null,null,null,null,null,null,null,{"$f":"Y43+Z43","v":0},{"$f":"COUNTIF(Y42,\"Yes\")*3","v":0},{"$f":"COUNTIF(Z42,\"No\")*3","v":0}]
[{"$f":"HYPERLINK(\"http://sdlegislature.gov/Rules/DisplayRule.aspx?Rule=24:05:25:03\",\"Extension on 25 Day Timeline\n(24:05:25:03)\")","v":"Extension on 25 Day Timeline\n(24:05:25:03)"},null,null,null,null,null,{"$f":"HYPERLINK(\"https://gosynth.com/p/s/wcheia\",\"Documented agreement with parent and district on new extension date.  \nEligibility and IEP developed 30 days after the agreed extension date.\")","v":"Documented agreement with parent and district on new extension date.  \nEligibility and IEP developed 30 days after the agreed extension date."},null,null,null,null,null,null,null,null,null,null,null,"Select",null,null,null,null,null,{"$f":"S44","v":"Select"},{"$f":"S44","v":"Select"}]
[null,null,null,null,null,null,null,null,null,null,null,null,null,null,null,null,null,null,null,null,null,null,null,{"$f":"Y45+Z45","v":0},{"$f":"COUNTIF(Y44,\"Yes\")*3","v":0},{"$f":"COUNTIF(Z44,\"No\")*3","v":0}]
[{"$f":"HYPERLINK(\"http://sdlegislature.gov/Rules/DisplayRule.aspx?Rule=24:05:30:05\",\"Content of Prior Written Notice/\nConsent for Evaluation\n (24:05:30:05)\")","v":"Content of Prior Written Notice/\nConsent for Evaluation\n (24:05:30:05)"},null,null,null,null,null,{"$f":"HYPERLINK(\"https://gosynth.com/p/s/xymlpn\",\"Check the following:\")","v":"Check the following:"},null,null,null,null,null,null,null,null,null,null,null,"Select","V46",null,null,null,null,{"$f":"S46","v":"Select"},{"$f":"S46","v":"Select"}]
[null,null,null,null,null,null,"PPWN must be individualized to the student, IEP team discussions and situation.",null,null,null,null,null,null,null,null,null,null,null,null,null,null,null,null,{"$f":"Y47+Z47","v":0},{"$f":"COUNTIF(Y46,\"Yes\")*3","v":0},{"$f":"COUNTIF(Z46,\"No\")*3","v":0}]
[]
[null,null,null,null,null,null,null,"Explanation of why the district proposed or refused to take the action"]
[null,null,null,null,null,null,null,"Description of other options considered and why they were rejected "]
[null,null,null,null,null,null,null,"Description of evidence used for the proposed or refused action"]
[null,null,null,null,null,null,null,"Description of other factors that are relevant to proposal or refusal"]
[]
[null,null,null,null,null,null,"All components should be completed and have a clear description."]
[{"$f":"HYPERLINK(\"http://sdlegislature.gov/Rules/DisplayRule.aspx?Rule=24:05:30:05\",\"Timeline of Prior Written Notice/\nConsent for Evaluation\n(24:05:25:03)\")","v":"Timeline of Prior Written Notice/\nConsent for Evaluation\n(24:05:25:03)"},null,null,null,null,null,{"$f":"HYPERLINK(\"https://gosynth.com/p/s/xylthm\",\"Date sent:\")","v":"Date sent:"},null,null,null,"2020-01-18",null,null,null,null,null,null,null,"Select","V54",null,null,null,null,{"$f":"S55","v":"Select"},{"$f":"S55","v":"Select"}]
[null,null,null,null,null,null,"Date signed:",null,null,null,"2020-01-19",null,null,null,null,null,null,null,null,null,null,null,null,{"$f":"Y56+Z56","v":0},{"$f":"COUNTIF(Y55,\"Yes\")*3","v":0},{"$f":"COUNTIF(Z55,\"No\")*3","v":0}]
[null,null,null,null,null,null,"Date received:",null,null,null,"2020-01-20"]
[null,null,null,null,null,null,"25 school days:",null,null,null,{"$f":"WORKDAY(K57,25)","v":"2020-02-24"}]
[null,null,null,null,null,null,"30 calendar days:"]
[null,null,null,null,null,null,"Extension on 25 day:"]
[{"$f":"HYPERLINK(\"http://sdlegislature.gov/Rules/DisplayRule.aspx?Rule=24:05:25:04.02\",\"Evaluations to be Completed by the District per Parental Prior Written/Consent for Evaluation\n(24:05:25:04.02)\")","v":"Evaluations to be Completed by the District per Parental Prior Written/Consent for Evaluation\n(24:05:25:04.02)"},null,null,null,null,null,{"$f":"HYPERLINK(\"https://gosynth.com/p/s/zgdeev\",\"List areas:\")","v":"List areas:"},null,null,"Test administered:",null,null,null,"Test date:",null,"Evaluator:",null,null,"Select","V60",null,null,null,null,{"$f":"S61","v":"Select"},{"$f":"S61","v":"Select"}]
[null,null,null,null,null,null,null,null,null,null,null,null,null,null,null,null,null,null,null,null,null,null,null,{"$f":"Y62+Z62","v":0},{"$f":"COUNTIF(Y61,\"Yes\")*3","v":0},{"$f":"COUNTIF(Z61,\"No\")*3","v":0}]
[]
[]
[]
[]
[]
["For more evaluations requested click the [+]"]
[]
[]
[]
[]
[]
[]
[{"$f":"HYPERLINK(\"http://sdlegislature.gov/Rules/DisplayRule.aspx?Rule=24:05:25:04.02\",\"Existing Evaluation Data\nto be Pulled Forward\n(24:05:25:04.02)\")","v":"Existing Evaluation Data\nto be Pulled Forward\n(24:05:25:04.02)"},null,null,null,null,null,{"$f":"HYPERLINK(\"https://gosynth.com/p/s/pfohnr\",\"List areas:\")","v":"List areas:"},null,null,"Test administered:",null,null,null,"Test date:",null,"Evaluator:",null,null,"Select","V74",null,null,null,null,{"$f":"S75","v":"Select"},{"$f":"S75","v":"Select"}]
[null,null,null,null,null,null,null,null,null,null,null,null,null,null,null,null,null,null,null,null,null,null,null,{"$f":"Y76+Z76","v":0},{"$f":"COUNTIF(Y75,\"Yes\")*3","v":0},{"$f":"COUNTIF(Z75,\"No\")*3","v":0}]
[]
[]
[]
["For more existing data requested click the [+]"]
[]
[]
[]
[]
[{"$f":"HYPERLINK(\"http://sdlegislature.gov/Rules/DisplayRule.aspx?Rule=24:05:25:04.02\",\"Skills Based Assessment and Report\n(24:05:25:04.02)\")","v":"Skills Based Assessment and Report\n(24:05:25:04.02)"},null,null,null,null,null,{"$f":"HYPERLINK(\"https://gosynth.com/p/s/tbqnts\",\"List areas:\")","v":"List areas:"},null,null,"Test administered:",null,null,null,"Test date:",null,"Evaluator:",null,null,"Select","V84",null,null,null,null,{"$f":"S85","v":"Select"},{"$f":"S85","v":"Select"}]
[null,null,null,null,null,null,null,null,null,null,null,null,null,null,null,null,null,null,null,null,null,null,null,{"$f":"Y86+Z86","v":0},{"$f":"COUNTIF(Y85,\"Yes\")*3","v":0},{"$f":"COUNTIF(Z85,\"No\")*3","v":0}]
[]
[null,null,null,null,null,null,null,null,null,null,null,null,null,null,null,null,null,null,null,null,null,null,null,{"$f":"(X86+X100+X104+X106+X108+X110+X112+X115+X117+X120)/10","v":0},{"$f":"(Y86+Y100+Y104+Y106+Y108+Y110+Y112+Y115+Y117+Y120)/10","v":0}]
[]
[]
[]
["For more skills based requested click the [+]"]
[]
[]
[]
[]
[]
[]
[{"$f":"HYPERLINK(\"http://sdlegislature.gov/Rules/DisplayRule.aspx?Rule=24:05:25:03\",\"Consent Received\n(24:05:25:03)\")","v":"Consent Received\n(24:05:25:03)"},null,null,null,null,null,{"$f":"HYPERLINK(\"https://gosynth.com/p/s/ctcnlr\",\"Consent received date:\")","v":"Consent received date:"},null,null,null,null,{"$f":"K57","v":"2020-01-20"},null,null,"Mark \"No\" if dates are outside of \"consent received\" and/or \"25 school days\".",null,null,null,"Select","V98",null,null,null,null,{"$f":"S99","v":"Select"},{"$f":"S99","v":"Select"}]
[null,null,null,null,null,null,"Earliest testing date:",null,null,null,null,{"$f":"MIN(N63:O74,N87:O98)","v":"00:00:00"},null,null,null,null,null,null,null,null,null,null,null,{"$f":"Y100+Z100","v":0},{"$f":"COUNTIF(Y99,\"Yes\")*3","v":0},{"$f":"COUNTIF(Z99,\"No\")*3","v":0}]
[null,null,null,null,null,null,"Latest testing date:",null,null,null,null,{"$f":"MAX(N63:O74,N87:O98)","v":"00:00:00"}]
[null,null,null,null,null,null,"Within 25 School Days:",null,null,null,null,{"$f":"IF(ISBLANK(K60),K58,K60)","v":"2020-02-24"}]
[{"$f":"HYPERLINK(\"http://sdlegislature.gov/Rules/DisplayRule.aspx?Rule=24:05:25:20\",\"All Evaluations Administered \n(24:05:25:20)\")","v":"All Evaluations Administered \n(24:05:25:20)"},null,null,null,null,null,{"$f":"HYPERLINK(\"https://gosynth.com/p/s/mkcdef\",\"All evaluations marked on the PWWN/Consent for Evaluation form must be administered.\")","v":"All evaluations marked on the PWWN/Consent for Evaluation form must be administered."},null,null,null,null,null,null,null,null,null,null,null,"Select","V102",null,null,null,null,{"$f":"S103","v":"Select"},{"$f":"S103","v":"Select"}]
[null,null,null,null,null,null,null,null,null,null,null,null,null,null,null,null,null,null,null,null,null,null,null,{"$f":"Y104+Z104","v":0},{"$f":"COUNTIF(Y103,\"Yes\")*3","v":0},{"$f":"COUNTIF(Z103,\"No\")*3","v":0}]
[{"$f":"HYPERLINK(\"http://sdlegislature.gov/Rules/DisplayRule.aspx?Rule=24:05:25:06.01\",\"Consent was Acquired\n(24:05:25:06.01)\")","v":"Consent was Acquired\n(24:05:25:06.01)"},null,null,null,null,null,{"$f":"HYPERLINK(\"https://gosynth.com/p/s/mkcdef\",\"All evaluations administered must be requested on the PWWN/Consent for Evaluation \nform.\")","v":"All evaluations administered must be requested on the PWWN/Consent for Evaluation \nform."},null,null,null,null,null,null,null,null,null,null,null,"Select",null,null,null,null,null,{"$f":"S105","v":"Select"},{"$f":"S105","v":"Select"}]
[null,null,null,null,null,null,null,null,null,null,null,null,null,null,null,null,null,null,null,null,null,null,null,{"$f":"Y106+Z106","v":0},{"$f":"COUNTIF(Y105,\"Yes\")*3","v":0},{"$f":"COUNTIF(Z105,\"No\")*3","v":0}]
[{"$f":"HYPERLINK(\"http://sdlegislature.gov/Rules/DisplayRule.aspx?Rule=24:05:25:04\",\"Variety of Sources \n(24:05:25:04)\")","v":"Variety of Sources \n(24:05:25:04)"},null,null,null,null,null,{"$f":"HYPERLINK(\"https://gosynth.com/p/s/mkcdef\",\"Appropritate means to provide evaluations for accurate data were used. \")","v":"Appropritate means to provide evaluations for accurate data were used. "},null,null,null,null,null,null,null,null,null,null,null,"Select",null,null,null,null,null,{"$f":"S107","v":"Select"},{"$f":"S107","v":"Select"}]
[null,null,null,null,null,null,null,null,null,null,null,null,null,null,null,null,null,null,null,null,null,null,null,{"$f":"Y108+Z108","v":0},{"$f":"COUNTIF(Y107,\"Yes\")*3","v":0},{"$f":"COUNTIF(Z107,\"No\")*3","v":0}]
[{"$f":"HYPERLINK(\"http://sdlegislature.gov/Rules/DisplayRule.aspx?Rule=24:05:25:04\",\"Met Requirements for the Disability\n(24:05:25:04) \")","v":"Met Requirements for the Disability\n(24:05:25:04) "},null,null,null,null,null,{"$f":"HYPERLINK(\"https://gosynth.com/p/s/mkcdef\",\"Comprehensive Evaluations in all areas required for the disability. \")","v":"Comprehensive Evaluations in all areas required for the disability. "},null,null,null,null,null,null,null,null,null,null,null,"Select",null,null,null,null,null,{"$f":"S109","v":"Select"},{"$f":"S109","v":"Select"}]
[null,null,null,null,null,null,null,null,null,null,null,null,null,null,null,null,null,null,null,null,null,null,null,{"$f":"Y110+Z110","v":0},{"$f":"COUNTIF(Y109,\"Yes\")*3","v":0},{"$f":"COUNTIF(Z109,\"No\")*3","v":0}]
[{"$f":"HYPERLINK(\"http://sdlegislature.gov/Rules/DisplayRule.aspx?Rule=24:05:25:03\",\"Eligibility within 30 Calendar Days \n(24:05:25:03)\")","v":"Eligibility within 30 Calendar Days \n(24:05:25:03)"},null,null,null,null,null,{"$f":"HYPERLINK(\"https://gosynth.com/p/s/mkcdef\",\"Day 26 was on:\")","v":"Day 26 was on:"},null,null,null,null,{"$f":"WORKDAY(L102,1)","v":"2020-02-25"},null,null,null,null,null,null,"Select","V110",null,null,null,null,{"$f":"S111","v":"Select"},{"$f":"S111","v":"Select"}]
[null,null,null,null,null,null,"Eligibility Determination Date:",null,null,null,null,{"$f":"T7","v":"00:00:00"},null,null,null,null,null,null,null,null,null,null,null,{"$f":"Y112+Z112","v":0},{"$f":"COUNTIF(Y111,\"Yes\")*3","v":0},{"$f":"COUNTIF(Z111,\"No\")*3","v":0}]
[null,null,null,null,null,null,"Eligibility meeting date should have been by:",null,null,null,null,null,null,null,{"$f":"K59","v":"00:00:00"}]
[{"$f":"HYPERLINK(\"http://sdlegislature.gov/Rules/DisplayRule.aspx?Rule=24:05:25:04.03\",\"Student Eligible for Special Education \n(24:05:25:04.03)\")","v":"Student Eligible for Special Education \n(24:05:25:04.03)"},null,null,null,null,null,null,null,null,null,null,null,null,null,null,null,null,null,"Select",null,null,null,null,null,{"$f":"S114","v":"Select"},{"$f":"S114","v":"Select"}]
[null,null,null,null,null,null,null,null,null,null,null,null,null,null,null,null,null,null,null,null,null,null,null,{"$f":"Y115+Z115","v":0},{"$f":"COUNTIF(Y114,\"Yes\")*3","v":0},{"$f":"COUNTIF(Z114,\"No\")*3","v":0}]
[{"$f":"HYPERLINK(\"http://sdlegislature.gov/Rules/DisplayRule.aspx?Rule=24:05:25:06\",\"Three Year Re-Evaluation\n(24:05:25:06)\")","v":"Three Year Re-Evaluation\n(24:05:25:06)"},null,null,null,null,null,{"$f":"HYPERLINK(\"https://gosynth.com/p/s/mkcdef\",\"Current Eligibility Determination Date:\")","v":"Current Eligibility Determination Date:"},null,null,null,null,null,null,{"$f":"L112","v":"00:00:00"},null,null,null,null,"Select",null,null,null,null,null,{"$f":"S116","v":"Select"},{"$f":"S116","v":"Select"}]
[null,null,null,null,null,null,"Previous Eligibility Determination Date:",null,null,null,null,null,null,{"$f":"T8","v":"00:00:00"},null,null,null,null,null,null,null,null,null,{"$f":"Y117+Z117","v":0},{"$f":"COUNTIF(Y116,\"Yes\")*3","v":0},{"$f":"COUNTIF(Z116,\"No\")*3","v":0}]
[]
[{"$f":"HYPERLINK(\"https://gosynth.com/p/s/mkcdef\",\"Evaluated to Dismiss from Services  \")","v":"Evaluated to Dismiss from Services  "},null,null,null,null,null,null,null,null,null,null,null,null,null,null,null,null,null,"Select",null,null,null,null,null,{"$f":"S119","v":"Select"},{"$f":"S119","v":"Select"}]
[null,null,null,null,null,null,null,null,null,null,null,null,null,null,null,null,null,null,null,null,null,null,null,{"$f":"Y120+Z120","v":0},{"$f":"COUNTIF(Y119,\"Yes\")*3","v":0},{"$f":"COUNTIF(Z119,\"No\")*3","v":0}]
[]
[{"$f":"HYPERLINK(\"https://gosynth.com/p/s/giwoma\",\"Eligibility Document for Specific Learning Disability\")","v":"Eligibility Document for Specific Learning Disability"},null,null,null,null,null,null,null,null,null,null,null,null,null,null,null,null,null,{"$f":"IFERROR(Y126/X126,\"N/A\")","v":"N/A"}]
["If student is not eligible for Specific Learning Disability, skip this section.  Click on the [+] button if section is not visible. ",null,null,null,null,null,null,null,null,null,null,null,null,null,null,null,null,null,"Select","V122",null,null,null,null,{"$f":"S123","v":"Select"},{"$f":"S123","v":"Select"}]
[{"$f":"HYPERLINK(\"http://sdlegislature.gov/Rules/DisplayRule.aspx?Rule=24:05:24.01:19\",\"Specific Learning Disabilities\n(24:05:24.01:19)\")","v":"Specific Learning Disabilities\n(24:05:24.01:19)"},null,null,null,null,null,"Check the following:",null,null,null,null,null,null,null,null,null,null,null,null,null,null,null,null,{"$f":"Y124+Z124","v":0},{"$f":"COUNTIF(Y123,\"Yes\")*3","v":0},{"$f":"COUNTIF(Z123,\"No\")*3","v":0}]
[]
[null,null,null,null,null,null,null,"Reading Comprehension",null,null,null,null,null,"Math Calculation",null,null,null,null,null,null,null,null,null,{"$f":"(X124+X132+X151+X165+X174)/5","v":0},{"$f":"(Y124+Y132+Y151+Y165+Y174)/5","v":0}]
[null,null,null,null,null,null,null,"Basic Reading Skills",null,null,null,null,null,"Math Problem Solving"]
[null,null,null,null,null,null,null,"Reading Fluency",null,null,null,null,null,"Listening Comprehension"]
[null,null,null,null,null,null,null,"Written Expression",null,null,null,null,null,"Oral Expression"]
[]
["For Initial Determination of Eligibility Only",null,null,null,null,null,null,null,null,null,null,null,null,null,null,null,null,null,"Select","V130",null,null,null,null,{"$f":"S131","v":"Select"},{"$f":"S131","v":"Select"}]
[{"$f":"HYPERLINK(\"http://sdlegislature.gov/Rules/DisplayRule.aspx?Rule=24:05:24.01:19\",\"Initial Eligibility\n(24:05:24.01:19)\")","v":"Initial Eligibility\n(24:05:24.01:19)"},null,null,null,null,null,"Written report must include:",null,null,null,null,null,null,null,null,null,null,null,null,null,null,null,null,{"$f":"Y132+Z132","v":0},{"$f":"COUNTIF(Y131,\"Yes\")*3","v":0},{"$f":"COUNTIF(Z131,\"No\")*3","v":0}]
[]
[null,null,null,null,null,null,null,"Student achieves adequately",null,null,null,null,"Lack of appropriate instruction"]
[]
[null,null,null,null,null,null,null,"Student exhibits pattern of strengths & weaknesses",null,null,null,null,"Observation of the student"]
[]
[null,null,null,null,null,null,null,null,null,null,null,null,"Relevant medical findings (if any)"]
[null,null,null,null,null,null,null,"Student was provided appropriate instruction in regular education settings by qualified personnel"]
[null,null,null,null,null,null,null,null,null,null,null,null,"Achievement level problem is/is not primarily the result of another factor (e.g. emotional disturbance, cognitive impairment, etc.)"]
[]
[]
[null,null,null,null,null,null,null,"Repeated assessment of achievement reflecting student progress"]
[]
[]
[null,null,null,null,null,null,null,"Attendance record",null,null,null,null,"Adverse effect on educational performance"]
[]
[]
["Click on the [+] button to expand or the [-] button to collapse."]
["For Reevaluation of Eligibility Only",null,null,null,null,null,null,null,null,null,null,null,null,null,null,null,null,null,"Select","V149",null,null,null,null,{"$f":"S150","v":"Select"},{"$f":"S150","v":"Select"}]
[{"$f":"HYPERLINK(\"http://sdlegislature.gov/Rules/DisplayRule.aspx?Rule=24:05:24.01:19\",\"Reevaluation of Eligibility\n(24:05:24.01:19)\")","v":"Reevaluation of Eligibility\n(24:05:24.01:19)"},null,null,null,null,null,"Written report must include:",null,null,null,null,null,null,null,null,null,null,null,null,null,null,null,null,{"$f":"Y151+Z151","v":0},{"$f":"COUNTIF(Y150,\"Yes\")*3","v":0},{"$f":"COUNTIF(Z150,\"No\")*3","v":0}]
[]
[null,null,null,null,null,null,null,"Student achieves adequately",null,null,null,null,"Achievement level problem is/is not primarily the result of another factor (e.g. emotional disturbance, cognitive impairment, etc.)"]
[]
[null,null,null,null,null,null,null,"Student exhibits pattern of strengths & weaknesses"]
[]
[]
[null,null,null,null,null,null,null,"Observation of the student"]
[null,null,null,null,null,null,null,null,null,null,null,null,"Adverse effect on educational performance"]
[null,null,null,null,null,null,null,"Relevant medical findings (if any)"]
[]
[]
["Click on the [+] button to expand or the [-] button to collapse."]
[{"$f":"HYPERLINK(\"http://sdlegislature.gov/Rules/DisplayRule.aspx?Rule=24:05:25:08\",\"Team Member Signatures \n(24:05:25:08)\")","v":"Team Member Signatures \n(24:05:25:08)"},null,null,null,null,null,"Check the following:",null,null,null,null,null,null,null,null,null,null,null,"Select","V163",null,null,null,null,{"$f":"S164","v":"Select"},{"$f":"S164","v":"Select"}]
[null,null,null,null,null,null,null,null,null,null,null,null,null,null,null,null,null,null,null,null,null,null,null,{"$f":"Y165+Z165","v":0},{"$f":"COUNTIF(Y164,\"Yes\")*3","v":0},{"$f":"COUNTIF(Z164,\"No\")*3","v":0}]
[null,null,null,null,null,null,null,"Parent",null,null,null,null,"Each group member shall certify in writing whether the report reflects the group member's conclusion. If it does not reflect the group member's conclusion, the group member must submit the conclusion in a separate statement."]
[null,null,null,null,null,null,null,"General Education Teacher"]
[{"$f":"HYPERLINK(\"http://sdlegislature.gov/Rules/DisplayRule.aspx?Rule=24:05:25:13\",\"Group Members to Certify \nReport in Writing \n(24:05:25:13)\")","v":"Group Members to Certify \nReport in Writing \n(24:05:25:13)"},null,null,null,null,null,null,"Special Education Teacher"]
[null,null,null,null,null,null,null,"Qualified interpreter of results"]
[null,null,null,null,null,null,null,"LEA Representative"]
[null,null,null,null,null,null,null,"If disagreed, written input was provided"]
[]
[null,null,null,null,null,null,"Check PWWN for eligibility decisions.                         ",null,null,null,null,"Skip to","PPWN.",null,null,null,null,null,"Select",null,null,null,null,null,{"$f":"S173","v":"Select"},{"$f":"S173","v":"Select"}]
[null,null,null,null,null,null,null,null,null,null,null,null,null,null,null,null,null,null,null,null,null,null,null,{"$f":"Y174+Z174","v":0},{"$f":"COUNTIF(Y173,\"Yes\")*3","v":0},{"$f":"COUNTIF(Z173,\"No\")*3","v":0}]
[]
[{"$f":"HYPERLINK(\"https://gosynth.com/p/s/mzphio\",\"Meeting Notice\")","v":"Meeting Notice"},null,null,null,null,null,null,null,null,null,null,null,null,null,null,null,null,null,{"$f":"IFERROR(Y184/X184,\"N/A\")","v":"N/A"}]
["Meeting Notice",null,null,null,null,null,"Date sent:",null,null,null,null,null,"From this point on use the current IEP's documentation.",null,null,null,null,null,"Select","V174",null,null,null,null,{"$f":"S177","v":"Select"},{"$f":"S177","v":"Select"}]
[{"$f":"HYPERLINK(\"http://sdlegislature.gov/Rules/DisplayRule.aspx?Rule=24:05:30:02.01\",\"(24:05:30:02.01)\")","v":"(24:05:30:02.01)"},null,null,{"$f":"HYPERLINK(\"http://sdlegislature.gov/Rules/DisplayRule.aspx?Rule=24:05:25:16\",\"(24:05:25:16)\")","v":"(24:05:25:16)"},null,null,"Meeting date:",null,null,{"$f":"T5","v":"00:00:00"},null,null,null,null,null,null,null,null,null,null,null,null,null,{"$f":"Y178+Z178","v":0},{"$f":"COUNTIF(Y177,\"Yes\")*3","v":0},{"$f":"COUNTIF(Z177,\"No\")*3","v":0}]
["Procedural Safeguards",null,null,null,null,null,"Must be given to parents annually.",null,null,null,null,null,null,null,null,null,null,null,"Select",null,null,null,null,null,{"$f":"S179","v":"Select"},{"$f":"S179","v":"Select"}]
[{"$f":"HYPERLINK(\"http://sdlegislature.gov/Rules/DisplayRule.aspx?Rule=24:05:30:06.01\",\"(24:05:30:06.01)\")","v":"(24:05:30:06.01)"},null,null,{"$f":"HYPERLINK(\"http://sdlegislature.gov/Rules/DisplayRule.aspx?Rule=24:05:30:06.02\",\"(24:05:30:06.02)\")","v":"(24:05:30:06.02)"},null,null,null,null,null,null,null,null,null,null,null,null,null,null,null,null,null,null,null,{"$f":"Y180+Z180","v":0},{"$f":"COUNTIF(Y179,\"Yes\")*3","v":0},{"$f":"COUNTIF(Z179,\"No\")*3","v":0}]
["IEP Team",null,null,null,null,null,"Complete the following:",null,null,null,null,null,null,null,null,null,null,null,"Select",null,null,null,null,null,{"$f":"S181","v":"Select"},{"$f":"S181","v":"Select"}]
[null,null,null,null,null,null,null,null,null,null,null,null,null,null,null,null,null,null,null,null,null,null,null,{"$f":"Y182+Z182","v":0},{"$f":"COUNTIF(Y181,\"Yes\")*3","v":0},{"$f":"COUNTIF(Z181,\"No\")*3","v":0}]
[null,null,null,null,null,null,null,"The documentation of people attending the IEP meeting on front page of the IEP does not imply agreement, it is for participation purposes only."]
[null,null,null,null,null,null,null,null,null,null,null,null,null,null,null,null,null,null,null,null,null,null,null,{"$f":"(X178+X180+X182+X198)/4","v":0},{"$f":"(Y178+Y180+Y182+Y198)/4","v":0}]
[null,null,null,null,null,null,null,"Identified on the meeting notice:",null,null,"Attended the meeting:",null,null,"Did not attend\nthe meeting:"]
[]
[{"$f":"HYPERLINK(\"http://sdlegislature.gov/Rules/DisplayRule.aspx?Rule=24:05:25:16\",\"(24:05:25:16)\")","v":"(24:05:25:16)"},null,null,null,null,null,null,"Parent/Guardian"]
[null,null,null,null,null,null,null,"Student"]
[null,null,null,null,null,null,null,"Gen. Ed. Teacher"]
[null,null,null,null,null,null,null,"Sp. Ed. Teacher"]
["Parent Participation",null,null,null,null,null,null,"Eval Interpreter"]
[{"$f":"HYPERLINK(\"http://sdlegislature.gov/Rules/DisplayRule.aspx?Rule=24:05:25:16\",\"(24:05:25:16)\")","v":"(24:05:25:16)"},null,null,null,null,null,null,"LEA Representative"]
[null,null,null,null,null,null,null,"List Others"]
[null,null,null,null,null,null,null,"List Others"]
[null,null,null,null,null,null,null,"List Others"]
[]
["IEP Team Attendance \n (24:05:27:01.05)",null,null,null,null,null,"A member of the IEP team may be excused from attending, in whole or in part, an IEP team meeting that involves a modification to or discussion of the member's area of the curriculum or related services, if:\n   (1) The parent and school district consent in writing to the excusal; and\n   (2) The member submits, in writing to the parent and the IEP team, input into the development of the IEP before the meeting.",null,null,null,null,null,null,null,null,null,null,null,"Select","V194",null,null,null,null,{"$f":"S197","v":"Select"},{"$f":"S197","v":"Select"}]
[null,null,null,null,null,null,null,null,null,null,null,null,null,null,null,null,null,null,null,null,null,null,null,{"$f":"Y198+Z198","v":0},{"$f":"COUNTIF(Y197,\"Yes\")*3","v":0},{"$f":"COUNTIF(Z197,\"No\")*3","v":0}]
[]
[]
[]
[]
[{"$f":"HYPERLINK(\"https://gosynth.com/p/s/jshfqs\",\"          Individual Education Plan (Use the most recent IEP.)\n\")","v":"          Individual Education Plan (Use the most recent IEP.)\n"},null,null,null,null,null,null,null,null,null,null,null,null,null,null,null,null,null,{"$f":"IFERROR(Y210/X210,\"N/A\")","v":"N/A"}]
[{"$f":"HYPERLINK(\"http://sdlegislature.gov/Rules/DisplayRule.aspx?Rule=24:05:25:04.03\",\"Evaluation Reports Given to Parents \n(24:05:25:04.03)\")","v":"Evaluation Reports Given to Parents \n(24:05:25:04.03)"},null,null,null,null,null,"Evidence the parent received a copy of the reports (e.g.  initials on the front page IEP or other evidence). ",null,null,null,null,null,null,null,null,null,null,null,"Select","V201",null,null,null,null,{"$f":"S204","v":"Select"},{"$f":"S204","v":"Select"}]
[null,null,null,null,null,null,null,null,null,null,null,null,null,null,null,null,null,null,null,null,null,null,null,{"$f":"Y205+Z205","v":0},{"$f":"COUNTIF(Y204,\"Yes\")*3","v":0},{"$f":"COUNTIF(Z204,\"No\")*3","v":0}]
[{"$f":"HYPERLINK(\"http://sdlegislature.gov/Rules/DisplayRule.aspx?Rule=24:05:25:19\",\"Copy of IEP Given to Parents \n(24:05:25:19)\")","v":"Copy of IEP Given to Parents \n(24:05:25:19)"},null,null,null,null,null,"Evidence copy of the IEP was given to parents (e.g.  initials on the front page, addressed in PPWN, or other evidence).",null,null,null,null,null,null,null,null,null,null,null,"Select",null,null,null,null,null,{"$f":"S206","v":"Select"},{"$f":"S206","v":"Select"}]
[null,null,null,null,null,null,null,null,null,null,null,null,null,null,null,null,null,null,null,null,null,null,null,{"$f":"Y207+Z207","v":0},{"$f":"COUNTIF(Y206,\"Yes\")*3","v":0},{"$f":"COUNTIF(Z206,\"No\")*3","v":0}]
[{"$f":"HYPERLINK(\"http://sdlegislature.gov/Rules/DisplayRule.aspx?Rule=24:05:27:08\",\"Met Annually\n(24:05:27:08)\")","v":"Met Annually\n(24:05:27:08)"},null,null,null,null,null,"Current IEP Meeting Date:",null,null,null,null,{"$f":"T5","v":"00:00:00"},null,null,null,null,null,null,"Select",null,null,null,null,null,{"$f":"S208","v":"Select"},{"$f":"S208","v":"Select"}]
[null,null,null,null,null,null,"Previous IEP Meeting Date:",null,null,null,null,{"$f":"T6","v":"00:00:00"},null,null,null,null,null,null,null,null,null,null,null,{"$f":"Y209+Z209","v":0},{"$f":"COUNTIF(Y208,\"Yes\")*3","v":0},{"$f":"COUNTIF(Z208,\"No\")*3","v":0}]
[null,null,null,null,null,null,null,null,null,null,null,null,null,null,null,null,null,null,null,null,null,null,null,{"$f":"(X205+X207+X209)/3","v":0},{"$f":"(Y205+Y207+Y209)/3","v":0}]
[{"$f":"HYPERLINK(\"https://gosynth.com/p/s/eypdgf\",\"Present Levels of Academic Achievement & Functional Performance\")","v":"Present Levels of Academic Achievement & Functional Performance"},null,null,null,null,null,null,null,null,null,null,null,null,null,null,null,null,null,{"$f":"IFERROR(Y243/X243,\"N/A\")","v":"N/A"}]
[{"$f":"HYPERLINK(\"http://sdlegislature.gov/Rules/DisplayRule.aspx?Rule=24:05:27:01.03\",\"Progress/Involvement in \nGeneral Education Curriculum\n(24:05:27:01.03)\")","v":"Progress/Involvement in \nGeneral Education Curriculum\n(24:05:27:01.03)"},null,null,null,null,null,"A statement of the student's present levels of academic achievement and functional performance, including:\n   (a)  How the student's disability affects the student's involvement and progress in the general education curriculum (i.e., the same curriculum as for nondisabled students); or\n   (b)  For preschool student, as appropriate, how the disability affects the student's participation in appropriate activities;\nis found in the document.",null,null,null,null,null,null,null,null,null,null,null,"Select","V209",null,null,null,null,{"$f":"S212","v":"Select"},{"$f":"S212","v":"Select"}]
[null,null,null,null,null,null,null,null,null,null,null,null,null,null,null,null,null,null,null,null,null,null,null,{"$f":"Y213+Z213","v":0},{"$f":"COUNTIF(Y212,\"Yes\")*3","v":0},{"$f":"COUNTIF(Z212,\"No\")*3","v":0}]
[]
[{"$f":"HYPERLINK(\"https://sdlegislature.gov/Rules/DisplayRule.aspx?Rule=24:05:25:16\",\"Parent Participation\n(24:05:25:16)\")","v":"Parent Participation\n(24:05:25:16)"},null,null,null,null,null,"The purpose of this area for parent to provide IEP team information about how the child’s disability is impacted at home. Parents can also provide input on types of strategies and supports they provide at home.",null,null,null,null,null,null,null,null,null,null,null,"Select",null,null,null,null,null,{"$f":"S215","v":"Select"},{"$f":"S215","v":"Select"}]
[null,null,null,null,null,null,null,null,null,null,null,null,null,null,null,null,null,null,null,null,null,null,null,{"$f":"Y216+Z216","v":0},{"$f":"COUNTIF(Y215,\"Yes\")*3","v":0},{"$f":"COUNTIF(Z215,\"No\")*3","v":0}]
[{"$f":"HYPERLINK(\"http://sdlegislature.gov/Rules/DisplayRule.aspx?Rule=24:05:27:01.03\",\"Present Levels of \nAcademic Achievement \n& Functional Performance\nLinked to Annual Goals\n(24:05:27:01.03)\")","v":"Present Levels of \nAcademic Achievement \n& Functional Performance\nLinked to Annual Goals\n(24:05:27:01.03)"},null,null,null,null,null,"Skill Area:",null,null,null,null,"Measuarable Goal:",null,null,null,null,null,null,"Select","V214",null,null,null,null,{"$f":"S217","v":"Select"},{"$f":"S217","v":"Select"}]
[null,null,null,null,null,null,null,null,null,null,null,null,null,null,null,null,null,null,null,null,null,null,null,{"$f":"Y218+Z218","v":0},{"$f":"COUNTIF(Y217,\"Yes\")*3","v":0},{"$f":"COUNTIF(Z217,\"No\")*3","v":0}]
[null,null,null,null,null,null,null,"Strengths",null,null,null,null,"Condition",null,null,"How well"]
[null,null,null,null,null,null,null,"Needs",null,null,null,null,"Performance",null,null,"How often"]
[null,null,null,null,null,null,null,"Link to evaluation"]
[]
[null,null,null,null,null,null,"Skill Area:",null,null,null,null,"Measuarable Goal:",null,null,null,null,null,null,"Select",null,null,null,null,null,{"$f":"S223","v":"Select"},{"$f":"S223","v":"Select"}]
[null,null,null,null,null,null,null,null,null,null,null,null,null,null,null,null,null,null,null,null,null,null,null,{"$f":"Y224+Z224","v":0},{"$f":"COUNTIF(Y223,\"Yes\")*3","v":0},{"$f":"COUNTIF(Z223,\"No\")*3","v":0}]
[null,null,null,null,null,null,null,"Strengths",null,null,null,null,"Condition",null,null,"How well"]
[null,null,null,null,null,null,null,"Needs",null,null,null,null,"Performance",null,null,"How often"]
[null,null,null,null,null,null,null,"Link to evaluation"]
[]
[null,null,null,null,null,null,"Skill Area:",null,null,null,null,"Measuarable Goal:",null,null,null,null,null,null,"Select",null,null,null,null,null,{"$f":"S229","v":"Select"},{"$f":"S229","v":"Select"}]
[null,null,null,null,null,null,null,null,null,null,null,null,null,null,null,null,null,null,null,null,null,null,null,{"$f":"Y230+Z230","v":0},{"$f":"COUNTIF(Y229,\"Yes\")*3","v":0},{"$f":"COUNTIF(Z229,\"No\")*3","v":0}]
[null,null,null,null,null,null,null,"Strengths",null,null,null,null,"Condition",null,null,"How well"]
[null,null,null,null,null,null,null,"Needs",null,null,null,null,"Performance",null,null,"How often"]
[null,null,null,null,null,null,null,"Link to evaluation"]
[]
[{"$f":"HYPERLINK(\"http://sdlegislature.gov/Rules/DisplayRule.aspx?Rule=24:05:27:01.03\",\"How Progress will be Measured\n(24:05:27:01.03)\")","v":"How Progress will be Measured\n(24:05:27:01.03)"},null,null,null,null,null,{"$f":"HYPERLINK(\"https://gosynth.com/p/s/psaxcx\",\"         Check the following:\")","v":"         Check the following:"},null,null,null,null,null,null,null,null,null,null,null,"Select","V232",null,null,null,null,{"$f":"S235","v":"Select"},{"$f":"S235","v":"Select"}]
[null,null,null,null,null,null,null,null,null,null,null,null,null,null,null,null,null,null,null,null,null,null,null,{"$f":"Y236+Z236","v":0},{"$f":"COUNTIF(Y235,\"Yes\")*3","v":0},{"$f":"COUNTIF(Z235,\"No\")*3","v":0}]
[null,null,null,null,null,null,null,"Reporting frequency",null,null,null,null,"Extent of progress"]
[null,null,null,null,null,null,null,"Reporting method"]
[]
[{"$f":"HYPERLINK(\"http://sdlegislature.gov/Rules/DisplayRule.aspx?Rule=24:05:27:01.03\",\"Accommodations/Modifications\n(24:05:27:01.03)\")","v":"Accommodations/Modifications\n(24:05:27:01.03)"},null,null,null,null,null,{"$f":"HYPERLINK(\"https://gosynth.com/p/s/rtpvrq\",\"         Check the following:\")","v":"         Check the following:"},null,null,null,null,"List Instructional Accommodations:",null,null,null,null,null,null,"Select","V237",null,null,null,null,{"$f":"S240","v":"Select"},{"$f":"S240","v":"Select"}]
[null,null,null,null,null,null,null,"Frequency",null,null,null,null,null,null,null,null,null,null,null,null,null,null,null,{"$f":"Y241+Z241","v":0},{"$f":"COUNTIF(Y240,\"Yes\")*3","v":0},{"$f":"COUNTIF(Z240,\"No\")*3","v":0}]
[null,null,null,null,null,null,null,"Duration"]
[null,null,null,null,null,null,null,"Location",null,null,null,null,null,null,null,null,null,null,null,null,null,null,null,{"$f":"(X241+X236+X230+X224+X218+X216+X213)/7","v":0},{"$f":"(Y241+Y236+Y230+Y224+Y218+Y216+Y213)/7","v":0}]
[]
[]
[null,null,null,null,null,null,null,"Are the accommodations appropriate for the skill areas affected by the diability?"]
[]
[]
[]
[null,null,null,null,null,null,null,null,"Yes"]
[null,null,null,null,null,null,null,null,"No"]
[]
[]
[]
[{"$f":"HYPERLINK(\"https://gosynth.com/p/s/ygpazf\",\"Special Factors\")","v":"Special Factors"},null,null,null,null,null,null,null,null,null,null,null,null,null,null,null,null,null,{"$f":"IFERROR(Y294/X294,\"N/A\")","v":"N/A"}]
[{"$f":"HYPERLINK(\"http://sdlegislature.gov/Rules/DisplayRule.aspx?Rule=24:05:27:01.02\",\"Considerations\n(24:05:27:01.02)\")","v":"Considerations\n(24:05:27:01.02)"},null,null,null,null,null,"Select for each:",null,null,"Determine if data supports the selection for each special factor; if not addressed, check \"N\"  for score.",null,null,null,null,null,null,null,null,"Select","V243",null,null,null,null,{"$f":"S256","v":"Select"},{"$f":"S256","v":"Select"}]
[null,null,null,null,null,null,null,null,null,null,null,null,null,null,null,null,null,null,null,null,null,null,null,{"$f":"Y257+Z257","v":0},{"$f":"COUNTIF(Y256,\"Yes\")*3","v":0},{"$f":"COUNTIF(Z256,\"No\")*3","v":0}]
[null,null,null,null,null,null,null,null,null,"Limited English proficient"]
[null,null,null,null,null,null,null,null,null,"Special communication needs"]
[null,null,null,null,null,null,null,null,null,"Requires Braille"]
[null,null,null,null,null,null,null,null,null,"Behavior impedes learning"]
[null,null,null,null,null,null,null,null,null,"Requires assistive technology & services"]
[null,null,null,null,null,null,null,null,null,"Physical education"]
[null,null,null,null,null,null,null,null,null,"Hearing aid maintenance"]
[{"$f":"HYPERLINK(\"http://sdlegislature.gov/Rules/DisplayRule.aspx?Rule=24:05:27:01.03\",\"State/District Assessments\n(24:05:27:01.03)\")","v":"State/District Assessments\n(24:05:27:01.03)"},null,null,null,null,null,{"$f":"HYPERLINK(\"https://gosynth.com/p/s/jdbbir\",\"             Students will be taking state and district-wide assessments:\")","v":"             Students will be taking state and district-wide assessments:"},null,null,null,null,null,null,null,null,null,null,null,"Select","V263",null,null,null,null,{"$f":"S265","v":"Select"},{"$f":"S265","v":"Select"}]
[null,null,null,null,null,null,null,"With accommodations",null,null,null,null,"Without accommodations",null,null,null,null,null,null,null,null,null,null,{"$f":"Y266+Z266","v":0},{"$f":"COUNTIF(Y265,\"Yes\")*3","v":0},{"$f":"COUNTIF(Z265,\"No\")*3","v":0}]
[null,null,null,null,null,null,"Testing accommodations must reflect instructional accommodations."]
[null,null,null,null,null,null,"Do the accommodations for the state/district assesment(s) \nmatch the instructional accommodations?"]
[]
[null,null,null,null,null,null,"Instructional \nAccommodations",null,null,null,"State/District\nAssessment\nAccommodations",null,null,null,"Select\nyes or no:"]
[]
[]
[null,null,null,null,null,null,{"$f":"L241","v":0},null,null,null,null,null,null,null,"- Select -"]
[null,null,null,null,null,null,0,null,null,null,null,null,null,null,"- Select -"]
[null,null,null,null,null,null,0,null,null,null,null,null,null,null,"- Select -"]
[null,null,null,null,null,null,0,null,null,null,null,null,null,null,"- Select -"]
[null,null,null,null,null,null,0]
[null,null,null,null,null,null,0,null,null,null,null,null,null,null,"- Select -"]
[null,null,null,null,null,null,0,null,null,null,null,null,null,null,"- Select -"]
[null,null,null,null,null,null,0]
[null,null,null,null,null,null,0]
[null,null,null,null,null,null,0,null,null,null,null,null,null,null,"- Select -"]
[null,null,null,null,null,null,0,null,null,null,null,null,null,null,"- Select -"]
[null,null,null,null,null,null,0,null,null,null,null,null,null,null,"- Select -"]
[null,null,null,null,null,null,0,null,null,null,null,null,null,null,"- Select -"]
[null,null,null,null,null,null,0,null,null,null,null,null,null,null,"- Select -"]
[null,null,null,null,null,null,"Were the accommodations for\n the state assessment identified \non the IEP provided according to \nthe assessment data sheet?"]
[null,null,null,null,null,null,null,null,null,null,null,null,null,"- Select -"]
[]
[{"$f":"HYPERLINK(\"http://sdlegislature.gov/Rules/DisplayRule.aspx?Rule=24:05:27:01.03\",\"Alternate Assessments\n(24:05:27:01.03)\")","v":"Alternate Assessments\n(24:05:27:01.03)"},null,null,null,null,null,{"$f":"HYPERLINK(\"https://gosynth.com/p/s/bjlejx\",\"                  The following must be met:\")","v":"                  The following must be met:"},null,null,null,null,null,null,null,null,null,null,null,"Select","V257",null,null,null,null,{"$f":"S290","v":"Select"},{"$f":"S290","v":"Select"}]
[null,null,null,null,null,null,null,null,null,null,null,null,null,null,null,null,null,null,null,null,null,null,null,{"$f":"Y291+Z291","v":0},{"$f":"COUNTIF(Y290,\"Yes\")*3","v":0},{"$f":"COUNTIF(Z290,\"No\")*3","v":0}]
[null,null,null,null,null,null,null,"Student meets the significant cognitive disability criteria"]
[null,null,null,null,null,null,null,"Explanation for why student cannot participate in the regular assessment"]
[null,null,null,null,null,null,null,null,null,null,null,null,null,null,null,null,null,null,null,null,null,null,null,{"$f":"(X291+X266+X257)/3","v":0},{"$f":"(Y291+Y266+Y257)/3","v":0}]
[null,null,null,null,null,null,null,"Explanation for why the alternate assessment selected is appropriate"]
[]
[null,null,null,null,null,null,null,"The alternate assessment is for students working in the alternate achievement standards.  Annual goals and short term objectives are required.                                                                         \n                                                                        "]
[]
[]
[null,null,null,null,null,null,"Does the PPWN explain why IEP team decided alternate assessment for the student?"]
[null,null,null,null,null,null,"Does the student taking the\n alternate assessment meet\n the criteria, has it been \ndocumented on the IEP?"]
[null,null,null,null,null,null,null,null,null,null,null,null,null,"- Select -"]
[]
[]
[{"$f":"HYPERLINK(\"https://gosynth.com/p/s/itwkve\",\"Transition\")","v":"Transition"},null,null,null,null,null,null,null,null,null,null,null,null,null,null,null,null,null,{"$f":"IFERROR(Y306/X306,\"N/A\")","v":"N/A"}]
["Indicator 13 Item 1",null,null,null,null,null,null,null,null,null,null,null,null,null,null,null,null,null,null,null,null,null,null,{"$f":"(X308+X310+X312+X314+X316+X319+X321+X323+X326+X329+X331+X333+X336+X338+X340+X343+X345+X347+X350+X356+X362+X364+X366+X369)/24","v":0},{"$f":"(Y308+Y310+Y312+Y314+Y316+Y319+Y321+Y323+Y326+Y329+Y331+Y333+Y336+Y338+Y340+Y343+Y345+Y347+Y350+Y356+Y362+Y364+Y366+Y369)/24","v":0}]
[{"$f":"HYPERLINK(\"http://sdlegislature.gov/Rules/DisplayRule.aspx?Rule=24:05:27:01.03\",\"Transition IEP*\n(24:05:27:01.03)\")","v":"Transition IEP*\n(24:05:27:01.03)"},null,null,null,null,null,{"$f":"HYPERLINK(\"https://gosynth.com/p/s/itwkve\",\"Transition IEP must be in effect for all students on their 16 birthday or for younger students if it is addressed in the IEP.   \n*This is not on the Indicator 13 checklist, but it is a compliance requirement. \")","v":"Transition IEP must be in effect for all students on their 16 birthday or for younger students if it is addressed in the IEP.   \n*This is not on the Indicator 13 checklist, but it is a compliance requirement. "},null,null,null,null,null,null,null,null,null,null,null,"Select","V269",null,null,null,null,{"$f":"S307","v":"Select"},{"$f":"S307","v":"Select"}]
[null,null,null,null,null,null,null,null,null,null,null,null,null,null,null,null,null,null,null,null,null,null,null,{"$f":"Y308+Z308","v":0},{"$f":"COUNTIF(Y307,\"Yes\")*3","v":0},{"$f":"COUNTIF(Z307,\"No\")*3","v":0}]
[null,null,null,null,null,null,null,null,null,null,null,null,null,null,null,null,null,null,"Select",null,null,null,null,null,{"$f":"S309","v":"Select"},{"$f":"S309","v":"Select"}]
[{"$f":"HYPERLINK(\"http://sdlegislature.gov/Rules/DisplayRule.aspx?Rule=24:05:27:01.03\",\"Transition Assessments\n(24:05:27:01.03)\")","v":"Transition Assessments\n(24:05:27:01.03)"},null,null,null,null,null,null,"Employment",null,null,null,null,null,null,null,null,null,null,null,null,null,null,null,{"$f":"Y310+Z310","v":0},{"$f":"COUNTIF(Y309,\"Yes\")*3","v":0},{"$f":"COUNTIF(Z309,\"No\")*3","v":0}]
[null,null,null,null,null,null,null,null,null,null,null,null,null,null,null,null,null,null,"Select",null,null,null,null,null,{"$f":"S311","v":"Select"},{"$f":"S311","v":"Select"}]
[null,null,null,null,null,null,null,"Education/Training",null,null,null,null,null,null,null,null,null,null,null,null,null,null,null,{"$f":"Y312+Z312","v":0},{"$f":"COUNTIF(Y311,\"Yes\")*3","v":0},{"$f":"COUNTIF(Z311,\"No\")*3","v":0}]
[null,null,null,null,null,null,null,"Independent Living",null,null,null,null,null,null,null,null,null,null,"Select",null,null,null,null,null,{"$f":"S313","v":"Select"},{"$f":"S313","v":"Select"}]
[null,null,null,null,null,null,{"$f":"HYPERLINK(\"https://gosynth.com/p/s/itwkve\",\"The transition assessment must be completed prior to the age of 16 and updated annually.  Evidence of transition strengths/ needs are document on the PLAAFPs.  \")","v":"The transition assessment must be completed prior to the age of 16 and updated annually.  Evidence of transition strengths/ needs are document on the PLAAFPs.  "},null,null,null,null,null,null,null,null,null,null,null,null,null,null,null,null,{"$f":"Y314+Z314","v":0},{"$f":"COUNTIF(Y313,\"Yes\")*3","v":0},{"$f":"COUNTIF(Z313,\"No\")*3","v":0}]
["Transition Evaluation Report*\n",null,null,null,null,null,{"$f":"HYPERLINK(\"https://gosynth.com/p/s/itwkve\",\"A transition evaluation report is located in the file.\n\n*This is not on the Indicator 13 checklist, but it is a compliance requirement. \")","v":"A transition evaluation report is located in the file.\n\n*This is not on the Indicator 13 checklist, but it is a compliance requirement. "},null,null,null,null,null,null,null,null,null,null,null,"Select",null,null,null,null,null,{"$f":"S315","v":"Select"},{"$f":"S315","v":"Select"}]
[null,null,null,null,null,null,null,null,null,null,null,null,null,null,null,null,null,null,null,null,null,null,null,{"$f":"Y316+Z316","v":0},{"$f":"COUNTIF(Y315,\"Yes\")*3","v":0},{"$f":"COUNTIF(Z315,\"No\")*3","v":0}]
[{"$f":"HYPERLINK(\"https://gosynth.com/p/s/itwkve\",\"Indicator 13 Item 2\")","v":"Indicator 13 Item 2"}]
[{"$f":"HYPERLINK(\"http://sdlegislature.gov/Rules/DisplayRule.aspx?Rule=24:05:27:01.03\",\"Age-Appropriate Measurable \nPost-Secondary Goals \n(24:05:27:01.03)\")","v":"Age-Appropriate Measurable \nPost-Secondary Goals \n(24:05:27:01.03)"},null,null,null,null,null,null,"Employment",null,null,null,null,null,null,null,null,null,null,"Select","V278",null,null,null,null,{"$f":"S318","v":"Select"},{"$f":"S318","v":"Select"}]
[null,null,null,null,null,null,null,null,null,null,null,null,null,null,null,null,null,null,null,null,null,null,null,{"$f":"Y319+Z319","v":0},{"$f":"COUNTIF(Y318,\"Yes\")*3","v":0},{"$f":"COUNTIF(Z318,\"No\")*3","v":0}]
[null,null,null,null,null,null,null,"Education/Training",null,null,null,null,null,null,null,null,null,null,"Select",null,null,null,null,null,{"$f":"S320","v":"Select"},{"$f":"S320","v":"Select"}]
[null,null,null,null,null,null,null,null,null,null,null,null,null,null,null,null,null,null,null,null,null,null,null,{"$f":"Y321+Z321","v":0},{"$f":"COUNTIF(Y320,\"Yes\")*3","v":0},{"$f":"COUNTIF(Z320,\"No\")*3","v":0}]
[null,null,null,null,null,null,null,"Independent Living",null,null,null,null,null,null,null,null,null,null,"Select",null,null,null,null,null,{"$f":"S322","v":"Select"},{"$f":"S322","v":"Select"}]
[null,null,null,null,null,null,null,null,null,null,null,null,null,null,null,null,null,null,null,null,null,null,null,{"$f":"Y323+Z323","v":0},{"$f":"COUNTIF(Y322,\"Yes\")*3","v":0},{"$f":"COUNTIF(Z322,\"No\")*3","v":0}]
[{"$f":"HYPERLINK(\"https://gosynth.com/p/s/itwkve\",\"Indicator 13 Item 3\")","v":"Indicator 13 Item 3"}]
["MPSGs Updated Annually",null,null,null,null,null,null,null,null,null,null,null,null,null,null,null,null,null,"Select","V282",null,null,null,null,{"$f":"S325","v":"Select"},{"$f":"S325","v":"Select"}]
[null,null,null,null,null,null,null,null,null,null,null,null,null,null,null,null,null,null,null,null,null,null,null,{"$f":"Y326+Z326","v":0},{"$f":"COUNTIF(Y325,\"Yes\")*3","v":0},{"$f":"COUNTIF(Z325,\"No\")*3","v":0}]
["Indicator 13 Item 4"]
[{"$f":"HYPERLINK(\"http://sdlegislature.gov/Rules/DisplayRule.aspx?Rule=24:05:27:01.03\",\"Course of Study Aligns to \nPost-Secondary Goals\n(24:05:27:01.03)\")","v":"Course of Study Aligns to \nPost-Secondary Goals\n(24:05:27:01.03)"},null,null,null,null,null,null,"Employment",null,null,null,null,null,null,null,null,null,null,"Select","V285",null,null,null,null,{"$f":"S328","v":"Select"},{"$f":"S328","v":"Select"}]
[null,null,null,null,null,null,null,null,null,null,null,null,null,null,null,null,null,null,null,null,null,null,null,{"$f":"Y329+Z329","v":0},{"$f":"COUNTIF(Y328,\"Yes\")*3","v":0},{"$f":"COUNTIF(Z328,\"No\")*3","v":0}]
[null,null,null,null,null,null,null,"Education/Training",null,null,null,null,null,null,null,null,null,null,"Select",null,null,null,null,null,{"$f":"S330","v":"Select"},{"$f":"S330","v":"Select"}]
[null,null,null,null,null,null,null,null,null,null,null,null,null,null,null,null,null,null,null,null,null,null,null,{"$f":"Y331+Z331","v":0},{"$f":"COUNTIF(Y330,\"Yes\")*3","v":0},{"$f":"COUNTIF(Z330,\"No\")*3","v":0}]
[null,null,null,null,null,null,null,"Independent Living",null,null,null,null,null,null,null,null,null,null,"Select",null,null,null,null,null,{"$f":"S332","v":"Select"},{"$f":"S332","v":"Select"}]
[null,null,null,null,null,null,"Completed by age 16, or younger if transition has been addressed in the IEP, and updated annually through graduation or ‘age out’.",null,null,null,null,null,null,null,null,null,null,null,null,null,null,null,null,{"$f":"Y333+Z333","v":0},{"$f":"COUNTIF(Y332,\"Yes\")*3","v":0},{"$f":"COUNTIF(Z332,\"No\")*3","v":0}]
[{"$f":"HYPERLINK(\"https://gosynth.com/p/s/itwkve\",\"Indicator 13 Item 5\")","v":"Indicator 13 Item 5"}]
[{"$f":"HYPERLINK(\"http://sdlegislature.gov/Rules/DisplayRule.aspx?Rule=24:05:27:13.02\",\"Transition Services/Activities\n(24:05:27:13.02)\")","v":"Transition Services/Activities\n(24:05:27:13.02)"},null,null,null,null,null,null,"Employment",null,null,null,null,null,null,null,null,null,null,"Select","V290",null,null,null,null,{"$f":"S335","v":"Select"},{"$f":"S335","v":"Select"}]
[null,null,null,null,null,null,null,null,null,null,null,null,null,null,null,null,null,null,null,null,null,null,null,{"$f":"Y336+Z336","v":0},{"$f":"COUNTIF(Y335,\"Yes\")*3","v":0},{"$f":"COUNTIF(Z335,\"No\")*3","v":0}]
[null,null,null,null,null,null,null,"Education/Training",null,null,null,null,null,null,null,null,null,null,"Select",null,null,null,null,null,{"$f":"S337","v":"Select"},{"$f":"S337","v":"Select"}]
[null,null,null,null,null,null,null,null,null,null,null,null,null,null,null,null,null,null,null,null,null,null,null,{"$f":"Y338+Z338","v":0},{"$f":"COUNTIF(Y337,\"Yes\")*3","v":0},{"$f":"COUNTIF(Z337,\"No\")*3","v":0}]
[null,null,null,null,null,null,null,"Independent Living",null,null,null,null,null,null,null,null,null,null,"Select",null,null,null,null,null,{"$f":"S339","v":"Select"},{"$f":"S339","v":"Select"}]
[null,null,null,null,null,null,"Services/activities will reasonably enable the student to meet post-secondary goals and have at least one activity per MPSG addressed.",null,null,null,null,null,null,null,null,null,null,null,null,null,null,null,null,{"$f":"Y340+Z340","v":0},{"$f":"COUNTIF(Y339,\"Yes\")*3","v":0},{"$f":"COUNTIF(Z339,\"No\")*3","v":0}]
[{"$f":"HYPERLINK(\"https://gosynth.com/p/s/itwkve\",\"Indicator 13 Item 6\")","v":"Indicator 13 Item 6"}]
[{"$f":"HYPERLINK(\"http://sdlegislature.gov/Rules/DisplayRule.aspx?Rule=24:05:27:13.02\",\"Annual Goal Related to Student’s Transition Service needs in\n(24:05:27:13.02)\")","v":"Annual Goal Related to Student’s Transition Service needs in\n(24:05:27:13.02)"},null,null,null,null,null,null,"Employment",null,null,null,null,null,null,null,null,null,null,"Select","V295",null,null,null,null,{"$f":"S342","v":"Select"},{"$f":"S342","v":"Select"}]
[null,null,null,null,null,null,null,null,null,null,null,null,null,null,null,null,null,null,null,null,null,null,null,{"$f":"Y343+Z343","v":0},{"$f":"COUNTIF(Y342,\"Yes\")*3","v":0},{"$f":"COUNTIF(Z342,\"No\")*3","v":0}]
[null,null,null,null,null,null,null,"Education/Training",null,null,null,null,null,null,null,null,null,null,"Select",null,null,null,null,null,{"$f":"S344","v":"Select"},{"$f":"S344","v":"Select"}]
[null,null,null,null,null,null,null,null,null,null,null,null,null,null,null,null,null,null,null,null,null,null,null,{"$f":"Y345+Z345","v":0},{"$f":"COUNTIF(Y344,\"Yes\")*3","v":0},{"$f":"COUNTIF(Z344,\"No\")*3","v":0}]
[null,null,null,null,null,null,null,"Independent Living",null,null,null,null,null,null,null,null,null,null,"Select",null,null,null,null,null,{"$f":"S346","v":"Select"},{"$f":"S346","v":"Select"}]
[null,null,null,null,null,null,{"$f":"HYPERLINK(\"https://gosynth.com/p/s/itwkve\",\"Annual goals are linked to the MPSGs.\")","v":"Annual goals are linked to the MPSGs."},null,null,null,null,null,null,null,null,null,null,null,null,null,null,null,null,{"$f":"Y347+Z347","v":0},{"$f":"COUNTIF(Y346,\"Yes\")*3","v":0},{"$f":"COUNTIF(Z346,\"No\")*3","v":0}]
[{"$f":"HYPERLINK(\"https://gosynth.com/p/s/pisllo\",\"Indicator 13 Item 7\")","v":"Indicator 13 Item 7"}]
[{"$f":"HYPERLINK(\"http://sdlegislature.gov/Rules/DisplayRule.aspx?Rule=24:05:25:16.01\",\"Student Invitation/Participation\n(24:05:25:16.01)\")","v":"Student Invitation/Participation\n(24:05:25:16.01)"},null,null,null,null,null,"How the student invited?",null,null,null,null,{"$f":"HYPERLINK(\"https://gosynth.com/p/s/pisllo\",\"If student was not in attendance at the meeting, the IEP should show evidence that student's preferences and interests were taken into account. *\")","v":"If student was not in attendance at the meeting, the IEP should show evidence that student's preferences and interests were taken into account. *"},null,null,null,null,null,null,"Select","V300",null,null,null,null,{"$f":"S349","v":"Select"},{"$f":"S349","v":"Select"}]
[null,null,null,null,null,null,null,null,null,null,null,null,null,null,null,null,null,null,null,null,null,null,null,{"$f":"Y350+Z350","v":0},{"$f":"COUNTIF(Y349,\"Yes\")*3","v":0},{"$f":"COUNTIF(Z349,\"No\")*3","v":0}]
[null,null,null,null,null,null,null,"Meeting notice"]
[null,null,null,null,null,null,null,"Individual student invite"]
[]
[{"$f":"HYPERLINK(\"https://gosynth.com/p/s/pisllo\",\"Indicator 13 Item 8\")","v":"Indicator 13 Item 8"}]
[{"$f":"HYPERLINK(\"http://sdlegislature.gov/Rules/DisplayRule.aspx?Rule=24:05:25:16.01\",\"Consent to Invite Outside Agency\n(24:05:25:16.01)\")","v":"Consent to Invite Outside Agency\n(24:05:25:16.01)"},null,null,null,null,null,{"$f":"HYPERLINK(\"https://gosynth.com/p/s/pisllo\",\" Written Consent to invite:\")","v":" Written Consent to invite:"},null,null,null,null,null,null,"List of agencies invited:",null,null,null,null,"Select","V306",null,null,null,null,{"$f":"S355","v":"Select"},{"$f":"S355","v":"Select"}]
[null,null,null,null,null,null,"Invited on Meeting Notice:",null,null,null,null,null,"Yes",null,null,null,null,null,null,null,null,null,null,{"$f":"Y356+Z356","v":0},{"$f":"COUNTIF(Y355,\"Yes\")*3","v":0},{"$f":"COUNTIF(Z355,\"No\")*3","v":0}]
[null,null,null,null,null,null,null,null,null,null,null,null,"No"]
[null,null,null,null,null,null,"Meeting Notice Date:",null,null,null,null,{"$f":"J177","v":"00:00:00"}]
[null,null,null,null,null,null,"Date of Current IEP Meeting:",null,null,null,null,{"$f":"T5","v":"00:00:00"}]
[{"$f":"HYPERLINK(\"https://gosynth.com/p/s/pisllo\",\"Other Transition Areas *\")","v":"Other Transition Areas *"}]
[{"$f":"HYPERLINK(\"http://sdlegislature.gov/Rules/DisplayRule.aspx?Rule=24:05:30:16.01\",\"Transfer of Parental Rights:\n(24:05:30:16.01)\")","v":"Transfer of Parental Rights:\n(24:05:30:16.01)"},null,null,null,null,null,"Turned 17 on:",null,null,null,null,null,null,null,null,null,null,null,"Select","V312",null,null,null,null,{"$f":"S361","v":"Select"},{"$f":"S361","v":"Select"}]
[null,null,null,null,null,null,"Rights reviewed on:",null,null,null,null,null,null,null,null,null,null,null,null,null,null,null,null,{"$f":"Y362+Z362","v":0},{"$f":"COUNTIF(Y361,\"Yes\")*3","v":0},{"$f":"COUNTIF(Z361,\"No\")*3","v":0}]
[{"$f":"HYPERLINK(\"http://sdlegislature.gov/Rules/DisplayRule.aspx?Rule=24:05:27:12\",\"Specific Graduation Requirements:\n(24:05:27:12)\")","v":"Specific Graduation Requirements:\n(24:05:27:12)"},null,null,null,null,null,"Graduation requirements addressed on:",null,null,null,null,null,null,null,null,null,null,null,"Select",null,null,null,null,null,{"$f":"S363","v":"Select"},{"$f":"S363","v":"Select"}]
[null,null,null,null,null,null,"Student is projected to graduate:",null,null,null,null,null,null,null,null,null,null,null,null,null,null,null,null,{"$f":"Y364+Z364","v":0},{"$f":"COUNTIF(Y363,\"Yes\")*3","v":0},{"$f":"COUNTIF(Z363,\"No\")*3","v":0}]
[{"$f":"HYPERLINK(\"http://sdlegislature.gov/Rules/DisplayRule.aspx?Rule=24:05:27:12\",\"When Student has Graduated\n(24:05:27:12)\")","v":"When Student has Graduated\n(24:05:27:12)"},null,null,null,null,null,"Written prior notice was sent:",null,null,null,null,null,null,null,null,null,null,null,"Select",null,null,null,null,null,{"$f":"S365","v":"Select"},{"$f":"S365","v":"Select"}]
[null,null,null,null,null,null,{"$f":"HYPERLINK(\"https://gosynth.com/p/s/pisllo\",\"When a student graduates, it is a change in placement. It must have a written\n prior notice sent.  If student has \"\"aged-out\"\", a PPWN is required.  \")","v":"When a student graduates, it is a change in placement. It must have a written\n prior notice sent.  If student has \"aged-out\", a PPWN is required.  "},null,null,null,null,null,null,null,null,null,null,null,null,null,null,null,null,{"$f":"Y366+Z366","v":0},{"$f":"COUNTIF(Y365,\"Yes\")*3","v":0},{"$f":"COUNTIF(Z365,\"No\")*3","v":0}]
[]
[{"$f":"HYPERLINK(\"http://sdlegislature.gov/Rules/DisplayRule.aspx?Rule=24:05:27:12\",\"Summary of Performance was provided to the Student/Parent/Guardian\n(24:05:27:12)\")","v":"Summary of Performance was provided to the Student/Parent/Guardian\n(24:05:27:12)"},null,null,null,null,null,{"$f":"HYPERLINK(\"https://gosynth.com/p/s/pisllo\",\"Summary of Performance (SOP) is required for students who graduated and\n aged out. A copy of the SOP should remain in the file.\")","v":"Summary of Performance (SOP) is required for students who graduated and\n aged out. A copy of the SOP should remain in the file."},null,null,null,null,null,null,null,null,null,null,null,"Select",null,null,null,null,null,{"$f":"S368","v":"Select"},{"$f":"S368","v":"Select"}]
[null,null,null,null,null,null,null,null,null,null,null,null,null,null,null,null,null,null,null,null,null,null,null,{"$f":"Y369+Z369","v":0},{"$f":"COUNTIF(Y368,\"Yes\")*3","v":0},{"$f":"COUNTIF(Z368,\"No\")*3","v":0}]
[]
["Click on the [+] button to expand or the [-] button to collapse."]
[{"$f":"HYPERLINK(\"https://gosynth.com/p/s/kldkzb\",\"Related Services\")","v":"Related Services"},null,null,null,null,null,null,null,null,null,null,null,null,null,null,null,null,null,{"$f":"IFERROR(Y375/X375,\"N/A\")","v":"N/A"}]
[{"$f":"HYPERLINK(\"http://sdlegislature.gov/Rules/DisplayRule.aspx?Rule=24:05:27:16\",\"Related Services\n(24:05:27)\")","v":"Related Services\n(24:05:27)"},null,null,null,null,null,"Service Provided:",null,null,null,null,null,"If student will receive services in a different location, then must break it out to calculate the Least Restrictive Environment.",null,null,null,null,null,"Select","V324",null,null,null,null,{"$f":"S373","v":"Select"},{"$f":"S373","v":"Select"}]
[null,null,null,null,null,null,null,null,null,null,null,null,null,null,null,null,null,null,null,null,null,null,null,{"$f":"Y374+Z374","v":0},{"$f":"COUNTIF(Y373,\"Yes\")*3","v":0},{"$f":"COUNTIF(Z373,\"No\")*3","v":0}]
[null,null,null,null,null,null,null,"Frequency",null,null,"Location",null,null,null,null,null,null,null,null,null,null,null,null,{"$f":"(X374+X379)/2","v":0},{"$f":"(Y374+Y379)/2","v":0}]
[null,null,null,null,null,null,null,"Duration",null,null,"Other"]
[null,null,null,null,null,null,"Service Provided:",null,null,null,null,null,"At a minimum, all areas student qualifies and has an annual goal must have service time documented. If not addressed, then PPWN must explain reason."]
[null,null,null,null,null,null,null,null,null,null,null,null,null,null,null,null,null,null,"Select",null,null,null,null,null,{"$f":"S378","v":"Select"},{"$f":"S378","v":"Select"}]
[null,null,null,null,null,null,null,"Frequency",null,null,"Location",null,null,null,null,null,null,null,null,null,null,null,null,{"$f":"Y379+Z379","v":0},{"$f":"COUNTIF(Y378,\"Yes\")*3","v":0},{"$f":"COUNTIF(Z378,\"No\")*3","v":0}]
[null,null,null,null,null,null,null,"Duration",null,null,"Other"]
[]
["Least Restrictive Environment ",null,null,null,null,null,null,null,null,null,null,null,null,null,null,null,null,null,{"$f":"IFERROR(Y382/X382,\"N/A\")","v":"N/A"},null,null,null,null,{"$f":"(X384+X388+X392+X396+X400+X402+X404+X406+X408)/9","v":0},{"$f":"(Y384+Y388+Y392+Y396+Y400+Y402+Y404+Y406+Y408)/9","v":0}]
[{"$f":"HYPERLINK(\"https://sdlegislature.gov/Rules/DisplayRule.aspx?Rule=24:05:28\",\"Least Restrictive Enviornment \n(Chapter 24:05:28)\")","v":"Least Restrictive Enviornment \n(Chapter 24:05:28)"},null,null,null,null,null,{"$f":"HYPERLINK(\"https://gosynth.com/p/s/llxjsq\",\"Skill area:\")","v":"Skill area:"},null,null,null,null,null,null,null,null,null,null,null,"Select","V334",null,null,null,null,{"$f":"S383","v":"Select"},{"$f":"S383","v":"Select"}]
[null,null,null,null,null,null,null,null,null,null,null,null,null,null,null,null,null,null,null,null,null,null,null,{"$f":"Y384+Z384","v":0},{"$f":"COUNTIF(Y383,\"Yes\")*3","v":0},{"$f":"COUNTIF(Z383,\"No\")*3","v":0}]
[null,null,null,null,null,null,null,null,"Frequency",null,null,"Duration",null,null,"Location"]
[]
[null,null,null,null,null,null,"Skill area:",null,null,null,null,null,null,null,null,null,null,null,"Select",null,null,null,null,null,{"$f":"S387","v":"Select"},{"$f":"S387","v":"Select"}]
[null,null,null,null,null,null,null,null,null,null,null,null,null,null,null,null,null,null,null,null,null,null,null,{"$f":"Y388+Z388","v":0},{"$f":"COUNTIF(Y387,\"Yes\")*3","v":0},{"$f":"COUNTIF(Z387,\"No\")*3","v":0}]
[null,null,null,null,null,null,null,null,"Frequency",null,null,"Duration",null,null,"Location"]
[]
[null,null,null,null,null,null,"Skill area:",null,null,null,null,null,null,null,null,null,null,null,"Select",null,null,null,null,null,{"$f":"S391","v":"Select"},{"$f":"S391","v":"Select"}]
[null,null,null,null,null,null,null,null,null,null,null,null,null,null,null,null,null,null,null,null,null,null,null,{"$f":"Y392+Z392","v":0},{"$f":"COUNTIF(Y391,\"Yes\")*3","v":0},{"$f":"COUNTIF(Z391,\"No\")*3","v":0}]
[null,null,null,null,null,null,null,null,"Frequency",null,null,"Duration",null,null,"Location"]
[]
[null,null,null,null,null,null,"Skill area:",null,null,null,null,null,null,null,null,null,null,null,"Select",null,null,null,null,null,{"$f":"S395","v":"Select"},{"$f":"S395","v":"Select"}]
[null,null,null,null,null,null,null,null,null,null,null,null,null,null,null,null,null,null,null,null,null,null,null,{"$f":"Y396+Z396","v":0},{"$f":"COUNTIF(Y395,\"Yes\")*3","v":0},{"$f":"COUNTIF(Z395,\"No\")*3","v":0}]
[null,null,null,null,null,null,null,null,"Frequency",null,null,"Duration",null,null,"Location"]
[]
[{"$f":"HYPERLINK(\"http://sdlegislature.gov/Rules/DisplayRule.aspx?Rule=24:05:28:02\",\"Continuum of Placement\n(24:05:28:02)\")","v":"Continuum of Placement\n(24:05:28:02)"},null,null,null,null,null,"Select:",null,null,null,null,null,null,null,null,null,null,null,"Select","V350",null,null,null,null,{"$f":"S399","v":"Select"},{"$f":"S399","v":"Select"}]
[null,null,null,null,null,null,null,null,null,null,null,null,null,null,null,null,null,null,null,null,null,null,null,{"$f":"Y400+Z400","v":0},{"$f":"COUNTIF(Y399,\"Yes\")*3","v":0},{"$f":"COUNTIF(Z399,\"No\")*3","v":0}]
[null,null,null,null,null,null,"Select for Early Childhood (Ages 3-5):",null,null,null,null,null,null,null,null,null,null,null,"Select",null,null,null,null,null,{"$f":"S401","v":"Select"},{"$f":"S401","v":"Select"}]
[null,null,null,null,null,null,null,null,null,null,null,null,null,null,null,null,null,null,null,null,null,null,null,{"$f":"Y402+Z402","v":0},{"$f":"COUNTIF(Y401,\"Yes\")*3","v":0},{"$f":"COUNTIF(Z401,\"No\")*3","v":0}]
[{"$f":"HYPERLINK(\"http://sdlegislature.gov/Rules/DisplayRule.aspx?Rule=24:05:27:01.03\",\"Participation with Non-disabled Peers\n(24:05:27:01.03)\")","v":"Participation with Non-disabled Peers\n(24:05:27:01.03)"},null,null,null,null,null,{"$f":"HYPERLINK(\"https://gosynth.com/p/s/wjqcuh\",\"Document opportunities to participate with non-disabled peers.\")","v":"Document opportunities to participate with non-disabled peers."},null,null,null,null,null,null,null,null,null,null,null,"Select",null,null,null,null,null,{"$f":"S403","v":"Select"},{"$f":"S403","v":"Select"}]
[null,null,null,null,null,null,null,null,null,null,null,null,null,null,null,null,null,null,null,null,null,null,null,{"$f":"Y404+Z404","v":0},{"$f":"COUNTIF(Y403,\"Yes\")*3","v":0},{"$f":"COUNTIF(Z403,\"No\")*3","v":0}]
[{"$f":"HYPERLINK(\"http://sdlegislature.gov/Rules/DisplayRule.aspx?Rule=24:05:28:03\",\"Justification for Placement \n(24:05:28:03)\")","v":"Justification for Placement \n(24:05:28:03)"},null,null,null,null,null,{"$f":"HYPERLINK(\"https://gosynth.com/p/s/rjxcoc\",\"                  Select from the following:\")","v":"                  Select from the following:"},null,null,null,null,null,null,null,null,null,null,null,"Select",null,null,null,null,null,{"$f":"S405","v":"Select"},{"$f":"S405","v":"Select"}]
[null,null,null,null,null,null,null,null,null,null,null,null,null,null,null,null,null,null,null,null,null,null,null,{"$f":"Y406+Z406","v":0},{"$f":"COUNTIF(Y405,\"Yes\")*3","v":0},{"$f":"COUNTIF(Z405,\"No\")*3","v":0}]
[{"$f":"HYPERLINK(\"http://sdlegislature.gov/Rules/DisplayRule.aspx?Rule=24:05:25:26\",\"Extended School Year\n(24:05:25:26)\")","v":"Extended School Year\n(24:05:25:26)"},null,null,null,null,null,{"$f":"HYPERLINK(\"https://gosynth.com/p/s/bbepxx\",\"                  Check the following:\")","v":"                  Check the following:"},null,null,null,null,null,null,null,null,null,null,null,"Select","V358",null,null,null,null,{"$f":"S407","v":"Select"},{"$f":"S407","v":"Select"}]
[null,null,null,null,null,null,null,null,null,null,null,null,null,null,null,null,null,null,null,null,null,null,null,{"$f":"Y408+Z408","v":0},{"$f":"COUNTIF(Y407,\"Yes\")*3","v":0},{"$f":"COUNTIF(Z407,\"No\")*3","v":0}]
[null,null,null,null,null,null,null,null,"Determination",null,null,null,"Beginning/end dates"]
[null,null,null,null,null,null,null,null,"Goals",null,null,null,"Amount of service"]
[]
[]
[]
[{"$f":"HYPERLINK(\"https://gosynth.com/p/s/acbbuk\",\"Prior Parental Written Notice\")","v":"Prior Parental Written Notice"},null,null,null,null,null,null,null,null,null,null,null,null,null,null,null,null,null,{"$f":"IFERROR(Y414/X414,\"N/A\")","v":"N/A"},null,null,null,null,{"$f":"(X416+X421)/2","v":0},{"$f":"(Y416+Y421)/2","v":0}]
[{"$f":"HYPERLINK(\"http://sdlegislature.gov/Rules/DisplayRule.aspx?Rule=24:05:30:04\",\"Prior Written Notice Sent to Parent Regarding IEP Implementation\n(24:05:30:04)\")","v":"Prior Written Notice Sent to Parent Regarding IEP Implementation\n(24:05:30:04)"},null,null,null,null,null,"Date the district sent the PPWN:",null,null,null,null,null,null,null,"The implementation date documented on the PPWN must be reflected on IEP.\n\nThe five-day notice requirement may be waived by the parents.",null,null,null,"Select","V366",null,null,null,null,{"$f":"S415","v":"Select"},{"$f":"S415","v":"Select"}]
[null,null,null,null,null,null,"District proposed at least 5 calendar days to begin implementation:",null,null,null,null,null,{"$f":"M415+5","v":"1900-01-05"},null,null,null,null,null,null,null,null,null,null,{"$f":"Y416+Z416","v":0},{"$f":"COUNTIF(Y415,\"Yes\")*3","v":0},{"$f":"COUNTIF(Z415,\"No\")*3","v":0}]
[]
[null,null,null,null,null,null,"Was the 5 calendar day notice requirement met?",null,null,null,null,null,null,"Yes"]
[null,null,null,null,null,null,null,null,null,null,null,null,null,"No"]
[{"$f":"HYPERLINK(\"http://sdlegislature.gov/Rules/DisplayRule.aspx?Rule=24:05:30:05\",\"Content of PPWN\n(24:05:30:05)\")","v":"Content of PPWN\n(24:05:30:05)"},null,null,null,null,null,"Check the following:",null,null,null,null,null,null,null,null,null,null,null,"Select","V371",null,null,null,null,{"$f":"S420","v":"Select"},{"$f":"S420","v":"Select"}]
[null,null,null,null,null,null,"PPWN must be individualized to the student, IEP team discussions and situation.",null,null,null,null,null,null,null,null,null,null,null,null,null,null,null,null,{"$f":"Y421+Z421","v":0},{"$f":"COUNTIF(Y420,\"Yes\")*3","v":0},{"$f":"COUNTIF(Z420,\"No\")*3","v":0}]
[]
[null,null,null,null,null,null,null,"Explanation of why the district proposed or refused to take the action"]
[null,null,null,null,null,null,null,"Description of other options considered and why they were rejected "]
[null,null,null,null,null,null,null,"Description of evidence used for the proposed or refused action"]
[null,null,null,null,null,null,null,"Description of other factors that are relevant to proposal or refusal"]
[]
[null,null,null,null,null,null,"To skip back to Eligibility section click ",null,null,null,null,"HERE."]
[]
[{"$f":"HYPERLINK(\"https://gosynth.com/p/s/iwvzyu\",\"Amendment to IEP\")","v":"Amendment to IEP"},null,null,null,null,null,null,null,null,null,null,null,null,null,null,null,null,null,{"$f":"IFERROR(Z430/Y430,\"N/A\")","v":"N/A"},null,null,null,null,null,{"$f":"(X432+X434)/2","v":0},{"$f":"(Y432+Y434)/2","v":0}]
["Amendment to IEP",null,null,null,null,null,null,null,null,null,null,null,null,null,null,null,null,null,"Select","V381",null,null,null,null,{"$f":"S431","v":"Select"},{"$f":"S431","v":"Select"}]
[{"$f":"HYPERLINK(\"http://sdlegislature.gov/Rules/DisplayRule.aspx?Rule=24:05:27:08.01\",\"(24:05:27:08.01)\")","v":"(24:05:27:08.01)"},null,null,{"$f":"HYPERLINK(\"http://sdlegislature.gov/Rules/DisplayRule.aspx?Rule=24:05:27:08.02\",\"(24:05:27:08.02)\")","v":"(24:05:27:08.02)"},null,null,null,null,null,null,null,null,null,null,null,null,null,null,null,null,null,null,null,{"$f":"Y432+Z432","v":0},{"$f":"COUNTIF(Y431,\"Yes\")*3","v":0},{"$f":"COUNTIF(Z431,\"No\")*3","v":0}]
[{"$f":"HYPERLINK(\"http://sdlegislature.gov/Rules/DisplayRule.aspx?Rule=24:05:30:04\",\"Prior Notice\n(24:05:30:04)\")","v":"Prior Notice\n(24:05:30:04)"},null,null,null,null,null,"Document if the amendment was made with or without a meeting.",null,null,null,null,null,null,null,null,null,null,null,"Select",null,null,null,null,null,{"$f":"S433","v":"Select"},{"$f":"S433","v":"Select"}]
[null,null,null,null,null,null,null,null,null,null,null,null,null,null,null,null,null,null,null,null,null,null,null,{"$f":"Y434+Z434","v":0},{"$f":"COUNTIF(Y433,\"Yes\")*3","v":0},{"$f":"COUNTIF(Z433,\"No\")*3","v":0}]
[]
[{"$f":"HYPERLINK(\"https://gosynth.com/p/s/jdtswp\",\"Additional Items\")","v":"Additional Items"},null,null,null,null,null,null,null,null,null,null,null,null,null,null,null,null,null,{"$f":"IFERROR(AB436/AA436,\"N/A\")","v":"N/A"},null,null,null,null,null,{"$f":"S437","v":"Select"},{"$f":"S437","v":"Select"},{"$f":"(X437+X439+X441+X443)/4","v":0},{"$f":"(Y437+Y439+Y441+Y443)/4","v":0}]
["Parent Declined/\nWithdrew Consent for Services ",null,null,null,null,null,"Revocation signed:",null,null,null,null,null,null,{"$f":"HYPERLINK(\"http://sdlegislature.gov/Rules/DisplayRule.aspx?Rule=24:05:27:04.02\",\"(24:05:27:04.02)\")","v":"(24:05:27:04.02)"},null,null,null,null,"Select","V387",null,null,null,{"$f":"Y437+Z437","v":0},{"$f":"COUNTIF(Y436,\"Yes\")*3","v":0},{"$f":"COUNTIF(Z436,\"No\")*3","v":0}]
[null,null,null,null,null,null,"Date prior notice was sent:",null,null,null,null,null,null,null,null,null,null,null,null,null,null,null,null,null,{"$f":"S439","v":"Select"},{"$f":"S439","v":"Select"}]
["Surrogate Parent",null,null,null,null,null,null,null,null,null,null,null,null,null,null,null,null,null,"Select",null,null,null,null,{"$f":"Y439+Z439","v":0},{"$f":"COUNTIF(Y438,\"Yes\")*3","v":0},{"$f":"COUNTIF(Z438,\"No\")*3","v":0}]
["Transfer Students Provided with  FAPE/Comparable Services ",null,null,null,null,null,"Date prior notice was sent:",null,null,null,null,null,null,{"$f":"HYPERLINK(\"http://sdlegislature.gov/Rules/DisplayRule.aspx?Rule=24:05:27:15.01\",\"In-state (24:05:27:15.01)\")","v":"In-state (24:05:27:15.01)"},null,null,null,null,"Select",null,null,null,null,null,{"$f":"S440","v":"Select"},{"$f":"S440","v":"Select"}]
[null,null,null,null,null,null,null,null,null,null,null,null,null,{"$f":"HYPERLINK(\"http://sdlegislature.gov/Rules/DisplayRule.aspx?Rule=24:05:27:15.02\",\"Out-of-state (24:05:27:15.02)\")","v":"Out-of-state (24:05:27:15.02)"},null,null,null,null,null,null,null,null,null,{"$f":"Y441+Z441","v":0},{"$f":"COUNTIF(Y440,\"Yes\")*3","v":0},{"$f":"COUNTIF(Z440,\"No\")*3","v":0}]
["Transfer Students Evaluated for \nSouth Dakota Eligibility",null,null,null,null,null,"Eligibility determination date:",null,null,null,null,null,null,null,null,null,null,null,"Select",null,null,null,null,null,{"$f":"S442","v":"Select"},{"$f":"S442","v":"Select"}]
[null,null,null,null,null,null,"IEP date:",null,null,null,null,null,null,null,null,null,null,null,null,null,null,null,null,{"$f":"Y443+Z443","v":0},{"$f":"COUNTIF(Y442,\"Yes\")*3","v":0},{"$f":"COUNTIF(Z442,\"No\")*3","v":0}]
[null,null,null,null,null,null,"PPWN Implementing IEP sent:"]

{"sheet":"File 17","index":21,"n_rows":444,"n_cols":28,"rows_kept":444,"cut":false,"hidden":false,"merged":[[436,18,437,18],[437,6,437,10],[437,11,437,12],[438,6,438,17],[442,6,442,10],[442,11,442,12],[413,19,413,21],[414,6,414,11],[414,12,414,13],[414,14,418,17],[414,18,418,18],[414,19,418,21],[417,6,418,11],[419,6,419,17],[420,6,420,17],[216,14,216,16],[443,6,443,10],[443,11,443,12],[446,11,447,12],[439,6,440,10],[439,11,440,12],[439,13,439,17],[440,13,440,17],[441,6,441,10],[441,11,441,12],[441,13,443,17],[415,6,416,11],[415,12,416,13],[413,0,413,17],[422,7,422,17],[423,7,423,17],[424,7,424,17],[425,7,425,17],[426,6,426,17],[427,6,427,10],[427,11,427,17],[436,6,436,10],[436,11,436,12],[436,13,437,17],[216,6,216,7],[216,8,216,10],[205,0,206,5],[207,0,209,5],[216,11,216,13],[231,7,231,10],[209,6,209,13],[210,0,210,17],[211,0,213,5],[211,6,213,16],[214,0,215,5],[214,6,215,16],[216,0,233,5],[225,12,225,13],[225,15,225,16],[226,7,226,10],[227,6,227,10],[228,6,228,7],[228,8,228,10],[228,11,228,13],[228,14,228,16],[230,7,230,10],[230,12,230,13],[230,15,230,16],[196,0,200,5],[196,6,200,17],[196,18,200,18],[201,0,201,21],[202,0,202,17],[202,19,202,21],[203,0,204,5],[188,7,188,9],[188,10,188,12],[189,7,189,9],[189,10,189,12],[186,0,189,5],[186,7,186,9],[186,10,186,12],[192,7,192,9],[193,7,193,9],[193,10,193,12],[194,7,194,9],[190,0,190,5],[190,7,190,9],[190,10,190,12],[191,0,195,5],[191,7,191,9],[191,10,191,12],[152,12,156,15],[154,7,156,10],[145,7,146,10],[145,12,146,15],[149,18,162,18],[149,19,162,21],[150,6,150,15],[150,17,160,17],[158,12,159,15],[151,6,151,15],[152,7,153,10],[157,7,158,10],[157,12,157,15],[210,19,210,21],[211,19,215,21],[214,18,215,18],[196,19,200,21],[203,19,209,21],[205,18,206,18],[207,14,208,17],[207,18,209,18],[209,14,209,17],[211,18,213,18],[205,6,206,17],[207,6,207,10],[207,11,207,13],[208,6,208,10],[208,11,208,13],[203,6,204,17],[203,18,204,18],[190,13,190,16],[191,13,191,16],[192,13,192,16],[193,13,193,16],[194,13,194,16],[176,12,177,17],[184,13,185,16],[186,13,186,16],[184,10,185,12],[194,10,194,12],[180,6,180,17],[182,7,183,16],[187,7,187,9],[187,10,187,12],[187,13,187,16],[188,13,188,16],[192,10,192,12],[172,12,173,17],[172,18,173,18],[172,19,173,21],[177,0,177,2],[177,3,177,5],[177,6,177,8],[177,9,177,11],[178,0,178,5],[178,6,179,17],[179,0,179,2],[179,3,179,5],[176,18,177,18],[176,19,195,21],[178,18,179,18],[180,18,195,18],[176,0,176,5],[176,6,176,8],[176,9,176,11],[174,0,174,21],[175,0,175,17],[175,19,175,21],[180,0,185,5],[184,7,185,9],[189,13,189,16],[216,18,221,18],[216,19,233,21],[222,18,227,18],[228,18,233,18],[218,7,218,10],[218,12,218,13],[220,7,220,10],[221,6,221,10],[222,6,222,7],[222,8,222,10],[222,11,222,13],[222,14,222,16],[231,12,231,13],[231,15,231,16],[232,7,232,10],[233,6,233,10],[218,15,218,16],[219,7,219,10],[219,12,219,13],[219,15,219,16],[224,7,224,10],[224,12,224,13],[224,15,224,16],[225,7,225,10],[117,6,117,13],[117,14,117,17],[118,6,119,17],[120,0,120,21],[118,0,119,5],[130,18,148,18],[130,19,148,21],[133,12,134,15],[135,7,137,10],[135,12,136,15],[137,12,138,15],[138,7,141,10],[139,12,144,15],[142,7,144,10],[121,0,121,17],[121,19,121,21],[122,0,122,17],[122,18,129,18],[122,19,129,21],[123,0,129,5],[123,6,123,17],[124,6,124,17],[125,7,125,11],[126,7,126,11],[165,12,169,17],[167,7,167,11],[168,7,168,11],[110,18,112,18],[110,19,119,21],[113,18,114,18],[115,18,117,18],[118,18,119,18],[104,18,105,18],[106,18,107,18],[169,7,169,11],[162,0,162,17],[163,0,166,5],[163,6,163,17],[163,18,171,18],[163,19,171,21],[164,6,164,17],[167,0,173,5],[165,7,165,11],[166,7,166,11],[170,7,170,13],[171,7,171,11],[172,6,173,10],[172,11,173,11],[98,18,101,18],[98,19,101,21],[99,11,99,13],[106,6,107,17],[84,18,97,18],[84,19,97,21],[86,6,86,8],[86,9,86,12],[87,15,87,17],[100,11,100,13],[101,11,101,13],[102,6,103,17],[102,18,103,18],[94,13,94,14],[94,15,94,17],[95,15,95,17],[96,13,96,14],[96,15,96,17],[99,6,99,10],[100,6,100,10],[102,19,109,21],[108,18,109,18],[89,13,89,14],[89,15,89,17],[91,13,91,14],[91,15,91,17],[92,13,92,14],[92,15,92,17],[97,13,97,14],[97,15,97,17],[98,11,98,13],[98,14,101,17],[93,15,93,17],[93,13,93,14],[110,0,112,5],[110,6,110,10],[111,6,111,10],[113,0,114,5],[115,0,117,5],[115,6,115,12],[116,6,116,12],[98,0,101,5],[98,6,98,10],[101,6,101,10],[102,0,103,5],[104,0,105,5],[106,0,107,5],[108,0,109,5],[104,6,105,17],[108,6,109,17],[110,11,110,13],[110,14,111,17],[111,11,111,13],[112,6,112,13],[112,14,112,17],[113,6,114,17],[115,13,115,15],[116,13,116,15],[90,6,90,8],[90,9,90,12],[78,6,78,8],[78,9,78,12],[80,0,83,5],[80,6,80,8],[80,9,80,12],[81,9,81,12],[84,0,90,5],[83,9,83,12],[96,6,96,8],[96,9,96,12],[91,0,91,5],[91,6,91,8],[91,9,91,12],[92,0,97,5],[92,9,92,12],[93,9,93,12],[94,9,94,12],[93,6,93,8],[94,6,94,8],[92,6,92,8],[97,6,97,8],[97,9,97,12],[74,19,83,21],[76,6,76,8],[76,9,76,12],[76,13,76,14],[76,15,76,17],[77,6,77,8],[77,9,77,12],[77,13,77,14],[77,15,77,17],[82,6,82,8],[82,9,82,12],[82,13,82,14],[82,15,82,17],[83,15,83,17],[78,13,78,14],[78,15,78,17],[80,13,80,14],[80,15,80,17],[81,13,81,14],[81,15,81,17],[83,13,83,14],[74,18,83,18],[81,6,81,8],[83,6,83,8],[150,0,161,5],[159,6,160,6],[159,7,160,10],[161,6,161,15],[89,6,89,8],[89,9,89,12],[90,13,90,14],[90,15,90,17],[95,9,95,12],[147,6,147,15],[148,0,148,17],[149,0,149,17],[128,7,128,11],[128,13,128,17],[131,0,147,5],[131,6,131,15],[131,17,147,17],[132,6,132,15],[133,7,134,10],[95,6,95,8],[127,7,127,11],[127,13,127,17],[129,6,129,17],[130,0,130,17],[84,15,85,17],[84,6,85,8],[86,13,86,14],[86,15,86,17],[87,9,87,12],[87,13,87,14],[88,6,88,8],[88,9,88,12],[84,13,85,14],[88,13,88,14],[88,15,88,17],[84,9,85,12],[87,6,87,8],[125,13,125,17],[126,13,126,17],[66,15,66,17],[66,13,66,14],[67,0,67,5],[67,6,67,8],[67,9,67,12],[67,13,67,14],[67,15,67,17],[68,0,73,5],[79,0,79,5],[79,6,79,8],[79,9,79,12],[79,13,79,14],[79,15,79,17],[72,6,72,8],[72,9,72,12],[74,0,78,5],[74,6,75,8],[74,9,75,12],[74,13,75,14],[74,15,75,17],[68,13,68,14],[73,6,73,8],[60,13,61,14],[60,15,61,17],[62,13,62,14],[62,15,62,17],[63,13,63,14],[63,15,63,17],[64,13,64,14],[64,15,64,17],[65,13,65,14],[65,15,65,17],[54,0,59,5],[54,6,54,9],[54,10,54,12],[55,6,55,9],[55,10,55,12],[45,19,53,21],[54,19,59,21],[58,13,59,17],[56,6,56,9],[56,10,56,12],[57,6,57,9],[57,10,57,12],[58,6,58,9],[58,10,58,12],[59,6,59,9],[59,10,59,12],[62,9,62,12],[63,9,63,12],[64,9,64,12],[65,9,65,12],[66,9,66,12],[60,0,66,5],[60,6,61,8],[62,6,62,8],[63,6,63,8],[64,6,64,8],[65,6,65,8],[66,6,66,8],[60,9,61,12],[21,10,21,13],[21,14,21,17],[27,9,27,11],[27,12,27,17],[52,6,52,17],[53,6,53,17],[45,6,45,17],[46,6,46,17],[47,6,47,17],[48,7,48,17],[49,7,49,17],[50,7,50,17],[51,7,51,17],[39,6,40,17],[22,6,22,9],[22,10,22,13],[25,0,25,21],[26,0,26,17],[26,19,26,21],[22,14,22,17],[23,6,23,9],[23,10,23,13],[23,14,23,17],[45,0,53,5],[17,0,17,21],[18,0,18,17],[19,0,24,5],[19,9,19,11],[19,12,19,17],[20,14,20,17],[24,6,24,17],[8,3,8,6],[8,7,8,9],[9,0,9,21],[8,0,8,2],[10,0,12,5],[10,10,11,10],[10,11,11,13],[10,14,11,17],[10,18,11,18],[10,19,11,21],[18,19,18,21],[19,18,24,18],[19,19,24,21],[20,6,20,9],[20,10,20,13],[19,6,19,8],[21,6,21,9],[10,6,10,9],[11,6,11,9],[12,6,12,21],[13,0,13,21],[14,0,14,17],[14,19,14,21],[15,0,16,5],[15,18,16,18],[15,19,16,21],[15,6,16,17],[6,0,6,2],[6,10,6,13],[7,14,7,18],[8,14,8,18],[8,19,8,21],[4,14,4,18],[4,19,4,21],[5,14,5,18],[5,19,5,21],[6,14,6,18],[6,19,6,21],[7,19,7,21],[6,3,6,6],[6,7,6,9],[7,0,7,2],[7,3,7,6],[7,7,7,9],[7,10,7,13],[8,10,8,13],[3,0,3,21],[4,0,4,2],[4,3,4,6],[4,7,4,9],[4,10,4,13],[5,0,5,2],[5,3,5,6],[5,7,5,9],[5,11,5,13],[0,0,0,3],[0,4,0,5],[0,6,0,8],[0,9,0,11],[0,12,0,14],[0,15,0,17],[0,19,0,21],[1,0,2,13],[1,14,2,17],[1,18,2,18],[1,19,2,21],[73,9,73,12],[73,13,73,14],[73,15,73,17],[68,6,68,8],[68,9,68,12],[69,6,69,8],[69,9,69,12],[69,13,69,14],[69,15,69,17],[70,6,70,8],[70,9,70,12],[70,13,70,14],[70,15,70,17],[71,6,71,8],[71,9,71,12],[71,13,71,14],[71,15,71,17],[68,15,68,17],[72,13,72,14],[72,15,72,17],[41,0,42,5],[41,6,42,17],[43,6,44,17],[27,18,29,18],[27,19,29,21],[30,18,32,18],[30,19,32,21],[35,18,38,18],[35,19,44,21],[39,18,40,18],[43,0,44,5],[27,6,27,8],[28,6,29,17],[30,6,30,17],[31,8,32,17],[408,8,408,10],[408,12,408,15],[409,8,409,10],[411,0,411,16],[412,0,412,21],[27,0,29,5],[30,0,32,5],[31,6,32,7],[35,0,36,5],[35,6,35,9],[33,0,33,21],[34,0,34,17],[34,19,34,21],[35,10,35,12],[35,13,35,17],[41,18,42,18],[43,18,44,18],[45,18,53,18],[54,18,59,18],[60,18,73,18],[60,19,73,21],[36,6,38,17],[37,0,38,5],[39,0,40,5],[397,6,397,16],[398,6,398,16],[399,6,399,16],[400,6,400,16],[401,6,401,16],[402,6,403,16],[404,6,404,16],[405,6,405,16],[406,6,406,16],[391,6,391,16],[392,11,392,12],[392,14,392,16],[393,6,393,16],[394,6,394,8],[394,9,394,16],[395,6,395,16],[396,11,396,12],[396,14,396,16],[385,6,385,16],[386,6,386,8],[386,9,386,16],[387,6,387,16],[388,11,388,12],[388,14,388,16],[389,6,389,16],[390,6,390,8],[390,9,390,16],[382,17,411,17],[406,19,411,21],[419,19,427,21],[430,19,433,21],[436,19,443,21],[372,19,380,21],[377,18,380,18],[382,19,397,21],[390,18,393,18],[394,18,397,18],[398,19,405,21],[400,18,401,18],[380,0,380,17],[381,0,381,17],[381,19,381,21],[382,9,382,16],[383,6,383,16],[384,8,384,9],[388,8,388,9],[392,8,392,9],[396,8,396,9],[382,6,382,8],[384,11,384,12],[384,14,384,16],[402,18,403,18],[404,18,405,18],[398,18,399,18],[406,18,411,18],[419,18,427,18],[432,18,433,18],[439,18,440,18],[441,18,443,18],[341,18,342,18],[343,18,344,18],[354,18,358,18],[360,18,361,18],[372,18,376,18],[428,0,428,21],[429,0,429,17],[429,19,429,21],[430,18,431,18],[430,6,431,17],[431,0,431,2],[431,3,431,5],[432,6,433,17],[434,0,434,21],[435,0,435,17],[435,19,435,21],[341,19,346,21],[345,18,346,18],[353,18,353,21],[354,19,358,21],[359,18,359,21],[360,19,370,21],[362,18,363,18],[382,18,385,18],[386,18,389,18],[371,19,371,21],[439,0,440,5],[441,0,443,5],[406,0,410,5],[414,0,418,5],[419,0,427,5],[430,0,430,5],[432,0,433,5],[436,0,437,5],[438,0,438,5],[359,0,359,5],[360,0,361,5],[362,0,363,5],[364,0,366,5],[372,0,379,5],[382,0,397,5],[398,0,401,5],[402,0,403,5],[404,0,405,5],[367,0,369,5],[353,6,353,16],[354,6,354,10],[354,13,354,16],[355,13,355,16],[356,13,356,16],[341,0,346,5],[347,0,347,5],[348,0,352,5],[353,0,353,5],[354,0,358,5],[334,18,335,18],[317,18,318,18],[317,19,322,21],[319,18,320,18],[321,18,322,18],[323,18,323,21],[324,19,325,21],[326,18,326,21],[327,19,332,21],[329,18,330,18],[331,18,332,18],[327,0,332,5],[327,6,328,6],[329,6,330,6],[329,7,330,16],[331,7,331,16],[332,6,332,16],[306,18,307,18],[306,19,315,21],[308,18,309,18],[309,6,310,6],[310,18,311,18],[314,18,315,18],[319,6,320,6],[319,7,320,16],[321,6,322,6],[321,7,322,16],[324,18,325,18],[327,18,328,18],[314,0,315,5],[314,6,315,16],[316,0,316,5],[316,6,316,16],[317,0,322,5],[317,6,318,6],[317,7,318,16],[323,0,323,5],[323,6,323,16],[364,6,364,12],[364,13,364,16],[365,6,366,16],[364,18,366,18],[367,18,370,18],[375,7,375,8],[375,10,375,11],[367,6,369,16],[370,0,370,17],[371,0,371,17],[359,6,359,16],[360,6,360,12],[360,13,360,16],[361,6,361,12],[361,13,361,16],[362,6,362,12],[362,13,362,16],[363,6,363,12],[363,13,363,16],[340,0,340,5],[340,6,340,16],[376,6,376,11],[376,12,379,16],[377,6,377,11],[378,7,378,8],[379,7,379,8],[372,17,379,17],[378,10,378,11],[379,10,379,11],[373,6,373,11],[374,7,374,8],[374,10,374,11],[372,6,372,11],[372,12,375,16],[340,18,340,21],[341,7,342,16],[343,7,344,16],[345,7,345,16],[346,6,346,16],[357,13,357,16],[358,13,358,16],[350,7,350,10],[351,7,351,10],[347,6,347,16],[347,18,347,21],[348,6,348,10],[348,11,352,16],[348,18,352,18],[348,19,352,21],[349,6,349,10],[352,6,352,10],[355,6,356,10],[357,6,357,10],[357,11,357,12],[358,6,358,10],[358,11,358,12],[341,6,342,6],[343,6,344,6],[282,14,282,16],[283,14,283,16],[336,7,337,16],[338,7,338,16],[333,0,333,5],[334,0,339,5],[334,6,335,6],[334,7,335,16],[334,19,339,21],[336,6,337,6],[336,18,337,18],[338,18,339,18],[339,6,339,16],[333,18,333,21],[333,6,333,16],[324,0,325,5],[324,6,325,16],[326,0,326,5],[326,6,326,16],[327,7,328,16],[309,7,310,16],[311,7,311,16],[305,6,305,16],[306,6,307,16],[257,9,257,12],[258,6,258,8],[292,7,293,16],[281,10,281,13],[282,10,282,13],[283,10,283,13],[289,18,303,18],[289,19,303,21],[300,12,302,12],[300,13,300,16],[302,13,302,15],[283,6,283,9],[284,6,284,9],[286,6,288,11],[264,18,288,18],[264,19,288,21],[255,17,298,17],[284,14,284,16],[272,14,272,16],[273,14,273,16],[279,14,279,16],[280,14,280,16],[281,14,281,16],[285,14,285,16],[279,6,279,9],[280,6,280,9],[281,6,281,9],[282,6,282,9],[285,6,285,9],[274,6,274,9],[274,10,274,13],[277,6,277,9],[278,6,278,9],[278,10,278,13],[284,10,284,13],[285,10,285,13],[279,10,279,13],[280,10,280,13],[276,10,276,13],[276,14,276,16],[277,10,277,13],[277,14,277,16],[262,6,262,8],[262,9,262,11],[262,12,262,16],[263,6,263,8],[263,9,263,12],[263,13,263,16],[265,7,265,10],[266,6,266,16],[267,6,268,16],[269,10,271,13],[275,6,275,9],[275,10,275,13],[269,6,271,9],[272,6,272,9],[272,10,272,13],[273,6,273,9],[273,10,273,13],[254,19,254,21],[255,0,263,5],[255,9,256,16],[255,18,263,18],[255,19,263,21],[258,9,258,13],[259,6,259,8],[239,19,253,21],[245,7,248,9],[259,9,259,11],[259,12,259,16],[260,6,260,8],[260,9,260,13],[260,14,260,16],[261,6,261,8],[261,9,261,15],[241,7,241,8],[241,11,241,16],[243,6,244,10],[243,11,243,16],[244,11,244,16],[245,11,245,16],[255,6,256,8],[257,6,257,8],[289,0,302,5],[306,0,307,5],[309,0,313,5],[301,13,301,15],[301,16,302,16],[303,0,303,17],[304,0,304,17],[304,18,305,18],[304,19,305,21],[305,0,305,5],[312,7,312,16],[312,18,313,18],[313,6,313,16],[294,6,295,6],[294,7,295,16],[296,6,297,6],[296,7,297,16],[298,6,298,16],[299,6,299,16],[300,6,302,11],[289,6,289,16],[290,6,290,16],[291,7,291,16],[292,6,293,6],[234,18,238,18],[234,19,238,21],[235,6,235,16],[236,7,236,10],[236,12,236,15],[239,11,239,16],[246,11,246,16],[239,18,253,18],[253,0,253,17],[240,7,240,8],[240,11,240,16],[240,9,242,10],[242,11,242,16],[247,11,247,16],[250,11,250,16],[251,6,252,10],[251,11,251,16],[252,11,252,16],[264,0,288,5],[237,7,237,10],[238,6,238,10],[239,0,252,5],[239,6,239,10],[286,12,288,12],[286,13,286,16],[287,13,287,15],[287,16,288,16],[288,13,288,15],[248,11,248,16],[249,11,249,16],[257,13,257,16],[258,14,258,16],[265,12,265,16],[269,14,271,16],[264,6,264,16],[234,0,238,5],[234,6,234,16],[254,0,254,16],[278,14,278,16],[274,14,274,16],[275,14,275,16],[276,6,276,9]]}
[{"$f":"'Caseload Files'!B2","v":"Teacher Caseload Review"},null,null,null,{"$f":"'Caseload Files'!D27","v":"File 17"},null,"Reviewer:",null,null,{"$f":"'Caseload Files'!F27","v":"Reviewer 17"},null,null,"Staff Reviewed:",null,null,{"$f":"'Caseload Files'!I27","v":"Staff 17"},null,null,"Score","Findings/Notes"]
[{"$f":"'Caseload Files'!B2","v":"Teacher Caseload Review"},null,null,null,null,null,null,null,null,null,null,null,null,null,null,null,null,null,"Rating","Record notes\nand/or findings."]
[]
[]
["Student Name:",null,null,{"$f":"'Caseload Files'!$L$27","v":"Student 17"},null,null,null,"Date of Birth:",null,null,{"$f":"'Caseload Files'!$R$27","v":"2017-01-17"},null,null,null,"Current IEP Meeting Date:"]
["SIMS Numer:",null,null,{"$f":"'Caseload Files'!$O$27","v":170123456},null,null,null,"Age/Grade:",null,null,{"$f":"INT(YEARFRAC(K5,TODAY()))","v":4},"/Sophomore",null,null,"Previous IEP Meeting Date:"]
["School District:",null,null,{"$f":"'Caseload Files'!B3","v":"District 00-0"},null,null,null,"Disability Code:",null,null,{"$f":"'Caseload Files'!$W$27","v":"DisCode 17"},null,null,null,"Current Eligibility Determination Date:"]
["School Name:",null,null,{"$f":"'Caseload Files'!E6","v":"School Name"},null,null,null,"Race/Ethnicity:",null,null,{"$f":"'Caseload Files'!T27","v":"Race 17"},null,null,null,"Previous Eligibility Determination Date:"]
["School Year:",null,null,{"$f":"'Caseload Files'!E7","v":"1998-1999"},null,null,null,"Type of Review:",null,null,{"$f":"'Caseload Files'!Z27","v":"Type 17"},null,null,null,"Date of Review:"]
[]
[{"$f":"HYPERLINK(\"http://sdlegislature.gov/Rules/DisplayRule.aspx?Rule=24:05\",\"Subsection Title and \nCorresponding ARSD Links \")","v":"Subsection Title and \nCorresponding ARSD Links "},null,null,null,null,null,"Yellow boxes are prompts",null,null,null,null,"Use checkboxes to help record findings.",null,null,"Voided space and/or clarifying information.",null,null,null,"\"N/A\" may be appropriate for certain sections.","Findings/Notes"]
[null,null,null,null,null,null,"for information."]
[]
[]
[{"$f":"HYPERLINK(\"https://gosynth.com/p/s/aboqwv\",\"Record of Access\")","v":"Record of Access"},null,null,null,null,null,null,null,null,null,null,null,null,null,null,null,null,null,{"$f":"IFERROR(Y17/X17,\"N/A\")","v":"N/A"},"Findings/Notes"]
[{"$f":"HYPERLINK(\"http://sdlegislature.gov/Rules/DisplayRule.aspx?Rule=24:05:29:15\",\"Record of Access\n(24:05:29:15)\")","v":"Record of Access\n(24:05:29:15)"},null,null,null,null,null,null,null,null,null,null,null,null,null,null,null,null,null,"Select","V16",null,null,null,null,{"$f":"S16","v":"Select"},{"$f":"S16","v":"Select"}]
[null,null,null,null,null,null,null,null,null,null,null,null,null,null,null,null,null,null,null,null,null,null,null,{"$f":"Y17+Z17","v":0},{"$f":"COUNTIF(Y16,\"Yes\")*3","v":0},{"$f":"COUNTIF(Z16,\"No\")*3","v":0}]
[]
[{"$f":"HYPERLINK(\"https://gosynth.com/p/s/grdmsy\",\"Referral\")","v":"Referral"},null,null,null,null,null,null,null,null,null,null,null,null,null,null,null,null,null,{"$f":"IFERROR(Y21/X21,\"N/A\")","v":"N/A"}]
[{"$f":"HYPERLINK(\"http://sdlegislature.gov/Rules/DisplayRule.aspx?Rule=24:05:24:01\",\"Referral Document\n(initial only)\n(24:05:24:01)\")","v":"Referral Document\n(initial only)\n(24:05:24:01)"},null,null,null,null,null,"Date of referral:",null,null,null,null,null,"The top two spaces are available to type in.",null,null,null,null,null,"Select","V20",null,null,null,null,{"$f":"S20","v":"Select"},{"$f":"S20","v":"Select"}]
[null,null,null,null,null,null,"List all areas of referral:",null,null,null,null,null,null,null,null,null,null,null,null,null,null,null,null,{"$f":"Y21+Z21","v":0},{"$f":"COUNTIF(Y20,\"Yes\")*3","v":0},{"$f":"COUNTIF(Z20,\"No\")*3","v":0}]
[]
[]
[]
[null,null,null,null,null,null,"If referral can not be found and is older than three years, N/A is appropriate."]
[]
[{"$f":"HYPERLINK(\"https://gosynth.com/p/s/lihblf\",\"Initial Placement\")","v":"Initial Placement"},null,null,null,null,null,null,null,null,null,null,null,null,null,null,null,null,null,{"$f":"IFERROR(Y33/X33,\"N/A\")","v":"N/A"}]
[{"$f":"HYPERLINK(\"http://sdlegislature.gov/rules/DisplayRule.aspx?Rule=24:05:27:04.01\",\"Consent Signed for Initial Placement \ninto Special Education\n(24:05:27:04.01)\")","v":"Consent Signed for Initial Placement \ninto Special Education\n(24:05:27:04.01)"},null,null,null,null,null,"Date Signed:",null,null,null,null,null,null,null,null,null,null,null,"Select","V28",null,null,null,null,{"$f":"S28","v":"Select"},{"$f":"S28","v":"Select"}]
[null,null,null,null,null,null,"(The Consent Signed for Initial Placement into Special Education form is a separate document.  In the past, it may have been found at the end of the IEP.",null,null,null,null,null,null,null,null,null,null,null,null,null,null,null,null,{"$f":"Y29+Z29","v":0},{"$f":"COUNTIF(Y28,\"Yes\")*3","v":0},{"$f":"COUNTIF(Z28,\"No\")*3","v":0}]
[]
[{"$f":"HYPERLINK(\"https://sdlegislature.gov/Rules/DisplayRule.aspx?Rule=24:05:25:04.02\",\"Determination of Needed \nEvaluation Data\n(24:05:25:04.02)\")","v":"Determination of Needed \nEvaluation Data\n(24:05:25:04.02)"},null,null,null,null,null,"Did the team review existing data before completing the PPWN Consent?",null,null,null,null,null,null,null,null,null,null,null,"Select","V31",null,null,null,null,{"$f":"S31","v":"Select"},{"$f":"S31","v":"Select"}]
[null,null,null,null,null,null,"Select",null,"The existing data includes evaluations and information provided by the parents, current classroom-based local or state assessments, and observations by teachers and related services providers.",null,null,null,null,null,null,null,null,null,null,null,null,null,null,{"$f":"Y32+Z32","v":0},{"$f":"COUNTIF(Y31,\"Yes\")*3","v":0},{"$f":"COUNTIF(Z31,\"No\")*3","v":0}]
[null,null,null,null,null,null,null,null,null,null,null,null,null,null,null,null,null,null,null,null,null,null,null,{"$f":"(X32+X29)/2","v":0},{"$f":"(Y32+Y29)/2","v":0}]
[]
[{"$f":"HYPERLINK(\"https://gosynth.com/p/s/qxevgy\",\"Evaluation\")","v":"Evaluation"},null,null,null,null,null,null,null,null,null,null,null,null,null,null,null,null,null,{"$f":"IFERROR(Y38/X38,\"N/A\")","v":"N/A"},{"$f":"IFERROR(Y58/X58,\"N/A\")","v":"N/A"}]
[{"$f":"HYPERLINK(\"http://sdlegislature.gov/rules/DisplayRule.aspx?Rule=24:05:25:02.01\",\"Initial Evaluation \n(24:05:25:02.01)\")","v":"Initial Evaluation \n(24:05:25:02.01)"},null,null,null,null,null,"PPWN Consent was Sent:",null,null,null,null,null,null,"Use the most recent evaluation. ",null,null,null,null,"Select","V36",null,null,null,null,{"$f":"S36","v":"Select"},{"$f":"S36","v":"Select"}]
[null,null,null,null,null,null,{"$f":"HYPERLINK(\"https://gosynth.com/p/s/qxevgy\",\"Consent was acquired for initial evaluation. \n\nIf consent was not given by the parent for reevaluation, evidence of  attempts were made to elicit parent.\")","v":"Consent was acquired for initial evaluation. \n\nIf consent was not given by the parent for reevaluation, evidence of  attempts were made to elicit parent."},null,null,null,null,null,null,null,null,null,null,null,null,null,null,null,null,{"$f":"Y37+Z37","v":0},{"$f":"COUNTIF(Y36,\"Yes\")*3","v":0},{"$f":"COUNTIF(Z36,\"No\")*3","v":0}]
[{"$f":"HYPERLINK(\"http://sdlegislature.gov/Rules/DisplayRule.aspx?Rule=24:05:25:06.01\",\"Reevaluation\n(24:05:25:06.01)\")","v":"Reevaluation\n(24:05:25:06.01)"},null,null,null,null,null,null,null,null,null,null,null,null,null,null,null,null,null,null,null,null,null,null,{"$f":"(X37+X41+X43+X45+X47+X56+X62+X76+X86+X100+X104+X106+X108+X110+X112+X115+X117+X120)/18","v":0},{"$f":"(Y37+Y41+Y43+Y45+Y47+Y56+Y62+Y76+Y86+Y100+Y104+Y106+Y108+Y110+Y112+Y115+Y117+Y120)/18","v":0}]
[]
[{"$f":"HYPERLINK(\"http://sdlegislature.gov/Rules/DisplayRule.aspx?Rule=24:05:25:16\",\"Parent Input into Evalaution\n(24:05:25:16)\")","v":"Parent Input into Evalaution\n(24:05:25:16)"},null,null,null,null,null,{"$f":"HYPERLINK(\"https://gosynth.com/p/s/ycomsx\",\"Parent input must be documented in the PPWN Consent on input exiting data and \nupcoming evaluation.   (refer to phone logs, progress notes, prior notice)\")","v":"Parent input must be documented in the PPWN Consent on input exiting data and \nupcoming evaluation.   (refer to phone logs, progress notes, prior notice)"},null,null,null,null,null,null,null,null,null,null,null,"Select",null,null,null,null,null,{"$f":"S40","v":"Select"},{"$f":"S40","v":"Select"}]
[null,null,null,null,null,null,null,null,null,null,null,null,null,null,null,null,null,null,null,null,null,null,null,{"$f":"Y41+Z41","v":0},{"$f":"COUNTIF(Y40,\"Yes\")*3","v":0},{"$f":"COUNTIF(Z40,\"No\")*3","v":0}]
[{"$f":"HYPERLINK(\"http://sdlegislature.gov/Rules/DisplayRule.aspx?Rule=24:05:30:06.01\",\"Procedural Safeguards\n(24:05:30:06.01)\")","v":"Procedural Safeguards\n(24:05:30:06.01)"},null,null,null,null,null,{"$f":"HYPERLINK(\"https://gosynth.com/p/s/tdkmfj\",\"[INCLUDE LANGUAGE FOR THIS SECTION]\")","v":"[INCLUDE LANGUAGE FOR THIS SECTION]"},null,null,null,null,null,null,null,null,null,null,null,"Select",null,null,null,null,null,{"$f":"S42","v":"Select"},{"$f":"S42","v":"Select"}]
[null,null,null,null,null,null,null,null,null,null,null,null,null,null,null,null,null,null,null,null,null,null,null,{"$f":"Y43+Z43","v":0},{"$f":"COUNTIF(Y42,\"Yes\")*3","v":0},{"$f":"COUNTIF(Z42,\"No\")*3","v":0}]
[{"$f":"HYPERLINK(\"http://sdlegislature.gov/Rules/DisplayRule.aspx?Rule=24:05:25:03\",\"Extension on 25 Day Timeline\n(24:05:25:03)\")","v":"Extension on 25 Day Timeline\n(24:05:25:03)"},null,null,null,null,null,{"$f":"HYPERLINK(\"https://gosynth.com/p/s/wcheia\",\"Documented agreement with parent and district on new extension date.  \nEligibility and IEP developed 30 days after the agreed extension date.\")","v":"Documented agreement with parent and district on new extension date.  \nEligibility and IEP developed 30 days after the agreed extension date."},null,null,null,null,null,null,null,null,null,null,null,"Select",null,null,null,null,null,{"$f":"S44","v":"Select"},{"$f":"S44","v":"Select"}]
[null,null,null,null,null,null,null,null,null,null,null,null,null,null,null,null,null,null,null,null,null,null,null,{"$f":"Y45+Z45","v":0},{"$f":"COUNTIF(Y44,\"Yes\")*3","v":0},{"$f":"COUNTIF(Z44,\"No\")*3","v":0}]
[{"$f":"HYPERLINK(\"http://sdlegislature.gov/Rules/DisplayRule.aspx?Rule=24:05:30:05\",\"Content of Prior Written Notice/\nConsent for Evaluation\n (24:05:30:05)\")","v":"Content of Prior Written Notice/\nConsent for Evaluation\n (24:05:30:05)"},null,null,null,null,null,{"$f":"HYPERLINK(\"https://gosynth.com/p/s/xymlpn\",\"Check the following:\")","v":"Check the following:"},null,null,null,null,null,null,null,null,null,null,null,"Select","V46",null,null,null,null,{"$f":"S46","v":"Select"},{"$f":"S46","v":"Select"}]
[null,null,null,null,null,null,"PPWN must be individualized to the student, IEP team discussions and situation.",null,null,null,null,null,null,null,null,null,null,null,null,null,null,null,null,{"$f":"Y47+Z47","v":0},{"$f":"COUNTIF(Y46,\"Yes\")*3","v":0},{"$f":"COUNTIF(Z46,\"No\")*3","v":0}]
[]
[null,null,null,null,null,null,null,"Explanation of why the district proposed or refused to take the action"]
[null,null,null,null,null,null,null,"Description of other options considered and why they were rejected "]
[null,null,null,null,null,null,null,"Description of evidence used for the proposed or refused action"]
[null,null,null,null,null,null,null,"Description of other factors that are relevant to proposal or refusal"]
[]
[null,null,null,null,null,null,"All components should be completed and have a clear description."]
[{"$f":"HYPERLINK(\"http://sdlegislature.gov/Rules/DisplayRule.aspx?Rule=24:05:30:05\",\"Timeline of Prior Written Notice/\nConsent for Evaluation\n(24:05:25:03)\")","v":"Timeline of Prior Written Notice/\nConsent for Evaluation\n(24:05:25:03)"},null,null,null,null,null,{"$f":"HYPERLINK(\"https://gosynth.com/p/s/xylthm\",\"Date sent:\")","v":"Date sent:"},null,null,null,"2020-01-18",null,null,null,null,null,null,null,"Select","V54",null,null,null,null,{"$f":"S55","v":"Select"},{"$f":"S55","v":"Select"}]
[null,null,null,null,null,null,"Date signed:",null,null,null,"2020-01-19",null,null,null,null,null,null,null,null,null,null,null,null,{"$f":"Y56+Z56","v":0},{"$f":"COUNTIF(Y55,\"Yes\")*3","v":0},{"$f":"COUNTIF(Z55,\"No\")*3","v":0}]
[null,null,null,null,null,null,"Date received:",null,null,null,"2020-01-20"]
[null,null,null,null,null,null,"25 school days:",null,null,null,{"$f":"WORKDAY(K57,25)","v":"2020-02-24"}]
[null,null,null,null,null,null,"30 calendar days:"]
[null,null,null,null,null,null,"Extension on 25 day:"]
[{"$f":"HYPERLINK(\"http://sdlegislature.gov/Rules/DisplayRule.aspx?Rule=24:05:25:04.02\",\"Evaluations to be Completed by the District per Parental Prior Written/Consent for Evaluation\n(24:05:25:04.02)\")","v":"Evaluations to be Completed by the District per Parental Prior Written/Consent for Evaluation\n(24:05:25:04.02)"},null,null,null,null,null,{"$f":"HYPERLINK(\"https://gosynth.com/p/s/zgdeev\",\"List areas:\")","v":"List areas:"},null,null,"Test administered:",null,null,null,"Test date:",null,"Evaluator:",null,null,"Select","V60",null,null,null,null,{"$f":"S61","v":"Select"},{"$f":"S61","v":"Select"}]
[null,null,null,null,null,null,null,null,null,null,null,null,null,null,null,null,null,null,null,null,null,null,null,{"$f":"Y62+Z62","v":0},{"$f":"COUNTIF(Y61,\"Yes\")*3","v":0},{"$f":"COUNTIF(Z61,\"No\")*3","v":0}]
[]
[]
[]
[]
[]
["For more evaluations requested click the [+]"]
[]
[]
[]
[]
[]
[]
[{"$f":"HYPERLINK(\"http://sdlegislature.gov/Rules/DisplayRule.aspx?Rule=24:05:25:04.02\",\"Existing Evaluation Data\nto be Pulled Forward\n(24:05:25:04.02)\")","v":"Existing Evaluation Data\nto be Pulled Forward\n(24:05:25:04.02)"},null,null,null,null,null,{"$f":"HYPERLINK(\"https://gosynth.com/p/s/pfohnr\",\"List areas:\")","v":"List areas:"},null,null,"Test administered:",null,null,null,"Test date:",null,"Evaluator:",null,null,"Select","V74",null,null,null,null,{"$f":"S75","v":"Select"},{"$f":"S75","v":"Select"}]
[null,null,null,null,null,null,null,null,null,null,null,null,null,null,null,null,null,null,null,null,null,null,null,{"$f":"Y76+Z76","v":0},{"$f":"COUNTIF(Y75,\"Yes\")*3","v":0},{"$f":"COUNTIF(Z75,\"No\")*3","v":0}]
[]
[]
[]
["For more existing data requested click the [+]"]
[]
[]
[]
[]
[{"$f":"HYPERLINK(\"http://sdlegislature.gov/Rules/DisplayRule.aspx?Rule=24:05:25:04.02\",\"Skills Based Assessment and Report\n(24:05:25:04.02)\")","v":"Skills Based Assessment and Report\n(24:05:25:04.02)"},null,null,null,null,null,{"$f":"HYPERLINK(\"https://gosynth.com/p/s/tbqnts\",\"List areas:\")","v":"List areas:"},null,null,"Test administered:",null,null,null,"Test date:",null,"Evaluator:",null,null,"Select","V84",null,null,null,null,{"$f":"S85","v":"Select"},{"$f":"S85","v":"Select"}]
[null,null,null,null,null,null,null,null,null,null,null,null,null,null,null,null,null,null,null,null,null,null,null,{"$f":"Y86+Z86","v":0},{"$f":"COUNTIF(Y85,\"Yes\")*3","v":0},{"$f":"COUNTIF(Z85,\"No\")*3","v":0}]
[]
[null,null,null,null,null,null,null,null,null,null,null,null,null,null,null,null,null,null,null,null,null,null,null,{"$f":"(X86+X100+X104+X106+X108+X110+X112+X115+X117+X120)/10","v":0},{"$f":"(Y86+Y100+Y104+Y106+Y108+Y110+Y112+Y115+Y117+Y120)/10","v":0}]
[]
[]
[]
["For more skills based requested click the [+]"]
[]
[]
[]
[]
[]
[]
[{"$f":"HYPERLINK(\"http://sdlegislature.gov/Rules/DisplayRule.aspx?Rule=24:05:25:03\",\"Consent Received\n(24:05:25:03)\")","v":"Consent Received\n(24:05:25:03)"},null,null,null,null,null,{"$f":"HYPERLINK(\"https://gosynth.com/p/s/ctcnlr\",\"Consent received date:\")","v":"Consent received date:"},null,null,null,null,{"$f":"K57","v":"2020-01-20"},null,null,"Mark \"No\" if dates are outside of \"consent received\" and/or \"25 school days\".",null,null,null,"Select","V98",null,null,null,null,{"$f":"S99","v":"Select"},{"$f":"S99","v":"Select"}]
[null,null,null,null,null,null,"Earliest testing date:",null,null,null,null,{"$f":"MIN(N63:O74,N87:O98)","v":"00:00:00"},null,null,null,null,null,null,null,null,null,null,null,{"$f":"Y100+Z100","v":0},{"$f":"COUNTIF(Y99,\"Yes\")*3","v":0},{"$f":"COUNTIF(Z99,\"No\")*3","v":0}]
[null,null,null,null,null,null,"Latest testing date:",null,null,null,null,{"$f":"MAX(N63:O74,N87:O98)","v":"00:00:00"}]
[null,null,null,null,null,null,"Within 25 School Days:",null,null,null,null,{"$f":"IF(ISBLANK(K60),K58,K60)","v":"2020-02-24"}]
[{"$f":"HYPERLINK(\"http://sdlegislature.gov/Rules/DisplayRule.aspx?Rule=24:05:25:20\",\"All Evaluations Administered \n(24:05:25:20)\")","v":"All Evaluations Administered \n(24:05:25:20)"},null,null,null,null,null,{"$f":"HYPERLINK(\"https://gosynth.com/p/s/mkcdef\",\"All evaluations marked on the PWWN/Consent for Evaluation form must be administered.\")","v":"All evaluations marked on the PWWN/Consent for Evaluation form must be administered."},null,null,null,null,null,null,null,null,null,null,null,"Select","V102",null,null,null,null,{"$f":"S103","v":"Select"},{"$f":"S103","v":"Select"}]
[null,null,null,null,null,null,null,null,null,null,null,null,null,null,null,null,null,null,null,null,null,null,null,{"$f":"Y104+Z104","v":0},{"$f":"COUNTIF(Y103,\"Yes\")*3","v":0},{"$f":"COUNTIF(Z103,\"No\")*3","v":0}]
[{"$f":"HYPERLINK(\"http://sdlegislature.gov/Rules/DisplayRule.aspx?Rule=24:05:25:06.01\",\"Consent was Acquired\n(24:05:25:06.01)\")","v":"Consent was Acquired\n(24:05:25:06.01)"},null,null,null,null,null,{"$f":"HYPERLINK(\"https://gosynth.com/p/s/mkcdef\",\"All evaluations administered must be requested on the PWWN/Consent for Evaluation \nform.\")","v":"All evaluations administered must be requested on the PWWN/Consent for Evaluation \nform."},null,null,null,null,null,null,null,null,null,null,null,"Select",null,null,null,null,null,{"$f":"S105","v":"Select"},{"$f":"S105","v":"Select"}]
[null,null,null,null,null,null,null,null,null,null,null,null,null,null,null,null,null,null,null,null,null,null,null,{"$f":"Y106+Z106","v":0},{"$f":"COUNTIF(Y105,\"Yes\")*3","v":0},{"$f":"COUNTIF(Z105,\"No\")*3","v":0}]
[{"$f":"HYPERLINK(\"http://sdlegislature.gov/Rules/DisplayRule.aspx?Rule=24:05:25:04\",\"Variety of Sources \n(24:05:25:04)\")","v":"Variety of Sources \n(24:05:25:04)"},null,null,null,null,null,{"$f":"HYPERLINK(\"https://gosynth.com/p/s/mkcdef\",\"Appropritate means to provide evaluations for accurate data were used. \")","v":"Appropritate means to provide evaluations for accurate data were used. "},null,null,null,null,null,null,null,null,null,null,null,"Select",null,null,null,null,null,{"$f":"S107","v":"Select"},{"$f":"S107","v":"Select"}]
[null,null,null,null,null,null,null,null,null,null,null,null,null,null,null,null,null,null,null,null,null,null,null,{"$f":"Y108+Z108","v":0},{"$f":"COUNTIF(Y107,\"Yes\")*3","v":0},{"$f":"COUNTIF(Z107,\"No\")*3","v":0}]
[{"$f":"HYPERLINK(\"http://sdlegislature.gov/Rules/DisplayRule.aspx?Rule=24:05:25:04\",\"Met Requirements for the Disability\n(24:05:25:04) \")","v":"Met Requirements for the Disability\n(24:05:25:04) "},null,null,null,null,null,{"$f":"HYPERLINK(\"https://gosynth.com/p/s/mkcdef\",\"Comprehensive Evaluations in all areas required for the disability. \")","v":"Comprehensive Evaluations in all areas required for the disability. "},null,null,null,null,null,null,null,null,null,null,null,"Select",null,null,null,null,null,{"$f":"S109","v":"Select"},{"$f":"S109","v":"Select"}]
[null,null,null,null,null,null,null,null,null,null,null,null,null,null,null,null,null,null,null,null,null,null,null,{"$f":"Y110+Z110","v":0},{"$f":"COUNTIF(Y109,\"Yes\")*3","v":0},{"$f":"COUNTIF(Z109,\"No\")*3","v":0}]
[{"$f":"HYPERLINK(\"http://sdlegislature.gov/Rules/DisplayRule.aspx?Rule=24:05:25:03\",\"Eligibility within 30 Calendar Days \n(24:05:25:03)\")","v":"Eligibility within 30 Calendar Days \n(24:05:25:03)"},null,null,null,null,null,{"$f":"HYPERLINK(\"https://gosynth.com/p/s/mkcdef\",\"Day 26 was on:\")","v":"Day 26 was on:"},null,null,null,null,{"$f":"WORKDAY(L102,1)","v":"2020-02-25"},null,null,null,null,null,null,"Select","V110",null,null,null,null,{"$f":"S111","v":"Select"},{"$f":"S111","v":"Select"}]
[null,null,null,null,null,null,"Eligibility Determination Date:",null,null,null,null,{"$f":"T7","v":"00:00:00"},null,null,null,null,null,null,null,null,null,null,null,{"$f":"Y112+Z112","v":0},{"$f":"COUNTIF(Y111,\"Yes\")*3","v":0},{"$f":"COUNTIF(Z111,\"No\")*3","v":0}]
[null,null,null,null,null,null,"Eligibility meeting date should have been by:",null,null,null,null,null,null,null,{"$f":"K59","v":"00:00:00"}]
[{"$f":"HYPERLINK(\"http://sdlegislature.gov/Rules/DisplayRule.aspx?Rule=24:05:25:04.03\",\"Student Eligible for Special Education \n(24:05:25:04.03)\")","v":"Student Eligible for Special Education \n(24:05:25:04.03)"},null,null,null,null,null,null,null,null,null,null,null,null,null,null,null,null,null,"Select",null,null,null,null,null,{"$f":"S114","v":"Select"},{"$f":"S114","v":"Select"}]
[null,null,null,null,null,null,null,null,null,null,null,null,null,null,null,null,null,null,null,null,null,null,null,{"$f":"Y115+Z115","v":0},{"$f":"COUNTIF(Y114,\"Yes\")*3","v":0},{"$f":"COUNTIF(Z114,\"No\")*3","v":0}]
[{"$f":"HYPERLINK(\"http://sdlegislature.gov/Rules/DisplayRule.aspx?Rule=24:05:25:06\",\"Three Year Re-Evaluation\n(24:05:25:06)\")","v":"Three Year Re-Evaluation\n(24:05:25:06)"},null,null,null,null,null,{"$f":"HYPERLINK(\"https://gosynth.com/p/s/mkcdef\",\"Current Eligibility Determination Date:\")","v":"Current Eligibility Determination Date:"},null,null,null,null,null,null,{"$f":"L112","v":"00:00:00"},null,null,null,null,"Select",null,null,null,null,null,{"$f":"S116","v":"Select"},{"$f":"S116","v":"Select"}]
[null,null,null,null,null,null,"Previous Eligibility Determination Date:",null,null,null,null,null,null,{"$f":"T8","v":"00:00:00"},null,null,null,null,null,null,null,null,null,{"$f":"Y117+Z117","v":0},{"$f":"COUNTIF(Y116,\"Yes\")*3","v":0},{"$f":"COUNTIF(Z116,\"No\")*3","v":0}]
[]
[{"$f":"HYPERLINK(\"https://gosynth.com/p/s/mkcdef\",\"Evaluated to Dismiss from Services  \")","v":"Evaluated to Dismiss from Services  "},null,null,null,null,null,null,null,null,null,null,null,null,null,null,null,null,null,"Select",null,null,null,null,null,{"$f":"S119","v":"Select"},{"$f":"S119","v":"Select"}]
[null,null,null,null,null,null,null,null,null,null,null,null,null,null,null,null,null,null,null,null,null,null,null,{"$f":"Y120+Z120","v":0},{"$f":"COUNTIF(Y119,\"Yes\")*3","v":0},{"$f":"COUNTIF(Z119,\"No\")*3","v":0}]
[]
[{"$f":"HYPERLINK(\"https://gosynth.com/p/s/giwoma\",\"Eligibility Document for Specific Learning Disability\")","v":"Eligibility Document for Specific Learning Disability"},null,null,null,null,null,null,null,null,null,null,null,null,null,null,null,null,null,{"$f":"IFERROR(Y126/X126,\"N/A\")","v":"N/A"}]
["If student is not eligible for Specific Learning Disability, skip this section.  Click on the [+] button if section is not visible. ",null,null,null,null,null,null,null,null,null,null,null,null,null,null,null,null,null,"Select","V122",null,null,null,null,{"$f":"S123","v":"Select"},{"$f":"S123","v":"Select"}]
[{"$f":"HYPERLINK(\"http://sdlegislature.gov/Rules/DisplayRule.aspx?Rule=24:05:24.01:19\",\"Specific Learning Disabilities\n(24:05:24.01:19)\")","v":"Specific Learning Disabilities\n(24:05:24.01:19)"},null,null,null,null,null,"Check the following:",null,null,null,null,null,null,null,null,null,null,null,null,null,null,null,null,{"$f":"Y124+Z124","v":0},{"$f":"COUNTIF(Y123,\"Yes\")*3","v":0},{"$f":"COUNTIF(Z123,\"No\")*3","v":0}]
[]
[null,null,null,null,null,null,null,"Reading Comprehension",null,null,null,null,null,"Math Calculation",null,null,null,null,null,null,null,null,null,{"$f":"(X124+X132+X151+X165+X174)/5","v":0},{"$f":"(Y124+Y132+Y151+Y165+Y174)/5","v":0}]
[null,null,null,null,null,null,null,"Basic Reading Skills",null,null,null,null,null,"Math Problem Solving"]
[null,null,null,null,null,null,null,"Reading Fluency",null,null,null,null,null,"Listening Comprehension"]
[null,null,null,null,null,null,null,"Written Expression",null,null,null,null,null,"Oral Expression"]
[]
["For Initial Determination of Eligibility Only",null,null,null,null,null,null,null,null,null,null,null,null,null,null,null,null,null,"Select","V130",null,null,null,null,{"$f":"S131","v":"Select"},{"$f":"S131","v":"Select"}]
[{"$f":"HYPERLINK(\"http://sdlegislature.gov/Rules/DisplayRule.aspx?Rule=24:05:24.01:19\",\"Initial Eligibility\n(24:05:24.01:19)\")","v":"Initial Eligibility\n(24:05:24.01:19)"},null,null,null,null,null,"Written report must include:",null,null,null,null,null,null,null,null,null,null,null,null,null,null,null,null,{"$f":"Y132+Z132","v":0},{"$f":"COUNTIF(Y131,\"Yes\")*3","v":0},{"$f":"COUNTIF(Z131,\"No\")*3","v":0}]
[]
[null,null,null,null,null,null,null,"Student achieves adequately",null,null,null,null,"Lack of appropriate instruction"]
[]
[null,null,null,null,null,null,null,"Student exhibits pattern of strengths & weaknesses",null,null,null,null,"Observation of the student"]
[]
[null,null,null,null,null,null,null,null,null,null,null,null,"Relevant medical findings (if any)"]
[null,null,null,null,null,null,null,"Student was provided appropriate instruction in regular education settings by qualified personnel"]
[null,null,null,null,null,null,null,null,null,null,null,null,"Achievement level problem is/is not primarily the result of another factor (e.g. emotional disturbance, cognitive impairment, etc.)"]
[]
[]
[null,null,null,null,null,null,null,"Repeated assessment of achievement reflecting student progress"]
[]
[]
[null,null,null,null,null,null,null,"Attendance record",null,null,null,null,"Adverse effect on educational performance"]
[]
[]
["Click on the [+] button to expand or the [-] button to collapse."]
["For Reevaluation of Eligibility Only",null,null,null,null,null,null,null,null,null,null,null,null,null,null,null,null,null,"Select","V149",null,null,null,null,{"$f":"S150","v":"Select"},{"$f":"S150","v":"Select"}]
[{"$f":"HYPERLINK(\"http://sdlegislature.gov/Rules/DisplayRule.aspx?Rule=24:05:24.01:19\",\"Reevaluation of Eligibility\n(24:05:24.01:19)\")","v":"Reevaluation of Eligibility\n(24:05:24.01:19)"},null,null,null,null,null,"Written report must include:",null,null,null,null,null,null,null,null,null,null,null,null,null,null,null,null,{"$f":"Y151+Z151","v":0},{"$f":"COUNTIF(Y150,\"Yes\")*3","v":0},{"$f":"COUNTIF(Z150,\"No\")*3","v":0}]
[]
[null,null,null,null,null,null,null,"Student achieves adequately",null,null,null,null,"Achievement level problem is/is not primarily the result of another factor (e.g. emotional disturbance, cognitive impairment, etc.)"]
[]
[null,null,null,null,null,null,null,"Student exhibits pattern of strengths & weaknesses"]
[]
[]
[null,null,null,null,null,null,null,"Observation of the student"]
[null,null,null,null,null,null,null,null,null,null,null,null,"Adverse effect on educational performance"]
[null,null,null,null,null,null,null,"Relevant medical findings (if any)"]
[]
[]
["Click on the [+] button to expand or the [-] button to collapse."]
[{"$f":"HYPERLINK(\"http://sdlegislature.gov/Rules/DisplayRule.aspx?Rule=24:05:25:08\",\"Team Member Signatures \n(24:05:25:08)\")","v":"Team Member Signatures \n(24:05:25:08)"},null,null,null,null,null,"Check the following:",null,null,null,null,null,null,null,null,null,null,null,"Select","V163",null,null,null,null,{"$f":"S164","v":"Select"},{"$f":"S164","v":"Select"}]
[null,null,null,null,null,null,null,null,null,null,null,null,null,null,null,null,null,null,null,null,null,null,null,{"$f":"Y165+Z165","v":0},{"$f":"COUNTIF(Y164,\"Yes\")*3","v":0},{"$f":"COUNTIF(Z164,\"No\")*3","v":0}]
[null,null,null,null,null,null,null,"Parent",null,null,null,null,"Each group member shall certify in writing whether the report reflects the group member's conclusion. If it does not reflect the group member's conclusion, the group member must submit the conclusion in a separate statement."]
[null,null,null,null,null,null,null,"General Education Teacher"]
[{"$f":"HYPERLINK(\"http://sdlegislature.gov/Rules/DisplayRule.aspx?Rule=24:05:25:13\",\"Group Members to Certify \nReport in Writing \n(24:05:25:13)\")","v":"Group Members to Certify \nReport in Writing \n(24:05:25:13)"},null,null,null,null,null,null,"Special Education Teacher"]
[null,null,null,null,null,null,null,"Qualified interpreter of results"]
[null,null,null,null,null,null,null,"LEA Representative"]
[null,null,null,null,null,null,null,"If disagreed, written input was provided"]
[]
[null,null,null,null,null,null,"Check PWWN for eligibility decisions.                         ",null,null,null,null,"Skip to","PPWN.",null,null,null,null,null,"Select",null,null,null,null,null,{"$f":"S173","v":"Select"},{"$f":"S173","v":"Select"}]
[null,null,null,null,null,null,null,null,null,null,null,null,null,null,null,null,null,null,null,null,null,null,null,{"$f":"Y174+Z174","v":0},{"$f":"COUNTIF(Y173,\"Yes\")*3","v":0},{"$f":"COUNTIF(Z173,\"No\")*3","v":0}]
[]
[{"$f":"HYPERLINK(\"https://gosynth.com/p/s/mzphio\",\"Meeting Notice\")","v":"Meeting Notice"},null,null,null,null,null,null,null,null,null,null,null,null,null,null,null,null,null,{"$f":"IFERROR(Y184/X184,\"N/A\")","v":"N/A"}]
["Meeting Notice",null,null,null,null,null,"Date sent:",null,null,null,null,null,"From this point on use the current IEP's documentation.",null,null,null,null,null,"Select","V174",null,null,null,null,{"$f":"S177","v":"Select"},{"$f":"S177","v":"Select"}]
[{"$f":"HYPERLINK(\"http://sdlegislature.gov/Rules/DisplayRule.aspx?Rule=24:05:30:02.01\",\"(24:05:30:02.01)\")","v":"(24:05:30:02.01)"},null,null,{"$f":"HYPERLINK(\"http://sdlegislature.gov/Rules/DisplayRule.aspx?Rule=24:05:25:16\",\"(24:05:25:16)\")","v":"(24:05:25:16)"},null,null,"Meeting date:",null,null,{"$f":"T5","v":"00:00:00"},null,null,null,null,null,null,null,null,null,null,null,null,null,{"$f":"Y178+Z178","v":0},{"$f":"COUNTIF(Y177,\"Yes\")*3","v":0},{"$f":"COUNTIF(Z177,\"No\")*3","v":0}]
["Procedural Safeguards",null,null,null,null,null,"Must be given to parents annually.",null,null,null,null,null,null,null,null,null,null,null,"Select",null,null,null,null,null,{"$f":"S179","v":"Select"},{"$f":"S179","v":"Select"}]
[{"$f":"HYPERLINK(\"http://sdlegislature.gov/Rules/DisplayRule.aspx?Rule=24:05:30:06.01\",\"(24:05:30:06.01)\")","v":"(24:05:30:06.01)"},null,null,{"$f":"HYPERLINK(\"http://sdlegislature.gov/Rules/DisplayRule.aspx?Rule=24:05:30:06.02\",\"(24:05:30:06.02)\")","v":"(24:05:30:06.02)"},null,null,null,null,null,null,null,null,null,null,null,null,null,null,null,null,null,null,null,{"$f":"Y180+Z180","v":0},{"$f":"COUNTIF(Y179,\"Yes\")*3","v":0},{"$f":"COUNTIF(Z179,\"No\")*3","v":0}]
["IEP Team",null,null,null,null,null,"Complete the following:",null,null,null,null,null,null,null,null,null,null,null,"Select",null,null,null,null,null,{"$f":"S181","v":"Select"},{"$f":"S181","v":"Select"}]
[null,null,null,null,null,null,null,null,null,null,null,null,null,null,null,null,null,null,null,null,null,null,null,{"$f":"Y182+Z182","v":0},{"$f":"COUNTIF(Y181,\"Yes\")*3","v":0},{"$f":"COUNTIF(Z181,\"No\")*3","v":0}]
[null,null,null,null,null,null,null,"The documentation of people attending the IEP meeting on front page of the IEP does not imply agreement, it is for participation purposes only."]
[null,null,null,null,null,null,null,null,null,null,null,null,null,null,null,null,null,null,null,null,null,null,null,{"$f":"(X178+X180+X182+X198)/4","v":0},{"$f":"(Y178+Y180+Y182+Y198)/4","v":0}]
[null,null,null,null,null,null,null,"Identified on the meeting notice:",null,null,"Attended the meeting:",null,null,"Did not attend\nthe meeting:"]
[]
[{"$f":"HYPERLINK(\"http://sdlegislature.gov/Rules/DisplayRule.aspx?Rule=24:05:25:16\",\"(24:05:25:16)\")","v":"(24:05:25:16)"},null,null,null,null,null,null,"Parent/Guardian"]
[null,null,null,null,null,null,null,"Student"]
[null,null,null,null,null,null,null,"Gen. Ed. Teacher"]
[null,null,null,null,null,null,null,"Sp. Ed. Teacher"]
["Parent Participation",null,null,null,null,null,null,"Eval Interpreter"]
[{"$f":"HYPERLINK(\"http://sdlegislature.gov/Rules/DisplayRule.aspx?Rule=24:05:25:16\",\"(24:05:25:16)\")","v":"(24:05:25:16)"},null,null,null,null,null,null,"LEA Representative"]
[null,null,null,null,null,null,null,"List Others"]
[null,null,null,null,null,null,null,"List Others"]
[null,null,null,null,null,null,null,"List Others"]
[]
["IEP Team Attendance \n (24:05:27:01.05)",null,null,null,null,null,"A member of the IEP team may be excused from attending, in whole or in part, an IEP team meeting that involves a modification to or discussion of the member's area of the curriculum or related services, if:\n   (1) The parent and school district consent in writing to the excusal; and\n   (2) The member submits, in writing to the parent and the IEP team, input into the development of the IEP before the meeting.",null,null,null,null,null,null,null,null,null,null,null,"Select","V194",null,null,null,null,{"$f":"S197","v":"Select"},{"$f":"S197","v":"Select"}]
[null,null,null,null,null,null,null,null,null,null,null,null,null,null,null,null,null,null,null,null,null,null,null,{"$f":"Y198+Z198","v":0},{"$f":"COUNTIF(Y197,\"Yes\")*3","v":0},{"$f":"COUNTIF(Z197,\"No\")*3","v":0}]
[]
[]
[]
[]
[{"$f":"HYPERLINK(\"https://gosynth.com/p/s/jshfqs\",\"          Individual Education Plan (Use the most recent IEP.)\n\")","v":"          Individual Education Plan (Use the most recent IEP.)\n"},null,null,null,null,null,null,null,null,null,null,null,null,null,null,null,null,null,{"$f":"IFERROR(Y210/X210,\"N/A\")","v":"N/A"}]
[{"$f":"HYPERLINK(\"http://sdlegislature.gov/Rules/DisplayRule.aspx?Rule=24:05:25:04.03\",\"Evaluation Reports Given to Parents \n(24:05:25:04.03)\")","v":"Evaluation Reports Given to Parents \n(24:05:25:04.03)"},null,null,null,null,null,"Evidence the parent received a copy of the reports (e.g.  initials on the front page IEP or other evidence). ",null,null,null,null,null,null,null,null,null,null,null,"Select","V201",null,null,null,null,{"$f":"S204","v":"Select"},{"$f":"S204","v":"Select"}]
[null,null,null,null,null,null,null,null,null,null,null,null,null,null,null,null,null,null,null,null,null,null,null,{"$f":"Y205+Z205","v":0},{"$f":"COUNTIF(Y204,\"Yes\")*3","v":0},{"$f":"COUNTIF(Z204,\"No\")*3","v":0}]
[{"$f":"HYPERLINK(\"http://sdlegislature.gov/Rules/DisplayRule.aspx?Rule=24:05:25:19\",\"Copy of IEP Given to Parents \n(24:05:25:19)\")","v":"Copy of IEP Given to Parents \n(24:05:25:19)"},null,null,null,null,null,"Evidence copy of the IEP was given to parents (e.g.  initials on the front page, addressed in PPWN, or other evidence).",null,null,null,null,null,null,null,null,null,null,null,"Select",null,null,null,null,null,{"$f":"S206","v":"Select"},{"$f":"S206","v":"Select"}]
[null,null,null,null,null,null,null,null,null,null,null,null,null,null,null,null,null,null,null,null,null,null,null,{"$f":"Y207+Z207","v":0},{"$f":"COUNTIF(Y206,\"Yes\")*3","v":0},{"$f":"COUNTIF(Z206,\"No\")*3","v":0}]
[{"$f":"HYPERLINK(\"http://sdlegislature.gov/Rules/DisplayRule.aspx?Rule=24:05:27:08\",\"Met Annually\n(24:05:27:08)\")","v":"Met Annually\n(24:05:27:08)"},null,null,null,null,null,"Current IEP Meeting Date:",null,null,null,null,{"$f":"T5","v":"00:00:00"},null,null,null,null,null,null,"Select",null,null,null,null,null,{"$f":"S208","v":"Select"},{"$f":"S208","v":"Select"}]
[null,null,null,null,null,null,"Previous IEP Meeting Date:",null,null,null,null,{"$f":"T6","v":"00:00:00"},null,null,null,null,null,null,null,null,null,null,null,{"$f":"Y209+Z209","v":0},{"$f":"COUNTIF(Y208,\"Yes\")*3","v":0},{"$f":"COUNTIF(Z208,\"No\")*3","v":0}]
[null,null,null,null,null,null,null,null,null,null,null,null,null,null,null,null,null,null,null,null,null,null,null,{"$f":"(X205+X207+X209)/3","v":0},{"$f":"(Y205+Y207+Y209)/3","v":0}]
[{"$f":"HYPERLINK(\"https://gosynth.com/p/s/eypdgf\",\"Present Levels of Academic Achievement & Functional Performance\")","v":"Present Levels of Academic Achievement & Functional Performance"},null,null,null,null,null,null,null,null,null,null,null,null,null,null,null,null,null,{"$f":"IFERROR(Y243/X243,\"N/A\")","v":"N/A"}]
[{"$f":"HYPERLINK(\"http://sdlegislature.gov/Rules/DisplayRule.aspx?Rule=24:05:27:01.03\",\"Progress/Involvement in \nGeneral Education Curriculum\n(24:05:27:01.03)\")","v":"Progress/Involvement in \nGeneral Education Curriculum\n(24:05:27:01.03)"},null,null,null,null,null,"A statement of the student's present levels of academic achievement and functional performance, including:\n   (a)  How the student's disability affects the student's involvement and progress in the general education curriculum (i.e., the same curriculum as for nondisabled students); or\n   (b)  For preschool student, as appropriate, how the disability affects the student's participation in appropriate activities;\nis found in the document.",null,null,null,null,null,null,null,null,null,null,null,"Select","V209",null,null,null,null,{"$f":"S212","v":"Select"},{"$f":"S212","v":"Select"}]
[null,null,null,null,null,null,null,null,null,null,null,null,null,null,null,null,null,null,null,null,null,null,null,{"$f":"Y213+Z213","v":0},{"$f":"COUNTIF(Y212,\"Yes\")*3","v":0},{"$f":"COUNTIF(Z212,\"No\")*3","v":0}]
[]
[{"$f":"HYPERLINK(\"https://sdlegislature.gov/Rules/DisplayRule.aspx?Rule=24:05:25:16\",\"Parent Participation\n(24:05:25:16)\")","v":"Parent Participation\n(24:05:25:16)"},null,null,null,null,null,"The purpose of this area for parent to provide IEP team information about how the child’s disability is impacted at home. Parents can also provide input on types of strategies and supports they provide at home.",null,null,null,null,null,null,null,null,null,null,null,"Select",null,null,null,null,null,{"$f":"S215","v":"Select"},{"$f":"S215","v":"Select"}]
[null,null,null,null,null,null,null,null,null,null,null,null,null,null,null,null,null,null,null,null,null,null,null,{"$f":"Y216+Z216","v":0},{"$f":"COUNTIF(Y215,\"Yes\")*3","v":0},{"$f":"COUNTIF(Z215,\"No\")*3","v":0}]
[{"$f":"HYPERLINK(\"http://sdlegislature.gov/Rules/DisplayRule.aspx?Rule=24:05:27:01.03\",\"Present Levels of \nAcademic Achievement \n& Functional Performance\nLinked to Annual Goals\n(24:05:27:01.03)\")","v":"Present Levels of \nAcademic Achievement \n& Functional Performance\nLinked to Annual Goals\n(24:05:27:01.03)"},null,null,null,null,null,"Skill Area:",null,null,null,null,"Measuarable Goal:",null,null,null,null,null,null,"Select","V214",null,null,null,null,{"$f":"S217","v":"Select"},{"$f":"S217","v":"Select"}]
[null,null,null,null,null,null,null,null,null,null,null,null,null,null,null,null,null,null,null,null,null,null,null,{"$f":"Y218+Z218","v":0},{"$f":"COUNTIF(Y217,\"Yes\")*3","v":0},{"$f":"COUNTIF(Z217,\"No\")*3","v":0}]
[null,null,null,null,null,null,null,"Strengths",null,null,null,null,"Condition",null,null,"How well"]
[null,null,null,null,null,null,null,"Needs",null,null,null,null,"Performance",null,null,"How often"]
[null,null,null,null,null,null,null,"Link to evaluation"]
[]
[null,null,null,null,null,null,"Skill Area:",null,null,null,null,"Measuarable Goal:",null,null,null,null,null,null,"Select",null,null,null,null,null,{"$f":"S223","v":"Select"},{"$f":"S223","v":"Select"}]
[null,null,null,null,null,null,null,null,null,null,null,null,null,null,null,null,null,null,null,null,null,null,null,{"$f":"Y224+Z224","v":0},{"$f":"COUNTIF(Y223,\"Yes\")*3","v":0},{"$f":"COUNTIF(Z223,\"No\")*3","v":0}]
[null,null,null,null,null,null,null,"Strengths",null,null,null,null,"Condition",null,null,"How well"]
[null,null,null,null,null,null,null,"Needs",null,null,null,null,"Performance",null,null,"How often"]
[null,null,null,null,null,null,null,"Link to evaluation"]
[]
[null,null,null,null,null,null,"Skill Area:",null,null,null,null,"Measuarable Goal:",null,null,null,null,null,null,"Select",null,null,null,null,null,{"$f":"S229","v":"Select"},{"$f":"S229","v":"Select"}]
[null,null,null,null,null,null,null,null,null,null,null,null,null,null,null,null,null,null,null,null,null,null,null,{"$f":"Y230+Z230","v":0},{"$f":"COUNTIF(Y229,\"Yes\")*3","v":0},{"$f":"COUNTIF(Z229,\"No\")*3","v":0}]
[null,null,null,null,null,null,null,"Strengths",null,null,null,null,"Condition",null,null,"How well"]
[null,null,null,null,null,null,null,"Needs",null,null,null,null,"Performance",null,null,"How often"]
[null,null,null,null,null,null,null,"Link to evaluation"]
[]
[{"$f":"HYPERLINK(\"http://sdlegislature.gov/Rules/DisplayRule.aspx?Rule=24:05:27:01.03\",\"How Progress will be Measured\n(24:05:27:01.03)\")","v":"How Progress will be Measured\n(24:05:27:01.03)"},null,null,null,null,null,{"$f":"HYPERLINK(\"https://gosynth.com/p/s/psaxcx\",\"         Check the following:\")","v":"         Check the following:"},null,null,null,null,null,null,null,null,null,null,null,"Select","V232",null,null,null,null,{"$f":"S235","v":"Select"},{"$f":"S235","v":"Select"}]
[null,null,null,null,null,null,null,null,null,null,null,null,null,null,null,null,null,null,null,null,null,null,null,{"$f":"Y236+Z236","v":0},{"$f":"COUNTIF(Y235,\"Yes\")*3","v":0},{"$f":"COUNTIF(Z235,\"No\")*3","v":0}]
[null,null,null,null,null,null,null,"Reporting frequency",null,null,null,null,"Extent of progress"]
[null,null,null,null,null,null,null,"Reporting method"]
[]
[{"$f":"HYPERLINK(\"http://sdlegislature.gov/Rules/DisplayRule.aspx?Rule=24:05:27:01.03\",\"Accommodations/Modifications\n(24:05:27:01.03)\")","v":"Accommodations/Modifications\n(24:05:27:01.03)"},null,null,null,null,null,{"$f":"HYPERLINK(\"https://gosynth.com/p/s/rtpvrq\",\"         Check the following:\")","v":"         Check the following:"},null,null,null,null,"List Instructional Accommodations:",null,null,null,null,null,null,"Select","V237",null,null,null,null,{"$f":"S240","v":"Select"},{"$f":"S240","v":"Select"}]
[null,null,null,null,null,null,null,"Frequency",null,null,null,null,null,null,null,null,null,null,null,null,null,null,null,{"$f":"Y241+Z241","v":0},{"$f":"COUNTIF(Y240,\"Yes\")*3","v":0},{"$f":"COUNTIF(Z240,\"No\")*3","v":0}]
[null,null,null,null,null,null,null,"Duration"]
[null,null,null,null,null,null,null,"Location",null,null,null,null,null,null,null,null,null,null,null,null,null,null,null,{"$f":"(X241+X236+X230+X224+X218+X216+X213)/7","v":0},{"$f":"(Y241+Y236+Y230+Y224+Y218+Y216+Y213)/7","v":0}]
[]
[]
[null,null,null,null,null,null,null,"Are the accommodations appropriate for the skill areas affected by the diability?"]
[]
[]
[]
[null,null,null,null,null,null,null,null,"Yes"]
[null,null,null,null,null,null,null,null,"No"]
[]
[]
[]
[{"$f":"HYPERLINK(\"https://gosynth.com/p/s/ygpazf\",\"Special Factors\")","v":"Special Factors"},null,null,null,null,null,null,null,null,null,null,null,null,null,null,null,null,null,{"$f":"IFERROR(Y294/X294,\"N/A\")","v":"N/A"}]
[{"$f":"HYPERLINK(\"http://sdlegislature.gov/Rules/DisplayRule.aspx?Rule=24:05:27:01.02\",\"Considerations\n(24:05:27:01.02)\")","v":"Considerations\n(24:05:27:01.02)"},null,null,null,null,null,"Select for each:",null,null,"Determine if data supports the selection for each special factor; if not addressed, check \"N\"  for score.",null,null,null,null,null,null,null,null,"Select","V243",null,null,null,null,{"$f":"S256","v":"Select"},{"$f":"S256","v":"Select"}]
[null,null,null,null,null,null,null,null,null,null,null,null,null,null,null,null,null,null,null,null,null,null,null,{"$f":"Y257+Z257","v":0},{"$f":"COUNTIF(Y256,\"Yes\")*3","v":0},{"$f":"COUNTIF(Z256,\"No\")*3","v":0}]
[null,null,null,null,null,null,null,null,null,"Limited English proficient"]
[null,null,null,null,null,null,null,null,null,"Special communication needs"]
[null,null,null,null,null,null,null,null,null,"Requires Braille"]
[null,null,null,null,null,null,null,null,null,"Behavior impedes learning"]
[null,null,null,null,null,null,null,null,null,"Requires assistive technology & services"]
[null,null,null,null,null,null,null,null,null,"Physical education"]
[null,null,null,null,null,null,null,null,null,"Hearing aid maintenance"]
[{"$f":"HYPERLINK(\"http://sdlegislature.gov/Rules/DisplayRule.aspx?Rule=24:05:27:01.03\",\"State/District Assessments\n(24:05:27:01.03)\")","v":"State/District Assessments\n(24:05:27:01.03)"},null,null,null,null,null,{"$f":"HYPERLINK(\"https://gosynth.com/p/s/jdbbir\",\"             Students will be taking state and district-wide assessments:\")","v":"             Students will be taking state and district-wide assessments:"},null,null,null,null,null,null,null,null,null,null,null,"Select","V263",null,null,null,null,{"$f":"S265","v":"Select"},{"$f":"S265","v":"Select"}]
[null,null,null,null,null,null,null,"With accommodations",null,null,null,null,"Without accommodations",null,null,null,null,null,null,null,null,null,null,{"$f":"Y266+Z266","v":0},{"$f":"COUNTIF(Y265,\"Yes\")*3","v":0},{"$f":"COUNTIF(Z265,\"No\")*3","v":0}]
[null,null,null,null,null,null,"Testing accommodations must reflect instructional accommodations."]
[null,null,null,null,null,null,"Do the accommodations for the state/district assesment(s) \nmatch the instructional accommodations?"]
[]
[null,null,null,null,null,null,"Instructional \nAccommodations",null,null,null,"State/District\nAssessment\nAccommodations",null,null,null,"Select\nyes or no:"]
[]
[]
[null,null,null,null,null,null,{"$f":"L241","v":0},null,null,null,null,null,null,null,"- Select -"]
[null,null,null,null,null,null,0,null,null,null,null,null,null,null,"- Select -"]
[null,null,null,null,null,null,0,null,null,null,null,null,null,null,"- Select -"]
[null,null,null,null,null,null,0,null,null,null,null,null,null,null,"- Select -"]
[null,null,null,null,null,null,0]
[null,null,null,null,null,null,0,null,null,null,null,null,null,null,"- Select -"]
[null,null,null,null,null,null,0,null,null,null,null,null,null,null,"- Select -"]
[null,null,null,null,null,null,0]
[null,null,null,null,null,null,0]
[null,null,null,null,null,null,0,null,null,null,null,null,null,null,"- Select -"]
[null,null,null,null,null,null,0,null,null,null,null,null,null,null,"- Select -"]
[null,null,null,null,null,null,0,null,null,null,null,null,null,null,"- Select -"]
[null,null,null,null,null,null,0,null,null,null,null,null,null,null,"- Select -"]
[null,null,null,null,null,null,0,null,null,null,null,null,null,null,"- Select -"]
[null,null,null,null,null,null,"Were the accommodations for\n the state assessment identified \non the IEP provided according to \nthe assessment data sheet?"]
[null,null,null,null,null,null,null,null,null,null,null,null,null,"- Select -"]
[]
[{"$f":"HYPERLINK(\"http://sdlegislature.gov/Rules/DisplayRule.aspx?Rule=24:05:27:01.03\",\"Alternate Assessments\n(24:05:27:01.03)\")","v":"Alternate Assessments\n(24:05:27:01.03)"},null,null,null,null,null,{"$f":"HYPERLINK(\"https://gosynth.com/p/s/bjlejx\",\"                  The following must be met:\")","v":"                  The following must be met:"},null,null,null,null,null,null,null,null,null,null,null,"Select","V257",null,null,null,null,{"$f":"S290","v":"Select"},{"$f":"S290","v":"Select"}]
[null,null,null,null,null,null,null,null,null,null,null,null,null,null,null,null,null,null,null,null,null,null,null,{"$f":"Y291+Z291","v":0},{"$f":"COUNTIF(Y290,\"Yes\")*3","v":0},{"$f":"COUNTIF(Z290,\"No\")*3","v":0}]
[null,null,null,null,null,null,null,"Student meets the significant cognitive disability criteria"]
[null,null,null,null,null,null,null,"Explanation for why student cannot participate in the regular assessment"]
[null,null,null,null,null,null,null,null,null,null,null,null,null,null,null,null,null,null,null,null,null,null,null,{"$f":"(X291+X266+X257)/3","v":0},{"$f":"(Y291+Y266+Y257)/3","v":0}]
[null,null,null,null,null,null,null,"Explanation for why the alternate assessment selected is appropriate"]
[]
[null,null,null,null,null,null,null,"The alternate assessment is for students working in the alternate achievement standards.  Annual goals and short term objectives are required.                                                                         \n                                                                        "]
[]
[]
[null,null,null,null,null,null,"Does the PPWN explain why IEP team decided alternate assessment for the student?"]
[null,null,null,null,null,null,"Does the student taking the\n alternate assessment meet\n the criteria, has it been \ndocumented on the IEP?"]
[null,null,null,null,null,null,null,null,null,null,null,null,null,"- Select -"]
[]
[]
[{"$f":"HYPERLINK(\"https://gosynth.com/p/s/itwkve\",\"Transition\")","v":"Transition"},null,null,null,null,null,null,null,null,null,null,null,null,null,null,null,null,null,{"$f":"IFERROR(Y306/X306,\"N/A\")","v":"N/A"}]
["Indicator 13 Item 1",null,null,null,null,null,null,null,null,null,null,null,null,null,null,null,null,null,null,null,null,null,null,{"$f":"(X308+X310+X312+X314+X316+X319+X321+X323+X326+X329+X331+X333+X336+X338+X340+X343+X345+X347+X350+X356+X362+X364+X366+X369)/24","v":0},{"$f":"(Y308+Y310+Y312+Y314+Y316+Y319+Y321+Y323+Y326+Y329+Y331+Y333+Y336+Y338+Y340+Y343+Y345+Y347+Y350+Y356+Y362+Y364+Y366+Y369)/24","v":0}]
[{"$f":"HYPERLINK(\"http://sdlegislature.gov/Rules/DisplayRule.aspx?Rule=24:05:27:01.03\",\"Transition IEP*\n(24:05:27:01.03)\")","v":"Transition IEP*\n(24:05:27:01.03)"},null,null,null,null,null,{"$f":"HYPERLINK(\"https://gosynth.com/p/s/itwkve\",\"Transition IEP must be in effect for all students on their 16 birthday or for younger students if it is addressed in the IEP.   \n*This is not on the Indicator 13 checklist, but it is a compliance requirement. \")","v":"Transition IEP must be in effect for all students on their 16 birthday or for younger students if it is addressed in the IEP.   \n*This is not on the Indicator 13 checklist, but it is a compliance requirement. "},null,null,null,null,null,null,null,null,null,null,null,"Select","V269",null,null,null,null,{"$f":"S307","v":"Select"},{"$f":"S307","v":"Select"}]
[null,null,null,null,null,null,null,null,null,null,null,null,null,null,null,null,null,null,null,null,null,null,null,{"$f":"Y308+Z308","v":0},{"$f":"COUNTIF(Y307,\"Yes\")*3","v":0},{"$f":"COUNTIF(Z307,\"No\")*3","v":0}]
[null,null,null,null,null,null,null,null,null,null,null,null,null,null,null,null,null,null,"Select",null,null,null,null,null,{"$f":"S309","v":"Select"},{"$f":"S309","v":"Select"}]
[{"$f":"HYPERLINK(\"http://sdlegislature.gov/Rules/DisplayRule.aspx?Rule=24:05:27:01.03\",\"Transition Assessments\n(24:05:27:01.03)\")","v":"Transition Assessments\n(24:05:27:01.03)"},null,null,null,null,null,null,"Employment",null,null,null,null,null,null,null,null,null,null,null,null,null,null,null,{"$f":"Y310+Z310","v":0},{"$f":"COUNTIF(Y309,\"Yes\")*3","v":0},{"$f":"COUNTIF(Z309,\"No\")*3","v":0}]
[null,null,null,null,null,null,null,null,null,null,null,null,null,null,null,null,null,null,"Select",null,null,null,null,null,{"$f":"S311","v":"Select"},{"$f":"S311","v":"Select"}]
[null,null,null,null,null,null,null,"Education/Training",null,null,null,null,null,null,null,null,null,null,null,null,null,null,null,{"$f":"Y312+Z312","v":0},{"$f":"COUNTIF(Y311,\"Yes\")*3","v":0},{"$f":"COUNTIF(Z311,\"No\")*3","v":0}]
[null,null,null,null,null,null,null,"Independent Living",null,null,null,null,null,null,null,null,null,null,"Select",null,null,null,null,null,{"$f":"S313","v":"Select"},{"$f":"S313","v":"Select"}]
[null,null,null,null,null,null,{"$f":"HYPERLINK(\"https://gosynth.com/p/s/itwkve\",\"The transition assessment must be completed prior to the age of 16 and updated annually.  Evidence of transition strengths/ needs are document on the PLAAFPs.  \")","v":"The transition assessment must be completed prior to the age of 16 and updated annually.  Evidence of transition strengths/ needs are document on the PLAAFPs.  "},null,null,null,null,null,null,null,null,null,null,null,null,null,null,null,null,{"$f":"Y314+Z314","v":0},{"$f":"COUNTIF(Y313,\"Yes\")*3","v":0},{"$f":"COUNTIF(Z313,\"No\")*3","v":0}]
["Transition Evaluation Report*\n",null,null,null,null,null,{"$f":"HYPERLINK(\"https://gosynth.com/p/s/itwkve\",\"A transition evaluation report is located in the file.\n\n*This is not on the Indicator 13 checklist, but it is a compliance requirement. \")","v":"A transition evaluation report is located in the file.\n\n*This is not on the Indicator 13 checklist, but it is a compliance requirement. "},null,null,null,null,null,null,null,null,null,null,null,"Select",null,null,null,null,null,{"$f":"S315","v":"Select"},{"$f":"S315","v":"Select"}]
[null,null,null,null,null,null,null,null,null,null,null,null,null,null,null,null,null,null,null,null,null,null,null,{"$f":"Y316+Z316","v":0},{"$f":"COUNTIF(Y315,\"Yes\")*3","v":0},{"$f":"COUNTIF(Z315,\"No\")*3","v":0}]
[{"$f":"HYPERLINK(\"https://gosynth.com/p/s/itwkve\",\"Indicator 13 Item 2\")","v":"Indicator 13 Item 2"}]
[{"$f":"HYPERLINK(\"http://sdlegislature.gov/Rules/DisplayRule.aspx?Rule=24:05:27:01.03\",\"Age-Appropriate Measurable \nPost-Secondary Goals \n(24:05:27:01.03)\")","v":"Age-Appropriate Measurable \nPost-Secondary Goals \n(24:05:27:01.03)"},null,null,null,null,null,null,"Employment",null,null,null,null,null,null,null,null,null,null,"Select","V278",null,null,null,null,{"$f":"S318","v":"Select"},{"$f":"S318","v":"Select"}]
[null,null,null,null,null,null,null,null,null,null,null,null,null,null,null,null,null,null,null,null,null,null,null,{"$f":"Y319+Z319","v":0},{"$f":"COUNTIF(Y318,\"Yes\")*3","v":0},{"$f":"COUNTIF(Z318,\"No\")*3","v":0}]
[null,null,null,null,null,null,null,"Education/Training",null,null,null,null,null,null,null,null,null,null,"Select",null,null,null,null,null,{"$f":"S320","v":"Select"},{"$f":"S320","v":"Select"}]
[null,null,null,null,null,null,null,null,null,null,null,null,null,null,null,null,null,null,null,null,null,null,null,{"$f":"Y321+Z321","v":0},{"$f":"COUNTIF(Y320,\"Yes\")*3","v":0},{"$f":"COUNTIF(Z320,\"No\")*3","v":0}]
[null,null,null,null,null,null,null,"Independent Living",null,null,null,null,null,null,null,null,null,null,"Select",null,null,null,null,null,{"$f":"S322","v":"Select"},{"$f":"S322","v":"Select"}]
[null,null,null,null,null,null,null,null,null,null,null,null,null,null,null,null,null,null,null,null,null,null,null,{"$f":"Y323+Z323","v":0},{"$f":"COUNTIF(Y322,\"Yes\")*3","v":0},{"$f":"COUNTIF(Z322,\"No\")*3","v":0}]
[{"$f":"HYPERLINK(\"https://gosynth.com/p/s/itwkve\",\"Indicator 13 Item 3\")","v":"Indicator 13 Item 3"}]
["MPSGs Updated Annually",null,null,null,null,null,null,null,null,null,null,null,null,null,null,null,null,null,"Select","V282",null,null,null,null,{"$f":"S325","v":"Select"},{"$f":"S325","v":"Select"}]
[null,null,null,null,null,null,null,null,null,null,null,null,null,null,null,null,null,null,null,null,null,null,null,{"$f":"Y326+Z326","v":0},{"$f":"COUNTIF(Y325,\"Yes\")*3","v":0},{"$f":"COUNTIF(Z325,\"No\")*3","v":0}]
["Indicator 13 Item 4"]
[{"$f":"HYPERLINK(\"http://sdlegislature.gov/Rules/DisplayRule.aspx?Rule=24:05:27:01.03\",\"Course of Study Aligns to \nPost-Secondary Goals\n(24:05:27:01.03)\")","v":"Course of Study Aligns to \nPost-Secondary Goals\n(24:05:27:01.03)"},null,null,null,null,null,null,"Employment",null,null,null,null,null,null,null,null,null,null,"Select","V285",null,null,null,null,{"$f":"S328","v":"Select"},{"$f":"S328","v":"Select"}]
[null,null,null,null,null,null,null,null,null,null,null,null,null,null,null,null,null,null,null,null,null,null,null,{"$f":"Y329+Z329","v":0},{"$f":"COUNTIF(Y328,\"Yes\")*3","v":0},{"$f":"COUNTIF(Z328,\"No\")*3","v":0}]
[null,null,null,null,null,null,null,"Education/Training",null,null,null,null,null,null,null,null,null,null,"Select",null,null,null,null,null,{"$f":"S330","v":"Select"},{"$f":"S330","v":"Select"}]
[null,null,null,null,null,null,null,null,null,null,null,null,null,null,null,null,null,null,null,null,null,null,null,{"$f":"Y331+Z331","v":0},{"$f":"COUNTIF(Y330,\"Yes\")*3","v":0},{"$f":"COUNTIF(Z330,\"No\")*3","v":0}]
[null,null,null,null,null,null,null,"Independent Living",null,null,null,null,null,null,null,null,null,null,"Select",null,null,null,null,null,{"$f":"S332","v":"Select"},{"$f":"S332","v":"Select"}]
[null,null,null,null,null,null,"Completed by age 16, or younger if transition has been addressed in the IEP, and updated annually through graduation or ‘age out’.",null,null,null,null,null,null,null,null,null,null,null,null,null,null,null,null,{"$f":"Y333+Z333","v":0},{"$f":"COUNTIF(Y332,\"Yes\")*3","v":0},{"$f":"COUNTIF(Z332,\"No\")*3","v":0}]
[{"$f":"HYPERLINK(\"https://gosynth.com/p/s/itwkve\",\"Indicator 13 Item 5\")","v":"Indicator 13 Item 5"}]
[{"$f":"HYPERLINK(\"http://sdlegislature.gov/Rules/DisplayRule.aspx?Rule=24:05:27:13.02\",\"Transition Services/Activities\n(24:05:27:13.02)\")","v":"Transition Services/Activities\n(24:05:27:13.02)"},null,null,null,null,null,null,"Employment",null,null,null,null,null,null,null,null,null,null,"Select","V290",null,null,null,null,{"$f":"S335","v":"Select"},{"$f":"S335","v":"Select"}]
[null,null,null,null,null,null,null,null,null,null,null,null,null,null,null,null,null,null,null,null,null,null,null,{"$f":"Y336+Z336","v":0},{"$f":"COUNTIF(Y335,\"Yes\")*3","v":0},{"$f":"COUNTIF(Z335,\"No\")*3","v":0}]
[null,null,null,null,null,null,null,"Education/Training",null,null,null,null,null,null,null,null,null,null,"Select",null,null,null,null,null,{"$f":"S337","v":"Select"},{"$f":"S337","v":"Select"}]
[null,null,null,null,null,null,null,null,null,null,null,null,null,null,null,null,null,null,null,null,null,null,null,{"$f":"Y338+Z338","v":0},{"$f":"COUNTIF(Y337,\"Yes\")*3","v":0},{"$f":"COUNTIF(Z337,\"No\")*3","v":0}]
[null,null,null,null,null,null,null,"Independent Living",null,null,null,null,null,null,null,null,null,null,"Select",null,null,null,null,null,{"$f":"S339","v":"Select"},{"$f":"S339","v":"Select"}]
[null,null,null,null,null,null,"Services/activities will reasonably enable the student to meet post-secondary goals and have at least one activity per MPSG addressed.",null,null,null,null,null,null,null,null,null,null,null,null,null,null,null,null,{"$f":"Y340+Z340","v":0},{"$f":"COUNTIF(Y339,\"Yes\")*3","v":0},{"$f":"COUNTIF(Z339,\"No\")*3","v":0}]
[{"$f":"HYPERLINK(\"https://gosynth.com/p/s/itwkve\",\"Indicator 13 Item 6\")","v":"Indicator 13 Item 6"}]
[{"$f":"HYPERLINK(\"http://sdlegislature.gov/Rules/DisplayRule.aspx?Rule=24:05:27:13.02\",\"Annual Goal Related to Student’s Transition Service needs in\n(24:05:27:13.02)\")","v":"Annual Goal Related to Student’s Transition Service needs in\n(24:05:27:13.02)"},null,null,null,null,null,null,"Employment",null,null,null,null,null,null,null,null,null,null,"Select","V295",null,null,null,null,{"$f":"S342","v":"Select"},{"$f":"S342","v":"Select"}]
[null,null,null,null,null,null,null,null,null,null,null,null,null,null,null,null,null,null,null,null,null,null,null,{"$f":"Y343+Z343","v":0},{"$f":"COUNTIF(Y342,\"Yes\")*3","v":0},{"$f":"COUNTIF(Z342,\"No\")*3","v":0}]
[null,null,null,null,null,null,null,"Education/Training",null,null,null,null,null,null,null,null,null,null,"Select",null,null,null,null,null,{"$f":"S344","v":"Select"},{"$f":"S344","v":"Select"}]
[null,null,null,null,null,null,null,null,null,null,null,null,null,null,null,null,null,null,null,null,null,null,null,{"$f":"Y345+Z345","v":0},{"$f":"COUNTIF(Y344,\"Yes\")*3","v":0},{"$f":"COUNTIF(Z344,\"No\")*3","v":0}]
[null,null,null,null,null,null,null,"Independent Living",null,null,null,null,null,null,null,null,null,null,"Select",null,null,null,null,null,{"$f":"S346","v":"Select"},{"$f":"S346","v":"Select"}]
[null,null,null,null,null,null,{"$f":"HYPERLINK(\"https://gosynth.com/p/s/itwkve\",\"Annual goals are linked to the MPSGs.\")","v":"Annual goals are linked to the MPSGs."},null,null,null,null,null,null,null,null,null,null,null,null,null,null,null,null,{"$f":"Y347+Z347","v":0},{"$f":"COUNTIF(Y346,\"Yes\")*3","v":0},{"$f":"COUNTIF(Z346,\"No\")*3","v":0}]
[{"$f":"HYPERLINK(\"https://gosynth.com/p/s/pisllo\",\"Indicator 13 Item 7\")","v":"Indicator 13 Item 7"}]
[{"$f":"HYPERLINK(\"http://sdlegislature.gov/Rules/DisplayRule.aspx?Rule=24:05:25:16.01\",\"Student Invitation/Participation\n(24:05:25:16.01)\")","v":"Student Invitation/Participation\n(24:05:25:16.01)"},null,null,null,null,null,"How the student invited?",null,null,null,null,{"$f":"HYPERLINK(\"https://gosynth.com/p/s/pisllo\",\"If student was not in attendance at the meeting, the IEP should show evidence that student's preferences and interests were taken into account. *\")","v":"If student was not in attendance at the meeting, the IEP should show evidence that student's preferences and interests were taken into account. *"},null,null,null,null,null,null,"Select","V300",null,null,null,null,{"$f":"S349","v":"Select"},{"$f":"S349","v":"Select"}]
[null,null,null,null,null,null,null,null,null,null,null,null,null,null,null,null,null,null,null,null,null,null,null,{"$f":"Y350+Z350","v":0},{"$f":"COUNTIF(Y349,\"Yes\")*3","v":0},{"$f":"COUNTIF(Z349,\"No\")*3","v":0}]
[null,null,null,null,null,null,null,"Meeting notice"]
[null,null,null,null,null,null,null,"Individual student invite"]
[]
[{"$f":"HYPERLINK(\"https://gosynth.com/p/s/pisllo\",\"Indicator 13 Item 8\")","v":"Indicator 13 Item 8"}]
[{"$f":"HYPERLINK(\"http://sdlegislature.gov/Rules/DisplayRule.aspx?Rule=24:05:25:16.01\",\"Consent to Invite Outside Agency\n(24:05:25:16.01)\")","v":"Consent to Invite Outside Agency\n(24:05:25:16.01)"},null,null,null,null,null,{"$f":"HYPERLINK(\"https://gosynth.com/p/s/pisllo\",\" Written Consent to invite:\")","v":" Written Consent to invite:"},null,null,null,null,null,null,"List of agencies invited:",null,null,null,null,"Select","V306",null,null,null,null,{"$f":"S355","v":"Select"},{"$f":"S355","v":"Select"}]
[null,null,null,null,null,null,"Invited on Meeting Notice:",null,null,null,null,null,"Yes",null,null,null,null,null,null,null,null,null,null,{"$f":"Y356+Z356","v":0},{"$f":"COUNTIF(Y355,\"Yes\")*3","v":0},{"$f":"COUNTIF(Z355,\"No\")*3","v":0}]
[null,null,null,null,null,null,null,null,null,null,null,null,"No"]
[null,null,null,null,null,null,"Meeting Notice Date:",null,null,null,null,{"$f":"J177","v":"00:00:00"}]
[null,null,null,null,null,null,"Date of Current IEP Meeting:",null,null,null,null,{"$f":"T5","v":"00:00:00"}]
[{"$f":"HYPERLINK(\"https://gosynth.com/p/s/pisllo\",\"Other Transition Areas *\")","v":"Other Transition Areas *"}]
[{"$f":"HYPERLINK(\"http://sdlegislature.gov/Rules/DisplayRule.aspx?Rule=24:05:30:16.01\",\"Transfer of Parental Rights:\n(24:05:30:16.01)\")","v":"Transfer of Parental Rights:\n(24:05:30:16.01)"},null,null,null,null,null,"Turned 17 on:",null,null,null,null,null,null,null,null,null,null,null,"Select","V312",null,null,null,null,{"$f":"S361","v":"Select"},{"$f":"S361","v":"Select"}]
[null,null,null,null,null,null,"Rights reviewed on:",null,null,null,null,null,null,null,null,null,null,null,null,null,null,null,null,{"$f":"Y362+Z362","v":0},{"$f":"COUNTIF(Y361,\"Yes\")*3","v":0},{"$f":"COUNTIF(Z361,\"No\")*3","v":0}]
[{"$f":"HYPERLINK(\"http://sdlegislature.gov/Rules/DisplayRule.aspx?Rule=24:05:27:12\",\"Specific Graduation Requirements:\n(24:05:27:12)\")","v":"Specific Graduation Requirements:\n(24:05:27:12)"},null,null,null,null,null,"Graduation requirements addressed on:",null,null,null,null,null,null,null,null,null,null,null,"Select",null,null,null,null,null,{"$f":"S363","v":"Select"},{"$f":"S363","v":"Select"}]
[null,null,null,null,null,null,"Student is projected to graduate:",null,null,null,null,null,null,null,null,null,null,null,null,null,null,null,null,{"$f":"Y364+Z364","v":0},{"$f":"COUNTIF(Y363,\"Yes\")*3","v":0},{"$f":"COUNTIF(Z363,\"No\")*3","v":0}]
[{"$f":"HYPERLINK(\"http://sdlegislature.gov/Rules/DisplayRule.aspx?Rule=24:05:27:12\",\"When Student has Graduated\n(24:05:27:12)\")","v":"When Student has Graduated\n(24:05:27:12)"},null,null,null,null,null,"Written prior notice was sent:",null,null,null,null,null,null,null,null,null,null,null,"Select",null,null,null,null,null,{"$f":"S365","v":"Select"},{"$f":"S365","v":"Select"}]
[null,null,null,null,null,null,{"$f":"HYPERLINK(\"https://gosynth.com/p/s/pisllo\",\"When a student graduates, it is a change in placement. It must have a written\n prior notice sent.  If student has \"\"aged-out\"\", a PPWN is required.  \")","v":"When a student graduates, it is a change in placement. It must have a written\n prior notice sent.  If student has \"aged-out\", a PPWN is required.  "},null,null,null,null,null,null,null,null,null,null,null,null,null,null,null,null,{"$f":"Y366+Z366","v":0},{"$f":"COUNTIF(Y365,\"Yes\")*3","v":0},{"$f":"COUNTIF(Z365,\"No\")*3","v":0}]
[]
[{"$f":"HYPERLINK(\"http://sdlegislature.gov/Rules/DisplayRule.aspx?Rule=24:05:27:12\",\"Summary of Performance was provided to the Student/Parent/Guardian\n(24:05:27:12)\")","v":"Summary of Performance was provided to the Student/Parent/Guardian\n(24:05:27:12)"},null,null,null,null,null,{"$f":"HYPERLINK(\"https://gosynth.com/p/s/pisllo\",\"Summary of Performance (SOP) is required for students who graduated and\n aged out. A copy of the SOP should remain in the file.\")","v":"Summary of Performance (SOP) is required for students who graduated and\n aged out. A copy of the SOP should remain in the file."},null,null,null,null,null,null,null,null,null,null,null,"Select",null,null,null,null,null,{"$f":"S368","v":"Select"},{"$f":"S368","v":"Select"}]
[null,null,null,null,null,null,null,null,null,null,null,null,null,null,null,null,null,null,null,null,null,null,null,{"$f":"Y369+Z369","v":0},{"$f":"COUNTIF(Y368,\"Yes\")*3","v":0},{"$f":"COUNTIF(Z368,\"No\")*3","v":0}]
[]
["Click on the [+] button to expand or the [-] button to collapse."]
[{"$f":"HYPERLINK(\"https://gosynth.com/p/s/kldkzb\",\"Related Services\")","v":"Related Services"},null,null,null,null,null,null,null,null,null,null,null,null,null,null,null,null,null,{"$f":"IFERROR(Y375/X375,\"N/A\")","v":"N/A"}]
[{"$f":"HYPERLINK(\"http://sdlegislature.gov/Rules/DisplayRule.aspx?Rule=24:05:27:16\",\"Related Services\n(24:05:27)\")","v":"Related Services\n(24:05:27)"},null,null,null,null,null,"Service Provided:",null,null,null,null,null,"If student will receive services in a different location, then must break it out to calculate the Least Restrictive Environment.",null,null,null,null,null,"Select","V324",null,null,null,null,{"$f":"S373","v":"Select"},{"$f":"S373","v":"Select"}]
[null,null,null,null,null,null,null,null,null,null,null,null,null,null,null,null,null,null,null,null,null,null,null,{"$f":"Y374+Z374","v":0},{"$f":"COUNTIF(Y373,\"Yes\")*3","v":0},{"$f":"COUNTIF(Z373,\"No\")*3","v":0}]
[null,null,null,null,null,null,null,"Frequency",null,null,"Location",null,null,null,null,null,null,null,null,null,null,null,null,{"$f":"(X374+X379)/2","v":0},{"$f":"(Y374+Y379)/2","v":0}]
[null,null,null,null,null,null,null,"Duration",null,null,"Other"]
[null,null,null,null,null,null,"Service Provided:",null,null,null,null,null,"At a minimum, all areas student qualifies and has an annual goal must have service time documented. If not addressed, then PPWN must explain reason."]
[null,null,null,null,null,null,null,null,null,null,null,null,null,null,null,null,null,null,"Select",null,null,null,null,null,{"$f":"S378","v":"Select"},{"$f":"S378","v":"Select"}]
[null,null,null,null,null,null,null,"Frequency",null,null,"Location",null,null,null,null,null,null,null,null,null,null,null,null,{"$f":"Y379+Z379","v":0},{"$f":"COUNTIF(Y378,\"Yes\")*3","v":0},{"$f":"COUNTIF(Z378,\"No\")*3","v":0}]
[null,null,null,null,null,null,null,"Duration",null,null,"Other"]
[]
["Least Restrictive Environment ",null,null,null,null,null,null,null,null,null,null,null,null,null,null,null,null,null,{"$f":"IFERROR(Y382/X382,\"N/A\")","v":"N/A"},null,null,null,null,{"$f":"(X384+X388+X392+X396+X400+X402+X404+X406+X408)/9","v":0},{"$f":"(Y384+Y388+Y392+Y396+Y400+Y402+Y404+Y406+Y408)/9","v":0}]
[{"$f":"HYPERLINK(\"https://sdlegislature.gov/Rules/DisplayRule.aspx?Rule=24:05:28\",\"Least Restrictive Enviornment \n(Chapter 24:05:28)\")","v":"Least Restrictive Enviornment \n(Chapter 24:05:28)"},null,null,null,null,null,{"$f":"HYPERLINK(\"https://gosynth.com/p/s/llxjsq\",\"Skill area:\")","v":"Skill area:"},null,null,null,null,null,null,null,null,null,null,null,"Select","V334",null,null,null,null,{"$f":"S383","v":"Select"},{"$f":"S383","v":"Select"}]
[null,null,null,null,null,null,null,null,null,null,null,null,null,null,null,null,null,null,null,null,null,null,null,{"$f":"Y384+Z384","v":0},{"$f":"COUNTIF(Y383,\"Yes\")*3","v":0},{"$f":"COUNTIF(Z383,\"No\")*3","v":0}]
[null,null,null,null,null,null,null,null,"Frequency",null,null,"Duration",null,null,"Location"]
[]
[null,null,null,null,null,null,"Skill area:",null,null,null,null,null,null,null,null,null,null,null,"Select",null,null,null,null,null,{"$f":"S387","v":"Select"},{"$f":"S387","v":"Select"}]
[null,null,null,null,null,null,null,null,null,null,null,null,null,null,null,null,null,null,null,null,null,null,null,{"$f":"Y388+Z388","v":0},{"$f":"COUNTIF(Y387,\"Yes\")*3","v":0},{"$f":"COUNTIF(Z387,\"No\")*3","v":0}]
[null,null,null,null,null,null,null,null,"Frequency",null,null,"Duration",null,null,"Location"]
[]
[null,null,null,null,null,null,"Skill area:",null,null,null,null,null,null,null,null,null,null,null,"Select",null,null,null,null,null,{"$f":"S391","v":"Select"},{"$f":"S391","v":"Select"}]
[null,null,null,null,null,null,null,null,null,null,null,null,null,null,null,null,null,null,null,null,null,null,null,{"$f":"Y392+Z392","v":0},{"$f":"COUNTIF(Y391,\"Yes\")*3","v":0},{"$f":"COUNTIF(Z391,\"No\")*3","v":0}]
[null,null,null,null,null,null,null,null,"Frequency",null,null,"Duration",null,null,"Location"]
[]
[null,null,null,null,null,null,"Skill area:",null,null,null,null,null,null,null,null,null,null,null,"Select",null,null,null,null,null,{"$f":"S395","v":"Select"},{"$f":"S395","v":"Select"}]
[null,null,null,null,null,null,null,null,null,null,null,null,null,null,null,null,null,null,null,null,null,null,null,{"$f":"Y396+Z396","v":0},{"$f":"COUNTIF(Y395,\"Yes\")*3","v":0},{"$f":"COUNTIF(Z395,\"No\")*3","v":0}]
[null,null,null,null,null,null,null,null,"Frequency",null,null,"Duration",null,null,"Location"]
[]
[{"$f":"HYPERLINK(\"http://sdlegislature.gov/Rules/DisplayRule.aspx?Rule=24:05:28:02\",\"Continuum of Placement\n(24:05:28:02)\")","v":"Continuum of Placement\n(24:05:28:02)"},null,null,null,null,null,"Select:",null,null,null,null,null,null,null,null,null,null,null,"Select","V350",null,null,null,null,{"$f":"S399","v":"Select"},{"$f":"S399","v":"Select"}]
[null,null,null,null,null,null,null,null,null,null,null,null,null,null,null,null,null,null,null,null,null,null,null,{"$f":"Y400+Z400","v":0},{"$f":"COUNTIF(Y399,\"Yes\")*3","v":0},{"$f":"COUNTIF(Z399,\"No\")*3","v":0}]
[null,null,null,null,null,null,"Select for Early Childhood (Ages 3-5):",null,null,null,null,null,null,null,null,null,null,null,"Select",null,null,null,null,null,{"$f":"S401","v":"Select"},{"$f":"S401","v":"Select"}]
[null,null,null,null,null,null,null,null,null,null,null,null,null,null,null,null,null,null,null,null,null,null,null,{"$f":"Y402+Z402","v":0},{"$f":"COUNTIF(Y401,\"Yes\")*3","v":0},{"$f":"COUNTIF(Z401,\"No\")*3","v":0}]
[{"$f":"HYPERLINK(\"http://sdlegislature.gov/Rules/DisplayRule.aspx?Rule=24:05:27:01.03\",\"Participation with Non-disabled Peers\n(24:05:27:01.03)\")","v":"Participation with Non-disabled Peers\n(24:05:27:01.03)"},null,null,null,null,null,{"$f":"HYPERLINK(\"https://gosynth.com/p/s/wjqcuh\",\"Document opportunities to participate with non-disabled peers.\")","v":"Document opportunities to participate with non-disabled peers."},null,null,null,null,null,null,null,null,null,null,null,"Select",null,null,null,null,null,{"$f":"S403","v":"Select"},{"$f":"S403","v":"Select"}]
[null,null,null,null,null,null,null,null,null,null,null,null,null,null,null,null,null,null,null,null,null,null,null,{"$f":"Y404+Z404","v":0},{"$f":"COUNTIF(Y403,\"Yes\")*3","v":0},{"$f":"COUNTIF(Z403,\"No\")*3","v":0}]
[{"$f":"HYPERLINK(\"http://sdlegislature.gov/Rules/DisplayRule.aspx?Rule=24:05:28:03\",\"Justification for Placement \n(24:05:28:03)\")","v":"Justification for Placement \n(24:05:28:03)"},null,null,null,null,null,{"$f":"HYPERLINK(\"https://gosynth.com/p/s/rjxcoc\",\"                  Select from the following:\")","v":"                  Select from the following:"},null,null,null,null,null,null,null,null,null,null,null,"Select",null,null,null,null,null,{"$f":"S405","v":"Select"},{"$f":"S405","v":"Select"}]
[null,null,null,null,null,null,null,null,null,null,null,null,null,null,null,null,null,null,null,null,null,null,null,{"$f":"Y406+Z406","v":0},{"$f":"COUNTIF(Y405,\"Yes\")*3","v":0},{"$f":"COUNTIF(Z405,\"No\")*3","v":0}]
[{"$f":"HYPERLINK(\"http://sdlegislature.gov/Rules/DisplayRule.aspx?Rule=24:05:25:26\",\"Extended School Year\n(24:05:25:26)\")","v":"Extended School Year\n(24:05:25:26)"},null,null,null,null,null,{"$f":"HYPERLINK(\"https://gosynth.com/p/s/bbepxx\",\"                  Check the following:\")","v":"                  Check the following:"},null,null,null,null,null,null,null,null,null,null,null,"Select","V358",null,null,null,null,{"$f":"S407","v":"Select"},{"$f":"S407","v":"Select"}]
[null,null,null,null,null,null,null,null,null,null,null,null,null,null,null,null,null,null,null,null,null,null,null,{"$f":"Y408+Z408","v":0},{"$f":"COUNTIF(Y407,\"Yes\")*3","v":0},{"$f":"COUNTIF(Z407,\"No\")*3","v":0}]
[null,null,null,null,null,null,null,null,"Determination",null,null,null,"Beginning/end dates"]
[null,null,null,null,null,null,null,null,"Goals",null,null,null,"Amount of service"]
[]
[]
[]
[{"$f":"HYPERLINK(\"https://gosynth.com/p/s/acbbuk\",\"Prior Parental Written Notice\")","v":"Prior Parental Written Notice"},null,null,null,null,null,null,null,null,null,null,null,null,null,null,null,null,null,{"$f":"IFERROR(Y414/X414,\"N/A\")","v":"N/A"},null,null,null,null,{"$f":"(X416+X421)/2","v":0},{"$f":"(Y416+Y421)/2","v":0}]
[{"$f":"HYPERLINK(\"http://sdlegislature.gov/Rules/DisplayRule.aspx?Rule=24:05:30:04\",\"Prior Written Notice Sent to Parent Regarding IEP Implementation\n(24:05:30:04)\")","v":"Prior Written Notice Sent to Parent Regarding IEP Implementation\n(24:05:30:04)"},null,null,null,null,null,"Date the district sent the PPWN:",null,null,null,null,null,null,null,"The implementation date documented on the PPWN must be reflected on IEP.\n\nThe five-day notice requirement may be waived by the parents.",null,null,null,"Select","V366",null,null,null,null,{"$f":"S415","v":"Select"},{"$f":"S415","v":"Select"}]
[null,null,null,null,null,null,"District proposed at least 5 calendar days to begin implementation:",null,null,null,null,null,{"$f":"M415+5","v":"1900-01-05"},null,null,null,null,null,null,null,null,null,null,{"$f":"Y416+Z416","v":0},{"$f":"COUNTIF(Y415,\"Yes\")*3","v":0},{"$f":"COUNTIF(Z415,\"No\")*3","v":0}]
[]
[null,null,null,null,null,null,"Was the 5 calendar day notice requirement met?",null,null,null,null,null,null,"Yes"]
[null,null,null,null,null,null,null,null,null,null,null,null,null,"No"]
[{"$f":"HYPERLINK(\"http://sdlegislature.gov/Rules/DisplayRule.aspx?Rule=24:05:30:05\",\"Content of PPWN\n(24:05:30:05)\")","v":"Content of PPWN\n(24:05:30:05)"},null,null,null,null,null,"Check the following:",null,null,null,null,null,null,null,null,null,null,null,"Select","V371",null,null,null,null,{"$f":"S420","v":"Select"},{"$f":"S420","v":"Select"}]
[null,null,null,null,null,null,"PPWN must be individualized to the student, IEP team discussions and situation.",null,null,null,null,null,null,null,null,null,null,null,null,null,null,null,null,{"$f":"Y421+Z421","v":0},{"$f":"COUNTIF(Y420,\"Yes\")*3","v":0},{"$f":"COUNTIF(Z420,\"No\")*3","v":0}]
[]
[null,null,null,null,null,null,null,"Explanation of why the district proposed or refused to take the action"]
[null,null,null,null,null,null,null,"Description of other options considered and why they were rejected "]
[null,null,null,null,null,null,null,"Description of evidence used for the proposed or refused action"]
[null,null,null,null,null,null,null,"Description of other factors that are relevant to proposal or refusal"]
[]
[null,null,null,null,null,null,"To skip back to Eligibility section click ",null,null,null,null,"HERE."]
[]
[{"$f":"HYPERLINK(\"https://gosynth.com/p/s/iwvzyu\",\"Amendment to IEP\")","v":"Amendment to IEP"},null,null,null,null,null,null,null,null,null,null,null,null,null,null,null,null,null,{"$f":"IFERROR(Z430/Y430,\"N/A\")","v":"N/A"},null,null,null,null,null,{"$f":"(X432+X434)/2","v":0},{"$f":"(Y432+Y434)/2","v":0}]
["Amendment to IEP",null,null,null,null,null,null,null,null,null,null,null,null,null,null,null,null,null,"Select","V381",null,null,null,null,{"$f":"S431","v":"Select"},{"$f":"S431","v":"Select"}]
[{"$f":"HYPERLINK(\"http://sdlegislature.gov/Rules/DisplayRule.aspx?Rule=24:05:27:08.01\",\"(24:05:27:08.01)\")","v":"(24:05:27:08.01)"},null,null,{"$f":"HYPERLINK(\"http://sdlegislature.gov/Rules/DisplayRule.aspx?Rule=24:05:27:08.02\",\"(24:05:27:08.02)\")","v":"(24:05:27:08.02)"},null,null,null,null,null,null,null,null,null,null,null,null,null,null,null,null,null,null,null,{"$f":"Y432+Z432","v":0},{"$f":"COUNTIF(Y431,\"Yes\")*3","v":0},{"$f":"COUNTIF(Z431,\"No\")*3","v":0}]
[{"$f":"HYPERLINK(\"http://sdlegislature.gov/Rules/DisplayRule.aspx?Rule=24:05:30:04\",\"Prior Notice\n(24:05:30:04)\")","v":"Prior Notice\n(24:05:30:04)"},null,null,null,null,null,"Document if the amendment was made with or without a meeting.",null,null,null,null,null,null,null,null,null,null,null,"Select",null,null,null,null,null,{"$f":"S433","v":"Select"},{"$f":"S433","v":"Select"}]
[null,null,null,null,null,null,null,null,null,null,null,null,null,null,null,null,null,null,null,null,null,null,null,{"$f":"Y434+Z434","v":0},{"$f":"COUNTIF(Y433,\"Yes\")*3","v":0},{"$f":"COUNTIF(Z433,\"No\")*3","v":0}]
[]
[{"$f":"HYPERLINK(\"https://gosynth.com/p/s/jdtswp\",\"Additional Items\")","v":"Additional Items"},null,null,null,null,null,null,null,null,null,null,null,null,null,null,null,null,null,{"$f":"IFERROR(AB436/AA436,\"N/A\")","v":"N/A"},null,null,null,null,null,{"$f":"S437","v":"Select"},{"$f":"S437","v":"Select"},{"$f":"(X437+X439+X441+X443)/4","v":0},{"$f":"(Y437+Y439+Y441+Y443)/4","v":0}]
["Parent Declined/\nWithdrew Consent for Services ",null,null,null,null,null,"Revocation signed:",null,null,null,null,null,null,{"$f":"HYPERLINK(\"http://sdlegislature.gov/Rules/DisplayRule.aspx?Rule=24:05:27:04.02\",\"(24:05:27:04.02)\")","v":"(24:05:27:04.02)"},null,null,null,null,"Select","V387",null,null,null,{"$f":"Y437+Z437","v":0},{"$f":"COUNTIF(Y436,\"Yes\")*3","v":0},{"$f":"COUNTIF(Z436,\"No\")*3","v":0}]
[null,null,null,null,null,null,"Date prior notice was sent:",null,null,null,null,null,null,null,null,null,null,null,null,null,null,null,null,null,{"$f":"S439","v":"Select"},{"$f":"S439","v":"Select"}]
["Surrogate Parent",null,null,null,null,null,null,null,null,null,null,null,null,null,null,null,null,null,"Select",null,null,null,null,{"$f":"Y439+Z439","v":0},{"$f":"COUNTIF(Y438,\"Yes\")*3","v":0},{"$f":"COUNTIF(Z438,\"No\")*3","v":0}]
["Transfer Students Provided with  FAPE/Comparable Services ",null,null,null,null,null,"Date prior notice was sent:",null,null,null,null,null,null,{"$f":"HYPERLINK(\"http://sdlegislature.gov/Rules/DisplayRule.aspx?Rule=24:05:27:15.01\",\"In-state (24:05:27:15.01)\")","v":"In-state (24:05:27:15.01)"},null,null,null,null,"Select",null,null,null,null,null,{"$f":"S440","v":"Select"},{"$f":"S440","v":"Select"}]
[null,null,null,null,null,null,null,null,null,null,null,null,null,{"$f":"HYPERLINK(\"http://sdlegislature.gov/Rules/DisplayRule.aspx?Rule=24:05:27:15.02\",\"Out-of-state (24:05:27:15.02)\")","v":"Out-of-state (24:05:27:15.02)"},null,null,null,null,null,null,null,null,null,{"$f":"Y441+Z441","v":0},{"$f":"COUNTIF(Y440,\"Yes\")*3","v":0},{"$f":"COUNTIF(Z440,\"No\")*3","v":0}]
["Transfer Students Evaluated for \nSouth Dakota Eligibility",null,null,null,null,null,"Eligibility determination date:",null,null,null,null,null,null,null,null,null,null,null,"Select",null,null,null,null,null,{"$f":"S442","v":"Select"},{"$f":"S442","v":"Select"}]
[null,null,null,null,null,null,"IEP date:",null,null,null,null,null,null,null,null,null,null,null,null,null,null,null,null,{"$f":"Y443+Z443","v":0},{"$f":"COUNTIF(Y442,\"Yes\")*3","v":0},{"$f":"COUNTIF(Z442,\"No\")*3","v":0}]
[null,null,null,null,null,null,"PPWN Implementing IEP sent:"]

{"sheet":"File 18","index":22,"n_rows":444,"n_cols":28,"rows_kept":444,"cut":false,"hidden":false,"merged":[[436,18,437,18],[437,6,437,10],[437,11,437,12],[438,6,438,17],[442,6,442,10],[442,11,442,12],[413,19,413,21],[414,6,414,11],[414,12,414,13],[414,14,418,17],[414,18,418,18],[414,19,418,21],[417,6,418,11],[419,6,419,17],[420,6,420,17],[216,14,216,16],[443,6,443,10],[443,11,443,12],[446,11,447,12],[439,6,440,10],[439,11,440,12],[439,13,439,17],[440,13,440,17],[441,6,441,10],[441,11,441,12],[441,13,443,17],[415,6,416,11],[415,12,416,13],[413,0,413,17],[422,7,422,17],[423,7,423,17],[424,7,424,17],[425,7,425,17],[426,6,426,17],[427,6,427,10],[427,11,427,17],[436,6,436,10],[436,11,436,12],[436,13,437,17],[216,6,216,7],[216,8,216,10],[205,0,206,5],[207,0,209,5],[216,11,216,13],[231,7,231,10],[209,6,209,13],[210,0,210,17],[211,0,213,5],[211,6,213,16],[214,0,215,5],[214,6,215,16],[216,0,233,5],[225,12,225,13],[225,15,225,16],[226,7,226,10],[227,6,227,10],[228,6,228,7],[228,8,228,10],[228,11,228,13],[228,14,228,16],[230,7,230,10],[230,12,230,13],[230,15,230,16],[196,0,200,5],[196,6,200,17],[196,18,200,18],[201,0,201,21],[202,0,202,17],[202,19,202,21],[203,0,204,5],[188,7,188,9],[188,10,188,12],[189,7,189,9],[189,10,189,12],[186,0,189,5],[186,7,186,9],[186,10,186,12],[192,7,192,9],[193,7,193,9],[193,10,193,12],[194,7,194,9],[190,0,190,5],[190,7,190,9],[190,10,190,12],[191,0,195,5],[191,7,191,9],[191,10,191,12],[152,12,156,15],[154,7,156,10],[145,7,146,10],[145,12,146,15],[149,18,162,18],[149,19,162,21],[150,6,150,15],[150,17,160,17],[158,12,159,15],[151,6,151,15],[152,7,153,10],[157,7,158,10],[157,12,157,15],[210,19,210,21],[211,19,215,21],[214,18,215,18],[196,19,200,21],[203,19,209,21],[205,18,206,18],[207,14,208,17],[207,18,209,18],[209,14,209,17],[211,18,213,18],[205,6,206,17],[207,6,207,10],[207,11,207,13],[208,6,208,10],[208,11,208,13],[203,6,204,17],[203,18,204,18],[190,13,190,16],[191,13,191,16],[192,13,192,16],[193,13,193,16],[194,13,194,16],[176,12,177,17],[184,13,185,16],[186,13,186,16],[184,10,185,12],[194,10,194,12],[180,6,180,17],[182,7,183,16],[187,7,187,9],[187,10,187,12],[187,13,187,16],[188,13,188,16],[192,10,192,12],[172,12,173,17],[172,18,173,18],[172,19,173,21],[177,0,177,2],[177,3,177,5],[177,6,177,8],[177,9,177,11],[178,0,178,5],[178,6,179,17],[179,0,179,2],[179,3,179,5],[176,18,177,18],[176,19,195,21],[178,18,179,18],[180,18,195,18],[176,0,176,5],[176,6,176,8],[176,9,176,11],[174,0,174,21],[175,0,175,17],[175,19,175,21],[180,0,185,5],[184,7,185,9],[189,13,189,16],[216,18,221,18],[216,19,233,21],[222,18,227,18],[228,18,233,18],[218,7,218,10],[218,12,218,13],[220,7,220,10],[221,6,221,10],[222,6,222,7],[222,8,222,10],[222,11,222,13],[222,14,222,16],[231,12,231,13],[231,15,231,16],[232,7,232,10],[233,6,233,10],[218,15,218,16],[219,7,219,10],[219,12,219,13],[219,15,219,16],[224,7,224,10],[224,12,224,13],[224,15,224,16],[225,7,225,10],[117,6,117,13],[117,14,117,17],[118,6,119,17],[120,0,120,21],[118,0,119,5],[130,18,148,18],[130,19,148,21],[133,12,134,15],[135,7,137,10],[135,12,136,15],[137,12,138,15],[138,7,141,10],[139,12,144,15],[142,7,144,10],[121,0,121,17],[121,19,121,21],[122,0,122,17],[122,18,129,18],[122,19,129,21],[123,0,129,5],[123,6,123,17],[124,6,124,17],[125,7,125,11],[126,7,126,11],[165,12,169,17],[167,7,167,11],[168,7,168,11],[110,18,112,18],[110,19,119,21],[113,18,114,18],[115,18,117,18],[118,18,119,18],[104,18,105,18],[106,18,107,18],[169,7,169,11],[162,0,162,17],[163,0,166,5],[163,6,163,17],[163,18,171,18],[163,19,171,21],[164,6,164,17],[167,0,173,5],[165,7,165,11],[166,7,166,11],[170,7,170,13],[171,7,171,11],[172,6,173,10],[172,11,173,11],[98,18,101,18],[98,19,101,21],[99,11,99,13],[106,6,107,17],[84,18,97,18],[84,19,97,21],[86,6,86,8],[86,9,86,12],[87,15,87,17],[100,11,100,13],[101,11,101,13],[102,6,103,17],[102,18,103,18],[94,13,94,14],[94,15,94,17],[95,15,95,17],[96,13,96,14],[96,15,96,17],[99,6,99,10],[100,6,100,10],[102,19,109,21],[108,18,109,18],[89,13,89,14],[89,15,89,17],[91,13,91,14],[91,15,91,17],[92,13,92,14],[92,15,92,17],[97,13,97,14],[97,15,97,17],[98,11,98,13],[98,14,101,17],[93,15,93,17],[93,13,93,14],[110,0,112,5],[110,6,110,10],[111,6,111,10],[113,0,114,5],[115,0,117,5],[115,6,115,12],[116,6,116,12],[98,0,101,5],[98,6,98,10],[101,6,101,10],[102,0,103,5],[104,0,105,5],[106,0,107,5],[108,0,109,5],[104,6,105,17],[108,6,109,17],[110,11,110,13],[110,14,111,17],[111,11,111,13],[112,6,112,13],[112,14,112,17],[113,6,114,17],[115,13,115,15],[116,13,116,15],[90,6,90,8],[90,9,90,12],[78,6,78,8],[78,9,78,12],[80,0,83,5],[80,6,80,8],[80,9,80,12],[81,9,81,12],[84,0,90,5],[83,9,83,12],[96,6,96,8],[96,9,96,12],[91,0,91,5],[91,6,91,8],[91,9,91,12],[92,0,97,5],[92,9,92,12],[93,9,93,12],[94,9,94,12],[93,6,93,8],[94,6,94,8],[92,6,92,8],[97,6,97,8],[97,9,97,12],[74,19,83,21],[76,6,76,8],[76,9,76,12],[76,13,76,14],[76,15,76,17],[77,6,77,8],[77,9,77,12],[77,13,77,14],[77,15,77,17],[82,6,82,8],[82,9,82,12],[82,13,82,14],[82,15,82,17],[83,15,83,17],[78,13,78,14],[78,15,78,17],[80,13,80,14],[80,15,80,17],[81,13,81,14],[81,15,81,17],[83,13,83,14],[74,18,83,18],[81,6,81,8],[83,6,83,8],[150,0,161,5],[159,6,160,6],[159,7,160,10],[161,6,161,15],[89,6,89,8],[89,9,89,12],[90,13,90,14],[90,15,90,17],[95,9,95,12],[147,6,147,15],[148,0,148,17],[149,0,149,17],[128,7,128,11],[128,13,128,17],[131,0,147,5],[131,6,131,15],[131,17,147,17],[132,6,132,15],[133,7,134,10],[95,6,95,8],[127,7,127,11],[127,13,127,17],[129,6,129,17],[130,0,130,17],[84,15,85,17],[84,6,85,8],[86,13,86,14],[86,15,86,17],[87,9,87,12],[87,13,87,14],[88,6,88,8],[88,9,88,12],[84,13,85,14],[88,13,88,14],[88,15,88,17],[84,9,85,12],[87,6,87,8],[125,13,125,17],[126,13,126,17],[66,15,66,17],[66,13,66,14],[67,0,67,5],[67,6,67,8],[67,9,67,12],[67,13,67,14],[67,15,67,17],[68,0,73,5],[79,0,79,5],[79,6,79,8],[79,9,79,12],[79,13,79,14],[79,15,79,17],[72,6,72,8],[72,9,72,12],[74,0,78,5],[74,6,75,8],[74,9,75,12],[74,13,75,14],[74,15,75,17],[68,13,68,14],[73,6,73,8],[60,13,61,14],[60,15,61,17],[62,13,62,14],[62,15,62,17],[63,13,63,14],[63,15,63,17],[64,13,64,14],[64,15,64,17],[65,13,65,14],[65,15,65,17],[54,0,59,5],[54,6,54,9],[54,10,54,12],[55,6,55,9],[55,10,55,12],[45,19,53,21],[54,19,59,21],[58,13,59,17],[56,6,56,9],[56,10,56,12],[57,6,57,9],[57,10,57,12],[58,6,58,9],[58,10,58,12],[59,6,59,9],[59,10,59,12],[62,9,62,12],[63,9,63,12],[64,9,64,12],[65,9,65,12],[66,9,66,12],[60,0,66,5],[60,6,61,8],[62,6,62,8],[63,6,63,8],[64,6,64,8],[65,6,65,8],[66,6,66,8],[60,9,61,12],[21,10,21,13],[21,14,21,17],[27,9,27,11],[27,12,27,17],[52,6,52,17],[53,6,53,17],[45,6,45,17],[46,6,46,17],[47,6,47,17],[48,7,48,17],[49,7,49,17],[50,7,50,17],[51,7,51,17],[39,6,40,17],[22,6,22,9],[22,10,22,13],[25,0,25,21],[26,0,26,17],[26,19,26,21],[22,14,22,17],[23,6,23,9],[23,10,23,13],[23,14,23,17],[45,0,53,5],[17,0,17,21],[18,0,18,17],[19,0,24,5],[19,9,19,11],[19,12,19,17],[20,14,20,17],[24,6,24,17],[8,3,8,6],[8,7,8,9],[9,0,9,21],[8,0,8,2],[10,0,12,5],[10,10,11,10],[10,11,11,13],[10,14,11,17],[10,18,11,18],[10,19,11,21],[18,19,18,21],[19,18,24,18],[19,19,24,21],[20,6,20,9],[20,10,20,13],[19,6,19,8],[21,6,21,9],[10,6,10,9],[11,6,11,9],[12,6,12,21],[13,0,13,21],[14,0,14,17],[14,19,14,21],[15,0,16,5],[15,18,16,18],[15,19,16,21],[15,6,16,17],[6,0,6,2],[6,10,6,13],[7,14,7,18],[8,14,8,18],[8,19,8,21],[4,14,4,18],[4,19,4,21],[5,14,5,18],[5,19,5,21],[6,14,6,18],[6,19,6,21],[7,19,7,21],[6,3,6,6],[6,7,6,9],[7,0,7,2],[7,3,7,6],[7,7,7,9],[7,10,7,13],[8,10,8,13],[3,0,3,21],[4,0,4,2],[4,3,4,6],[4,7,4,9],[4,10,4,13],[5,0,5,2],[5,3,5,6],[5,7,5,9],[5,11,5,13],[0,0,0,3],[0,4,0,5],[0,6,0,8],[0,9,0,11],[0,12,0,14],[0,15,0,17],[0,19,0,21],[1,0,2,13],[1,14,2,17],[1,18,2,18],[1,19,2,21],[73,9,73,12],[73,13,73,14],[73,15,73,17],[68,6,68,8],[68,9,68,12],[69,6,69,8],[69,9,69,12],[69,13,69,14],[69,15,69,17],[70,6,70,8],[70,9,70,12],[70,13,70,14],[70,15,70,17],[71,6,71,8],[71,9,71,12],[71,13,71,14],[71,15,71,17],[68,15,68,17],[72,13,72,14],[72,15,72,17],[41,0,42,5],[41,6,42,17],[43,6,44,17],[27,18,29,18],[27,19,29,21],[30,18,32,18],[30,19,32,21],[35,18,38,18],[35,19,44,21],[39,18,40,18],[43,0,44,5],[27,6,27,8],[28,6,29,17],[30,6,30,17],[31,8,32,17],[408,8,408,10],[408,12,408,15],[409,8,409,10],[411,0,411,16],[412,0,412,21],[27,0,29,5],[30,0,32,5],[31,6,32,7],[35,0,36,5],[35,6,35,9],[33,0,33,21],[34,0,34,17],[34,19,34,21],[35,10,35,12],[35,13,35,17],[41,18,42,18],[43,18,44,18],[45,18,53,18],[54,18,59,18],[60,18,73,18],[60,19,73,21],[36,6,38,17],[37,0,38,5],[39,0,40,5],[397,6,397,16],[398,6,398,16],[399,6,399,16],[400,6,400,16],[401,6,401,16],[402,6,403,16],[404,6,404,16],[405,6,405,16],[406,6,406,16],[391,6,391,16],[392,11,392,12],[392,14,392,16],[393,6,393,16],[394,6,394,8],[394,9,394,16],[395,6,395,16],[396,11,396,12],[396,14,396,16],[385,6,385,16],[386,6,386,8],[386,9,386,16],[387,6,387,16],[388,11,388,12],[388,14,388,16],[389,6,389,16],[390,6,390,8],[390,9,390,16],[382,17,411,17],[406,19,411,21],[419,19,427,21],[430,19,433,21],[436,19,443,21],[372,19,380,21],[377,18,380,18],[382,19,397,21],[390,18,393,18],[394,18,397,18],[398,19,405,21],[400,18,401,18],[380,0,380,17],[381,0,381,17],[381,19,381,21],[382,9,382,16],[383,6,383,16],[384,8,384,9],[388,8,388,9],[392,8,392,9],[396,8,396,9],[382,6,382,8],[384,11,384,12],[384,14,384,16],[402,18,403,18],[404,18,405,18],[398,18,399,18],[406,18,411,18],[419,18,427,18],[432,18,433,18],[439,18,440,18],[441,18,443,18],[341,18,342,18],[343,18,344,18],[354,18,358,18],[360,18,361,18],[372,18,376,18],[428,0,428,21],[429,0,429,17],[429,19,429,21],[430,18,431,18],[430,6,431,17],[431,0,431,2],[431,3,431,5],[432,6,433,17],[434,0,434,21],[435,0,435,17],[435,19,435,21],[341,19,346,21],[345,18,346,18],[353,18,353,21],[354,19,358,21],[359,18,359,21],[360,19,370,21],[362,18,363,18],[382,18,385,18],[386,18,389,18],[371,19,371,21],[439,0,440,5],[441,0,443,5],[406,0,410,5],[414,0,418,5],[419,0,427,5],[430,0,430,5],[432,0,433,5],[436,0,437,5],[438,0,438,5],[359,0,359,5],[360,0,361,5],[362,0,363,5],[364,0,366,5],[372,0,379,5],[382,0,397,5],[398,0,401,5],[402,0,403,5],[404,0,405,5],[367,0,369,5],[353,6,353,16],[354,6,354,10],[354,13,354,16],[355,13,355,16],[356,13,356,16],[341,0,346,5],[347,0,347,5],[348,0,352,5],[353,0,353,5],[354,0,358,5],[334,18,335,18],[317,18,318,18],[317,19,322,21],[319,18,320,18],[321,18,322,18],[323,18,323,21],[324,19,325,21],[326,18,326,21],[327,19,332,21],[329,18,330,18],[331,18,332,18],[327,0,332,5],[327,6,328,6],[329,6,330,6],[329,7,330,16],[331,7,331,16],[332,6,332,16],[306,18,307,18],[306,19,315,21],[308,18,309,18],[309,6,310,6],[310,18,311,18],[314,18,315,18],[319,6,320,6],[319,7,320,16],[321,6,322,6],[321,7,322,16],[324,18,325,18],[327,18,328,18],[314,0,315,5],[314,6,315,16],[316,0,316,5],[316,6,316,16],[317,0,322,5],[317,6,318,6],[317,7,318,16],[323,0,323,5],[323,6,323,16],[364,6,364,12],[364,13,364,16],[365,6,366,16],[364,18,366,18],[367,18,370,18],[375,7,375,8],[375,10,375,11],[367,6,369,16],[370,0,370,17],[371,0,371,17],[359,6,359,16],[360,6,360,12],[360,13,360,16],[361,6,361,12],[361,13,361,16],[362,6,362,12],[362,13,362,16],[363,6,363,12],[363,13,363,16],[340,0,340,5],[340,6,340,16],[376,6,376,11],[376,12,379,16],[377,6,377,11],[378,7,378,8],[379,7,379,8],[372,17,379,17],[378,10,378,11],[379,10,379,11],[373,6,373,11],[374,7,374,8],[374,10,374,11],[372,6,372,11],[372,12,375,16],[340,18,340,21],[341,7,342,16],[343,7,344,16],[345,7,345,16],[346,6,346,16],[357,13,357,16],[358,13,358,16],[350,7,350,10],[351,7,351,10],[347,6,347,16],[347,18,347,21],[348,6,348,10],[348,11,352,16],[348,18,352,18],[348,19,352,21],[349,6,349,10],[352,6,352,10],[355,6,356,10],[357,6,357,10],[357,11,357,12],[358,6,358,10],[358,11,358,12],[341,6,342,6],[343,6,344,6],[282,14,282,16],[283,14,283,16],[336,7,337,16],[338,7,338,16],[333,0,333,5],[334,0,339,5],[334,6,335,6],[334,7,335,16],[334,19,339,21],[336,6,337,6],[336,18,337,18],[338,18,339,18],[339,6,339,16],[333,18,333,21],[333,6,333,16],[324,0,325,5],[324,6,325,16],[326,0,326,5],[326,6,326,16],[327,7,328,16],[309,7,310,16],[311,7,311,16],[305,6,305,16],[306,6,307,16],[257,9,257,12],[258,6,258,8],[292,7,293,16],[281,10,281,13],[282,10,282,13],[283,10,283,13],[289,18,303,18],[289,19,303,21],[300,12,302,12],[300,13,300,16],[302,13,302,15],[283,6,283,9],[284,6,284,9],[286,6,288,11],[264,18,288,18],[264,19,288,21],[255,17,298,17],[284,14,284,16],[272,14,272,16],[273,14,273,16],[279,14,279,16],[280,14,280,16],[281,14,281,16],[285,14,285,16],[279,6,279,9],[280,6,280,9],[281,6,281,9],[282,6,282,9],[285,6,285,9],[274,6,274,9],[274,10,274,13],[277,6,277,9],[278,6,278,9],[278,10,278,13],[284,10,284,13],[285,10,285,13],[279,10,279,13],[280,10,280,13],[276,10,276,13],[276,14,276,16],[277,10,277,13],[277,14,277,16],[262,6,262,8],[262,9,262,11],[262,12,262,16],[263,6,263,8],[263,9,263,12],[263,13,263,16],[265,7,265,10],[266,6,266,16],[267,6,268,16],[269,10,271,13],[275,6,275,9],[275,10,275,13],[269,6,271,9],[272,6,272,9],[272,10,272,13],[273,6,273,9],[273,10,273,13],[254,19,254,21],[255,0,263,5],[255,9,256,16],[255,18,263,18],[255,19,263,21],[258,9,258,13],[259,6,259,8],[239,19,253,21],[245,7,248,9],[259,9,259,11],[259,12,259,16],[260,6,260,8],[260,9,260,13],[260,14,260,16],[261,6,261,8],[261,9,261,15],[241,7,241,8],[241,11,241,16],[243,6,244,10],[243,11,243,16],[244,11,244,16],[245,11,245,16],[255,6,256,8],[257,6,257,8],[289,0,302,5],[306,0,307,5],[309,0,313,5],[301,13,301,15],[301,16,302,16],[303,0,303,17],[304,0,304,17],[304,18,305,18],[304,19,305,21],[305,0,305,5],[312,7,312,16],[312,18,313,18],[313,6,313,16],[294,6,295,6],[294,7,295,16],[296,6,297,6],[296,7,297,16],[298,6,298,16],[299,6,299,16],[300,6,302,11],[289,6,289,16],[290,6,290,16],[291,7,291,16],[292,6,293,6],[234,18,238,18],[234,19,238,21],[235,6,235,16],[236,7,236,10],[236,12,236,15],[239,11,239,16],[246,11,246,16],[239,18,253,18],[253,0,253,17],[240,7,240,8],[240,11,240,16],[240,9,242,10],[242,11,242,16],[247,11,247,16],[250,11,250,16],[251,6,252,10],[251,11,251,16],[252,11,252,16],[264,0,288,5],[237,7,237,10],[238,6,238,10],[239,0,252,5],[239,6,239,10],[286,12,288,12],[286,13,286,16],[287,13,287,15],[287,16,288,16],[288,13,288,15],[248,11,248,16],[249,11,249,16],[257,13,257,16],[258,14,258,16],[265,12,265,16],[269,14,271,16],[264,6,264,16],[234,0,238,5],[234,6,234,16],[254,0,254,16],[278,14,278,16],[274,14,274,16],[275,14,275,16],[276,6,276,9]]}
[{"$f":"'Caseload Files'!B2","v":"Teacher Caseload Review"},null,null,null,{"$f":"'Caseload Files'!D28","v":"File 18"},null,"Reviewer:",null,null,{"$f":"'Caseload Files'!F28","v":"Reviewer 18"},null,null,"Staff Reviewed:",null,null,{"$f":"'Caseload Files'!I28","v":"Staff 18"},null,null,"Score","Findings/Notes"]
[{"$f":"'Caseload Files'!B2","v":"Teacher Caseload Review"},null,null,null,null,null,null,null,null,null,null,null,null,null,null,null,null,null,"Rating","Record notes\nand/or findings."]
[]
[]
["Student Name:",null,null,{"$f":"'Caseload Files'!$L$28","v":"Student 18"},null,null,null,"Date of Birth:",null,null,{"$f":"'Caseload Files'!$R$28","v":"2018-01-18"},null,null,null,"Current IEP Meeting Date:"]
["SIMS Numer:",null,null,{"$f":"'Caseload Files'!$O$28","v":180123456},null,null,null,"Age/Grade:",null,null,{"$f":"INT(YEARFRAC(K5,TODAY()))","v":3},"/Sophomore",null,null,"Previous IEP Meeting Date:"]
["School District:",null,null,{"$f":"'Caseload Files'!B3","v":"District 00-0"},null,null,null,"Disability Code:",null,null,{"$f":"'Caseload Files'!$W$28","v":"DisCode 18"},null,null,null,"Current Eligibility Determination Date:"]
["School Name:",null,null,{"$f":"'Caseload Files'!E6","v":"School Name"},null,null,null,"Race/Ethnicity:",null,null,{"$f":"'Caseload Files'!T28","v":"Race 18"},null,null,null,"Previous Eligibility Determination Date:"]
["School Year:",null,null,{"$f":"'Caseload Files'!E7","v":"1998-1999"},null,null,null,"Type of Review:",null,null,{"$f":"'Caseload Files'!Z28","v":"Type 18"},null,null,null,"Date of Review:"]
[]
[{"$f":"HYPERLINK(\"http://sdlegislature.gov/Rules/DisplayRule.aspx?Rule=24:05\",\"Subsection Title and \nCorresponding ARSD Links \")","v":"Subsection Title and \nCorresponding ARSD Links "},null,null,null,null,null,"Yellow boxes are prompts",null,null,null,null,"Use checkboxes to help record findings.",null,null,"Voided space and/or clarifying information.",null,null,null,"\"N/A\" may be appropriate for certain sections.","Findings/Notes"]
[null,null,null,null,null,null,"for information."]
[]
[]
[{"$f":"HYPERLINK(\"https://gosynth.com/p/s/aboqwv\",\"Record of Access\")","v":"Record of Access"},null,null,null,null,null,null,null,null,null,null,null,null,null,null,null,null,null,{"$f":"IFERROR(Y17/X17,\"N/A\")","v":"N/A"},"Findings/Notes"]
[{"$f":"HYPERLINK(\"http://sdlegislature.gov/Rules/DisplayRule.aspx?Rule=24:05:29:15\",\"Record of Access\n(24:05:29:15)\")","v":"Record of Access\n(24:05:29:15)"},null,null,null,null,null,null,null,null,null,null,null,null,null,null,null,null,null,"Select","V16",null,null,null,null,{"$f":"S16","v":"Select"},{"$f":"S16","v":"Select"}]
[null,null,null,null,null,null,null,null,null,null,null,null,null,null,null,null,null,null,null,null,null,null,null,{"$f":"Y17+Z17","v":0},{"$f":"COUNTIF(Y16,\"Yes\")*3","v":0},{"$f":"COUNTIF(Z16,\"No\")*3","v":0}]
[]
[{"$f":"HYPERLINK(\"https://gosynth.com/p/s/grdmsy\",\"Referral\")","v":"Referral"},null,null,null,null,null,null,null,null,null,null,null,null,null,null,null,null,null,{"$f":"IFERROR(Y21/X21,\"N/A\")","v":"N/A"}]
[{"$f":"HYPERLINK(\"http://sdlegislature.gov/Rules/DisplayRule.aspx?Rule=24:05:24:01\",\"Referral Document\n(initial only)\n(24:05:24:01)\")","v":"Referral Document\n(initial only)\n(24:05:24:01)"},null,null,null,null,null,"Date of referral:",null,null,null,null,null,"The top two spaces are available to type in.",null,null,null,null,null,"Select","V20",null,null,null,null,{"$f":"S20","v":"Select"},{"$f":"S20","v":"Select"}]
[null,null,null,null,null,null,"List all areas of referral:",null,null,null,null,null,null,null,null,null,null,null,null,null,null,null,null,{"$f":"Y21+Z21","v":0},{"$f":"COUNTIF(Y20,\"Yes\")*3","v":0},{"$f":"COUNTIF(Z20,\"No\")*3","v":0}]
[]
[]
[]
[null,null,null,null,null,null,"If referral can not be found and is older than three years, N/A is appropriate."]
[]
[{"$f":"HYPERLINK(\"https://gosynth.com/p/s/lihblf\",\"Initial Placement\")","v":"Initial Placement"},null,null,null,null,null,null,null,null,null,null,null,null,null,null,null,null,null,{"$f":"IFERROR(Y33/X33,\"N/A\")","v":"N/A"}]
[{"$f":"HYPERLINK(\"http://sdlegislature.gov/rules/DisplayRule.aspx?Rule=24:05:27:04.01\",\"Consent Signed for Initial Placement \ninto Special Education\n(24:05:27:04.01)\")","v":"Consent Signed for Initial Placement \ninto Special Education\n(24:05:27:04.01)"},null,null,null,null,null,"Date Signed:",null,null,null,null,null,null,null,null,null,null,null,"Select","V28",null,null,null,null,{"$f":"S28","v":"Select"},{"$f":"S28","v":"Select"}]
[null,null,null,null,null,null,"(The Consent Signed for Initial Placement into Special Education form is a separate document.  In the past, it may have been found at the end of the IEP.",null,null,null,null,null,null,null,null,null,null,null,null,null,null,null,null,{"$f":"Y29+Z29","v":0},{"$f":"COUNTIF(Y28,\"Yes\")*3","v":0},{"$f":"COUNTIF(Z28,\"No\")*3","v":0}]
[]
[{"$f":"HYPERLINK(\"https://sdlegislature.gov/Rules/DisplayRule.aspx?Rule=24:05:25:04.02\",\"Determination of Needed \nEvaluation Data\n(24:05:25:04.02)\")","v":"Determination of Needed \nEvaluation Data\n(24:05:25:04.02)"},null,null,null,null,null,"Did the team review existing data before completing the PPWN Consent?",null,null,null,null,null,null,null,null,null,null,null,"Select","V31",null,null,null,null,{"$f":"S31","v":"Select"},{"$f":"S31","v":"Select"}]
[null,null,null,null,null,null,"Select",null,"The existing data includes evaluations and information provided by the parents, current classroom-based local or state assessments, and observations by teachers and related services providers.",null,null,null,null,null,null,null,null,null,null,null,null,null,null,{"$f":"Y32+Z32","v":0},{"$f":"COUNTIF(Y31,\"Yes\")*3","v":0},{"$f":"COUNTIF(Z31,\"No\")*3","v":0}]
[null,null,null,null,null,null,null,null,null,null,null,null,null,null,null,null,null,null,null,null,null,null,null,{"$f":"(X32+X29)/2","v":0},{"$f":"(Y32+Y29)/2","v":0}]
[]
[{"$f":"HYPERLINK(\"https://gosynth.com/p/s/qxevgy\",\"Evaluation\")","v":"Evaluation"},null,null,null,null,null,null,null,null,null,null,null,null,null,null,null,null,null,{"$f":"IFERROR(Y38/X38,\"N/A\")","v":"N/A"},{"$f":"IFERROR(Y58/X58,\"N/A\")","v":"N/A"}]
[{"$f":"HYPERLINK(\"http://sdlegislature.gov/rules/DisplayRule.aspx?Rule=24:05:25:02.01\",\"Initial Evaluation \n(24:05:25:02.01)\")","v":"Initial Evaluation \n(24:05:25:02.01)"},null,null,null,null,null,"PPWN Consent was Sent:",null,null,null,null,null,null,"Use the most recent evaluation. ",null,null,null,null,"Select","V36",null,null,null,null,{"$f":"S36","v":"Select"},{"$f":"S36","v":"Select"}]
[null,null,null,null,null,null,{"$f":"HYPERLINK(\"https://gosynth.com/p/s/qxevgy\",\"Consent was acquired for initial evaluation. \n\nIf consent was not given by the parent for reevaluation, evidence of  attempts were made to elicit parent.\")","v":"Consent was acquired for initial evaluation. \n\nIf consent was not given by the parent for reevaluation, evidence of  attempts were made to elicit parent."},null,null,null,null,null,null,null,null,null,null,null,null,null,null,null,null,{"$f":"Y37+Z37","v":0},{"$f":"COUNTIF(Y36,\"Yes\")*3","v":0},{"$f":"COUNTIF(Z36,\"No\")*3","v":0}]
[{"$f":"HYPERLINK(\"http://sdlegislature.gov/Rules/DisplayRule.aspx?Rule=24:05:25:06.01\",\"Reevaluation\n(24:05:25:06.01)\")","v":"Reevaluation\n(24:05:25:06.01)"},null,null,null,null,null,null,null,null,null,null,null,null,null,null,null,null,null,null,null,null,null,null,{"$f":"(X37+X41+X43+X45+X47+X56+X62+X76+X86+X100+X104+X106+X108+X110+X112+X115+X117+X120)/18","v":0},{"$f":"(Y37+Y41+Y43+Y45+Y47+Y56+Y62+Y76+Y86+Y100+Y104+Y106+Y108+Y110+Y112+Y115+Y117+Y120)/18","v":0}]
[]
[{"$f":"HYPERLINK(\"http://sdlegislature.gov/Rules/DisplayRule.aspx?Rule=24:05:25:16\",\"Parent Input into Evalaution\n(24:05:25:16)\")","v":"Parent Input into Evalaution\n(24:05:25:16)"},null,null,null,null,null,{"$f":"HYPERLINK(\"https://gosynth.com/p/s/ycomsx\",\"Parent input must be documented in the PPWN Consent on input exiting data and \nupcoming evaluation.   (refer to phone logs, progress notes, prior notice)\")","v":"Parent input must be documented in the PPWN Consent on input exiting data and \nupcoming evaluation.   (refer to phone logs, progress notes, prior notice)"},null,null,null,null,null,null,null,null,null,null,null,"Select",null,null,null,null,null,{"$f":"S40","v":"Select"},{"$f":"S40","v":"Select"}]
[null,null,null,null,null,null,null,null,null,null,null,null,null,null,null,null,null,null,null,null,null,null,null,{"$f":"Y41+Z41","v":0},{"$f":"COUNTIF(Y40,\"Yes\")*3","v":0},{"$f":"COUNTIF(Z40,\"No\")*3","v":0}]
[{"$f":"HYPERLINK(\"http://sdlegislature.gov/Rules/DisplayRule.aspx?Rule=24:05:30:06.01\",\"Procedural Safeguards\n(24:05:30:06.01)\")","v":"Procedural Safeguards\n(24:05:30:06.01)"},null,null,null,null,null,{"$f":"HYPERLINK(\"https://gosynth.com/p/s/tdkmfj\",\"[INCLUDE LANGUAGE FOR THIS SECTION]\")","v":"[INCLUDE LANGUAGE FOR THIS SECTION]"},null,null,null,null,null,null,null,null,null,null,null,"Select",null,null,null,null,null,{"$f":"S42","v":"Select"},{"$f":"S42","v":"Select"}]
[null,null,null,null,null,null,null,null,null,null,null,null,null,null,null,null,null,null,null,null,null,null,null,{"$f":"Y43+Z43","v":0},{"$f":"COUNTIF(Y42,\"Yes\")*3","v":0},{"$f":"COUNTIF(Z42,\"No\")*3","v":0}]
[{"$f":"HYPERLINK(\"http://sdlegislature.gov/Rules/DisplayRule.aspx?Rule=24:05:25:03\",\"Extension on 25 Day Timeline\n(24:05:25:03)\")","v":"Extension on 25 Day Timeline\n(24:05:25:03)"},null,null,null,null,null,{"$f":"HYPERLINK(\"https://gosynth.com/p/s/wcheia\",\"Documented agreement with parent and district on new extension date.  \nEligibility and IEP developed 30 days after the agreed extension date.\")","v":"Documented agreement with parent and district on new extension date.  \nEligibility and IEP developed 30 days after the agreed extension date."},null,null,null,null,null,null,null,null,null,null,null,"Select",null,null,null,null,null,{"$f":"S44","v":"Select"},{"$f":"S44","v":"Select"}]
[null,null,null,null,null,null,null,null,null,null,null,null,null,null,null,null,null,null,null,null,null,null,null,{"$f":"Y45+Z45","v":0},{"$f":"COUNTIF(Y44,\"Yes\")*3","v":0},{"$f":"COUNTIF(Z44,\"No\")*3","v":0}]
[{"$f":"HYPERLINK(\"http://sdlegislature.gov/Rules/DisplayRule.aspx?Rule=24:05:30:05\",\"Content of Prior Written Notice/\nConsent for Evaluation\n (24:05:30:05)\")","v":"Content of Prior Written Notice/\nConsent for Evaluation\n (24:05:30:05)"},null,null,null,null,null,{"$f":"HYPERLINK(\"https://gosynth.com/p/s/xymlpn\",\"Check the following:\")","v":"Check the following:"},null,null,null,null,null,null,null,null,null,null,null,"Select","V46",null,null,null,null,{"$f":"S46","v":"Select"},{"$f":"S46","v":"Select"}]
[null,null,null,null,null,null,"PPWN must be individualized to the student, IEP team discussions and situation.",null,null,null,null,null,null,null,null,null,null,null,null,null,null,null,null,{"$f":"Y47+Z47","v":0},{"$f":"COUNTIF(Y46,\"Yes\")*3","v":0},{"$f":"COUNTIF(Z46,\"No\")*3","v":0}]
[]
[null,null,null,null,null,null,null,"Explanation of why the district proposed or refused to take the action"]
[null,null,null,null,null,null,null,"Description of other options considered and why they were rejected "]
[null,null,null,null,null,null,null,"Description of evidence used for the proposed or refused action"]
[null,null,null,null,null,null,null,"Description of other factors that are relevant to proposal or refusal"]
[]
[null,null,null,null,null,null,"All components should be completed and have a clear description."]
[{"$f":"HYPERLINK(\"http://sdlegislature.gov/Rules/DisplayRule.aspx?Rule=24:05:30:05\",\"Timeline of Prior Written Notice/\nConsent for Evaluation\n(24:05:25:03)\")","v":"Timeline of Prior Written Notice/\nConsent for Evaluation\n(24:05:25:03)"},null,null,null,null,null,{"$f":"HYPERLINK(\"https://gosynth.com/p/s/xylthm\",\"Date sent:\")","v":"Date sent:"},null,null,null,"2020-01-18",null,null,null,null,null,null,null,"Select","V54",null,null,null,null,{"$f":"S55","v":"Select"},{"$f":"S55","v":"Select"}]
[null,null,null,null,null,null,"Date signed:",null,null,null,"2020-01-19",null,null,null,null,null,null,null,null,null,null,null,null,{"$f":"Y56+Z56","v":0},{"$f":"COUNTIF(Y55,\"Yes\")*3","v":0},{"$f":"COUNTIF(Z55,\"No\")*3","v":0}]
[null,null,null,null,null,null,"Date received:",null,null,null,"2020-01-20"]
[null,null,null,null,null,null,"25 school days:",null,null,null,{"$f":"WORKDAY(K57,25)","v":"2020-02-24"}]
[null,null,null,null,null,null,"30 calendar days:"]
[null,null,null,null,null,null,"Extension on 25 day:"]
[{"$f":"HYPERLINK(\"http://sdlegislature.gov/Rules/DisplayRule.aspx?Rule=24:05:25:04.02\",\"Evaluations to be Completed by the District per Parental Prior Written/Consent for Evaluation\n(24:05:25:04.02)\")","v":"Evaluations to be Completed by the District per Parental Prior Written/Consent for Evaluation\n(24:05:25:04.02)"},null,null,null,null,null,{"$f":"HYPERLINK(\"https://gosynth.com/p/s/zgdeev\",\"List areas:\")","v":"List areas:"},null,null,"Test administered:",null,null,null,"Test date:",null,"Evaluator:",null,null,"Select","V60",null,null,null,null,{"$f":"S61","v":"Select"},{"$f":"S61","v":"Select"}]
[null,null,null,null,null,null,null,null,null,null,null,null,null,null,null,null,null,null,null,null,null,null,null,{"$f":"Y62+Z62","v":0},{"$f":"COUNTIF(Y61,\"Yes\")*3","v":0},{"$f":"COUNTIF(Z61,\"No\")*3","v":0}]
[]
[]
[]
[]
[]
["For more evaluations requested click the [+]"]
[]
[]
[]
[]
[]
[]
[{"$f":"HYPERLINK(\"http://sdlegislature.gov/Rules/DisplayRule.aspx?Rule=24:05:25:04.02\",\"Existing Evaluation Data\nto be Pulled Forward\n(24:05:25:04.02)\")","v":"Existing Evaluation Data\nto be Pulled Forward\n(24:05:25:04.02)"},null,null,null,null,null,{"$f":"HYPERLINK(\"https://gosynth.com/p/s/pfohnr\",\"List areas:\")","v":"List areas:"},null,null,"Test administered:",null,null,null,"Test date:",null,"Evaluator:",null,null,"Select","V74",null,null,null,null,{"$f":"S75","v":"Select"},{"$f":"S75","v":"Select"}]
[null,null,null,null,null,null,null,null,null,null,null,null,null,null,null,null,null,null,null,null,null,null,null,{"$f":"Y76+Z76","v":0},{"$f":"COUNTIF(Y75,\"Yes\")*3","v":0},{"$f":"COUNTIF(Z75,\"No\")*3","v":0}]
[]
[]
[]
["For more existing data requested click the [+]"]
[]
[]
[]
[]
[{"$f":"HYPERLINK(\"http://sdlegislature.gov/Rules/DisplayRule.aspx?Rule=24:05:25:04.02\",\"Skills Based Assessment and Report\n(24:05:25:04.02)\")","v":"Skills Based Assessment and Report\n(24:05:25:04.02)"},null,null,null,null,null,{"$f":"HYPERLINK(\"https://gosynth.com/p/s/tbqnts\",\"List areas:\")","v":"List areas:"},null,null,"Test administered:",null,null,null,"Test date:",null,"Evaluator:",null,null,"Select","V84",null,null,null,null,{"$f":"S85","v":"Select"},{"$f":"S85","v":"Select"}]
[null,null,null,null,null,null,null,null,null,null,null,null,null,null,null,null,null,null,null,null,null,null,null,{"$f":"Y86+Z86","v":0},{"$f":"COUNTIF(Y85,\"Yes\")*3","v":0},{"$f":"COUNTIF(Z85,\"No\")*3","v":0}]
[]
[null,null,null,null,null,null,null,null,null,null,null,null,null,null,null,null,null,null,null,null,null,null,null,{"$f":"(X86+X100+X104+X106+X108+X110+X112+X115+X117+X120)/10","v":0},{"$f":"(Y86+Y100+Y104+Y106+Y108+Y110+Y112+Y115+Y117+Y120)/10","v":0}]
[]
[]
[]
["For more skills based requested click the [+]"]
[]
[]
[]
[]
[]
[]
[{"$f":"HYPERLINK(\"http://sdlegislature.gov/Rules/DisplayRule.aspx?Rule=24:05:25:03\",\"Consent Received\n(24:05:25:03)\")","v":"Consent Received\n(24:05:25:03)"},null,null,null,null,null,{"$f":"HYPERLINK(\"https://gosynth.com/p/s/ctcnlr\",\"Consent received date:\")","v":"Consent received date:"},null,null,null,null,{"$f":"K57","v":"2020-01-20"},null,null,"Mark \"No\" if dates are outside of \"consent received\" and/or \"25 school days\".",null,null,null,"Select","V98",null,null,null,null,{"$f":"S99","v":"Select"},{"$f":"S99","v":"Select"}]
[null,null,null,null,null,null,"Earliest testing date:",null,null,null,null,{"$f":"MIN(N63:O74,N87:O98)","v":"00:00:00"},null,null,null,null,null,null,null,null,null,null,null,{"$f":"Y100+Z100","v":0},{"$f":"COUNTIF(Y99,\"Yes\")*3","v":0},{"$f":"COUNTIF(Z99,\"No\")*3","v":0}]
[null,null,null,null,null,null,"Latest testing date:",null,null,null,null,{"$f":"MAX(N63:O74,N87:O98)","v":"00:00:00"}]
[null,null,null,null,null,null,"Within 25 School Days:",null,null,null,null,{"$f":"IF(ISBLANK(K60),K58,K60)","v":"2020-02-24"}]
[{"$f":"HYPERLINK(\"http://sdlegislature.gov/Rules/DisplayRule.aspx?Rule=24:05:25:20\",\"All Evaluations Administered \n(24:05:25:20)\")","v":"All Evaluations Administered \n(24:05:25:20)"},null,null,null,null,null,{"$f":"HYPERLINK(\"https://gosynth.com/p/s/mkcdef\",\"All evaluations marked on the PWWN/Consent for Evaluation form must be administered.\")","v":"All evaluations marked on the PWWN/Consent for Evaluation form must be administered."},null,null,null,null,null,null,null,null,null,null,null,"Select","V102",null,null,null,null,{"$f":"S103","v":"Select"},{"$f":"S103","v":"Select"}]
[null,null,null,null,null,null,null,null,null,null,null,null,null,null,null,null,null,null,null,null,null,null,null,{"$f":"Y104+Z104","v":0},{"$f":"COUNTIF(Y103,\"Yes\")*3","v":0},{"$f":"COUNTIF(Z103,\"No\")*3","v":0}]
[{"$f":"HYPERLINK(\"http://sdlegislature.gov/Rules/DisplayRule.aspx?Rule=24:05:25:06.01\",\"Consent was Acquired\n(24:05:25:06.01)\")","v":"Consent was Acquired\n(24:05:25:06.01)"},null,null,null,null,null,{"$f":"HYPERLINK(\"https://gosynth.com/p/s/mkcdef\",\"All evaluations administered must be requested on the PWWN/Consent for Evaluation \nform.\")","v":"All evaluations administered must be requested on the PWWN/Consent for Evaluation \nform."},null,null,null,null,null,null,null,null,null,null,null,"Select",null,null,null,null,null,{"$f":"S105","v":"Select"},{"$f":"S105","v":"Select"}]
[null,null,null,null,null,null,null,null,null,null,null,null,null,null,null,null,null,null,null,null,null,null,null,{"$f":"Y106+Z106","v":0},{"$f":"COUNTIF(Y105,\"Yes\")*3","v":0},{"$f":"COUNTIF(Z105,\"No\")*3","v":0}]
[{"$f":"HYPERLINK(\"http://sdlegislature.gov/Rules/DisplayRule.aspx?Rule=24:05:25:04\",\"Variety of Sources \n(24:05:25:04)\")","v":"Variety of Sources \n(24:05:25:04)"},null,null,null,null,null,{"$f":"HYPERLINK(\"https://gosynth.com/p/s/mkcdef\",\"Appropritate means to provide evaluations for accurate data were used. \")","v":"Appropritate means to provide evaluations for accurate data were used. "},null,null,null,null,null,null,null,null,null,null,null,"Select",null,null,null,null,null,{"$f":"S107","v":"Select"},{"$f":"S107","v":"Select"}]
[null,null,null,null,null,null,null,null,null,null,null,null,null,null,null,null,null,null,null,null,null,null,null,{"$f":"Y108+Z108","v":0},{"$f":"COUNTIF(Y107,\"Yes\")*3","v":0},{"$f":"COUNTIF(Z107,\"No\")*3","v":0}]
[{"$f":"HYPERLINK(\"http://sdlegislature.gov/Rules/DisplayRule.aspx?Rule=24:05:25:04\",\"Met Requirements for the Disability\n(24:05:25:04) \")","v":"Met Requirements for the Disability\n(24:05:25:04) "},null,null,null,null,null,{"$f":"HYPERLINK(\"https://gosynth.com/p/s/mkcdef\",\"Comprehensive Evaluations in all areas required for the disability. \")","v":"Comprehensive Evaluations in all areas required for the disability. "},null,null,null,null,null,null,null,null,null,null,null,"Select",null,null,null,null,null,{"$f":"S109","v":"Select"},{"$f":"S109","v":"Select"}]
[null,null,null,null,null,null,null,null,null,null,null,null,null,null,null,null,null,null,null,null,null,null,null,{"$f":"Y110+Z110","v":0},{"$f":"COUNTIF(Y109,\"Yes\")*3","v":0},{"$f":"COUNTIF(Z109,\"No\")*3","v":0}]
[{"$f":"HYPERLINK(\"http://sdlegislature.gov/Rules/DisplayRule.aspx?Rule=24:05:25:03\",\"Eligibility within 30 Calendar Days \n(24:05:25:03)\")","v":"Eligibility within 30 Calendar Days \n(24:05:25:03)"},null,null,null,null,null,{"$f":"HYPERLINK(\"https://gosynth.com/p/s/mkcdef\",\"Day 26 was on:\")","v":"Day 26 was on:"},null,null,null,null,{"$f":"WORKDAY(L102,1)","v":"2020-02-25"},null,null,null,null,null,null,"Select","V110",null,null,null,null,{"$f":"S111","v":"Select"},{"$f":"S111","v":"Select"}]
[null,null,null,null,null,null,"Eligibility Determination Date:",null,null,null,null,{"$f":"T7","v":"00:00:00"},null,null,null,null,null,null,null,null,null,null,null,{"$f":"Y112+Z112","v":0},{"$f":"COUNTIF(Y111,\"Yes\")*3","v":0},{"$f":"COUNTIF(Z111,\"No\")*3","v":0}]
[null,null,null,null,null,null,"Eligibility meeting date should have been by:",null,null,null,null,null,null,null,{"$f":"K59","v":"00:00:00"}]
[{"$f":"HYPERLINK(\"http://sdlegislature.gov/Rules/DisplayRule.aspx?Rule=24:05:25:04.03\",\"Student Eligible for Special Education \n(24:05:25:04.03)\")","v":"Student Eligible for Special Education \n(24:05:25:04.03)"},null,null,null,null,null,null,null,null,null,null,null,null,null,null,null,null,null,"Select",null,null,null,null,null,{"$f":"S114","v":"Select"},{"$f":"S114","v":"Select"}]
[null,null,null,null,null,null,null,null,null,null,null,null,null,null,null,null,null,null,null,null,null,null,null,{"$f":"Y115+Z115","v":0},{"$f":"COUNTIF(Y114,\"Yes\")*3","v":0},{"$f":"COUNTIF(Z114,\"No\")*3","v":0}]
[{"$f":"HYPERLINK(\"http://sdlegislature.gov/Rules/DisplayRule.aspx?Rule=24:05:25:06\",\"Three Year Re-Evaluation\n(24:05:25:06)\")","v":"Three Year Re-Evaluation\n(24:05:25:06)"},null,null,null,null,null,{"$f":"HYPERLINK(\"https://gosynth.com/p/s/mkcdef\",\"Current Eligibility Determination Date:\")","v":"Current Eligibility Determination Date:"},null,null,null,null,null,null,{"$f":"L112","v":"00:00:00"},null,null,null,null,"Select",null,null,null,null,null,{"$f":"S116","v":"Select"},{"$f":"S116","v":"Select"}]
[null,null,null,null,null,null,"Previous Eligibility Determination Date:",null,null,null,null,null,null,{"$f":"T8","v":"00:00:00"},null,null,null,null,null,null,null,null,null,{"$f":"Y117+Z117","v":0},{"$f":"COUNTIF(Y116,\"Yes\")*3","v":0},{"$f":"COUNTIF(Z116,\"No\")*3","v":0}]
[]
[{"$f":"HYPERLINK(\"https://gosynth.com/p/s/mkcdef\",\"Evaluated to Dismiss from Services  \")","v":"Evaluated to Dismiss from Services  "},null,null,null,null,null,null,null,null,null,null,null,null,null,null,null,null,null,"Select",null,null,null,null,null,{"$f":"S119","v":"Select"},{"$f":"S119","v":"Select"}]
[null,null,null,null,null,null,null,null,null,null,null,null,null,null,null,null,null,null,null,null,null,null,null,{"$f":"Y120+Z120","v":0},{"$f":"COUNTIF(Y119,\"Yes\")*3","v":0},{"$f":"COUNTIF(Z119,\"No\")*3","v":0}]
[]
[{"$f":"HYPERLINK(\"https://gosynth.com/p/s/giwoma\",\"Eligibility Document for Specific Learning Disability\")","v":"Eligibility Document for Specific Learning Disability"},null,null,null,null,null,null,null,null,null,null,null,null,null,null,null,null,null,{"$f":"IFERROR(Y126/X126,\"N/A\")","v":"N/A"}]
["If student is not eligible for Specific Learning Disability, skip this section.  Click on the [+] button if section is not visible. ",null,null,null,null,null,null,null,null,null,null,null,null,null,null,null,null,null,"Select","V122",null,null,null,null,{"$f":"S123","v":"Select"},{"$f":"S123","v":"Select"}]
[{"$f":"HYPERLINK(\"http://sdlegislature.gov/Rules/DisplayRule.aspx?Rule=24:05:24.01:19\",\"Specific Learning Disabilities\n(24:05:24.01:19)\")","v":"Specific Learning Disabilities\n(24:05:24.01:19)"},null,null,null,null,null,"Check the following:",null,null,null,null,null,null,null,null,null,null,null,null,null,null,null,null,{"$f":"Y124+Z124","v":0},{"$f":"COUNTIF(Y123,\"Yes\")*3","v":0},{"$f":"COUNTIF(Z123,\"No\")*3","v":0}]
[]
[null,null,null,null,null,null,null,"Reading Comprehension",null,null,null,null,null,"Math Calculation",null,null,null,null,null,null,null,null,null,{"$f":"(X124+X132+X151+X165+X174)/5","v":0},{"$f":"(Y124+Y132+Y151+Y165+Y174)/5","v":0}]
[null,null,null,null,null,null,null,"Basic Reading Skills",null,null,null,null,null,"Math Problem Solving"]
[null,null,null,null,null,null,null,"Reading Fluency",null,null,null,null,null,"Listening Comprehension"]
[null,null,null,null,null,null,null,"Written Expression",null,null,null,null,null,"Oral Expression"]
[]
["For Initial Determination of Eligibility Only",null,null,null,null,null,null,null,null,null,null,null,null,null,null,null,null,null,"Select","V130",null,null,null,null,{"$f":"S131","v":"Select"},{"$f":"S131","v":"Select"}]
[{"$f":"HYPERLINK(\"http://sdlegislature.gov/Rules/DisplayRule.aspx?Rule=24:05:24.01:19\",\"Initial Eligibility\n(24:05:24.01:19)\")","v":"Initial Eligibility\n(24:05:24.01:19)"},null,null,null,null,null,"Written report must include:",null,null,null,null,null,null,null,null,null,null,null,null,null,null,null,null,{"$f":"Y132+Z132","v":0},{"$f":"COUNTIF(Y131,\"Yes\")*3","v":0},{"$f":"COUNTIF(Z131,\"No\")*3","v":0}]
[]
[null,null,null,null,null,null,null,"Student achieves adequately",null,null,null,null,"Lack of appropriate instruction"]
[]
[null,null,null,null,null,null,null,"Student exhibits pattern of strengths & weaknesses",null,null,null,null,"Observation of the student"]
[]
[null,null,null,null,null,null,null,null,null,null,null,null,"Relevant medical findings (if any)"]
[null,null,null,null,null,null,null,"Student was provided appropriate instruction in regular education settings by qualified personnel"]
[null,null,null,null,null,null,null,null,null,null,null,null,"Achievement level problem is/is not primarily the result of another factor (e.g. emotional disturbance, cognitive impairment, etc.)"]
[]
[]
[null,null,null,null,null,null,null,"Repeated assessment of achievement reflecting student progress"]
[]
[]
[null,null,null,null,null,null,null,"Attendance record",null,null,null,null,"Adverse effect on educational performance"]
[]
[]
["Click on the [+] button to expand or the [-] button to collapse."]
["For Reevaluation of Eligibility Only",null,null,null,null,null,null,null,null,null,null,null,null,null,null,null,null,null,"Select","V149",null,null,null,null,{"$f":"S150","v":"Select"},{"$f":"S150","v":"Select"}]
[{"$f":"HYPERLINK(\"http://sdlegislature.gov/Rules/DisplayRule.aspx?Rule=24:05:24.01:19\",\"Reevaluation of Eligibility\n(24:05:24.01:19)\")","v":"Reevaluation of Eligibility\n(24:05:24.01:19)"},null,null,null,null,null,"Written report must include:",null,null,null,null,null,null,null,null,null,null,null,null,null,null,null,null,{"$f":"Y151+Z151","v":0},{"$f":"COUNTIF(Y150,\"Yes\")*3","v":0},{"$f":"COUNTIF(Z150,\"No\")*3","v":0}]
[]
[null,null,null,null,null,null,null,"Student achieves adequately",null,null,null,null,"Achievement level problem is/is not primarily the result of another factor (e.g. emotional disturbance, cognitive impairment, etc.)"]
[]
[null,null,null,null,null,null,null,"Student exhibits pattern of strengths & weaknesses"]
[]
[]
[null,null,null,null,null,null,null,"Observation of the student"]
[null,null,null,null,null,null,null,null,null,null,null,null,"Adverse effect on educational performance"]
[null,null,null,null,null,null,null,"Relevant medical findings (if any)"]
[]
[]
["Click on the [+] button to expand or the [-] button to collapse."]
[{"$f":"HYPERLINK(\"http://sdlegislature.gov/Rules/DisplayRule.aspx?Rule=24:05:25:08\",\"Team Member Signatures \n(24:05:25:08)\")","v":"Team Member Signatures \n(24:05:25:08)"},null,null,null,null,null,"Check the following:",null,null,null,null,null,null,null,null,null,null,null,"Select","V163",null,null,null,null,{"$f":"S164","v":"Select"},{"$f":"S164","v":"Select"}]
[null,null,null,null,null,null,null,null,null,null,null,null,null,null,null,null,null,null,null,null,null,null,null,{"$f":"Y165+Z165","v":0},{"$f":"COUNTIF(Y164,\"Yes\")*3","v":0},{"$f":"COUNTIF(Z164,\"No\")*3","v":0}]
[null,null,null,null,null,null,null,"Parent",null,null,null,null,"Each group member shall certify in writing whether the report reflects the group member's conclusion. If it does not reflect the group member's conclusion, the group member must submit the conclusion in a separate statement."]
[null,null,null,null,null,null,null,"General Education Teacher"]
[{"$f":"HYPERLINK(\"http://sdlegislature.gov/Rules/DisplayRule.aspx?Rule=24:05:25:13\",\"Group Members to Certify \nReport in Writing \n(24:05:25:13)\")","v":"Group Members to Certify \nReport in Writing \n(24:05:25:13)"},null,null,null,null,null,null,"Special Education Teacher"]
[null,null,null,null,null,null,null,"Qualified interpreter of results"]
[null,null,null,null,null,null,null,"LEA Representative"]
[null,null,null,null,null,null,null,"If disagreed, written input was provided"]
[]
[null,null,null,null,null,null,"Check PWWN for eligibility decisions.                         ",null,null,null,null,"Skip to","PPWN.",null,null,null,null,null,"Select",null,null,null,null,null,{"$f":"S173","v":"Select"},{"$f":"S173","v":"Select"}]
[null,null,null,null,null,null,null,null,null,null,null,null,null,null,null,null,null,null,null,null,null,null,null,{"$f":"Y174+Z174","v":0},{"$f":"COUNTIF(Y173,\"Yes\")*3","v":0},{"$f":"COUNTIF(Z173,\"No\")*3","v":0}]
[]
[{"$f":"HYPERLINK(\"https://gosynth.com/p/s/mzphio\",\"Meeting Notice\")","v":"Meeting Notice"},null,null,null,null,null,null,null,null,null,null,null,null,null,null,null,null,null,{"$f":"IFERROR(Y184/X184,\"N/A\")","v":"N/A"}]
["Meeting Notice",null,null,null,null,null,"Date sent:",null,null,null,null,null,"From this point on use the current IEP's documentation.",null,null,null,null,null,"Select","V174",null,null,null,null,{"$f":"S177","v":"Select"},{"$f":"S177","v":"Select"}]
[{"$f":"HYPERLINK(\"http://sdlegislature.gov/Rules/DisplayRule.aspx?Rule=24:05:30:02.01\",\"(24:05:30:02.01)\")","v":"(24:05:30:02.01)"},null,null,{"$f":"HYPERLINK(\"http://sdlegislature.gov/Rules/DisplayRule.aspx?Rule=24:05:25:16\",\"(24:05:25:16)\")","v":"(24:05:25:16)"},null,null,"Meeting date:",null,null,{"$f":"T5","v":"00:00:00"},null,null,null,null,null,null,null,null,null,null,null,null,null,{"$f":"Y178+Z178","v":0},{"$f":"COUNTIF(Y177,\"Yes\")*3","v":0},{"$f":"COUNTIF(Z177,\"No\")*3","v":0}]
["Procedural Safeguards",null,null,null,null,null,"Must be given to parents annually.",null,null,null,null,null,null,null,null,null,null,null,"Select",null,null,null,null,null,{"$f":"S179","v":"Select"},{"$f":"S179","v":"Select"}]
[{"$f":"HYPERLINK(\"http://sdlegislature.gov/Rules/DisplayRule.aspx?Rule=24:05:30:06.01\",\"(24:05:30:06.01)\")","v":"(24:05:30:06.01)"},null,null,{"$f":"HYPERLINK(\"http://sdlegislature.gov/Rules/DisplayRule.aspx?Rule=24:05:30:06.02\",\"(24:05:30:06.02)\")","v":"(24:05:30:06.02)"},null,null,null,null,null,null,null,null,null,null,null,null,null,null,null,null,null,null,null,{"$f":"Y180+Z180","v":0},{"$f":"COUNTIF(Y179,\"Yes\")*3","v":0},{"$f":"COUNTIF(Z179,\"No\")*3","v":0}]
["IEP Team",null,null,null,null,null,"Complete the following:",null,null,null,null,null,null,null,null,null,null,null,"Select",null,null,null,null,null,{"$f":"S181","v":"Select"},{"$f":"S181","v":"Select"}]
[null,null,null,null,null,null,null,null,null,null,null,null,null,null,null,null,null,null,null,null,null,null,null,{"$f":"Y182+Z182","v":0},{"$f":"COUNTIF(Y181,\"Yes\")*3","v":0},{"$f":"COUNTIF(Z181,\"No\")*3","v":0}]
[null,null,null,null,null,null,null,"The documentation of people attending the IEP meeting on front page of the IEP does not imply agreement, it is for participation purposes only."]
[null,null,null,null,null,null,null,null,null,null,null,null,null,null,null,null,null,null,null,null,null,null,null,{"$f":"(X178+X180+X182+X198)/4","v":0},{"$f":"(Y178+Y180+Y182+Y198)/4","v":0}]
[null,null,null,null,null,null,null,"Identified on the meeting notice:",null,null,"Attended the meeting:",null,null,"Did not attend\nthe meeting:"]
[]
[{"$f":"HYPERLINK(\"http://sdlegislature.gov/Rules/DisplayRule.aspx?Rule=24:05:25:16\",\"(24:05:25:16)\")","v":"(24:05:25:16)"},null,null,null,null,null,null,"Parent/Guardian"]
[null,null,null,null,null,null,null,"Student"]
[null,null,null,null,null,null,null,"Gen. Ed. Teacher"]
[null,null,null,null,null,null,null,"Sp. Ed. Teacher"]
["Parent Participation",null,null,null,null,null,null,"Eval Interpreter"]
[{"$f":"HYPERLINK(\"http://sdlegislature.gov/Rules/DisplayRule.aspx?Rule=24:05:25:16\",\"(24:05:25:16)\")","v":"(24:05:25:16)"},null,null,null,null,null,null,"LEA Representative"]
[null,null,null,null,null,null,null,"List Others"]
[null,null,null,null,null,null,null,"List Others"]
[null,null,null,null,null,null,null,"List Others"]
[]
["IEP Team Attendance \n (24:05:27:01.05)",null,null,null,null,null,"A member of the IEP team may be excused from attending, in whole or in part, an IEP team meeting that involves a modification to or discussion of the member's area of the curriculum or related services, if:\n   (1) The parent and school district consent in writing to the excusal; and\n   (2) The member submits, in writing to the parent and the IEP team, input into the development of the IEP before the meeting.",null,null,null,null,null,null,null,null,null,null,null,"Select","V194",null,null,null,null,{"$f":"S197","v":"Select"},{"$f":"S197","v":"Select"}]
[null,null,null,null,null,null,null,null,null,null,null,null,null,null,null,null,null,null,null,null,null,null,null,{"$f":"Y198+Z198","v":0},{"$f":"COUNTIF(Y197,\"Yes\")*3","v":0},{"$f":"COUNTIF(Z197,\"No\")*3","v":0}]
[]
[]
[]
[]
[{"$f":"HYPERLINK(\"https://gosynth.com/p/s/jshfqs\",\"          Individual Education Plan (Use the most recent IEP.)\n\")","v":"          Individual Education Plan (Use the most recent IEP.)\n"},null,null,null,null,null,null,null,null,null,null,null,null,null,null,null,null,null,{"$f":"IFERROR(Y210/X210,\"N/A\")","v":"N/A"}]
[{"$f":"HYPERLINK(\"http://sdlegislature.gov/Rules/DisplayRule.aspx?Rule=24:05:25:04.03\",\"Evaluation Reports Given to Parents \n(24:05:25:04.03)\")","v":"Evaluation Reports Given to Parents \n(24:05:25:04.03)"},null,null,null,null,null,"Evidence the parent received a copy of the reports (e.g.  initials on the front page IEP or other evidence). ",null,null,null,null,null,null,null,null,null,null,null,"Select","V201",null,null,null,null,{"$f":"S204","v":"Select"},{"$f":"S204","v":"Select"}]
[null,null,null,null,null,null,null,null,null,null,null,null,null,null,null,null,null,null,null,null,null,null,null,{"$f":"Y205+Z205","v":0},{"$f":"COUNTIF(Y204,\"Yes\")*3","v":0},{"$f":"COUNTIF(Z204,\"No\")*3","v":0}]
[{"$f":"HYPERLINK(\"http://sdlegislature.gov/Rules/DisplayRule.aspx?Rule=24:05:25:19\",\"Copy of IEP Given to Parents \n(24:05:25:19)\")","v":"Copy of IEP Given to Parents \n(24:05:25:19)"},null,null,null,null,null,"Evidence copy of the IEP was given to parents (e.g.  initials on the front page, addressed in PPWN, or other evidence).",null,null,null,null,null,null,null,null,null,null,null,"Select",null,null,null,null,null,{"$f":"S206","v":"Select"},{"$f":"S206","v":"Select"}]
[null,null,null,null,null,null,null,null,null,null,null,null,null,null,null,null,null,null,null,null,null,null,null,{"$f":"Y207+Z207","v":0},{"$f":"COUNTIF(Y206,\"Yes\")*3","v":0},{"$f":"COUNTIF(Z206,\"No\")*3","v":0}]
[{"$f":"HYPERLINK(\"http://sdlegislature.gov/Rules/DisplayRule.aspx?Rule=24:05:27:08\",\"Met Annually\n(24:05:27:08)\")","v":"Met Annually\n(24:05:27:08)"},null,null,null,null,null,"Current IEP Meeting Date:",null,null,null,null,{"$f":"T5","v":"00:00:00"},null,null,null,null,null,null,"Select",null,null,null,null,null,{"$f":"S208","v":"Select"},{"$f":"S208","v":"Select"}]
[null,null,null,null,null,null,"Previous IEP Meeting Date:",null,null,null,null,{"$f":"T6","v":"00:00:00"},null,null,null,null,null,null,null,null,null,null,null,{"$f":"Y209+Z209","v":0},{"$f":"COUNTIF(Y208,\"Yes\")*3","v":0},{"$f":"COUNTIF(Z208,\"No\")*3","v":0}]
[null,null,null,null,null,null,null,null,null,null,null,null,null,null,null,null,null,null,null,null,null,null,null,{"$f":"(X205+X207+X209)/3","v":0},{"$f":"(Y205+Y207+Y209)/3","v":0}]
[{"$f":"HYPERLINK(\"https://gosynth.com/p/s/eypdgf\",\"Present Levels of Academic Achievement & Functional Performance\")","v":"Present Levels of Academic Achievement & Functional Performance"},null,null,null,null,null,null,null,null,null,null,null,null,null,null,null,null,null,{"$f":"IFERROR(Y243/X243,\"N/A\")","v":"N/A"}]
[{"$f":"HYPERLINK(\"http://sdlegislature.gov/Rules/DisplayRule.aspx?Rule=24:05:27:01.03\",\"Progress/Involvement in \nGeneral Education Curriculum\n(24:05:27:01.03)\")","v":"Progress/Involvement in \nGeneral Education Curriculum\n(24:05:27:01.03)"},null,null,null,null,null,"A statement of the student's present levels of academic achievement and functional performance, including:\n   (a)  How the student's disability affects the student's involvement and progress in the general education curriculum (i.e., the same curriculum as for nondisabled students); or\n   (b)  For preschool student, as appropriate, how the disability affects the student's participation in appropriate activities;\nis found in the document.",null,null,null,null,null,null,null,null,null,null,null,"Select","V209",null,null,null,null,{"$f":"S212","v":"Select"},{"$f":"S212","v":"Select"}]
[null,null,null,null,null,null,null,null,null,null,null,null,null,null,null,null,null,null,null,null,null,null,null,{"$f":"Y213+Z213","v":0},{"$f":"COUNTIF(Y212,\"Yes\")*3","v":0},{"$f":"COUNTIF(Z212,\"No\")*3","v":0}]
[]
[{"$f":"HYPERLINK(\"https://sdlegislature.gov/Rules/DisplayRule.aspx?Rule=24:05:25:16\",\"Parent Participation\n(24:05:25:16)\")","v":"Parent Participation\n(24:05:25:16)"},null,null,null,null,null,"The purpose of this area for parent to provide IEP team information about how the child’s disability is impacted at home. Parents can also provide input on types of strategies and supports they provide at home.",null,null,null,null,null,null,null,null,null,null,null,"Select",null,null,null,null,null,{"$f":"S215","v":"Select"},{"$f":"S215","v":"Select"}]
[null,null,null,null,null,null,null,null,null,null,null,null,null,null,null,null,null,null,null,null,null,null,null,{"$f":"Y216+Z216","v":0},{"$f":"COUNTIF(Y215,\"Yes\")*3","v":0},{"$f":"COUNTIF(Z215,\"No\")*3","v":0}]
[{"$f":"HYPERLINK(\"http://sdlegislature.gov/Rules/DisplayRule.aspx?Rule=24:05:27:01.03\",\"Present Levels of \nAcademic Achievement \n& Functional Performance\nLinked to Annual Goals\n(24:05:27:01.03)\")","v":"Present Levels of \nAcademic Achievement \n& Functional Performance\nLinked to Annual Goals\n(24:05:27:01.03)"},null,null,null,null,null,"Skill Area:",null,null,null,null,"Measuarable Goal:",null,null,null,null,null,null,"Select","V214",null,null,null,null,{"$f":"S217","v":"Select"},{"$f":"S217","v":"Select"}]
[null,null,null,null,null,null,null,null,null,null,null,null,null,null,null,null,null,null,null,null,null,null,null,{"$f":"Y218+Z218","v":0},{"$f":"COUNTIF(Y217,\"Yes\")*3","v":0},{"$f":"COUNTIF(Z217,\"No\")*3","v":0}]
[null,null,null,null,null,null,null,"Strengths",null,null,null,null,"Condition",null,null,"How well"]
[null,null,null,null,null,null,null,"Needs",null,null,null,null,"Performance",null,null,"How often"]
[null,null,null,null,null,null,null,"Link to evaluation"]
[]
[null,null,null,null,null,null,"Skill Area:",null,null,null,null,"Measuarable Goal:",null,null,null,null,null,null,"Select",null,null,null,null,null,{"$f":"S223","v":"Select"},{"$f":"S223","v":"Select"}]
[null,null,null,null,null,null,null,null,null,null,null,null,null,null,null,null,null,null,null,null,null,null,null,{"$f":"Y224+Z224","v":0},{"$f":"COUNTIF(Y223,\"Yes\")*3","v":0},{"$f":"COUNTIF(Z223,\"No\")*3","v":0}]
[null,null,null,null,null,null,null,"Strengths",null,null,null,null,"Condition",null,null,"How well"]
[null,null,null,null,null,null,null,"Needs",null,null,null,null,"Performance",null,null,"How often"]
[null,null,null,null,null,null,null,"Link to evaluation"]
[]
[null,null,null,null,null,null,"Skill Area:",null,null,null,null,"Measuarable Goal:",null,null,null,null,null,null,"Select",null,null,null,null,null,{"$f":"S229","v":"Select"},{"$f":"S229","v":"Select"}]
[null,null,null,null,null,null,null,null,null,null,null,null,null,null,null,null,null,null,null,null,null,null,null,{"$f":"Y230+Z230","v":0},{"$f":"COUNTIF(Y229,\"Yes\")*3","v":0},{"$f":"COUNTIF(Z229,\"No\")*3","v":0}]
[null,null,null,null,null,null,null,"Strengths",null,null,null,null,"Condition",null,null,"How well"]
[null,null,null,null,null,null,null,"Needs",null,null,null,null,"Performance",null,null,"How often"]
[null,null,null,null,null,null,null,"Link to evaluation"]
[]
[{"$f":"HYPERLINK(\"http://sdlegislature.gov/Rules/DisplayRule.aspx?Rule=24:05:27:01.03\",\"How Progress will be Measured\n(24:05:27:01.03)\")","v":"How Progress will be Measured\n(24:05:27:01.03)"},null,null,null,null,null,{"$f":"HYPERLINK(\"https://gosynth.com/p/s/psaxcx\",\"         Check the following:\")","v":"         Check the following:"},null,null,null,null,null,null,null,null,null,null,null,"Select","V232",null,null,null,null,{"$f":"S235","v":"Select"},{"$f":"S235","v":"Select"}]
[null,null,null,null,null,null,null,null,null,null,null,null,null,null,null,null,null,null,null,null,null,null,null,{"$f":"Y236+Z236","v":0},{"$f":"COUNTIF(Y235,\"Yes\")*3","v":0},{"$f":"COUNTIF(Z235,\"No\")*3","v":0}]
[null,null,null,null,null,null,null,"Reporting frequency",null,null,null,null,"Extent of progress"]
[null,null,null,null,null,null,null,"Reporting method"]
[]
[{"$f":"HYPERLINK(\"http://sdlegislature.gov/Rules/DisplayRule.aspx?Rule=24:05:27:01.03\",\"Accommodations/Modifications\n(24:05:27:01.03)\")","v":"Accommodations/Modifications\n(24:05:27:01.03)"},null,null,null,null,null,{"$f":"HYPERLINK(\"https://gosynth.com/p/s/rtpvrq\",\"         Check the following:\")","v":"         Check the following:"},null,null,null,null,"List Instructional Accommodations:",null,null,null,null,null,null,"Select","V237",null,null,null,null,{"$f":"S240","v":"Select"},{"$f":"S240","v":"Select"}]
[null,null,null,null,null,null,null,"Frequency",null,null,null,null,null,null,null,null,null,null,null,null,null,null,null,{"$f":"Y241+Z241","v":0},{"$f":"COUNTIF(Y240,\"Yes\")*3","v":0},{"$f":"COUNTIF(Z240,\"No\")*3","v":0}]
[null,null,null,null,null,null,null,"Duration"]
[null,null,null,null,null,null,null,"Location",null,null,null,null,null,null,null,null,null,null,null,null,null,null,null,{"$f":"(X241+X236+X230+X224+X218+X216+X213)/7","v":0},{"$f":"(Y241+Y236+Y230+Y224+Y218+Y216+Y213)/7","v":0}]
[]
[]
[null,null,null,null,null,null,null,"Are the accommodations appropriate for the skill areas affected by the diability?"]
[]
[]
[]
[null,null,null,null,null,null,null,null,"Yes"]
[null,null,null,null,null,null,null,null,"No"]
[]
[]
[]
[{"$f":"HYPERLINK(\"https://gosynth.com/p/s/ygpazf\",\"Special Factors\")","v":"Special Factors"},null,null,null,null,null,null,null,null,null,null,null,null,null,null,null,null,null,{"$f":"IFERROR(Y294/X294,\"N/A\")","v":"N/A"}]
[{"$f":"HYPERLINK(\"http://sdlegislature.gov/Rules/DisplayRule.aspx?Rule=24:05:27:01.02\",\"Considerations\n(24:05:27:01.02)\")","v":"Considerations\n(24:05:27:01.02)"},null,null,null,null,null,"Select for each:",null,null,"Determine if data supports the selection for each special factor; if not addressed, check \"N\"  for score.",null,null,null,null,null,null,null,null,"Select","V243",null,null,null,null,{"$f":"S256","v":"Select"},{"$f":"S256","v":"Select"}]
[null,null,null,null,null,null,null,null,null,null,null,null,null,null,null,null,null,null,null,null,null,null,null,{"$f":"Y257+Z257","v":0},{"$f":"COUNTIF(Y256,\"Yes\")*3","v":0},{"$f":"COUNTIF(Z256,\"No\")*3","v":0}]
[null,null,null,null,null,null,null,null,null,"Limited English proficient"]
[null,null,null,null,null,null,null,null,null,"Special communication needs"]
[null,null,null,null,null,null,null,null,null,"Requires Braille"]
[null,null,null,null,null,null,null,null,null,"Behavior impedes learning"]
[null,null,null,null,null,null,null,null,null,"Requires assistive technology & services"]
[null,null,null,null,null,null,null,null,null,"Physical education"]
[null,null,null,null,null,null,null,null,null,"Hearing aid maintenance"]
[{"$f":"HYPERLINK(\"http://sdlegislature.gov/Rules/DisplayRule.aspx?Rule=24:05:27:01.03\",\"State/District Assessments\n(24:05:27:01.03)\")","v":"State/District Assessments\n(24:05:27:01.03)"},null,null,null,null,null,{"$f":"HYPERLINK(\"https://gosynth.com/p/s/jdbbir\",\"             Students will be taking state and district-wide assessments:\")","v":"             Students will be taking state and district-wide assessments:"},null,null,null,null,null,null,null,null,null,null,null,"Select","V263",null,null,null,null,{"$f":"S265","v":"Select"},{"$f":"S265","v":"Select"}]
[null,null,null,null,null,null,null,"With accommodations",null,null,null,null,"Without accommodations",null,null,null,null,null,null,null,null,null,null,{"$f":"Y266+Z266","v":0},{"$f":"COUNTIF(Y265,\"Yes\")*3","v":0},{"$f":"COUNTIF(Z265,\"No\")*3","v":0}]
[null,null,null,null,null,null,"Testing accommodations must reflect instructional accommodations."]
[null,null,null,null,null,null,"Do the accommodations for the state/district assesment(s) \nmatch the instructional accommodations?"]
[]
[null,null,null,null,null,null,"Instructional \nAccommodations",null,null,null,"State/District\nAssessment\nAccommodations",null,null,null,"Select\nyes or no:"]
[]
[]
[null,null,null,null,null,null,{"$f":"L241","v":0},null,null,null,null,null,null,null,"- Select -"]
[null,null,null,null,null,null,0,null,null,null,null,null,null,null,"- Select -"]
[null,null,null,null,null,null,0,null,null,null,null,null,null,null,"- Select -"]
[null,null,null,null,null,null,0,null,null,null,null,null,null,null,"- Select -"]
[null,null,null,null,null,null,0]
[null,null,null,null,null,null,0,null,null,null,null,null,null,null,"- Select -"]
[null,null,null,null,null,null,0,null,null,null,null,null,null,null,"- Select -"]
[null,null,null,null,null,null,0]
[null,null,null,null,null,null,0]
[null,null,null,null,null,null,0,null,null,null,null,null,null,null,"- Select -"]
[null,null,null,null,null,null,0,null,null,null,null,null,null,null,"- Select -"]
[null,null,null,null,null,null,0,null,null,null,null,null,null,null,"- Select -"]
[null,null,null,null,null,null,0,null,null,null,null,null,null,null,"- Select -"]
[null,null,null,null,null,null,0,null,null,null,null,null,null,null,"- Select -"]
[null,null,null,null,null,null,"Were the accommodations for\n the state assessment identified \non the IEP provided according to \nthe assessment data sheet?"]
[null,null,null,null,null,null,null,null,null,null,null,null,null,"- Select -"]
[]
[{"$f":"HYPERLINK(\"http://sdlegislature.gov/Rules/DisplayRule.aspx?Rule=24:05:27:01.03\",\"Alternate Assessments\n(24:05:27:01.03)\")","v":"Alternate Assessments\n(24:05:27:01.03)"},null,null,null,null,null,{"$f":"HYPERLINK(\"https://gosynth.com/p/s/bjlejx\",\"                  The following must be met:\")","v":"                  The following must be met:"},null,null,null,null,null,null,null,null,null,null,null,"Select","V257",null,null,null,null,{"$f":"S290","v":"Select"},{"$f":"S290","v":"Select"}]
[null,null,null,null,null,null,null,null,null,null,null,null,null,null,null,null,null,null,null,null,null,null,null,{"$f":"Y291+Z291","v":0},{"$f":"COUNTIF(Y290,\"Yes\")*3","v":0},{"$f":"COUNTIF(Z290,\"No\")*3","v":0}]
[null,null,null,null,null,null,null,"Student meets the significant cognitive disability criteria"]
[null,null,null,null,null,null,null,"Explanation for why student cannot participate in the regular assessment"]
[null,null,null,null,null,null,null,null,null,null,null,null,null,null,null,null,null,null,null,null,null,null,null,{"$f":"(X291+X266+X257)/3","v":0},{"$f":"(Y291+Y266+Y257)/3","v":0}]
[null,null,null,null,null,null,null,"Explanation for why the alternate assessment selected is appropriate"]
[]
[null,null,null,null,null,null,null,"The alternate assessment is for students working in the alternate achievement standards.  Annual goals and short term objectives are required.                                                                         \n                                                                        "]
[]
[]
[null,null,null,null,null,null,"Does the PPWN explain why IEP team decided alternate assessment for the student?"]
[null,null,null,null,null,null,"Does the student taking the\n alternate assessment meet\n the criteria, has it been \ndocumented on the IEP?"]
[null,null,null,null,null,null,null,null,null,null,null,null,null,"- Select -"]
[]
[]
[{"$f":"HYPERLINK(\"https://gosynth.com/p/s/itwkve\",\"Transition\")","v":"Transition"},null,null,null,null,null,null,null,null,null,null,null,null,null,null,null,null,null,{"$f":"IFERROR(Y306/X306,\"N/A\")","v":"N/A"}]
["Indicator 13 Item 1",null,null,null,null,null,null,null,null,null,null,null,null,null,null,null,null,null,null,null,null,null,null,{"$f":"(X308+X310+X312+X314+X316+X319+X321+X323+X326+X329+X331+X333+X336+X338+X340+X343+X345+X347+X350+X356+X362+X364+X366+X369)/24","v":0},{"$f":"(Y308+Y310+Y312+Y314+Y316+Y319+Y321+Y323+Y326+Y329+Y331+Y333+Y336+Y338+Y340+Y343+Y345+Y347+Y350+Y356+Y362+Y364+Y366+Y369)/24","v":0}]
[{"$f":"HYPERLINK(\"http://sdlegislature.gov/Rules/DisplayRule.aspx?Rule=24:05:27:01.03\",\"Transition IEP*\n(24:05:27:01.03)\")","v":"Transition IEP*\n(24:05:27:01.03)"},null,null,null,null,null,{"$f":"HYPERLINK(\"https://gosynth.com/p/s/itwkve\",\"Transition IEP must be in effect for all students on their 16 birthday or for younger students if it is addressed in the IEP.   \n*This is not on the Indicator 13 checklist, but it is a compliance requirement. \")","v":"Transition IEP must be in effect for all students on their 16 birthday or for younger students if it is addressed in the IEP.   \n*This is not on the Indicator 13 checklist, but it is a compliance requirement. "},null,null,null,null,null,null,null,null,null,null,null,"Select","V269",null,null,null,null,{"$f":"S307","v":"Select"},{"$f":"S307","v":"Select"}]
[null,null,null,null,null,null,null,null,null,null,null,null,null,null,null,null,null,null,null,null,null,null,null,{"$f":"Y308+Z308","v":0},{"$f":"COUNTIF(Y307,\"Yes\")*3","v":0},{"$f":"COUNTIF(Z307,\"No\")*3","v":0}]
[null,null,null,null,null,null,null,null,null,null,null,null,null,null,null,null,null,null,"Select",null,null,null,null,null,{"$f":"S309","v":"Select"},{"$f":"S309","v":"Select"}]
[{"$f":"HYPERLINK(\"http://sdlegislature.gov/Rules/DisplayRule.aspx?Rule=24:05:27:01.03\",\"Transition Assessments\n(24:05:27:01.03)\")","v":"Transition Assessments\n(24:05:27:01.03)"},null,null,null,null,null,null,"Employment",null,null,null,null,null,null,null,null,null,null,null,null,null,null,null,{"$f":"Y310+Z310","v":0},{"$f":"COUNTIF(Y309,\"Yes\")*3","v":0},{"$f":"COUNTIF(Z309,\"No\")*3","v":0}]
[null,null,null,null,null,null,null,null,null,null,null,null,null,null,null,null,null,null,"Select",null,null,null,null,null,{"$f":"S311","v":"Select"},{"$f":"S311","v":"Select"}]
[null,null,null,null,null,null,null,"Education/Training",null,null,null,null,null,null,null,null,null,null,null,null,null,null,null,{"$f":"Y312+Z312","v":0},{"$f":"COUNTIF(Y311,\"Yes\")*3","v":0},{"$f":"COUNTIF(Z311,\"No\")*3","v":0}]
[null,null,null,null,null,null,null,"Independent Living",null,null,null,null,null,null,null,null,null,null,"Select",null,null,null,null,null,{"$f":"S313","v":"Select"},{"$f":"S313","v":"Select"}]
[null,null,null,null,null,null,{"$f":"HYPERLINK(\"https://gosynth.com/p/s/itwkve\",\"The transition assessment must be completed prior to the age of 16 and updated annually.  Evidence of transition strengths/ needs are document on the PLAAFPs.  \")","v":"The transition assessment must be completed prior to the age of 16 and updated annually.  Evidence of transition strengths/ needs are document on the PLAAFPs.  "},null,null,null,null,null,null,null,null,null,null,null,null,null,null,null,null,{"$f":"Y314+Z314","v":0},{"$f":"COUNTIF(Y313,\"Yes\")*3","v":0},{"$f":"COUNTIF(Z313,\"No\")*3","v":0}]
["Transition Evaluation Report*\n",null,null,null,null,null,{"$f":"HYPERLINK(\"https://gosynth.com/p/s/itwkve\",\"A transition evaluation report is located in the file.\n\n*This is not on the Indicator 13 checklist, but it is a compliance requirement. \")","v":"A transition evaluation report is located in the file.\n\n*This is not on the Indicator 13 checklist, but it is a compliance requirement. "},null,null,null,null,null,null,null,null,null,null,null,"Select",null,null,null,null,null,{"$f":"S315","v":"Select"},{"$f":"S315","v":"Select"}]
[null,null,null,null,null,null,null,null,null,null,null,null,null,null,null,null,null,null,null,null,null,null,null,{"$f":"Y316+Z316","v":0},{"$f":"COUNTIF(Y315,\"Yes\")*3","v":0},{"$f":"COUNTIF(Z315,\"No\")*3","v":0}]
[{"$f":"HYPERLINK(\"https://gosynth.com/p/s/itwkve\",\"Indicator 13 Item 2\")","v":"Indicator 13 Item 2"}]
[{"$f":"HYPERLINK(\"http://sdlegislature.gov/Rules/DisplayRule.aspx?Rule=24:05:27:01.03\",\"Age-Appropriate Measurable \nPost-Secondary Goals \n(24:05:27:01.03)\")","v":"Age-Appropriate Measurable \nPost-Secondary Goals \n(24:05:27:01.03)"},null,null,null,null,null,null,"Employment",null,null,null,null,null,null,null,null,null,null,"Select","V278",null,null,null,null,{"$f":"S318","v":"Select"},{"$f":"S318","v":"Select"}]
[null,null,null,null,null,null,null,null,null,null,null,null,null,null,null,null,null,null,null,null,null,null,null,{"$f":"Y319+Z319","v":0},{"$f":"COUNTIF(Y318,\"Yes\")*3","v":0},{"$f":"COUNTIF(Z318,\"No\")*3","v":0}]
[null,null,null,null,null,null,null,"Education/Training",null,null,null,null,null,null,null,null,null,null,"Select",null,null,null,null,null,{"$f":"S320","v":"Select"},{"$f":"S320","v":"Select"}]
[null,null,null,null,null,null,null,null,null,null,null,null,null,null,null,null,null,null,null,null,null,null,null,{"$f":"Y321+Z321","v":0},{"$f":"COUNTIF(Y320,\"Yes\")*3","v":0},{"$f":"COUNTIF(Z320,\"No\")*3","v":0}]
[null,null,null,null,null,null,null,"Independent Living",null,null,null,null,null,null,null,null,null,null,"Select",null,null,null,null,null,{"$f":"S322","v":"Select"},{"$f":"S322","v":"Select"}]
[null,null,null,null,null,null,null,null,null,null,null,null,null,null,null,null,null,null,null,null,null,null,null,{"$f":"Y323+Z323","v":0},{"$f":"COUNTIF(Y322,\"Yes\")*3","v":0},{"$f":"COUNTIF(Z322,\"No\")*3","v":0}]
[{"$f":"HYPERLINK(\"https://gosynth.com/p/s/itwkve\",\"Indicator 13 Item 3\")","v":"Indicator 13 Item 3"}]
["MPSGs Updated Annually",null,null,null,null,null,null,null,null,null,null,null,null,null,null,null,null,null,"Select","V282",null,null,null,null,{"$f":"S325","v":"Select"},{"$f":"S325","v":"Select"}]
[null,null,null,null,null,null,null,null,null,null,null,null,null,null,null,null,null,null,null,null,null,null,null,{"$f":"Y326+Z326","v":0},{"$f":"COUNTIF(Y325,\"Yes\")*3","v":0},{"$f":"COUNTIF(Z325,\"No\")*3","v":0}]
["Indicator 13 Item 4"]
[{"$f":"HYPERLINK(\"http://sdlegislature.gov/Rules/DisplayRule.aspx?Rule=24:05:27:01.03\",\"Course of Study Aligns to \nPost-Secondary Goals\n(24:05:27:01.03)\")","v":"Course of Study Aligns to \nPost-Secondary Goals\n(24:05:27:01.03)"},null,null,null,null,null,null,"Employment",null,null,null,null,null,null,null,null,null,null,"Select","V285",null,null,null,null,{"$f":"S328","v":"Select"},{"$f":"S328","v":"Select"}]
[null,null,null,null,null,null,null,null,null,null,null,null,null,null,null,null,null,null,null,null,null,null,null,{"$f":"Y329+Z329","v":0},{"$f":"COUNTIF(Y328,\"Yes\")*3","v":0},{"$f":"COUNTIF(Z328,\"No\")*3","v":0}]
[null,null,null,null,null,null,null,"Education/Training",null,null,null,null,null,null,null,null,null,null,"Select",null,null,null,null,null,{"$f":"S330","v":"Select"},{"$f":"S330","v":"Select"}]
[null,null,null,null,null,null,null,null,null,null,null,null,null,null,null,null,null,null,null,null,null,null,null,{"$f":"Y331+Z331","v":0},{"$f":"COUNTIF(Y330,\"Yes\")*3","v":0},{"$f":"COUNTIF(Z330,\"No\")*3","v":0}]
[null,null,null,null,null,null,null,"Independent Living",null,null,null,null,null,null,null,null,null,null,"Select",null,null,null,null,null,{"$f":"S332","v":"Select"},{"$f":"S332","v":"Select"}]
[null,null,null,null,null,null,"Completed by age 16, or younger if transition has been addressed in the IEP, and updated annually through graduation or ‘age out’.",null,null,null,null,null,null,null,null,null,null,null,null,null,null,null,null,{"$f":"Y333+Z333","v":0},{"$f":"COUNTIF(Y332,\"Yes\")*3","v":0},{"$f":"COUNTIF(Z332,\"No\")*3","v":0}]
[{"$f":"HYPERLINK(\"https://gosynth.com/p/s/itwkve\",\"Indicator 13 Item 5\")","v":"Indicator 13 Item 5"}]
[{"$f":"HYPERLINK(\"http://sdlegislature.gov/Rules/DisplayRule.aspx?Rule=24:05:27:13.02\",\"Transition Services/Activities\n(24:05:27:13.02)\")","v":"Transition Services/Activities\n(24:05:27:13.02)"},null,null,null,null,null,null,"Employment",null,null,null,null,null,null,null,null,null,null,"Select","V290",null,null,null,null,{"$f":"S335","v":"Select"},{"$f":"S335","v":"Select"}]
[null,null,null,null,null,null,null,null,null,null,null,null,null,null,null,null,null,null,null,null,null,null,null,{"$f":"Y336+Z336","v":0},{"$f":"COUNTIF(Y335,\"Yes\")*3","v":0},{"$f":"COUNTIF(Z335,\"No\")*3","v":0}]
[null,null,null,null,null,null,null,"Education/Training",null,null,null,null,null,null,null,null,null,null,"Select",null,null,null,null,null,{"$f":"S337","v":"Select"},{"$f":"S337","v":"Select"}]
[null,null,null,null,null,null,null,null,null,null,null,null,null,null,null,null,null,null,null,null,null,null,null,{"$f":"Y338+Z338","v":0},{"$f":"COUNTIF(Y337,\"Yes\")*3","v":0},{"$f":"COUNTIF(Z337,\"No\")*3","v":0}]
[null,null,null,null,null,null,null,"Independent Living",null,null,null,null,null,null,null,null,null,null,"Select",null,null,null,null,null,{"$f":"S339","v":"Select"},{"$f":"S339","v":"Select"}]
[null,null,null,null,null,null,"Services/activities will reasonably enable the student to meet post-secondary goals and have at least one activity per MPSG addressed.",null,null,null,null,null,null,null,null,null,null,null,null,null,null,null,null,{"$f":"Y340+Z340","v":0},{"$f":"COUNTIF(Y339,\"Yes\")*3","v":0},{"$f":"COUNTIF(Z339,\"No\")*3","v":0}]
[{"$f":"HYPERLINK(\"https://gosynth.com/p/s/itwkve\",\"Indicator 13 Item 6\")","v":"Indicator 13 Item 6"}]
[{"$f":"HYPERLINK(\"http://sdlegislature.gov/Rules/DisplayRule.aspx?Rule=24:05:27:13.02\",\"Annual Goal Related to Student’s Transition Service needs in\n(24:05:27:13.02)\")","v":"Annual Goal Related to Student’s Transition Service needs in\n(24:05:27:13.02)"},null,null,null,null,null,null,"Employment",null,null,null,null,null,null,null,null,null,null,"Select","V295",null,null,null,null,{"$f":"S342","v":"Select"},{"$f":"S342","v":"Select"}]
[null,null,null,null,null,null,null,null,null,null,null,null,null,null,null,null,null,null,null,null,null,null,null,{"$f":"Y343+Z343","v":0},{"$f":"COUNTIF(Y342,\"Yes\")*3","v":0},{"$f":"COUNTIF(Z342,\"No\")*3","v":0}]
[null,null,null,null,null,null,null,"Education/Training",null,null,null,null,null,null,null,null,null,null,"Select",null,null,null,null,null,{"$f":"S344","v":"Select"},{"$f":"S344","v":"Select"}]
[null,null,null,null,null,null,null,null,null,null,null,null,null,null,null,null,null,null,null,null,null,null,null,{"$f":"Y345+Z345","v":0},{"$f":"COUNTIF(Y344,\"Yes\")*3","v":0},{"$f":"COUNTIF(Z344,\"No\")*3","v":0}]
[null,null,null,null,null,null,null,"Independent Living",null,null,null,null,null,null,null,null,null,null,"Select",null,null,null,null,null,{"$f":"S346","v":"Select"},{"$f":"S346","v":"Select"}]
[null,null,null,null,null,null,{"$f":"HYPERLINK(\"https://gosynth.com/p/s/itwkve\",\"Annual goals are linked to the MPSGs.\")","v":"Annual goals are linked to the MPSGs."},null,null,null,null,null,null,null,null,null,null,null,null,null,null,null,null,{"$f":"Y347+Z347","v":0},{"$f":"COUNTIF(Y346,\"Yes\")*3","v":0},{"$f":"COUNTIF(Z346,\"No\")*3","v":0}]
[{"$f":"HYPERLINK(\"https://gosynth.com/p/s/pisllo\",\"Indicator 13 Item 7\")","v":"Indicator 13 Item 7"}]
[{"$f":"HYPERLINK(\"http://sdlegislature.gov/Rules/DisplayRule.aspx?Rule=24:05:25:16.01\",\"Student Invitation/Participation\n(24:05:25:16.01)\")","v":"Student Invitation/Participation\n(24:05:25:16.01)"},null,null,null,null,null,"How the student invited?",null,null,null,null,{"$f":"HYPERLINK(\"https://gosynth.com/p/s/pisllo\",\"If student was not in attendance at the meeting, the IEP should show evidence that student's preferences and interests were taken into account. *\")","v":"If student was not in attendance at the meeting, the IEP should show evidence that student's preferences and interests were taken into account. *"},null,null,null,null,null,null,"Select","V300",null,null,null,null,{"$f":"S349","v":"Select"},{"$f":"S349","v":"Select"}]
[null,null,null,null,null,null,null,null,null,null,null,null,null,null,null,null,null,null,null,null,null,null,null,{"$f":"Y350+Z350","v":0},{"$f":"COUNTIF(Y349,\"Yes\")*3","v":0},{"$f":"COUNTIF(Z349,\"No\")*3","v":0}]
[null,null,null,null,null,null,null,"Meeting notice"]
[null,null,null,null,null,null,null,"Individual student invite"]
[]
[{"$f":"HYPERLINK(\"https://gosynth.com/p/s/pisllo\",\"Indicator 13 Item 8\")","v":"Indicator 13 Item 8"}]
[{"$f":"HYPERLINK(\"http://sdlegislature.gov/Rules/DisplayRule.aspx?Rule=24:05:25:16.01\",\"Consent to Invite Outside Agency\n(24:05:25:16.01)\")","v":"Consent to Invite Outside Agency\n(24:05:25:16.01)"},null,null,null,null,null,{"$f":"HYPERLINK(\"https://gosynth.com/p/s/pisllo\",\" Written Consent to invite:\")","v":" Written Consent to invite:"},null,null,null,null,null,null,"List of agencies invited:",null,null,null,null,"Select","V306",null,null,null,null,{"$f":"S355","v":"Select"},{"$f":"S355","v":"Select"}]
[null,null,null,null,null,null,"Invited on Meeting Notice:",null,null,null,null,null,"Yes",null,null,null,null,null,null,null,null,null,null,{"$f":"Y356+Z356","v":0},{"$f":"COUNTIF(Y355,\"Yes\")*3","v":0},{"$f":"COUNTIF(Z355,\"No\")*3","v":0}]
[null,null,null,null,null,null,null,null,null,null,null,null,"No"]
[null,null,null,null,null,null,"Meeting Notice Date:",null,null,null,null,{"$f":"J177","v":"00:00:00"}]
[null,null,null,null,null,null,"Date of Current IEP Meeting:",null,null,null,null,{"$f":"T5","v":"00:00:00"}]
[{"$f":"HYPERLINK(\"https://gosynth.com/p/s/pisllo\",\"Other Transition Areas *\")","v":"Other Transition Areas *"}]
[{"$f":"HYPERLINK(\"http://sdlegislature.gov/Rules/DisplayRule.aspx?Rule=24:05:30:16.01\",\"Transfer of Parental Rights:\n(24:05:30:16.01)\")","v":"Transfer of Parental Rights:\n(24:05:30:16.01)"},null,null,null,null,null,"Turned 17 on:",null,null,null,null,null,null,null,null,null,null,null,"Select","V312",null,null,null,null,{"$f":"S361","v":"Select"},{"$f":"S361","v":"Select"}]
[null,null,null,null,null,null,"Rights reviewed on:",null,null,null,null,null,null,null,null,null,null,null,null,null,null,null,null,{"$f":"Y362+Z362","v":0},{"$f":"COUNTIF(Y361,\"Yes\")*3","v":0},{"$f":"COUNTIF(Z361,\"No\")*3","v":0}]
[{"$f":"HYPERLINK(\"http://sdlegislature.gov/Rules/DisplayRule.aspx?Rule=24:05:27:12\",\"Specific Graduation Requirements:\n(24:05:27:12)\")","v":"Specific Graduation Requirements:\n(24:05:27:12)"},null,null,null,null,null,"Graduation requirements addressed on:",null,null,null,null,null,null,null,null,null,null,null,"Select",null,null,null,null,null,{"$f":"S363","v":"Select"},{"$f":"S363","v":"Select"}]
[null,null,null,null,null,null,"Student is projected to graduate:",null,null,null,null,null,null,null,null,null,null,null,null,null,null,null,null,{"$f":"Y364+Z364","v":0},{"$f":"COUNTIF(Y363,\"Yes\")*3","v":0},{"$f":"COUNTIF(Z363,\"No\")*3","v":0}]
[{"$f":"HYPERLINK(\"http://sdlegislature.gov/Rules/DisplayRule.aspx?Rule=24:05:27:12\",\"When Student has Graduated\n(24:05:27:12)\")","v":"When Student has Graduated\n(24:05:27:12)"},null,null,null,null,null,"Written prior notice was sent:",null,null,null,null,null,null,null,null,null,null,null,"Select",null,null,null,null,null,{"$f":"S365","v":"Select"},{"$f":"S365","v":"Select"}]
[null,null,null,null,null,null,{"$f":"HYPERLINK(\"https://gosynth.com/p/s/pisllo\",\"When a student graduates, it is a change in placement. It must have a written\n prior notice sent.  If student has \"\"aged-out\"\", a PPWN is required.  \")","v":"When a student graduates, it is a change in placement. It must have a written\n prior notice sent.  If student has \"aged-out\", a PPWN is required.  "},null,null,null,null,null,null,null,null,null,null,null,null,null,null,null,null,{"$f":"Y366+Z366","v":0},{"$f":"COUNTIF(Y365,\"Yes\")*3","v":0},{"$f":"COUNTIF(Z365,\"No\")*3","v":0}]
[]
[{"$f":"HYPERLINK(\"http://sdlegislature.gov/Rules/DisplayRule.aspx?Rule=24:05:27:12\",\"Summary of Performance was provided to the Student/Parent/Guardian\n(24:05:27:12)\")","v":"Summary of Performance was provided to the Student/Parent/Guardian\n(24:05:27:12)"},null,null,null,null,null,{"$f":"HYPERLINK(\"https://gosynth.com/p/s/pisllo\",\"Summary of Performance (SOP) is required for students who graduated and\n aged out. A copy of the SOP should remain in the file.\")","v":"Summary of Performance (SOP) is required for students who graduated and\n aged out. A copy of the SOP should remain in the file."},null,null,null,null,null,null,null,null,null,null,null,"Select",null,null,null,null,null,{"$f":"S368","v":"Select"},{"$f":"S368","v":"Select"}]
[null,null,null,null,null,null,null,null,null,null,null,null,null,null,null,null,null,null,null,null,null,null,null,{"$f":"Y369+Z369","v":0},{"$f":"COUNTIF(Y368,\"Yes\")*3","v":0},{"$f":"COUNTIF(Z368,\"No\")*3","v":0}]
[]
["Click on the [+] button to expand or the [-] button to collapse."]
[{"$f":"HYPERLINK(\"https://gosynth.com/p/s/kldkzb\",\"Related Services\")","v":"Related Services"},null,null,null,null,null,null,null,null,null,null,null,null,null,null,null,null,null,{"$f":"IFERROR(Y375/X375,\"N/A\")","v":"N/A"}]
[{"$f":"HYPERLINK(\"http://sdlegislature.gov/Rules/DisplayRule.aspx?Rule=24:05:27:16\",\"Related Services\n(24:05:27)\")","v":"Related Services\n(24:05:27)"},null,null,null,null,null,"Service Provided:",null,null,null,null,null,"If student will receive services in a different location, then must break it out to calculate the Least Restrictive Environment.",null,null,null,null,null,"Select","V324",null,null,null,null,{"$f":"S373","v":"Select"},{"$f":"S373","v":"Select"}]
[null,null,null,null,null,null,null,null,null,null,null,null,null,null,null,null,null,null,null,null,null,null,null,{"$f":"Y374+Z374","v":0},{"$f":"COUNTIF(Y373,\"Yes\")*3","v":0},{"$f":"COUNTIF(Z373,\"No\")*3","v":0}]
[null,null,null,null,null,null,null,"Frequency",null,null,"Location",null,null,null,null,null,null,null,null,null,null,null,null,{"$f":"(X374+X379)/2","v":0},{"$f":"(Y374+Y379)/2","v":0}]
[null,null,null,null,null,null,null,"Duration",null,null,"Other"]
[null,null,null,null,null,null,"Service Provided:",null,null,null,null,null,"At a minimum, all areas student qualifies and has an annual goal must have service time documented. If not addressed, then PPWN must explain reason."]
[null,null,null,null,null,null,null,null,null,null,null,null,null,null,null,null,null,null,"Select",null,null,null,null,null,{"$f":"S378","v":"Select"},{"$f":"S378","v":"Select"}]
[null,null,null,null,null,null,null,"Frequency",null,null,"Location",null,null,null,null,null,null,null,null,null,null,null,null,{"$f":"Y379+Z379","v":0},{"$f":"COUNTIF(Y378,\"Yes\")*3","v":0},{"$f":"COUNTIF(Z378,\"No\")*3","v":0}]
[null,null,null,null,null,null,null,"Duration",null,null,"Other"]
[]
["Least Restrictive Environment ",null,null,null,null,null,null,null,null,null,null,null,null,null,null,null,null,null,{"$f":"IFERROR(Y382/X382,\"N/A\")","v":"N/A"},null,null,null,null,{"$f":"(X384+X388+X392+X396+X400+X402+X404+X406+X408)/9","v":0},{"$f":"(Y384+Y388+Y392+Y396+Y400+Y402+Y404+Y406+Y408)/9","v":0}]
[{"$f":"HYPERLINK(\"https://sdlegislature.gov/Rules/DisplayRule.aspx?Rule=24:05:28\",\"Least Restrictive Enviornment \n(Chapter 24:05:28)\")","v":"Least Restrictive Enviornment \n(Chapter 24:05:28)"},null,null,null,null,null,{"$f":"HYPERLINK(\"https://gosynth.com/p/s/llxjsq\",\"Skill area:\")","v":"Skill area:"},null,null,null,null,null,null,null,null,null,null,null,"Select","V334",null,null,null,null,{"$f":"S383","v":"Select"},{"$f":"S383","v":"Select"}]
[null,null,null,null,null,null,null,null,null,null,null,null,null,null,null,null,null,null,null,null,null,null,null,{"$f":"Y384+Z384","v":0},{"$f":"COUNTIF(Y383,\"Yes\")*3","v":0},{"$f":"COUNTIF(Z383,\"No\")*3","v":0}]
[null,null,null,null,null,null,null,null,"Frequency",null,null,"Duration",null,null,"Location"]
[]
[null,null,null,null,null,null,"Skill area:",null,null,null,null,null,null,null,null,null,null,null,"Select",null,null,null,null,null,{"$f":"S387","v":"Select"},{"$f":"S387","v":"Select"}]
[null,null,null,null,null,null,null,null,null,null,null,null,null,null,null,null,null,null,null,null,null,null,null,{"$f":"Y388+Z388","v":0},{"$f":"COUNTIF(Y387,\"Yes\")*3","v":0},{"$f":"COUNTIF(Z387,\"No\")*3","v":0}]
[null,null,null,null,null,null,null,null,"Frequency",null,null,"Duration",null,null,"Location"]
[]
[null,null,null,null,null,null,"Skill area:",null,null,null,null,null,null,null,null,null,null,null,"Select",null,null,null,null,null,{"$f":"S391","v":"Select"},{"$f":"S391","v":"Select"}]
[null,null,null,null,null,null,null,null,null,null,null,null,null,null,null,null,null,null,null,null,null,null,null,{"$f":"Y392+Z392","v":0},{"$f":"COUNTIF(Y391,\"Yes\")*3","v":0},{"$f":"COUNTIF(Z391,\"No\")*3","v":0}]
[null,null,null,null,null,null,null,null,"Frequency",null,null,"Duration",null,null,"Location"]
[]
[null,null,null,null,null,null,"Skill area:",null,null,null,null,null,null,null,null,null,null,null,"Select",null,null,null,null,null,{"$f":"S395","v":"Select"},{"$f":"S395","v":"Select"}]
[null,null,null,null,null,null,null,null,null,null,null,null,null,null,null,null,null,null,null,null,null,null,null,{"$f":"Y396+Z396","v":0},{"$f":"COUNTIF(Y395,\"Yes\")*3","v":0},{"$f":"COUNTIF(Z395,\"No\")*3","v":0}]
[null,null,null,null,null,null,null,null,"Frequency",null,null,"Duration",null,null,"Location"]
[]
[{"$f":"HYPERLINK(\"http://sdlegislature.gov/Rules/DisplayRule.aspx?Rule=24:05:28:02\",\"Continuum of Placement\n(24:05:28:02)\")","v":"Continuum of Placement\n(24:05:28:02)"},null,null,null,null,null,"Select:",null,null,null,null,null,null,null,null,null,null,null,"Select","V350",null,null,null,null,{"$f":"S399","v":"Select"},{"$f":"S399","v":"Select"}]
[null,null,null,null,null,null,null,null,null,null,null,null,null,null,null,null,null,null,null,null,null,null,null,{"$f":"Y400+Z400","v":0},{"$f":"COUNTIF(Y399,\"Yes\")*3","v":0},{"$f":"COUNTIF(Z399,\"No\")*3","v":0}]
[null,null,null,null,null,null,"Select for Early Childhood (Ages 3-5):",null,null,null,null,null,null,null,null,null,null,null,"Select",null,null,null,null,null,{"$f":"S401","v":"Select"},{"$f":"S401","v":"Select"}]
[null,null,null,null,null,null,null,null,null,null,null,null,null,null,null,null,null,null,null,null,null,null,null,{"$f":"Y402+Z402","v":0},{"$f":"COUNTIF(Y401,\"Yes\")*3","v":0},{"$f":"COUNTIF(Z401,\"No\")*3","v":0}]
[{"$f":"HYPERLINK(\"http://sdlegislature.gov/Rules/DisplayRule.aspx?Rule=24:05:27:01.03\",\"Participation with Non-disabled Peers\n(24:05:27:01.03)\")","v":"Participation with Non-disabled Peers\n(24:05:27:01.03)"},null,null,null,null,null,{"$f":"HYPERLINK(\"https://gosynth.com/p/s/wjqcuh\",\"Document opportunities to participate with non-disabled peers.\")","v":"Document opportunities to participate with non-disabled peers."},null,null,null,null,null,null,null,null,null,null,null,"Select",null,null,null,null,null,{"$f":"S403","v":"Select"},{"$f":"S403","v":"Select"}]
[null,null,null,null,null,null,null,null,null,null,null,null,null,null,null,null,null,null,null,null,null,null,null,{"$f":"Y404+Z404","v":0},{"$f":"COUNTIF(Y403,\"Yes\")*3","v":0},{"$f":"COUNTIF(Z403,\"No\")*3","v":0}]
[{"$f":"HYPERLINK(\"http://sdlegislature.gov/Rules/DisplayRule.aspx?Rule=24:05:28:03\",\"Justification for Placement \n(24:05:28:03)\")","v":"Justification for Placement \n(24:05:28:03)"},null,null,null,null,null,{"$f":"HYPERLINK(\"https://gosynth.com/p/s/rjxcoc\",\"                  Select from the following:\")","v":"                  Select from the following:"},null,null,null,null,null,null,null,null,null,null,null,"Select",null,null,null,null,null,{"$f":"S405","v":"Select"},{"$f":"S405","v":"Select"}]
[null,null,null,null,null,null,null,null,null,null,null,null,null,null,null,null,null,null,null,null,null,null,null,{"$f":"Y406+Z406","v":0},{"$f":"COUNTIF(Y405,\"Yes\")*3","v":0},{"$f":"COUNTIF(Z405,\"No\")*3","v":0}]
[{"$f":"HYPERLINK(\"http://sdlegislature.gov/Rules/DisplayRule.aspx?Rule=24:05:25:26\",\"Extended School Year\n(24:05:25:26)\")","v":"Extended School Year\n(24:05:25:26)"},null,null,null,null,null,{"$f":"HYPERLINK(\"https://gosynth.com/p/s/bbepxx\",\"                  Check the following:\")","v":"                  Check the following:"},null,null,null,null,null,null,null,null,null,null,null,"Select","V358",null,null,null,null,{"$f":"S407","v":"Select"},{"$f":"S407","v":"Select"}]
[null,null,null,null,null,null,null,null,null,null,null,null,null,null,null,null,null,null,null,null,null,null,null,{"$f":"Y408+Z408","v":0},{"$f":"COUNTIF(Y407,\"Yes\")*3","v":0},{"$f":"COUNTIF(Z407,\"No\")*3","v":0}]
[null,null,null,null,null,null,null,null,"Determination",null,null,null,"Beginning/end dates"]
[null,null,null,null,null,null,null,null,"Goals",null,null,null,"Amount of service"]
[]
[]
[]
[{"$f":"HYPERLINK(\"https://gosynth.com/p/s/acbbuk\",\"Prior Parental Written Notice\")","v":"Prior Parental Written Notice"},null,null,null,null,null,null,null,null,null,null,null,null,null,null,null,null,null,{"$f":"IFERROR(Y414/X414,\"N/A\")","v":"N/A"},null,null,null,null,{"$f":"(X416+X421)/2","v":0},{"$f":"(Y416+Y421)/2","v":0}]
[{"$f":"HYPERLINK(\"http://sdlegislature.gov/Rules/DisplayRule.aspx?Rule=24:05:30:04\",\"Prior Written Notice Sent to Parent Regarding IEP Implementation\n(24:05:30:04)\")","v":"Prior Written Notice Sent to Parent Regarding IEP Implementation\n(24:05:30:04)"},null,null,null,null,null,"Date the district sent the PPWN:",null,null,null,null,null,null,null,"The implementation date documented on the PPWN must be reflected on IEP.\n\nThe five-day notice requirement may be waived by the parents.",null,null,null,"Select","V366",null,null,null,null,{"$f":"S415","v":"Select"},{"$f":"S415","v":"Select"}]
[null,null,null,null,null,null,"District proposed at least 5 calendar days to begin implementation:",null,null,null,null,null,{"$f":"M415+5","v":"1900-01-05"},null,null,null,null,null,null,null,null,null,null,{"$f":"Y416+Z416","v":0},{"$f":"COUNTIF(Y415,\"Yes\")*3","v":0},{"$f":"COUNTIF(Z415,\"No\")*3","v":0}]
[]
[null,null,null,null,null,null,"Was the 5 calendar day notice requirement met?",null,null,null,null,null,null,"Yes"]
[null,null,null,null,null,null,null,null,null,null,null,null,null,"No"]
[{"$f":"HYPERLINK(\"http://sdlegislature.gov/Rules/DisplayRule.aspx?Rule=24:05:30:05\",\"Content of PPWN\n(24:05:30:05)\")","v":"Content of PPWN\n(24:05:30:05)"},null,null,null,null,null,"Check the following:",null,null,null,null,null,null,null,null,null,null,null,"Select","V371",null,null,null,null,{"$f":"S420","v":"Select"},{"$f":"S420","v":"Select"}]
[null,null,null,null,null,null,"PPWN must be individualized to the student, IEP team discussions and situation.",null,null,null,null,null,null,null,null,null,null,null,null,null,null,null,null,{"$f":"Y421+Z421","v":0},{"$f":"COUNTIF(Y420,\"Yes\")*3","v":0},{"$f":"COUNTIF(Z420,\"No\")*3","v":0}]
[]
[null,null,null,null,null,null,null,"Explanation of why the district proposed or refused to take the action"]
[null,null,null,null,null,null,null,"Description of other options considered and why they were rejected "]
[null,null,null,null,null,null,null,"Description of evidence used for the proposed or refused action"]
[null,null,null,null,null,null,null,"Description of other factors that are relevant to proposal or refusal"]
[]
[null,null,null,null,null,null,"To skip back to Eligibility section click ",null,null,null,null,"HERE."]
[]
[{"$f":"HYPERLINK(\"https://gosynth.com/p/s/iwvzyu\",\"Amendment to IEP\")","v":"Amendment to IEP"},null,null,null,null,null,null,null,null,null,null,null,null,null,null,null,null,null,{"$f":"IFERROR(Z430/Y430,\"N/A\")","v":"N/A"},null,null,null,null,null,{"$f":"(X432+X434)/2","v":0},{"$f":"(Y432+Y434)/2","v":0}]
["Amendment to IEP",null,null,null,null,null,null,null,null,null,null,null,null,null,null,null,null,null,"Select","V381",null,null,null,null,{"$f":"S431","v":"Select"},{"$f":"S431","v":"Select"}]
[{"$f":"HYPERLINK(\"http://sdlegislature.gov/Rules/DisplayRule.aspx?Rule=24:05:27:08.01\",\"(24:05:27:08.01)\")","v":"(24:05:27:08.01)"},null,null,{"$f":"HYPERLINK(\"http://sdlegislature.gov/Rules/DisplayRule.aspx?Rule=24:05:27:08.02\",\"(24:05:27:08.02)\")","v":"(24:05:27:08.02)"},null,null,null,null,null,null,null,null,null,null,null,null,null,null,null,null,null,null,null,{"$f":"Y432+Z432","v":0},{"$f":"COUNTIF(Y431,\"Yes\")*3","v":0},{"$f":"COUNTIF(Z431,\"No\")*3","v":0}]
[{"$f":"HYPERLINK(\"http://sdlegislature.gov/Rules/DisplayRule.aspx?Rule=24:05:30:04\",\"Prior Notice\n(24:05:30:04)\")","v":"Prior Notice\n(24:05:30:04)"},null,null,null,null,null,"Document if the amendment was made with or without a meeting.",null,null,null,null,null,null,null,null,null,null,null,"Select",null,null,null,null,null,{"$f":"S433","v":"Select"},{"$f":"S433","v":"Select"}]
[null,null,null,null,null,null,null,null,null,null,null,null,null,null,null,null,null,null,null,null,null,null,null,{"$f":"Y434+Z434","v":0},{"$f":"COUNTIF(Y433,\"Yes\")*3","v":0},{"$f":"COUNTIF(Z433,\"No\")*3","v":0}]
[]
[{"$f":"HYPERLINK(\"https://gosynth.com/p/s/jdtswp\",\"Additional Items\")","v":"Additional Items"},null,null,null,null,null,null,null,null,null,null,null,null,null,null,null,null,null,{"$f":"IFERROR(AB436/AA436,\"N/A\")","v":"N/A"},null,null,null,null,null,{"$f":"S437","v":"Select"},{"$f":"S437","v":"Select"},{"$f":"(X437+X439+X441+X443)/4","v":0},{"$f":"(Y437+Y439+Y441+Y443)/4","v":0}]
["Parent Declined/\nWithdrew Consent for Services ",null,null,null,null,null,"Revocation signed:",null,null,null,null,null,null,{"$f":"HYPERLINK(\"http://sdlegislature.gov/Rules/DisplayRule.aspx?Rule=24:05:27:04.02\",\"(24:05:27:04.02)\")","v":"(24:05:27:04.02)"},null,null,null,null,"Select","V387",null,null,null,{"$f":"Y437+Z437","v":0},{"$f":"COUNTIF(Y436,\"Yes\")*3","v":0},{"$f":"COUNTIF(Z436,\"No\")*3","v":0}]
[null,null,null,null,null,null,"Date prior notice was sent:",null,null,null,null,null,null,null,null,null,null,null,null,null,null,null,null,null,{"$f":"S439","v":"Select"},{"$f":"S439","v":"Select"}]
["Surrogate Parent",null,null,null,null,null,null,null,null,null,null,null,null,null,null,null,null,null,"Select",null,null,null,null,{"$f":"Y439+Z439","v":0},{"$f":"COUNTIF(Y438,\"Yes\")*3","v":0},{"$f":"COUNTIF(Z438,\"No\")*3","v":0}]
["Transfer Students Provided with  FAPE/Comparable Services ",null,null,null,null,null,"Date prior notice was sent:",null,null,null,null,null,null,{"$f":"HYPERLINK(\"http://sdlegislature.gov/Rules/DisplayRule.aspx?Rule=24:05:27:15.01\",\"In-state (24:05:27:15.01)\")","v":"In-state (24:05:27:15.01)"},null,null,null,null,"Select",null,null,null,null,null,{"$f":"S440","v":"Select"},{"$f":"S440","v":"Select"}]
[null,null,null,null,null,null,null,null,null,null,null,null,null,{"$f":"HYPERLINK(\"http://sdlegislature.gov/Rules/DisplayRule.aspx?Rule=24:05:27:15.02\",\"Out-of-state (24:05:27:15.02)\")","v":"Out-of-state (24:05:27:15.02)"},null,null,null,null,null,null,null,null,null,{"$f":"Y441+Z441","v":0},{"$f":"COUNTIF(Y440,\"Yes\")*3","v":0},{"$f":"COUNTIF(Z440,\"No\")*3","v":0}]
["Transfer Students Evaluated for \nSouth Dakota Eligibility",null,null,null,null,null,"Eligibility determination date:",null,null,null,null,null,null,null,null,null,null,null,"Select",null,null,null,null,null,{"$f":"S442","v":"Select"},{"$f":"S442","v":"Select"}]
[null,null,null,null,null,null,"IEP date:",null,null,null,null,null,null,null,null,null,null,null,null,null,null,null,null,{"$f":"Y443+Z443","v":0},{"$f":"COUNTIF(Y442,\"Yes\")*3","v":0},{"$f":"COUNTIF(Z442,\"No\")*3","v":0}]
[null,null,null,null,null,null,"PPWN Implementing IEP sent:"]

{"sheet":"File 19","index":23,"n_rows":444,"n_cols":28,"rows_kept":444,"cut":false,"hidden":false,"merged":[[436,18,437,18],[437,6,437,10],[437,11,437,12],[438,6,438,17],[442,6,442,10],[442,11,442,12],[413,19,413,21],[414,6,414,11],[414,12,414,13],[414,14,418,17],[414,18,418,18],[414,19,418,21],[417,6,418,11],[419,6,419,17],[420,6,420,17],[216,14,216,16],[443,6,443,10],[443,11,443,12],[446,11,447,12],[439,6,440,10],[439,11,440,12],[439,13,439,17],[440,13,440,17],[441,6,441,10],[441,11,441,12],[441,13,443,17],[415,6,416,11],[415,12,416,13],[413,0,413,17],[422,7,422,17],[423,7,423,17],[424,7,424,17],[425,7,425,17],[426,6,426,17],[427,6,427,10],[427,11,427,17],[436,6,436,10],[436,11,436,12],[436,13,437,17],[216,6,216,7],[216,8,216,10],[205,0,206,5],[207,0,209,5],[216,11,216,13],[231,7,231,10],[209,6,209,13],[210,0,210,17],[211,0,213,5],[211,6,213,16],[214,0,215,5],[214,6,215,16],[216,0,233,5],[225,12,225,13],[225,15,225,16],[226,7,226,10],[227,6,227,10],[228,6,228,7],[228,8,228,10],[228,11,228,13],[228,14,228,16],[230,7,230,10],[230,12,230,13],[230,15,230,16],[196,0,200,5],[196,6,200,17],[196,18,200,18],[201,0,201,21],[202,0,202,17],[202,19,202,21],[203,0,204,5],[188,7,188,9],[188,10,188,12],[189,7,189,9],[189,10,189,12],[186,0,189,5],[186,7,186,9],[186,10,186,12],[192,7,192,9],[193,7,193,9],[193,10,193,12],[194,7,194,9],[190,0,190,5],[190,7,190,9],[190,10,190,12],[191,0,195,5],[191,7,191,9],[191,10,191,12],[152,12,156,15],[154,7,156,10],[145,7,146,10],[145,12,146,15],[149,18,162,18],[149,19,162,21],[150,6,150,15],[150,17,160,17],[158,12,159,15],[151,6,151,15],[152,7,153,10],[157,7,158,10],[157,12,157,15],[210,19,210,21],[211,19,215,21],[214,18,215,18],[196,19,200,21],[203,19,209,21],[205,18,206,18],[207,14,208,17],[207,18,209,18],[209,14,209,17],[211,18,213,18],[205,6,206,17],[207,6,207,10],[207,11,207,13],[208,6,208,10],[208,11,208,13],[203,6,204,17],[203,18,204,18],[190,13,190,16],[191,13,191,16],[192,13,192,16],[193,13,193,16],[194,13,194,16],[176,12,177,17],[184,13,185,16],[186,13,186,16],[184,10,185,12],[194,10,194,12],[180,6,180,17],[182,7,183,16],[187,7,187,9],[187,10,187,12],[187,13,187,16],[188,13,188,16],[192,10,192,12],[172,12,173,17],[172,18,173,18],[172,19,173,21],[177,0,177,2],[177,3,177,5],[177,6,177,8],[177,9,177,11],[178,0,178,5],[178,6,179,17],[179,0,179,2],[179,3,179,5],[176,18,177,18],[176,19,195,21],[178,18,179,18],[180,18,195,18],[176,0,176,5],[176,6,176,8],[176,9,176,11],[174,0,174,21],[175,0,175,17],[175,19,175,21],[180,0,185,5],[184,7,185,9],[189,13,189,16],[216,18,221,18],[216,19,233,21],[222,18,227,18],[228,18,233,18],[218,7,218,10],[218,12,218,13],[220,7,220,10],[221,6,221,10],[222,6,222,7],[222,8,222,10],[222,11,222,13],[222,14,222,16],[231,12,231,13],[231,15,231,16],[232,7,232,10],[233,6,233,10],[218,15,218,16],[219,7,219,10],[219,12,219,13],[219,15,219,16],[224,7,224,10],[224,12,224,13],[224,15,224,16],[225,7,225,10],[117,6,117,13],[117,14,117,17],[118,6,119,17],[120,0,120,21],[118,0,119,5],[130,18,148,18],[130,19,148,21],[133,12,134,15],[135,7,137,10],[135,12,136,15],[137,12,138,15],[138,7,141,10],[139,12,144,15],[142,7,144,10],[121,0,121,17],[121,19,121,21],[122,0,122,17],[122,18,129,18],[122,19,129,21],[123,0,129,5],[123,6,123,17],[124,6,124,17],[125,7,125,11],[126,7,126,11],[165,12,169,17],[167,7,167,11],[168,7,168,11],[110,18,112,18],[110,19,119,21],[113,18,114,18],[115,18,117,18],[118,18,119,18],[104,18,105,18],[106,18,107,18],[169,7,169,11],[162,0,162,17],[163,0,166,5],[163,6,163,17],[163,18,171,18],[163,19,171,21],[164,6,164,17],[167,0,173,5],[165,7,165,11],[166,7,166,11],[170,7,170,13],[171,7,171,11],[172,6,173,10],[172,11,173,11],[98,18,101,18],[98,19,101,21],[99,11,99,13],[106,6,107,17],[84,18,97,18],[84,19,97,21],[86,6,86,8],[86,9,86,12],[87,15,87,17],[100,11,100,13],[101,11,101,13],[102,6,103,17],[102,18,103,18],[94,13,94,14],[94,15,94,17],[95,15,95,17],[96,13,96,14],[96,15,96,17],[99,6,99,10],[100,6,100,10],[102,19,109,21],[108,18,109,18],[89,13,89,14],[89,15,89,17],[91,13,91,14],[91,15,91,17],[92,13,92,14],[92,15,92,17],[97,13,97,14],[97,15,97,17],[98,11,98,13],[98,14,101,17],[93,15,93,17],[93,13,93,14],[110,0,112,5],[110,6,110,10],[111,6,111,10],[113,0,114,5],[115,0,117,5],[115,6,115,12],[116,6,116,12],[98,0,101,5],[98,6,98,10],[101,6,101,10],[102,0,103,5],[104,0,105,5],[106,0,107,5],[108,0,109,5],[104,6,105,17],[108,6,109,17],[110,11,110,13],[110,14,111,17],[111,11,111,13],[112,6,112,13],[112,14,112,17],[113,6,114,17],[115,13,115,15],[116,13,116,15],[90,6,90,8],[90,9,90,12],[78,6,78,8],[78,9,78,12],[80,0,83,5],[80,6,80,8],[80,9,80,12],[81,9,81,12],[84,0,90,5],[83,9,83,12],[96,6,96,8],[96,9,96,12],[91,0,91,5],[91,6,91,8],[91,9,91,12],[92,0,97,5],[92,9,92,12],[93,9,93,12],[94,9,94,12],[93,6,93,8],[94,6,94,8],[92,6,92,8],[97,6,97,8],[97,9,97,12],[74,19,83,21],[76,6,76,8],[76,9,76,12],[76,13,76,14],[76,15,76,17],[77,6,77,8],[77,9,77,12],[77,13,77,14],[77,15,77,17],[82,6,82,8],[82,9,82,12],[82,13,82,14],[82,15,82,17],[83,15,83,17],[78,13,78,14],[78,15,78,17],[80,13,80,14],[80,15,80,17],[81,13,81,14],[81,15,81,17],[83,13,83,14],[74,18,83,18],[81,6,81,8],[83,6,83,8],[150,0,161,5],[159,6,160,6],[159,7,160,10],[161,6,161,15],[89,6,89,8],[89,9,89,12],[90,13,90,14],[90,15,90,17],[95,9,95,12],[147,6,147,15],[148,0,148,17],[149,0,149,17],[128,7,128,11],[128,13,128,17],[131,0,147,5],[131,6,131,15],[131,17,147,17],[132,6,132,15],[133,7,134,10],[95,6,95,8],[127,7,127,11],[127,13,127,17],[129,6,129,17],[130,0,130,17],[84,15,85,17],[84,6,85,8],[86,13,86,14],[86,15,86,17],[87,9,87,12],[87,13,87,14],[88,6,88,8],[88,9,88,12],[84,13,85,14],[88,13,88,14],[88,15,88,17],[84,9,85,12],[87,6,87,8],[125,13,125,17],[126,13,126,17],[66,15,66,17],[66,13,66,14],[67,0,67,5],[67,6,67,8],[67,9,67,12],[67,13,67,14],[67,15,67,17],[68,0,73,5],[79,0,79,5],[79,6,79,8],[79,9,79,12],[79,13,79,14],[79,15,79,17],[72,6,72,8],[72,9,72,12],[74,0,78,5],[74,6,75,8],[74,9,75,12],[74,13,75,14],[74,15,75,17],[68,13,68,14],[73,6,73,8],[60,13,61,14],[60,15,61,17],[62,13,62,14],[62,15,62,17],[63,13,63,14],[63,15,63,17],[64,13,64,14],[64,15,64,17],[65,13,65,14],[65,15,65,17],[54,0,59,5],[54,6,54,9],[54,10,54,12],[55,6,55,9],[55,10,55,12],[45,19,53,21],[54,19,59,21],[58,13,59,17],[56,6,56,9],[56,10,56,12],[57,6,57,9],[57,10,57,12],[58,6,58,9],[58,10,58,12],[59,6,59,9],[59,10,59,12],[62,9,62,12],[63,9,63,12],[64,9,64,12],[65,9,65,12],[66,9,66,12],[60,0,66,5],[60,6,61,8],[62,6,62,8],[63,6,63,8],[64,6,64,8],[65,6,65,8],[66,6,66,8],[60,9,61,12],[21,10,21,13],[21,14,21,17],[27,9,27,11],[27,12,27,17],[52,6,52,17],[53,6,53,17],[45,6,45,17],[46,6,46,17],[47,6,47,17],[48,7,48,17],[49,7,49,17],[50,7,50,17],[51,7,51,17],[39,6,40,17],[22,6,22,9],[22,10,22,13],[25,0,25,21],[26,0,26,17],[26,19,26,21],[22,14,22,17],[23,6,23,9],[23,10,23,13],[23,14,23,17],[45,0,53,5],[17,0,17,21],[18,0,18,17],[19,0,24,5],[19,9,19,11],[19,12,19,17],[20,14,20,17],[24,6,24,17],[8,3,8,6],[8,7,8,9],[9,0,9,21],[8,0,8,2],[10,0,12,5],[10,10,11,10],[10,11,11,13],[10,14,11,17],[10,18,11,18],[10,19,11,21],[18,19,18,21],[19,18,24,18],[19,19,24,21],[20,6,20,9],[20,10,20,13],[19,6,19,8],[21,6,21,9],[10,6,10,9],[11,6,11,9],[12,6,12,21],[13,0,13,21],[14,0,14,17],[14,19,14,21],[15,0,16,5],[15,18,16,18],[15,19,16,21],[15,6,16,17],[6,0,6,2],[6,10,6,13],[7,14,7,18],[8,14,8,18],[8,19,8,21],[4,14,4,18],[4,19,4,21],[5,14,5,18],[5,19,5,21],[6,14,6,18],[6,19,6,21],[7,19,7,21],[6,3,6,6],[6,7,6,9],[7,0,7,2],[7,3,7,6],[7,7,7,9],[7,10,7,13],[8,10,8,13],[3,0,3,21],[4,0,4,2],[4,3,4,6],[4,7,4,9],[4,10,4,13],[5,0,5,2],[5,3,5,6],[5,7,5,9],[5,11,5,13],[0,0,0,3],[0,4,0,5],[0,6,0,8],[0,9,0,11],[0,12,0,14],[0,15,0,17],[0,19,0,21],[1,0,2,13],[1,14,2,17],[1,18,2,18],[1,19,2,21],[73,9,73,12],[73,13,73,14],[73,15,73,17],[68,6,68,8],[68,9,68,12],[69,6,69,8],[69,9,69,12],[69,13,69,14],[69,15,69,17],[70,6,70,8],[70,9,70,12],[70,13,70,14],[70,15,70,17],[71,6,71,8],[71,9,71,12],[71,13,71,14],[71,15,71,17],[68,15,68,17],[72,13,72,14],[72,15,72,17],[41,0,42,5],[41,6,42,17],[43,6,44,17],[27,18,29,18],[27,19,29,21],[30,18,32,18],[30,19,32,21],[35,18,38,18],[35,19,44,21],[39,18,40,18],[43,0,44,5],[27,6,27,8],[28,6,29,17],[30,6,30,17],[31,8,32,17],[408,8,408,10],[408,12,408,15],[409,8,409,10],[411,0,411,16],[412,0,412,21],[27,0,29,5],[30,0,32,5],[31,6,32,7],[35,0,36,5],[35,6,35,9],[33,0,33,21],[34,0,34,17],[34,19,34,21],[35,10,35,12],[35,13,35,17],[41,18,42,18],[43,18,44,18],[45,18,53,18],[54,18,59,18],[60,18,73,18],[60,19,73,21],[36,6,38,17],[37,0,38,5],[39,0,40,5],[397,6,397,16],[398,6,398,16],[399,6,399,16],[400,6,400,16],[401,6,401,16],[402,6,403,16],[404,6,404,16],[405,6,405,16],[406,6,406,16],[391,6,391,16],[392,11,392,12],[392,14,392,16],[393,6,393,16],[394,6,394,8],[394,9,394,16],[395,6,395,16],[396,11,396,12],[396,14,396,16],[385,6,385,16],[386,6,386,8],[386,9,386,16],[387,6,387,16],[388,11,388,12],[388,14,388,16],[389,6,389,16],[390,6,390,8],[390,9,390,16],[382,17,411,17],[406,19,411,21],[419,19,427,21],[430,19,433,21],[436,19,443,21],[372,19,380,21],[377,18,380,18],[382,19,397,21],[390,18,393,18],[394,18,397,18],[398,19,405,21],[400,18,401,18],[380,0,380,17],[381,0,381,17],[381,19,381,21],[382,9,382,16],[383,6,383,16],[384,8,384,9],[388,8,388,9],[392,8,392,9],[396,8,396,9],[382,6,382,8],[384,11,384,12],[384,14,384,16],[402,18,403,18],[404,18,405,18],[398,18,399,18],[406,18,411,18],[419,18,427,18],[432,18,433,18],[439,18,440,18],[441,18,443,18],[341,18,342,18],[343,18,344,18],[354,18,358,18],[360,18,361,18],[372,18,376,18],[428,0,428,21],[429,0,429,17],[429,19,429,21],[430,18,431,18],[430,6,431,17],[431,0,431,2],[431,3,431,5],[432,6,433,17],[434,0,434,21],[435,0,435,17],[435,19,435,21],[341,19,346,21],[345,18,346,18],[353,18,353,21],[354,19,358,21],[359,18,359,21],[360,19,370,21],[362,18,363,18],[382,18,385,18],[386,18,389,18],[371,19,371,21],[439,0,440,5],[441,0,443,5],[406,0,410,5],[414,0,418,5],[419,0,427,5],[430,0,430,5],[432,0,433,5],[436,0,437,5],[438,0,438,5],[359,0,359,5],[360,0,361,5],[362,0,363,5],[364,0,366,5],[372,0,379,5],[382,0,397,5],[398,0,401,5],[402,0,403,5],[404,0,405,5],[367,0,369,5],[353,6,353,16],[354,6,354,10],[354,13,354,16],[355,13,355,16],[356,13,356,16],[341,0,346,5],[347,0,347,5],[348,0,352,5],[353,0,353,5],[354,0,358,5],[334,18,335,18],[317,18,318,18],[317,19,322,21],[319,18,320,18],[321,18,322,18],[323,18,323,21],[324,19,325,21],[326,18,326,21],[327,19,332,21],[329,18,330,18],[331,18,332,18],[327,0,332,5],[327,6,328,6],[329,6,330,6],[329,7,330,16],[331,7,331,16],[332,6,332,16],[306,18,307,18],[306,19,315,21],[308,18,309,18],[309,6,310,6],[310,18,311,18],[314,18,315,18],[319,6,320,6],[319,7,320,16],[321,6,322,6],[321,7,322,16],[324,18,325,18],[327,18,328,18],[314,0,315,5],[314,6,315,16],[316,0,316,5],[316,6,316,16],[317,0,322,5],[317,6,318,6],[317,7,318,16],[323,0,323,5],[323,6,323,16],[364,6,364,12],[364,13,364,16],[365,6,366,16],[364,18,366,18],[367,18,370,18],[375,7,375,8],[375,10,375,11],[367,6,369,16],[370,0,370,17],[371,0,371,17],[359,6,359,16],[360,6,360,12],[360,13,360,16],[361,6,361,12],[361,13,361,16],[362,6,362,12],[362,13,362,16],[363,6,363,12],[363,13,363,16],[340,0,340,5],[340,6,340,16],[376,6,376,11],[376,12,379,16],[377,6,377,11],[378,7,378,8],[379,7,379,8],[372,17,379,17],[378,10,378,11],[379,10,379,11],[373,6,373,11],[374,7,374,8],[374,10,374,11],[372,6,372,11],[372,12,375,16],[340,18,340,21],[341,7,342,16],[343,7,344,16],[345,7,345,16],[346,6,346,16],[357,13,357,16],[358,13,358,16],[350,7,350,10],[351,7,351,10],[347,6,347,16],[347,18,347,21],[348,6,348,10],[348,11,352,16],[348,18,352,18],[348,19,352,21],[349,6,349,10],[352,6,352,10],[355,6,356,10],[357,6,357,10],[357,11,357,12],[358,6,358,10],[358,11,358,12],[341,6,342,6],[343,6,344,6],[282,14,282,16],[283,14,283,16],[336,7,337,16],[338,7,338,16],[333,0,333,5],[334,0,339,5],[334,6,335,6],[334,7,335,16],[334,19,339,21],[336,6,337,6],[336,18,337,18],[338,18,339,18],[339,6,339,16],[333,18,333,21],[333,6,333,16],[324,0,325,5],[324,6,325,16],[326,0,326,5],[326,6,326,16],[327,7,328,16],[309,7,310,16],[311,7,311,16],[305,6,305,16],[306,6,307,16],[257,9,257,12],[258,6,258,8],[292,7,293,16],[281,10,281,13],[282,10,282,13],[283,10,283,13],[289,18,303,18],[289,19,303,21],[300,12,302,12],[300,13,300,16],[302,13,302,15],[283,6,283,9],[284,6,284,9],[286,6,288,11],[264,18,288,18],[264,19,288,21],[255,17,298,17],[284,14,284,16],[272,14,272,16],[273,14,273,16],[279,14,279,16],[280,14,280,16],[281,14,281,16],[285,14,285,16],[279,6,279,9],[280,6,280,9],[281,6,281,9],[282,6,282,9],[285,6,285,9],[274,6,274,9],[274,10,274,13],[277,6,277,9],[278,6,278,9],[278,10,278,13],[284,10,284,13],[285,10,285,13],[279,10,279,13],[280,10,280,13],[276,10,276,13],[276,14,276,16],[277,10,277,13],[277,14,277,16],[262,6,262,8],[262,9,262,11],[262,12,262,16],[263,6,263,8],[263,9,263,12],[263,13,263,16],[265,7,265,10],[266,6,266,16],[267,6,268,16],[269,10,271,13],[275,6,275,9],[275,10,275,13],[269,6,271,9],[272,6,272,9],[272,10,272,13],[273,6,273,9],[273,10,273,13],[254,19,254,21],[255,0,263,5],[255,9,256,16],[255,18,263,18],[255,19,263,21],[258,9,258,13],[259,6,259,8],[239,19,253,21],[245,7,248,9],[259,9,259,11],[259,12,259,16],[260,6,260,8],[260,9,260,13],[260,14,260,16],[261,6,261,8],[261,9,261,15],[241,7,241,8],[241,11,241,16],[243,6,244,10],[243,11,243,16],[244,11,244,16],[245,11,245,16],[255,6,256,8],[257,6,257,8],[289,0,302,5],[306,0,307,5],[309,0,313,5],[301,13,301,15],[301,16,302,16],[303,0,303,17],[304,0,304,17],[304,18,305,18],[304,19,305,21],[305,0,305,5],[312,7,312,16],[312,18,313,18],[313,6,313,16],[294,6,295,6],[294,7,295,16],[296,6,297,6],[296,7,297,16],[298,6,298,16],[299,6,299,16],[300,6,302,11],[289,6,289,16],[290,6,290,16],[291,7,291,16],[292,6,293,6],[234,18,238,18],[234,19,238,21],[235,6,235,16],[236,7,236,10],[236,12,236,15],[239,11,239,16],[246,11,246,16],[239,18,253,18],[253,0,253,17],[240,7,240,8],[240,11,240,16],[240,9,242,10],[242,11,242,16],[247,11,247,16],[250,11,250,16],[251,6,252,10],[251,11,251,16],[252,11,252,16],[264,0,288,5],[237,7,237,10],[238,6,238,10],[239,0,252,5],[239,6,239,10],[286,12,288,12],[286,13,286,16],[287,13,287,15],[287,16,288,16],[288,13,288,15],[248,11,248,16],[249,11,249,16],[257,13,257,16],[258,14,258,16],[265,12,265,16],[269,14,271,16],[264,6,264,16],[234,0,238,5],[234,6,234,16],[254,0,254,16],[278,14,278,16],[274,14,274,16],[275,14,275,16],[276,6,276,9]]}
[{"$f":"'Caseload Files'!B2","v":"Teacher Caseload Review"},null,null,null,{"$f":"'Caseload Files'!D29","v":"File 19"},null,"Reviewer:",null,null,{"$f":"'Caseload Files'!F29","v":"Reviewer 19"},null,null,"Staff Reviewed:",null,null,{"$f":"'Caseload Files'!I29","v":"Staff 19"},null,null,"Score","Findings/Notes"]
[{"$f":"'Caseload Files'!B2","v":"Teacher Caseload Review"},null,null,null,null,null,null,null,null,null,null,null,null,null,null,null,null,null,"Rating","Record notes\nand/or findings."]
[]
[]
["Student Name:",null,null,{"$f":"'Caseload Files'!$L$29","v":"Student 19"},null,null,null,"Date of Birth:",null,null,{"$f":"'Caseload Files'!$R$29","v":"2019-01-19"},null,null,null,"Current IEP Meeting Date:"]
["SIMS Numer:",null,null,{"$f":"'Caseload Files'!$O$29","v":190123456},null,null,null,"Age/Grade:",null,null,{"$f":"INT(YEARFRAC(K5,TODAY()))","v":2},"/Sophomore",null,null,"Previous IEP Meeting Date:"]
["School District:",null,null,{"$f":"'Caseload Files'!B3","v":"District 00-0"},null,null,null,"Disability Code:",null,null,{"$f":"'Caseload Files'!$W$29","v":"DisCode 19"},null,null,null,"Current Eligibility Determination Date:"]
["School Name:",null,null,{"$f":"'Caseload Files'!E6","v":"School Name"},null,null,null,"Race/Ethnicity:",null,null,{"$f":"'Caseload Files'!T29","v":"Race 19"},null,null,null,"Previous Eligibility Determination Date:"]
["School Year:",null,null,{"$f":"'Caseload Files'!E7","v":"1998-1999"},null,null,null,"Type of Review:",null,null,{"$f":"'Caseload Files'!Z29","v":"Type 19"},null,null,null,"Date of Review:"]
[]
[{"$f":"HYPERLINK(\"http://sdlegislature.gov/Rules/DisplayRule.aspx?Rule=24:05\",\"Subsection Title and \nCorresponding ARSD Links \")","v":"Subsection Title and \nCorresponding ARSD Links "},null,null,null,null,null,"Yellow boxes are prompts",null,null,null,null,"Use checkboxes to help record findings.",null,null,"Voided space and/or clarifying information.",null,null,null,"\"N/A\" may be appropriate for certain sections.","Findings/Notes"]
[null,null,null,null,null,null,"for information."]
[]
[]
[{"$f":"HYPERLINK(\"https://gosynth.com/p/s/aboqwv\",\"Record of Access\")","v":"Record of Access"},null,null,null,null,null,null,null,null,null,null,null,null,null,null,null,null,null,{"$f":"IFERROR(Y17/X17,\"N/A\")","v":"N/A"},"Findings/Notes"]
[{"$f":"HYPERLINK(\"http://sdlegislature.gov/Rules/DisplayRule.aspx?Rule=24:05:29:15\",\"Record of Access\n(24:05:29:15)\")","v":"Record of Access\n(24:05:29:15)"},null,null,null,null,null,null,null,null,null,null,null,null,null,null,null,null,null,"Select","V16",null,null,null,null,{"$f":"S16","v":"Select"},{"$f":"S16","v":"Select"}]
[null,null,null,null,null,null,null,null,null,null,null,null,null,null,null,null,null,null,null,null,null,null,null,{"$f":"Y17+Z17","v":0},{"$f":"COUNTIF(Y16,\"Yes\")*3","v":0},{"$f":"COUNTIF(Z16,\"No\")*3","v":0}]
[]
[{"$f":"HYPERLINK(\"https://gosynth.com/p/s/grdmsy\",\"Referral\")","v":"Referral"},null,null,null,null,null,null,null,null,null,null,null,null,null,null,null,null,null,{"$f":"IFERROR(Y21/X21,\"N/A\")","v":"N/A"}]
[{"$f":"HYPERLINK(\"http://sdlegislature.gov/Rules/DisplayRule.aspx?Rule=24:05:24:01\",\"Referral Document\n(initial only)\n(24:05:24:01)\")","v":"Referral Document\n(initial only)\n(24:05:24:01)"},null,null,null,null,null,"Date of referral:",null,null,null,null,null,"The top two spaces are available to type in.",null,null,null,null,null,"Select","V20",null,null,null,null,{"$f":"S20","v":"Select"},{"$f":"S20","v":"Select"}]
[null,null,null,null,null,null,"List all areas of referral:",null,null,null,null,null,null,null,null,null,null,null,null,null,null,null,null,{"$f":"Y21+Z21","v":0},{"$f":"COUNTIF(Y20,\"Yes\")*3","v":0},{"$f":"COUNTIF(Z20,\"No\")*3","v":0}]
[]
[]
[]
[null,null,null,null,null,null,"If referral can not be found and is older than three years, N/A is appropriate."]
[]
[{"$f":"HYPERLINK(\"https://gosynth.com/p/s/lihblf\",\"Initial Placement\")","v":"Initial Placement"},null,null,null,null,null,null,null,null,null,null,null,null,null,null,null,null,null,{"$f":"IFERROR(Y33/X33,\"N/A\")","v":"N/A"}]
[{"$f":"HYPERLINK(\"http://sdlegislature.gov/rules/DisplayRule.aspx?Rule=24:05:27:04.01\",\"Consent Signed for Initial Placement \ninto Special Education\n(24:05:27:04.01)\")","v":"Consent Signed for Initial Placement \ninto Special Education\n(24:05:27:04.01)"},null,null,null,null,null,"Date Signed:",null,null,null,null,null,null,null,null,null,null,null,"Select","V28",null,null,null,null,{"$f":"S28","v":"Select"},{"$f":"S28","v":"Select"}]
[null,null,null,null,null,null,"(The Consent Signed for Initial Placement into Special Education form is a separate document.  In the past, it may have been found at the end of the IEP.",null,null,null,null,null,null,null,null,null,null,null,null,null,null,null,null,{"$f":"Y29+Z29","v":0},{"$f":"COUNTIF(Y28,\"Yes\")*3","v":0},{"$f":"COUNTIF(Z28,\"No\")*3","v":0}]
[]
[{"$f":"HYPERLINK(\"https://sdlegislature.gov/Rules/DisplayRule.aspx?Rule=24:05:25:04.02\",\"Determination of Needed \nEvaluation Data\n(24:05:25:04.02)\")","v":"Determination of Needed \nEvaluation Data\n(24:05:25:04.02)"},null,null,null,null,null,"Did the team review existing data before completing the PPWN Consent?",null,null,null,null,null,null,null,null,null,null,null,"Select","V31",null,null,null,null,{"$f":"S31","v":"Select"},{"$f":"S31","v":"Select"}]
[null,null,null,null,null,null,"Select",null,"The existing data includes evaluations and information provided by the parents, current classroom-based local or state assessments, and observations by teachers and related services providers.",null,null,null,null,null,null,null,null,null,null,null,null,null,null,{"$f":"Y32+Z32","v":0},{"$f":"COUNTIF(Y31,\"Yes\")*3","v":0},{"$f":"COUNTIF(Z31,\"No\")*3","v":0}]
[null,null,null,null,null,null,null,null,null,null,null,null,null,null,null,null,null,null,null,null,null,null,null,{"$f":"(X32+X29)/2","v":0},{"$f":"(Y32+Y29)/2","v":0}]
[]
[{"$f":"HYPERLINK(\"https://gosynth.com/p/s/qxevgy\",\"Evaluation\")","v":"Evaluation"},null,null,null,null,null,null,null,null,null,null,null,null,null,null,null,null,null,{"$f":"IFERROR(Y38/X38,\"N/A\")","v":"N/A"},{"$f":"IFERROR(Y58/X58,\"N/A\")","v":"N/A"}]
[{"$f":"HYPERLINK(\"http://sdlegislature.gov/rules/DisplayRule.aspx?Rule=24:05:25:02.01\",\"Initial Evaluation \n(24:05:25:02.01)\")","v":"Initial Evaluation \n(24:05:25:02.01)"},null,null,null,null,null,"PPWN Consent was Sent:",null,null,null,null,null,null,"Use the most recent evaluation. ",null,null,null,null,"Select","V36",null,null,null,null,{"$f":"S36","v":"Select"},{"$f":"S36","v":"Select"}]
[null,null,null,null,null,null,{"$f":"HYPERLINK(\"https://gosynth.com/p/s/qxevgy\",\"Consent was acquired for initial evaluation. \n\nIf consent was not given by the parent for reevaluation, evidence of  attempts were made to elicit parent.\")","v":"Consent was acquired for initial evaluation. \n\nIf consent was not given by the parent for reevaluation, evidence of  attempts were made to elicit parent."},null,null,null,null,null,null,null,null,null,null,null,null,null,null,null,null,{"$f":"Y37+Z37","v":0},{"$f":"COUNTIF(Y36,\"Yes\")*3","v":0},{"$f":"COUNTIF(Z36,\"No\")*3","v":0}]
[{"$f":"HYPERLINK(\"http://sdlegislature.gov/Rules/DisplayRule.aspx?Rule=24:05:25:06.01\",\"Reevaluation\n(24:05:25:06.01)\")","v":"Reevaluation\n(24:05:25:06.01)"},null,null,null,null,null,null,null,null,null,null,null,null,null,null,null,null,null,null,null,null,null,null,{"$f":"(X37+X41+X43+X45+X47+X56+X62+X76+X86+X100+X104+X106+X108+X110+X112+X115+X117+X120)/18","v":0},{"$f":"(Y37+Y41+Y43+Y45+Y47+Y56+Y62+Y76+Y86+Y100+Y104+Y106+Y108+Y110+Y112+Y115+Y117+Y120)/18","v":0}]
[]
[{"$f":"HYPERLINK(\"http://sdlegislature.gov/Rules/DisplayRule.aspx?Rule=24:05:25:16\",\"Parent Input into Evalaution\n(24:05:25:16)\")","v":"Parent Input into Evalaution\n(24:05:25:16)"},null,null,null,null,null,{"$f":"HYPERLINK(\"https://gosynth.com/p/s/ycomsx\",\"Parent input must be documented in the PPWN Consent on input exiting data and \nupcoming evaluation.   (refer to phone logs, progress notes, prior notice)\")","v":"Parent input must be documented in the PPWN Consent on input exiting data and \nupcoming evaluation.   (refer to phone logs, progress notes, prior notice)"},null,null,null,null,null,null,null,null,null,null,null,"Select",null,null,null,null,null,{"$f":"S40","v":"Select"},{"$f":"S40","v":"Select"}]
[null,null,null,null,null,null,null,null,null,null,null,null,null,null,null,null,null,null,null,null,null,null,null,{"$f":"Y41+Z41","v":0},{"$f":"COUNTIF(Y40,\"Yes\")*3","v":0},{"$f":"COUNTIF(Z40,\"No\")*3","v":0}]
[{"$f":"HYPERLINK(\"http://sdlegislature.gov/Rules/DisplayRule.aspx?Rule=24:05:30:06.01\",\"Procedural Safeguards\n(24:05:30:06.01)\")","v":"Procedural Safeguards\n(24:05:30:06.01)"},null,null,null,null,null,{"$f":"HYPERLINK(\"https://gosynth.com/p/s/tdkmfj\",\"[INCLUDE LANGUAGE FOR THIS SECTION]\")","v":"[INCLUDE LANGUAGE FOR THIS SECTION]"},null,null,null,null,null,null,null,null,null,null,null,"Select",null,null,null,null,null,{"$f":"S42","v":"Select"},{"$f":"S42","v":"Select"}]
[null,null,null,null,null,null,null,null,null,null,null,null,null,null,null,null,null,null,null,null,null,null,null,{"$f":"Y43+Z43","v":0},{"$f":"COUNTIF(Y42,\"Yes\")*3","v":0},{"$f":"COUNTIF(Z42,\"No\")*3","v":0}]
[{"$f":"HYPERLINK(\"http://sdlegislature.gov/Rules/DisplayRule.aspx?Rule=24:05:25:03\",\"Extension on 25 Day Timeline\n(24:05:25:03)\")","v":"Extension on 25 Day Timeline\n(24:05:25:03)"},null,null,null,null,null,{"$f":"HYPERLINK(\"https://gosynth.com/p/s/wcheia\",\"Documented agreement with parent and district on new extension date.  \nEligibility and IEP developed 30 days after the agreed extension date.\")","v":"Documented agreement with parent and district on new extension date.  \nEligibility and IEP developed 30 days after the agreed extension date."},null,null,null,null,null,null,null,null,null,null,null,"Select",null,null,null,null,null,{"$f":"S44","v":"Select"},{"$f":"S44","v":"Select"}]
[null,null,null,null,null,null,null,null,null,null,null,null,null,null,null,null,null,null,null,null,null,null,null,{"$f":"Y45+Z45","v":0},{"$f":"COUNTIF(Y44,\"Yes\")*3","v":0},{"$f":"COUNTIF(Z44,\"No\")*3","v":0}]
[{"$f":"HYPERLINK(\"http://sdlegislature.gov/Rules/DisplayRule.aspx?Rule=24:05:30:05\",\"Content of Prior Written Notice/\nConsent for Evaluation\n (24:05:30:05)\")","v":"Content of Prior Written Notice/\nConsent for Evaluation\n (24:05:30:05)"},null,null,null,null,null,{"$f":"HYPERLINK(\"https://gosynth.com/p/s/xymlpn\",\"Check the following:\")","v":"Check the following:"},null,null,null,null,null,null,null,null,null,null,null,"Select","V46",null,null,null,null,{"$f":"S46","v":"Select"},{"$f":"S46","v":"Select"}]
[null,null,null,null,null,null,"PPWN must be individualized to the student, IEP team discussions and situation.",null,null,null,null,null,null,null,null,null,null,null,null,null,null,null,null,{"$f":"Y47+Z47","v":0},{"$f":"COUNTIF(Y46,\"Yes\")*3","v":0},{"$f":"COUNTIF(Z46,\"No\")*3","v":0}]
[]
[null,null,null,null,null,null,null,"Explanation of why the district proposed or refused to take the action"]
[null,null,null,null,null,null,null,"Description of other options considered and why they were rejected "]
[null,null,null,null,null,null,null,"Description of evidence used for the proposed or refused action"]
[null,null,null,null,null,null,null,"Description of other factors that are relevant to proposal or refusal"]
[]
[null,null,null,null,null,null,"All components should be completed and have a clear description."]
[{"$f":"HYPERLINK(\"http://sdlegislature.gov/Rules/DisplayRule.aspx?Rule=24:05:30:05\",\"Timeline of Prior Written Notice/\nConsent for Evaluation\n(24:05:25:03)\")","v":"Timeline of Prior Written Notice/\nConsent for Evaluation\n(24:05:25:03)"},null,null,null,null,null,{"$f":"HYPERLINK(\"https://gosynth.com/p/s/xylthm\",\"Date sent:\")","v":"Date sent:"},null,null,null,"2020-01-18",null,null,null,null,null,null,null,"Select","V54",null,null,null,null,{"$f":"S55","v":"Select"},{"$f":"S55","v":"Select"}]
[null,null,null,null,null,null,"Date signed:",null,null,null,"2020-01-19",null,null,null,null,null,null,null,null,null,null,null,null,{"$f":"Y56+Z56","v":0},{"$f":"COUNTIF(Y55,\"Yes\")*3","v":0},{"$f":"COUNTIF(Z55,\"No\")*3","v":0}]
[null,null,null,null,null,null,"Date received:",null,null,null,"2020-01-20"]
[null,null,null,null,null,null,"25 school days:",null,null,null,{"$f":"WORKDAY(K57,25)","v":"2020-02-24"}]
[null,null,null,null,null,null,"30 calendar days:"]
[null,null,null,null,null,null,"Extension on 25 day:"]
[{"$f":"HYPERLINK(\"http://sdlegislature.gov/Rules/DisplayRule.aspx?Rule=24:05:25:04.02\",\"Evaluations to be Completed by the District per Parental Prior Written/Consent for Evaluation\n(24:05:25:04.02)\")","v":"Evaluations to be Completed by the District per Parental Prior Written/Consent for Evaluation\n(24:05:25:04.02)"},null,null,null,null,null,{"$f":"HYPERLINK(\"https://gosynth.com/p/s/zgdeev\",\"List areas:\")","v":"List areas:"},null,null,"Test administered:",null,null,null,"Test date:",null,"Evaluator:",null,null,"Select","V60",null,null,null,null,{"$f":"S61","v":"Select"},{"$f":"S61","v":"Select"}]
[null,null,null,null,null,null,null,null,null,null,null,null,null,null,null,null,null,null,null,null,null,null,null,{"$f":"Y62+Z62","v":0},{"$f":"COUNTIF(Y61,\"Yes\")*3","v":0},{"$f":"COUNTIF(Z61,\"No\")*3","v":0}]
[]
[]
[]
[]
[]
["For more evaluations requested click the [+]"]
[]
[]
[]
[]
[]
[]
[{"$f":"HYPERLINK(\"http://sdlegislature.gov/Rules/DisplayRule.aspx?Rule=24:05:25:04.02\",\"Existing Evaluation Data\nto be Pulled Forward\n(24:05:25:04.02)\")","v":"Existing Evaluation Data\nto be Pulled Forward\n(24:05:25:04.02)"},null,null,null,null,null,{"$f":"HYPERLINK(\"https://gosynth.com/p/s/pfohnr\",\"List areas:\")","v":"List areas:"},null,null,"Test administered:",null,null,null,"Test date:",null,"Evaluator:",null,null,"Select","V74",null,null,null,null,{"$f":"S75","v":"Select"},{"$f":"S75","v":"Select"}]
[null,null,null,null,null,null,null,null,null,null,null,null,null,null,null,null,null,null,null,null,null,null,null,{"$f":"Y76+Z76","v":0},{"$f":"COUNTIF(Y75,\"Yes\")*3","v":0},{"$f":"COUNTIF(Z75,\"No\")*3","v":0}]
[]
[]
[]
["For more existing data requested click the [+]"]
[]
[]
[]
[]
[{"$f":"HYPERLINK(\"http://sdlegislature.gov/Rules/DisplayRule.aspx?Rule=24:05:25:04.02\",\"Skills Based Assessment and Report\n(24:05:25:04.02)\")","v":"Skills Based Assessment and Report\n(24:05:25:04.02)"},null,null,null,null,null,{"$f":"HYPERLINK(\"https://gosynth.com/p/s/tbqnts\",\"List areas:\")","v":"List areas:"},null,null,"Test administered:",null,null,null,"Test date:",null,"Evaluator:",null,null,"Select","V84",null,null,null,null,{"$f":"S85","v":"Select"},{"$f":"S85","v":"Select"}]
[null,null,null,null,null,null,null,null,null,null,null,null,null,null,null,null,null,null,null,null,null,null,null,{"$f":"Y86+Z86","v":0},{"$f":"COUNTIF(Y85,\"Yes\")*3","v":0},{"$f":"COUNTIF(Z85,\"No\")*3","v":0}]
[]
[null,null,null,null,null,null,null,null,null,null,null,null,null,null,null,null,null,null,null,null,null,null,null,{"$f":"(X86+X100+X104+X106+X108+X110+X112+X115+X117+X120)/10","v":0},{"$f":"(Y86+Y100+Y104+Y106+Y108+Y110+Y112+Y115+Y117+Y120)/10","v":0}]
[]
[]
[]
["For more skills based requested click the [+]"]
[]
[]
[]
[]
[]
[]
[{"$f":"HYPERLINK(\"http://sdlegislature.gov/Rules/DisplayRule.aspx?Rule=24:05:25:03\",\"Consent Received\n(24:05:25:03)\")","v":"Consent Received\n(24:05:25:03)"},null,null,null,null,null,{"$f":"HYPERLINK(\"https://gosynth.com/p/s/ctcnlr\",\"Consent received date:\")","v":"Consent received date:"},null,null,null,null,{"$f":"K57","v":"2020-01-20"},null,null,"Mark \"No\" if dates are outside of \"consent received\" and/or \"25 school days\".",null,null,null,"Select","V98",null,null,null,null,{"$f":"S99","v":"Select"},{"$f":"S99","v":"Select"}]
[null,null,null,null,null,null,"Earliest testing date:",null,null,null,null,{"$f":"MIN(N63:O74,N87:O98)","v":"00:00:00"},null,null,null,null,null,null,null,null,null,null,null,{"$f":"Y100+Z100","v":0},{"$f":"COUNTIF(Y99,\"Yes\")*3","v":0},{"$f":"COUNTIF(Z99,\"No\")*3","v":0}]
[null,null,null,null,null,null,"Latest testing date:",null,null,null,null,{"$f":"MAX(N63:O74,N87:O98)","v":"00:00:00"}]
[null,null,null,null,null,null,"Within 25 School Days:",null,null,null,null,{"$f":"IF(ISBLANK(K60),K58,K60)","v":"2020-02-24"}]
[{"$f":"HYPERLINK(\"http://sdlegislature.gov/Rules/DisplayRule.aspx?Rule=24:05:25:20\",\"All Evaluations Administered \n(24:05:25:20)\")","v":"All Evaluations Administered \n(24:05:25:20)"},null,null,null,null,null,{"$f":"HYPERLINK(\"https://gosynth.com/p/s/mkcdef\",\"All evaluations marked on the PWWN/Consent for Evaluation form must be administered.\")","v":"All evaluations marked on the PWWN/Consent for Evaluation form must be administered."},null,null,null,null,null,null,null,null,null,null,null,"Select","V102",null,null,null,null,{"$f":"S103","v":"Select"},{"$f":"S103","v":"Select"}]
[null,null,null,null,null,null,null,null,null,null,null,null,null,null,null,null,null,null,null,null,null,null,null,{"$f":"Y104+Z104","v":0},{"$f":"COUNTIF(Y103,\"Yes\")*3","v":0},{"$f":"COUNTIF(Z103,\"No\")*3","v":0}]
[{"$f":"HYPERLINK(\"http://sdlegislature.gov/Rules/DisplayRule.aspx?Rule=24:05:25:06.01\",\"Consent was Acquired\n(24:05:25:06.01)\")","v":"Consent was Acquired\n(24:05:25:06.01)"},null,null,null,null,null,{"$f":"HYPERLINK(\"https://gosynth.com/p/s/mkcdef\",\"All evaluations administered must be requested on the PWWN/Consent for Evaluation \nform.\")","v":"All evaluations administered must be requested on the PWWN/Consent for Evaluation \nform."},null,null,null,null,null,null,null,null,null,null,null,"Select",null,null,null,null,null,{"$f":"S105","v":"Select"},{"$f":"S105","v":"Select"}]
[null,null,null,null,null,null,null,null,null,null,null,null,null,null,null,null,null,null,null,null,null,null,null,{"$f":"Y106+Z106","v":0},{"$f":"COUNTIF(Y105,\"Yes\")*3","v":0},{"$f":"COUNTIF(Z105,\"No\")*3","v":0}]
[{"$f":"HYPERLINK(\"http://sdlegislature.gov/Rules/DisplayRule.aspx?Rule=24:05:25:04\",\"Variety of Sources \n(24:05:25:04)\")","v":"Variety of Sources \n(24:05:25:04)"},null,null,null,null,null,{"$f":"HYPERLINK(\"https://gosynth.com/p/s/mkcdef\",\"Appropritate means to provide evaluations for accurate data were used. \")","v":"Appropritate means to provide evaluations for accurate data were used. "},null,null,null,null,null,null,null,null,null,null,null,"Select",null,null,null,null,null,{"$f":"S107","v":"Select"},{"$f":"S107","v":"Select"}]
[null,null,null,null,null,null,null,null,null,null,null,null,null,null,null,null,null,null,null,null,null,null,null,{"$f":"Y108+Z108","v":0},{"$f":"COUNTIF(Y107,\"Yes\")*3","v":0},{"$f":"COUNTIF(Z107,\"No\")*3","v":0}]
[{"$f":"HYPERLINK(\"http://sdlegislature.gov/Rules/DisplayRule.aspx?Rule=24:05:25:04\",\"Met Requirements for the Disability\n(24:05:25:04) \")","v":"Met Requirements for the Disability\n(24:05:25:04) "},null,null,null,null,null,{"$f":"HYPERLINK(\"https://gosynth.com/p/s/mkcdef\",\"Comprehensive Evaluations in all areas required for the disability. \")","v":"Comprehensive Evaluations in all areas required for the disability. "},null,null,null,null,null,null,null,null,null,null,null,"Select",null,null,null,null,null,{"$f":"S109","v":"Select"},{"$f":"S109","v":"Select"}]
[null,null,null,null,null,null,null,null,null,null,null,null,null,null,null,null,null,null,null,null,null,null,null,{"$f":"Y110+Z110","v":0},{"$f":"COUNTIF(Y109,\"Yes\")*3","v":0},{"$f":"COUNTIF(Z109,\"No\")*3","v":0}]
[{"$f":"HYPERLINK(\"http://sdlegislature.gov/Rules/DisplayRule.aspx?Rule=24:05:25:03\",\"Eligibility within 30 Calendar Days \n(24:05:25:03)\")","v":"Eligibility within 30 Calendar Days \n(24:05:25:03)"},null,null,null,null,null,{"$f":"HYPERLINK(\"https://gosynth.com/p/s/mkcdef\",\"Day 26 was on:\")","v":"Day 26 was on:"},null,null,null,null,{"$f":"WORKDAY(L102,1)","v":"2020-02-25"},null,null,null,null,null,null,"Select","V110",null,null,null,null,{"$f":"S111","v":"Select"},{"$f":"S111","v":"Select"}]
[null,null,null,null,null,null,"Eligibility Determination Date:",null,null,null,null,{"$f":"T7","v":"00:00:00"},null,null,null,null,null,null,null,null,null,null,null,{"$f":"Y112+Z112","v":0},{"$f":"COUNTIF(Y111,\"Yes\")*3","v":0},{"$f":"COUNTIF(Z111,\"No\")*3","v":0}]
[null,null,null,null,null,null,"Eligibility meeting date should have been by:",null,null,null,null,null,null,null,{"$f":"K59","v":"00:00:00"}]
[{"$f":"HYPERLINK(\"http://sdlegislature.gov/Rules/DisplayRule.aspx?Rule=24:05:25:04.03\",\"Student Eligible for Special Education \n(24:05:25:04.03)\")","v":"Student Eligible for Special Education \n(24:05:25:04.03)"},null,null,null,null,null,null,null,null,null,null,null,null,null,null,null,null,null,"Select",null,null,null,null,null,{"$f":"S114","v":"Select"},{"$f":"S114","v":"Select"}]
[null,null,null,null,null,null,null,null,null,null,null,null,null,null,null,null,null,null,null,null,null,null,null,{"$f":"Y115+Z115","v":0},{"$f":"COUNTIF(Y114,\"Yes\")*3","v":0},{"$f":"COUNTIF(Z114,\"No\")*3","v":0}]
[{"$f":"HYPERLINK(\"http://sdlegislature.gov/Rules/DisplayRule.aspx?Rule=24:05:25:06\",\"Three Year Re-Evaluation\n(24:05:25:06)\")","v":"Three Year Re-Evaluation\n(24:05:25:06)"},null,null,null,null,null,{"$f":"HYPERLINK(\"https://gosynth.com/p/s/mkcdef\",\"Current Eligibility Determination Date:\")","v":"Current Eligibility Determination Date:"},null,null,null,null,null,null,{"$f":"L112","v":"00:00:00"},null,null,null,null,"Select",null,null,null,null,null,{"$f":"S116","v":"Select"},{"$f":"S116","v":"Select"}]
[null,null,null,null,null,null,"Previous Eligibility Determination Date:",null,null,null,null,null,null,{"$f":"T8","v":"00:00:00"},null,null,null,null,null,null,null,null,null,{"$f":"Y117+Z117","v":0},{"$f":"COUNTIF(Y116,\"Yes\")*3","v":0},{"$f":"COUNTIF(Z116,\"No\")*3","v":0}]
[]
[{"$f":"HYPERLINK(\"https://gosynth.com/p/s/mkcdef\",\"Evaluated to Dismiss from Services  \")","v":"Evaluated to Dismiss from Services  "},null,null,null,null,null,null,null,null,null,null,null,null,null,null,null,null,null,"Select",null,null,null,null,null,{"$f":"S119","v":"Select"},{"$f":"S119","v":"Select"}]
[null,null,null,null,null,null,null,null,null,null,null,null,null,null,null,null,null,null,null,null,null,null,null,{"$f":"Y120+Z120","v":0},{"$f":"COUNTIF(Y119,\"Yes\")*3","v":0},{"$f":"COUNTIF(Z119,\"No\")*3","v":0}]
[]
[{"$f":"HYPERLINK(\"https://gosynth.com/p/s/giwoma\",\"Eligibility Document for Specific Learning Disability\")","v":"Eligibility Document for Specific Learning Disability"},null,null,null,null,null,null,null,null,null,null,null,null,null,null,null,null,null,{"$f":"IFERROR(Y126/X126,\"N/A\")","v":"N/A"}]
["If student is not eligible for Specific Learning Disability, skip this section.  Click on the [+] button if section is not visible. ",null,null,null,null,null,null,null,null,null,null,null,null,null,null,null,null,null,"Select","V122",null,null,null,null,{"$f":"S123","v":"Select"},{"$f":"S123","v":"Select"}]
[{"$f":"HYPERLINK(\"http://sdlegislature.gov/Rules/DisplayRule.aspx?Rule=24:05:24.01:19\",\"Specific Learning Disabilities\n(24:05:24.01:19)\")","v":"Specific Learning Disabilities\n(24:05:24.01:19)"},null,null,null,null,null,"Check the following:",null,null,null,null,null,null,null,null,null,null,null,null,null,null,null,null,{"$f":"Y124+Z124","v":0},{"$f":"COUNTIF(Y123,\"Yes\")*3","v":0},{"$f":"COUNTIF(Z123,\"No\")*3","v":0}]
[]
[null,null,null,null,null,null,null,"Reading Comprehension",null,null,null,null,null,"Math Calculation",null,null,null,null,null,null,null,null,null,{"$f":"(X124+X132+X151+X165+X174)/5","v":0},{"$f":"(Y124+Y132+Y151+Y165+Y174)/5","v":0}]
[null,null,null,null,null,null,null,"Basic Reading Skills",null,null,null,null,null,"Math Problem Solving"]
[null,null,null,null,null,null,null,"Reading Fluency",null,null,null,null,null,"Listening Comprehension"]
[null,null,null,null,null,null,null,"Written Expression",null,null,null,null,null,"Oral Expression"]
[]
["For Initial Determination of Eligibility Only",null,null,null,null,null,null,null,null,null,null,null,null,null,null,null,null,null,"Select","V130",null,null,null,null,{"$f":"S131","v":"Select"},{"$f":"S131","v":"Select"}]
[{"$f":"HYPERLINK(\"http://sdlegislature.gov/Rules/DisplayRule.aspx?Rule=24:05:24.01:19\",\"Initial Eligibility\n(24:05:24.01:19)\")","v":"Initial Eligibility\n(24:05:24.01:19)"},null,null,null,null,null,"Written report must include:",null,null,null,null,null,null,null,null,null,null,null,null,null,null,null,null,{"$f":"Y132+Z132","v":0},{"$f":"COUNTIF(Y131,\"Yes\")*3","v":0},{"$f":"COUNTIF(Z131,\"No\")*3","v":0}]
[]
[null,null,null,null,null,null,null,"Student achieves adequately",null,null,null,null,"Lack of appropriate instruction"]
[]
[null,null,null,null,null,null,null,"Student exhibits pattern of strengths & weaknesses",null,null,null,null,"Observation of the student"]
[]
[null,null,null,null,null,null,null,null,null,null,null,null,"Relevant medical findings (if any)"]
[null,null,null,null,null,null,null,"Student was provided appropriate instruction in regular education settings by qualified personnel"]
[null,null,null,null,null,null,null,null,null,null,null,null,"Achievement level problem is/is not primarily the result of another factor (e.g. emotional disturbance, cognitive impairment, etc.)"]
[]
[]
[null,null,null,null,null,null,null,"Repeated assessment of achievement reflecting student progress"]
[]
[]
[null,null,null,null,null,null,null,"Attendance record",null,null,null,null,"Adverse effect on educational performance"]
[]
[]
["Click on the [+] button to expand or the [-] button to collapse."]
["For Reevaluation of Eligibility Only",null,null,null,null,null,null,null,null,null,null,null,null,null,null,null,null,null,"Select","V149",null,null,null,null,{"$f":"S150","v":"Select"},{"$f":"S150","v":"Select"}]
[{"$f":"HYPERLINK(\"http://sdlegislature.gov/Rules/DisplayRule.aspx?Rule=24:05:24.01:19\",\"Reevaluation of Eligibility\n(24:05:24.01:19)\")","v":"Reevaluation of Eligibility\n(24:05:24.01:19)"},null,null,null,null,null,"Written report must include:",null,null,null,null,null,null,null,null,null,null,null,null,null,null,null,null,{"$f":"Y151+Z151","v":0},{"$f":"COUNTIF(Y150,\"Yes\")*3","v":0},{"$f":"COUNTIF(Z150,\"No\")*3","v":0}]
[]
[null,null,null,null,null,null,null,"Student achieves adequately",null,null,null,null,"Achievement level problem is/is not primarily the result of another factor (e.g. emotional disturbance, cognitive impairment, etc.)"]
[]
[null,null,null,null,null,null,null,"Student exhibits pattern of strengths & weaknesses"]
[]
[]
[null,null,null,null,null,null,null,"Observation of the student"]
[null,null,null,null,null,null,null,null,null,null,null,null,"Adverse effect on educational performance"]
[null,null,null,null,null,null,null,"Relevant medical findings (if any)"]
[]
[]
["Click on the [+] button to expand or the [-] button to collapse."]
[{"$f":"HYPERLINK(\"http://sdlegislature.gov/Rules/DisplayRule.aspx?Rule=24:05:25:08\",\"Team Member Signatures \n(24:05:25:08)\")","v":"Team Member Signatures \n(24:05:25:08)"},null,null,null,null,null,"Check the following:",null,null,null,null,null,null,null,null,null,null,null,"Select","V163",null,null,null,null,{"$f":"S164","v":"Select"},{"$f":"S164","v":"Select"}]
[null,null,null,null,null,null,null,null,null,null,null,null,null,null,null,null,null,null,null,null,null,null,null,{"$f":"Y165+Z165","v":0},{"$f":"COUNTIF(Y164,\"Yes\")*3","v":0},{"$f":"COUNTIF(Z164,\"No\")*3","v":0}]
[null,null,null,null,null,null,null,"Parent",null,null,null,null,"Each group member shall certify in writing whether the report reflects the group member's conclusion. If it does not reflect the group member's conclusion, the group member must submit the conclusion in a separate statement."]
[null,null,null,null,null,null,null,"General Education Teacher"]
[{"$f":"HYPERLINK(\"http://sdlegislature.gov/Rules/DisplayRule.aspx?Rule=24:05:25:13\",\"Group Members to Certify \nReport in Writing \n(24:05:25:13)\")","v":"Group Members to Certify \nReport in Writing \n(24:05:25:13)"},null,null,null,null,null,null,"Special Education Teacher"]
[null,null,null,null,null,null,null,"Qualified interpreter of results"]
[null,null,null,null,null,null,null,"LEA Representative"]
[null,null,null,null,null,null,null,"If disagreed, written input was provided"]
[]
[null,null,null,null,null,null,"Check PWWN for eligibility decisions.                         ",null,null,null,null,"Skip to","PPWN.",null,null,null,null,null,"Select",null,null,null,null,null,{"$f":"S173","v":"Select"},{"$f":"S173","v":"Select"}]
[null,null,null,null,null,null,null,null,null,null,null,null,null,null,null,null,null,null,null,null,null,null,null,{"$f":"Y174+Z174","v":0},{"$f":"COUNTIF(Y173,\"Yes\")*3","v":0},{"$f":"COUNTIF(Z173,\"No\")*3","v":0}]
[]
[{"$f":"HYPERLINK(\"https://gosynth.com/p/s/mzphio\",\"Meeting Notice\")","v":"Meeting Notice"},null,null,null,null,null,null,null,null,null,null,null,null,null,null,null,null,null,{"$f":"IFERROR(Y184/X184,\"N/A\")","v":"N/A"}]
["Meeting Notice",null,null,null,null,null,"Date sent:",null,null,null,null,null,"From this point on use the current IEP's documentation.",null,null,null,null,null,"Select","V174",null,null,null,null,{"$f":"S177","v":"Select"},{"$f":"S177","v":"Select"}]
[{"$f":"HYPERLINK(\"http://sdlegislature.gov/Rules/DisplayRule.aspx?Rule=24:05:30:02.01\",\"(24:05:30:02.01)\")","v":"(24:05:30:02.01)"},null,null,{"$f":"HYPERLINK(\"http://sdlegislature.gov/Rules/DisplayRule.aspx?Rule=24:05:25:16\",\"(24:05:25:16)\")","v":"(24:05:25:16)"},null,null,"Meeting date:",null,null,{"$f":"T5","v":"00:00:00"},null,null,null,null,null,null,null,null,null,null,null,null,null,{"$f":"Y178+Z178","v":0},{"$f":"COUNTIF(Y177,\"Yes\")*3","v":0},{"$f":"COUNTIF(Z177,\"No\")*3","v":0}]
["Procedural Safeguards",null,null,null,null,null,"Must be given to parents annually.",null,null,null,null,null,null,null,null,null,null,null,"Select",null,null,null,null,null,{"$f":"S179","v":"Select"},{"$f":"S179","v":"Select"}]
[{"$f":"HYPERLINK(\"http://sdlegislature.gov/Rules/DisplayRule.aspx?Rule=24:05:30:06.01\",\"(24:05:30:06.01)\")","v":"(24:05:30:06.01)"},null,null,{"$f":"HYPERLINK(\"http://sdlegislature.gov/Rules/DisplayRule.aspx?Rule=24:05:30:06.02\",\"(24:05:30:06.02)\")","v":"(24:05:30:06.02)"},null,null,null,null,null,null,null,null,null,null,null,null,null,null,null,null,null,null,null,{"$f":"Y180+Z180","v":0},{"$f":"COUNTIF(Y179,\"Yes\")*3","v":0},{"$f":"COUNTIF(Z179,\"No\")*3","v":0}]
["IEP Team",null,null,null,null,null,"Complete the following:",null,null,null,null,null,null,null,null,null,null,null,"Select",null,null,null,null,null,{"$f":"S181","v":"Select"},{"$f":"S181","v":"Select"}]
[null,null,null,null,null,null,null,null,null,null,null,null,null,null,null,null,null,null,null,null,null,null,null,{"$f":"Y182+Z182","v":0},{"$f":"COUNTIF(Y181,\"Yes\")*3","v":0},{"$f":"COUNTIF(Z181,\"No\")*3","v":0}]
[null,null,null,null,null,null,null,"The documentation of people attending the IEP meeting on front page of the IEP does not imply agreement, it is for participation purposes only."]
[null,null,null,null,null,null,null,null,null,null,null,null,null,null,null,null,null,null,null,null,null,null,null,{"$f":"(X178+X180+X182+X198)/4","v":0},{"$f":"(Y178+Y180+Y182+Y198)/4","v":0}]
[null,null,null,null,null,null,null,"Identified on the meeting notice:",null,null,"Attended the meeting:",null,null,"Did not attend\nthe meeting:"]
[]
[{"$f":"HYPERLINK(\"http://sdlegislature.gov/Rules/DisplayRule.aspx?Rule=24:05:25:16\",\"(24:05:25:16)\")","v":"(24:05:25:16)"},null,null,null,null,null,null,"Parent/Guardian"]
[null,null,null,null,null,null,null,"Student"]
[null,null,null,null,null,null,null,"Gen. Ed. Teacher"]
[null,null,null,null,null,null,null,"Sp. Ed. Teacher"]
["Parent Participation",null,null,null,null,null,null,"Eval Interpreter"]
[{"$f":"HYPERLINK(\"http://sdlegislature.gov/Rules/DisplayRule.aspx?Rule=24:05:25:16\",\"(24:05:25:16)\")","v":"(24:05:25:16)"},null,null,null,null,null,null,"LEA Representative"]
[null,null,null,null,null,null,null,"List Others"]
[null,null,null,null,null,null,null,"List Others"]
[null,null,null,null,null,null,null,"List Others"]
[]
["IEP Team Attendance \n (24:05:27:01.05)",null,null,null,null,null,"A member of the IEP team may be excused from attending, in whole or in part, an IEP team meeting that involves a modification to or discussion of the member's area of the curriculum or related services, if:\n   (1) The parent and school district consent in writing to the excusal; and\n   (2) The member submits, in writing to the parent and the IEP team, input into the development of the IEP before the meeting.",null,null,null,null,null,null,null,null,null,null,null,"Select","V194",null,null,null,null,{"$f":"S197","v":"Select"},{"$f":"S197","v":"Select"}]
[null,null,null,null,null,null,null,null,null,null,null,null,null,null,null,null,null,null,null,null,null,null,null,{"$f":"Y198+Z198","v":0},{"$f":"COUNTIF(Y197,\"Yes\")*3","v":0},{"$f":"COUNTIF(Z197,\"No\")*3","v":0}]
[]
[]
[]
[]
[{"$f":"HYPERLINK(\"https://gosynth.com/p/s/jshfqs\",\"          Individual Education Plan (Use the most recent IEP.)\n\")","v":"          Individual Education Plan (Use the most recent IEP.)\n"},null,null,null,null,null,null,null,null,null,null,null,null,null,null,null,null,null,{"$f":"IFERROR(Y210/X210,\"N/A\")","v":"N/A"}]
[{"$f":"HYPERLINK(\"http://sdlegislature.gov/Rules/DisplayRule.aspx?Rule=24:05:25:04.03\",\"Evaluation Reports Given to Parents \n(24:05:25:04.03)\")","v":"Evaluation Reports Given to Parents \n(24:05:25:04.03)"},null,null,null,null,null,"Evidence the parent received a copy of the reports (e.g.  initials on the front page IEP or other evidence). ",null,null,null,null,null,null,null,null,null,null,null,"Select","V201",null,null,null,null,{"$f":"S204","v":"Select"},{"$f":"S204","v":"Select"}]
[null,null,null,null,null,null,null,null,null,null,null,null,null,null,null,null,null,null,null,null,null,null,null,{"$f":"Y205+Z205","v":0},{"$f":"COUNTIF(Y204,\"Yes\")*3","v":0},{"$f":"COUNTIF(Z204,\"No\")*3","v":0}]
[{"$f":"HYPERLINK(\"http://sdlegislature.gov/Rules/DisplayRule.aspx?Rule=24:05:25:19\",\"Copy of IEP Given to Parents \n(24:05:25:19)\")","v":"Copy of IEP Given to Parents \n(24:05:25:19)"},null,null,null,null,null,"Evidence copy of the IEP was given to parents (e.g.  initials on the front page, addressed in PPWN, or other evidence).",null,null,null,null,null,null,null,null,null,null,null,"Select",null,null,null,null,null,{"$f":"S206","v":"Select"},{"$f":"S206","v":"Select"}]
[null,null,null,null,null,null,null,null,null,null,null,null,null,null,null,null,null,null,null,null,null,null,null,{"$f":"Y207+Z207","v":0},{"$f":"COUNTIF(Y206,\"Yes\")*3","v":0},{"$f":"COUNTIF(Z206,\"No\")*3","v":0}]
[{"$f":"HYPERLINK(\"http://sdlegislature.gov/Rules/DisplayRule.aspx?Rule=24:05:27:08\",\"Met Annually\n(24:05:27:08)\")","v":"Met Annually\n(24:05:27:08)"},null,null,null,null,null,"Current IEP Meeting Date:",null,null,null,null,{"$f":"T5","v":"00:00:00"},null,null,null,null,null,null,"Select",null,null,null,null,null,{"$f":"S208","v":"Select"},{"$f":"S208","v":"Select"}]
[null,null,null,null,null,null,"Previous IEP Meeting Date:",null,null,null,null,{"$f":"T6","v":"00:00:00"},null,null,null,null,null,null,null,null,null,null,null,{"$f":"Y209+Z209","v":0},{"$f":"COUNTIF(Y208,\"Yes\")*3","v":0},{"$f":"COUNTIF(Z208,\"No\")*3","v":0}]
[null,null,null,null,null,null,null,null,null,null,null,null,null,null,null,null,null,null,null,null,null,null,null,{"$f":"(X205+X207+X209)/3","v":0},{"$f":"(Y205+Y207+Y209)/3","v":0}]
[{"$f":"HYPERLINK(\"https://gosynth.com/p/s/eypdgf\",\"Present Levels of Academic Achievement & Functional Performance\")","v":"Present Levels of Academic Achievement & Functional Performance"},null,null,null,null,null,null,null,null,null,null,null,null,null,null,null,null,null,{"$f":"IFERROR(Y243/X243,\"N/A\")","v":"N/A"}]
[{"$f":"HYPERLINK(\"http://sdlegislature.gov/Rules/DisplayRule.aspx?Rule=24:05:27:01.03\",\"Progress/Involvement in \nGeneral Education Curriculum\n(24:05:27:01.03)\")","v":"Progress/Involvement in \nGeneral Education Curriculum\n(24:05:27:01.03)"},null,null,null,null,null,"A statement of the student's present levels of academic achievement and functional performance, including:\n   (a)  How the student's disability affects the student's involvement and progress in the general education curriculum (i.e., the same curriculum as for nondisabled students); or\n   (b)  For preschool student, as appropriate, how the disability affects the student's participation in appropriate activities;\nis found in the document.",null,null,null,null,null,null,null,null,null,null,null,"Select","V209",null,null,null,null,{"$f":"S212","v":"Select"},{"$f":"S212","v":"Select"}]
[null,null,null,null,null,null,null,null,null,null,null,null,null,null,null,null,null,null,null,null,null,null,null,{"$f":"Y213+Z213","v":0},{"$f":"COUNTIF(Y212,\"Yes\")*3","v":0},{"$f":"COUNTIF(Z212,\"No\")*3","v":0}]
[]
[{"$f":"HYPERLINK(\"https://sdlegislature.gov/Rules/DisplayRule.aspx?Rule=24:05:25:16\",\"Parent Participation\n(24:05:25:16)\")","v":"Parent Participation\n(24:05:25:16)"},null,null,null,null,null,"The purpose of this area for parent to provide IEP team information about how the child’s disability is impacted at home. Parents can also provide input on types of strategies and supports they provide at home.",null,null,null,null,null,null,null,null,null,null,null,"Select",null,null,null,null,null,{"$f":"S215","v":"Select"},{"$f":"S215","v":"Select"}]
[null,null,null,null,null,null,null,null,null,null,null,null,null,null,null,null,null,null,null,null,null,null,null,{"$f":"Y216+Z216","v":0},{"$f":"COUNTIF(Y215,\"Yes\")*3","v":0},{"$f":"COUNTIF(Z215,\"No\")*3","v":0}]
[{"$f":"HYPERLINK(\"http://sdlegislature.gov/Rules/DisplayRule.aspx?Rule=24:05:27:01.03\",\"Present Levels of \nAcademic Achievement \n& Functional Performance\nLinked to Annual Goals\n(24:05:27:01.03)\")","v":"Present Levels of \nAcademic Achievement \n& Functional Performance\nLinked to Annual Goals\n(24:05:27:01.03)"},null,null,null,null,null,"Skill Area:",null,null,null,null,"Measuarable Goal:",null,null,null,null,null,null,"Select","V214",null,null,null,null,{"$f":"S217","v":"Select"},{"$f":"S217","v":"Select"}]
[null,null,null,null,null,null,null,null,null,null,null,null,null,null,null,null,null,null,null,null,null,null,null,{"$f":"Y218+Z218","v":0},{"$f":"COUNTIF(Y217,\"Yes\")*3","v":0},{"$f":"COUNTIF(Z217,\"No\")*3","v":0}]
[null,null,null,null,null,null,null,"Strengths",null,null,null,null,"Condition",null,null,"How well"]
[null,null,null,null,null,null,null,"Needs",null,null,null,null,"Performance",null,null,"How often"]
[null,null,null,null,null,null,null,"Link to evaluation"]
[]
[null,null,null,null,null,null,"Skill Area:",null,null,null,null,"Measuarable Goal:",null,null,null,null,null,null,"Select",null,null,null,null,null,{"$f":"S223","v":"Select"},{"$f":"S223","v":"Select"}]
[null,null,null,null,null,null,null,null,null,null,null,null,null,null,null,null,null,null,null,null,null,null,null,{"$f":"Y224+Z224","v":0},{"$f":"COUNTIF(Y223,\"Yes\")*3","v":0},{"$f":"COUNTIF(Z223,\"No\")*3","v":0}]
[null,null,null,null,null,null,null,"Strengths",null,null,null,null,"Condition",null,null,"How well"]
[null,null,null,null,null,null,null,"Needs",null,null,null,null,"Performance",null,null,"How often"]
[null,null,null,null,null,null,null,"Link to evaluation"]
[]
[null,null,null,null,null,null,"Skill Area:",null,null,null,null,"Measuarable Goal:",null,null,null,null,null,null,"Select",null,null,null,null,null,{"$f":"S229","v":"Select"},{"$f":"S229","v":"Select"}]
[null,null,null,null,null,null,null,null,null,null,null,null,null,null,null,null,null,null,null,null,null,null,null,{"$f":"Y230+Z230","v":0},{"$f":"COUNTIF(Y229,\"Yes\")*3","v":0},{"$f":"COUNTIF(Z229,\"No\")*3","v":0}]
[null,null,null,null,null,null,null,"Strengths",null,null,null,null,"Condition",null,null,"How well"]
[null,null,null,null,null,null,null,"Needs",null,null,null,null,"Performance",null,null,"How often"]
[null,null,null,null,null,null,null,"Link to evaluation"]
[]
[{"$f":"HYPERLINK(\"http://sdlegislature.gov/Rules/DisplayRule.aspx?Rule=24:05:27:01.03\",\"How Progress will be Measured\n(24:05:27:01.03)\")","v":"How Progress will be Measured\n(24:05:27:01.03)"},null,null,null,null,null,{"$f":"HYPERLINK(\"https://gosynth.com/p/s/psaxcx\",\"         Check the following:\")","v":"         Check the following:"},null,null,null,null,null,null,null,null,null,null,null,"Select","V232",null,null,null,null,{"$f":"S235","v":"Select"},{"$f":"S235","v":"Select"}]
[null,null,null,null,null,null,null,null,null,null,null,null,null,null,null,null,null,null,null,null,null,null,null,{"$f":"Y236+Z236","v":0},{"$f":"COUNTIF(Y235,\"Yes\")*3","v":0},{"$f":"COUNTIF(Z235,\"No\")*3","v":0}]
[null,null,null,null,null,null,null,"Reporting frequency",null,null,null,null,"Extent of progress"]
[null,null,null,null,null,null,null,"Reporting method"]
[]
[{"$f":"HYPERLINK(\"http://sdlegislature.gov/Rules/DisplayRule.aspx?Rule=24:05:27:01.03\",\"Accommodations/Modifications\n(24:05:27:01.03)\")","v":"Accommodations/Modifications\n(24:05:27:01.03)"},null,null,null,null,null,{"$f":"HYPERLINK(\"https://gosynth.com/p/s/rtpvrq\",\"         Check the following:\")","v":"         Check the following:"},null,null,null,null,"List Instructional Accommodations:",null,null,null,null,null,null,"Select","V237",null,null,null,null,{"$f":"S240","v":"Select"},{"$f":"S240","v":"Select"}]
[null,null,null,null,null,null,null,"Frequency",null,null,null,null,null,null,null,null,null,null,null,null,null,null,null,{"$f":"Y241+Z241","v":0},{"$f":"COUNTIF(Y240,\"Yes\")*3","v":0},{"$f":"COUNTIF(Z240,\"No\")*3","v":0}]
[null,null,null,null,null,null,null,"Duration"]
[null,null,null,null,null,null,null,"Location",null,null,null,null,null,null,null,null,null,null,null,null,null,null,null,{"$f":"(X241+X236+X230+X224+X218+X216+X213)/7","v":0},{"$f":"(Y241+Y236+Y230+Y224+Y218+Y216+Y213)/7","v":0}]
[]
[]
[null,null,null,null,null,null,null,"Are the accommodations appropriate for the skill areas affected by the diability?"]
[]
[]
[]
[null,null,null,null,null,null,null,null,"Yes"]
[null,null,null,null,null,null,null,null,"No"]
[]
[]
[]
[{"$f":"HYPERLINK(\"https://gosynth.com/p/s/ygpazf\",\"Special Factors\")","v":"Special Factors"},null,null,null,null,null,null,null,null,null,null,null,null,null,null,null,null,null,{"$f":"IFERROR(Y294/X294,\"N/A\")","v":"N/A"}]
[{"$f":"HYPERLINK(\"http://sdlegislature.gov/Rules/DisplayRule.aspx?Rule=24:05:27:01.02\",\"Considerations\n(24:05:27:01.02)\")","v":"Considerations\n(24:05:27:01.02)"},null,null,null,null,null,"Select for each:",null,null,"Determine if data supports the selection for each special factor; if not addressed, check \"N\"  for score.",null,null,null,null,null,null,null,null,"Select","V243",null,null,null,null,{"$f":"S256","v":"Select"},{"$f":"S256","v":"Select"}]
[null,null,null,null,null,null,null,null,null,null,null,null,null,null,null,null,null,null,null,null,null,null,null,{"$f":"Y257+Z257","v":0},{"$f":"COUNTIF(Y256,\"Yes\")*3","v":0},{"$f":"COUNTIF(Z256,\"No\")*3","v":0}]
[null,null,null,null,null,null,null,null,null,"Limited English proficient"]
[null,null,null,null,null,null,null,null,null,"Special communication needs"]
[null,null,null,null,null,null,null,null,null,"Requires Braille"]
[null,null,null,null,null,null,null,null,null,"Behavior impedes learning"]
[null,null,null,null,null,null,null,null,null,"Requires assistive technology & services"]
[null,null,null,null,null,null,null,null,null,"Physical education"]
[null,null,null,null,null,null,null,null,null,"Hearing aid maintenance"]
[{"$f":"HYPERLINK(\"http://sdlegislature.gov/Rules/DisplayRule.aspx?Rule=24:05:27:01.03\",\"State/District Assessments\n(24:05:27:01.03)\")","v":"State/District Assessments\n(24:05:27:01.03)"},null,null,null,null,null,{"$f":"HYPERLINK(\"https://gosynth.com/p/s/jdbbir\",\"             Students will be taking state and district-wide assessments:\")","v":"             Students will be taking state and district-wide assessments:"},null,null,null,null,null,null,null,null,null,null,null,"Select","V263",null,null,null,null,{"$f":"S265","v":"Select"},{"$f":"S265","v":"Select"}]
[null,null,null,null,null,null,null,"With accommodations",null,null,null,null,"Without accommodations",null,null,null,null,null,null,null,null,null,null,{"$f":"Y266+Z266","v":0},{"$f":"COUNTIF(Y265,\"Yes\")*3","v":0},{"$f":"COUNTIF(Z265,\"No\")*3","v":0}]
[null,null,null,null,null,null,"Testing accommodations must reflect instructional accommodations."]
[null,null,null,null,null,null,"Do the accommodations for the state/district assesment(s) \nmatch the instructional accommodations?"]
[]
[null,null,null,null,null,null,"Instructional \nAccommodations",null,null,null,"State/District\nAssessment\nAccommodations",null,null,null,"Select\nyes or no:"]
[]
[]
[null,null,null,null,null,null,{"$f":"L241","v":0},null,null,null,null,null,null,null,"- Select -"]
[null,null,null,null,null,null,0,null,null,null,null,null,null,null,"- Select -"]
[null,null,null,null,null,null,0,null,null,null,null,null,null,null,"- Select -"]
[null,null,null,null,null,null,0,null,null,null,null,null,null,null,"- Select -"]
[null,null,null,null,null,null,0]
[null,null,null,null,null,null,0,null,null,null,null,null,null,null,"- Select -"]
[null,null,null,null,null,null,0,null,null,null,null,null,null,null,"- Select -"]
[null,null,null,null,null,null,0]
[null,null,null,null,null,null,0]
[null,null,null,null,null,null,0,null,null,null,null,null,null,null,"- Select -"]
[null,null,null,null,null,null,0,null,null,null,null,null,null,null,"- Select -"]
[null,null,null,null,null,null,0,null,null,null,null,null,null,null,"- Select -"]
[null,null,null,null,null,null,0,null,null,null,null,null,null,null,"- Select -"]
[null,null,null,null,null,null,0,null,null,null,null,null,null,null,"- Select -"]
[null,null,null,null,null,null,"Were the accommodations for\n the state assessment identified \non the IEP provided according to \nthe assessment data sheet?"]
[null,null,null,null,null,null,null,null,null,null,null,null,null,"- Select -"]
[]
[{"$f":"HYPERLINK(\"http://sdlegislature.gov/Rules/DisplayRule.aspx?Rule=24:05:27:01.03\",\"Alternate Assessments\n(24:05:27:01.03)\")","v":"Alternate Assessments\n(24:05:27:01.03)"},null,null,null,null,null,{"$f":"HYPERLINK(\"https://gosynth.com/p/s/bjlejx\",\"                  The following must be met:\")","v":"                  The following must be met:"},null,null,null,null,null,null,null,null,null,null,null,"Select","V257",null,null,null,null,{"$f":"S290","v":"Select"},{"$f":"S290","v":"Select"}]
[null,null,null,null,null,null,null,null,null,null,null,null,null,null,null,null,null,null,null,null,null,null,null,{"$f":"Y291+Z291","v":0},{"$f":"COUNTIF(Y290,\"Yes\")*3","v":0},{"$f":"COUNTIF(Z290,\"No\")*3","v":0}]
[null,null,null,null,null,null,null,"Student meets the significant cognitive disability criteria"]
[null,null,null,null,null,null,null,"Explanation for why student cannot participate in the regular assessment"]
[null,null,null,null,null,null,null,null,null,null,null,null,null,null,null,null,null,null,null,null,null,null,null,{"$f":"(X291+X266+X257)/3","v":0},{"$f":"(Y291+Y266+Y257)/3","v":0}]
[null,null,null,null,null,null,null,"Explanation for why the alternate assessment selected is appropriate"]
[]
[null,null,null,null,null,null,null,"The alternate assessment is for students working in the alternate achievement standards.  Annual goals and short term objectives are required.                                                                         \n                                                                        "]
[]
[]
[null,null,null,null,null,null,"Does the PPWN explain why IEP team decided alternate assessment for the student?"]
[null,null,null,null,null,null,"Does the student taking the\n alternate assessment meet\n the criteria, has it been \ndocumented on the IEP?"]
[null,null,null,null,null,null,null,null,null,null,null,null,null,"- Select -"]
[]
[]
[{"$f":"HYPERLINK(\"https://gosynth.com/p/s/itwkve\",\"Transition\")","v":"Transition"},null,null,null,null,null,null,null,null,null,null,null,null,null,null,null,null,null,{"$f":"IFERROR(Y306/X306,\"N/A\")","v":"N/A"}]
["Indicator 13 Item 1",null,null,null,null,null,null,null,null,null,null,null,null,null,null,null,null,null,null,null,null,null,null,{"$f":"(X308+X310+X312+X314+X316+X319+X321+X323+X326+X329+X331+X333+X336+X338+X340+X343+X345+X347+X350+X356+X362+X364+X366+X369)/24","v":0},{"$f":"(Y308+Y310+Y312+Y314+Y316+Y319+Y321+Y323+Y326+Y329+Y331+Y333+Y336+Y338+Y340+Y343+Y345+Y347+Y350+Y356+Y362+Y364+Y366+Y369)/24","v":0}]
[{"$f":"HYPERLINK(\"http://sdlegislature.gov/Rules/DisplayRule.aspx?Rule=24:05:27:01.03\",\"Transition IEP*\n(24:05:27:01.03)\")","v":"Transition IEP*\n(24:05:27:01.03)"},null,null,null,null,null,{"$f":"HYPERLINK(\"https://gosynth.com/p/s/itwkve\",\"Transition IEP must be in effect for all students on their 16 birthday or for younger students if it is addressed in the IEP.   \n*This is not on the Indicator 13 checklist, but it is a compliance requirement. \")","v":"Transition IEP must be in effect for all students on their 16 birthday or for younger students if it is addressed in the IEP.   \n*This is not on the Indicator 13 checklist, but it is a compliance requirement. "},null,null,null,null,null,null,null,null,null,null,null,"Select","V269",null,null,null,null,{"$f":"S307","v":"Select"},{"$f":"S307","v":"Select"}]
[null,null,null,null,null,null,null,null,null,null,null,null,null,null,null,null,null,null,null,null,null,null,null,{"$f":"Y308+Z308","v":0},{"$f":"COUNTIF(Y307,\"Yes\")*3","v":0},{"$f":"COUNTIF(Z307,\"No\")*3","v":0}]
[null,null,null,null,null,null,null,null,null,null,null,null,null,null,null,null,null,null,"Select",null,null,null,null,null,{"$f":"S309","v":"Select"},{"$f":"S309","v":"Select"}]
[{"$f":"HYPERLINK(\"http://sdlegislature.gov/Rules/DisplayRule.aspx?Rule=24:05:27:01.03\",\"Transition Assessments\n(24:05:27:01.03)\")","v":"Transition Assessments\n(24:05:27:01.03)"},null,null,null,null,null,null,"Employment",null,null,null,null,null,null,null,null,null,null,null,null,null,null,null,{"$f":"Y310+Z310","v":0},{"$f":"COUNTIF(Y309,\"Yes\")*3","v":0},{"$f":"COUNTIF(Z309,\"No\")*3","v":0}]
[null,null,null,null,null,null,null,null,null,null,null,null,null,null,null,null,null,null,"Select",null,null,null,null,null,{"$f":"S311","v":"Select"},{"$f":"S311","v":"Select"}]
[null,null,null,null,null,null,null,"Education/Training",null,null,null,null,null,null,null,null,null,null,null,null,null,null,null,{"$f":"Y312+Z312","v":0},{"$f":"COUNTIF(Y311,\"Yes\")*3","v":0},{"$f":"COUNTIF(Z311,\"No\")*3","v":0}]
[null,null,null,null,null,null,null,"Independent Living",null,null,null,null,null,null,null,null,null,null,"Select",null,null,null,null,null,{"$f":"S313","v":"Select"},{"$f":"S313","v":"Select"}]
[null,null,null,null,null,null,{"$f":"HYPERLINK(\"https://gosynth.com/p/s/itwkve\",\"The transition assessment must be completed prior to the age of 16 and updated annually.  Evidence of transition strengths/ needs are document on the PLAAFPs.  \")","v":"The transition assessment must be completed prior to the age of 16 and updated annually.  Evidence of transition strengths/ needs are document on the PLAAFPs.  "},null,null,null,null,null,null,null,null,null,null,null,null,null,null,null,null,{"$f":"Y314+Z314","v":0},{"$f":"COUNTIF(Y313,\"Yes\")*3","v":0},{"$f":"COUNTIF(Z313,\"No\")*3","v":0}]
["Transition Evaluation Report*\n",null,null,null,null,null,{"$f":"HYPERLINK(\"https://gosynth.com/p/s/itwkve\",\"A transition evaluation report is located in the file.\n\n*This is not on the Indicator 13 checklist, but it is a compliance requirement. \")","v":"A transition evaluation report is located in the file.\n\n*This is not on the Indicator 13 checklist, but it is a compliance requirement. "},null,null,null,null,null,null,null,null,null,null,null,"Select",null,null,null,null,null,{"$f":"S315","v":"Select"},{"$f":"S315","v":"Select"}]
[null,null,null,null,null,null,null,null,null,null,null,null,null,null,null,null,null,null,null,null,null,null,null,{"$f":"Y316+Z316","v":0},{"$f":"COUNTIF(Y315,\"Yes\")*3","v":0},{"$f":"COUNTIF(Z315,\"No\")*3","v":0}]
[{"$f":"HYPERLINK(\"https://gosynth.com/p/s/itwkve\",\"Indicator 13 Item 2\")","v":"Indicator 13 Item 2"}]
[{"$f":"HYPERLINK(\"http://sdlegislature.gov/Rules/DisplayRule.aspx?Rule=24:05:27:01.03\",\"Age-Appropriate Measurable \nPost-Secondary Goals \n(24:05:27:01.03)\")","v":"Age-Appropriate Measurable \nPost-Secondary Goals \n(24:05:27:01.03)"},null,null,null,null,null,null,"Employment",null,null,null,null,null,null,null,null,null,null,"Select","V278",null,null,null,null,{"$f":"S318","v":"Select"},{"$f":"S318","v":"Select"}]
[null,null,null,null,null,null,null,null,null,null,null,null,null,null,null,null,null,null,null,null,null,null,null,{"$f":"Y319+Z319","v":0},{"$f":"COUNTIF(Y318,\"Yes\")*3","v":0},{"$f":"COUNTIF(Z318,\"No\")*3","v":0}]
[null,null,null,null,null,null,null,"Education/Training",null,null,null,null,null,null,null,null,null,null,"Select",null,null,null,null,null,{"$f":"S320","v":"Select"},{"$f":"S320","v":"Select"}]
[null,null,null,null,null,null,null,null,null,null,null,null,null,null,null,null,null,null,null,null,null,null,null,{"$f":"Y321+Z321","v":0},{"$f":"COUNTIF(Y320,\"Yes\")*3","v":0},{"$f":"COUNTIF(Z320,\"No\")*3","v":0}]
[null,null,null,null,null,null,null,"Independent Living",null,null,null,null,null,null,null,null,null,null,"Select",null,null,null,null,null,{"$f":"S322","v":"Select"},{"$f":"S322","v":"Select"}]
[null,null,null,null,null,null,null,null,null,null,null,null,null,null,null,null,null,null,null,null,null,null,null,{"$f":"Y323+Z323","v":0},{"$f":"COUNTIF(Y322,\"Yes\")*3","v":0},{"$f":"COUNTIF(Z322,\"No\")*3","v":0}]
[{"$f":"HYPERLINK(\"https://gosynth.com/p/s/itwkve\",\"Indicator 13 Item 3\")","v":"Indicator 13 Item 3"}]
["MPSGs Updated Annually",null,null,null,null,null,null,null,null,null,null,null,null,null,null,null,null,null,"Select","V282",null,null,null,null,{"$f":"S325","v":"Select"},{"$f":"S325","v":"Select"}]
[null,null,null,null,null,null,null,null,null,null,null,null,null,null,null,null,null,null,null,null,null,null,null,{"$f":"Y326+Z326","v":0},{"$f":"COUNTIF(Y325,\"Yes\")*3","v":0},{"$f":"COUNTIF(Z325,\"No\")*3","v":0}]
["Indicator 13 Item 4"]
[{"$f":"HYPERLINK(\"http://sdlegislature.gov/Rules/DisplayRule.aspx?Rule=24:05:27:01.03\",\"Course of Study Aligns to \nPost-Secondary Goals\n(24:05:27:01.03)\")","v":"Course of Study Aligns to \nPost-Secondary Goals\n(24:05:27:01.03)"},null,null,null,null,null,null,"Employment",null,null,null,null,null,null,null,null,null,null,"Select","V285",null,null,null,null,{"$f":"S328","v":"Select"},{"$f":"S328","v":"Select"}]
[null,null,null,null,null,null,null,null,null,null,null,null,null,null,null,null,null,null,null,null,null,null,null,{"$f":"Y329+Z329","v":0},{"$f":"COUNTIF(Y328,\"Yes\")*3","v":0},{"$f":"COUNTIF(Z328,\"No\")*3","v":0}]
[null,null,null,null,null,null,null,"Education/Training",null,null,null,null,null,null,null,null,null,null,"Select",null,null,null,null,null,{"$f":"S330","v":"Select"},{"$f":"S330","v":"Select"}]
[null,null,null,null,null,null,null,null,null,null,null,null,null,null,null,null,null,null,null,null,null,null,null,{"$f":"Y331+Z331","v":0},{"$f":"COUNTIF(Y330,\"Yes\")*3","v":0},{"$f":"COUNTIF(Z330,\"No\")*3","v":0}]
[null,null,null,null,null,null,null,"Independent Living",null,null,null,null,null,null,null,null,null,null,"Select",null,null,null,null,null,{"$f":"S332","v":"Select"},{"$f":"S332","v":"Select"}]
[null,null,null,null,null,null,"Completed by age 16, or younger if transition has been addressed in the IEP, and updated annually through graduation or ‘age out’.",null,null,null,null,null,null,null,null,null,null,null,null,null,null,null,null,{"$f":"Y333+Z333","v":0},{"$f":"COUNTIF(Y332,\"Yes\")*3","v":0},{"$f":"COUNTIF(Z332,\"No\")*3","v":0}]
[{"$f":"HYPERLINK(\"https://gosynth.com/p/s/itwkve\",\"Indicator 13 Item 5\")","v":"Indicator 13 Item 5"}]
[{"$f":"HYPERLINK(\"http://sdlegislature.gov/Rules/DisplayRule.aspx?Rule=24:05:27:13.02\",\"Transition Services/Activities\n(24:05:27:13.02)\")","v":"Transition Services/Activities\n(24:05:27:13.02)"},null,null,null,null,null,null,"Employment",null,null,null,null,null,null,null,null,null,null,"Select","V290",null,null,null,null,{"$f":"S335","v":"Select"},{"$f":"S335","v":"Select"}]
[null,null,null,null,null,null,null,null,null,null,null,null,null,null,null,null,null,null,null,null,null,null,null,{"$f":"Y336+Z336","v":0},{"$f":"COUNTIF(Y335,\"Yes\")*3","v":0},{"$f":"COUNTIF(Z335,\"No\")*3","v":0}]
[null,null,null,null,null,null,null,"Education/Training",null,null,null,null,null,null,null,null,null,null,"Select",null,null,null,null,null,{"$f":"S337","v":"Select"},{"$f":"S337","v":"Select"}]
[null,null,null,null,null,null,null,null,null,null,null,null,null,null,null,null,null,null,null,null,null,null,null,{"$f":"Y338+Z338","v":0},{"$f":"COUNTIF(Y337,\"Yes\")*3","v":0},{"$f":"COUNTIF(Z337,\"No\")*3","v":0}]
[null,null,null,null,null,null,null,"Independent Living",null,null,null,null,null,null,null,null,null,null,"Select",null,null,null,null,null,{"$f":"S339","v":"Select"},{"$f":"S339","v":"Select"}]
[null,null,null,null,null,null,"Services/activities will reasonably enable the student to meet post-secondary goals and have at least one activity per MPSG addressed.",null,null,null,null,null,null,null,null,null,null,null,null,null,null,null,null,{"$f":"Y340+Z340","v":0},{"$f":"COUNTIF(Y339,\"Yes\")*3","v":0},{"$f":"COUNTIF(Z339,\"No\")*3","v":0}]
[{"$f":"HYPERLINK(\"https://gosynth.com/p/s/itwkve\",\"Indicator 13 Item 6\")","v":"Indicator 13 Item 6"}]
[{"$f":"HYPERLINK(\"http://sdlegislature.gov/Rules/DisplayRule.aspx?Rule=24:05:27:13.02\",\"Annual Goal Related to Student’s Transition Service needs in\n(24:05:27:13.02)\")","v":"Annual Goal Related to Student’s Transition Service needs in\n(24:05:27:13.02)"},null,null,null,null,null,null,"Employment",null,null,null,null,null,null,null,null,null,null,"Select","V295",null,null,null,null,{"$f":"S342","v":"Select"},{"$f":"S342","v":"Select"}]
[null,null,null,null,null,null,null,null,null,null,null,null,null,null,null,null,null,null,null,null,null,null,null,{"$f":"Y343+Z343","v":0},{"$f":"COUNTIF(Y342,\"Yes\")*3","v":0},{"$f":"COUNTIF(Z342,\"No\")*3","v":0}]
[null,null,null,null,null,null,null,"Education/Training",null,null,null,null,null,null,null,null,null,null,"Select",null,null,null,null,null,{"$f":"S344","v":"Select"},{"$f":"S344","v":"Select"}]
[null,null,null,null,null,null,null,null,null,null,null,null,null,null,null,null,null,null,null,null,null,null,null,{"$f":"Y345+Z345","v":0},{"$f":"COUNTIF(Y344,\"Yes\")*3","v":0},{"$f":"COUNTIF(Z344,\"No\")*3","v":0}]
[null,null,null,null,null,null,null,"Independent Living",null,null,null,null,null,null,null,null,null,null,"Select",null,null,null,null,null,{"$f":"S346","v":"Select"},{"$f":"S346","v":"Select"}]
[null,null,null,null,null,null,{"$f":"HYPERLINK(\"https://gosynth.com/p/s/itwkve\",\"Annual goals are linked to the MPSGs.\")","v":"Annual goals are linked to the MPSGs."},null,null,null,null,null,null,null,null,null,null,null,null,null,null,null,null,{"$f":"Y347+Z347","v":0},{"$f":"COUNTIF(Y346,\"Yes\")*3","v":0},{"$f":"COUNTIF(Z346,\"No\")*3","v":0}]
[{"$f":"HYPERLINK(\"https://gosynth.com/p/s/pisllo\",\"Indicator 13 Item 7\")","v":"Indicator 13 Item 7"}]
[{"$f":"HYPERLINK(\"http://sdlegislature.gov/Rules/DisplayRule.aspx?Rule=24:05:25:16.01\",\"Student Invitation/Participation\n(24:05:25:16.01)\")","v":"Student Invitation/Participation\n(24:05:25:16.01)"},null,null,null,null,null,"How the student invited?",null,null,null,null,{"$f":"HYPERLINK(\"https://gosynth.com/p/s/pisllo\",\"If student was not in attendance at the meeting, the IEP should show evidence that student's preferences and interests were taken into account. *\")","v":"If student was not in attendance at the meeting, the IEP should show evidence that student's preferences and interests were taken into account. *"},null,null,null,null,null,null,"Select","V300",null,null,null,null,{"$f":"S349","v":"Select"},{"$f":"S349","v":"Select"}]
[null,null,null,null,null,null,null,null,null,null,null,null,null,null,null,null,null,null,null,null,null,null,null,{"$f":"Y350+Z350","v":0},{"$f":"COUNTIF(Y349,\"Yes\")*3","v":0},{"$f":"COUNTIF(Z349,\"No\")*3","v":0}]
[null,null,null,null,null,null,null,"Meeting notice"]
[null,null,null,null,null,null,null,"Individual student invite"]
[]
[{"$f":"HYPERLINK(\"https://gosynth.com/p/s/pisllo\",\"Indicator 13 Item 8\")","v":"Indicator 13 Item 8"}]
[{"$f":"HYPERLINK(\"http://sdlegislature.gov/Rules/DisplayRule.aspx?Rule=24:05:25:16.01\",\"Consent to Invite Outside Agency\n(24:05:25:16.01)\")","v":"Consent to Invite Outside Agency\n(24:05:25:16.01)"},null,null,null,null,null,{"$f":"HYPERLINK(\"https://gosynth.com/p/s/pisllo\",\" Written Consent to invite:\")","v":" Written Consent to invite:"},null,null,null,null,null,null,"List of agencies invited:",null,null,null,null,"Select","V306",null,null,null,null,{"$f":"S355","v":"Select"},{"$f":"S355","v":"Select"}]
[null,null,null,null,null,null,"Invited on Meeting Notice:",null,null,null,null,null,"Yes",null,null,null,null,null,null,null,null,null,null,{"$f":"Y356+Z356","v":0},{"$f":"COUNTIF(Y355,\"Yes\")*3","v":0},{"$f":"COUNTIF(Z355,\"No\")*3","v":0}]
[null,null,null,null,null,null,null,null,null,null,null,null,"No"]
[null,null,null,null,null,null,"Meeting Notice Date:",null,null,null,null,{"$f":"J177","v":"00:00:00"}]
[null,null,null,null,null,null,"Date of Current IEP Meeting:",null,null,null,null,{"$f":"T5","v":"00:00:00"}]
[{"$f":"HYPERLINK(\"https://gosynth.com/p/s/pisllo\",\"Other Transition Areas *\")","v":"Other Transition Areas *"}]
[{"$f":"HYPERLINK(\"http://sdlegislature.gov/Rules/DisplayRule.aspx?Rule=24:05:30:16.01\",\"Transfer of Parental Rights:\n(24:05:30:16.01)\")","v":"Transfer of Parental Rights:\n(24:05:30:16.01)"},null,null,null,null,null,"Turned 17 on:",null,null,null,null,null,null,null,null,null,null,null,"Select","V312",null,null,null,null,{"$f":"S361","v":"Select"},{"$f":"S361","v":"Select"}]
[null,null,null,null,null,null,"Rights reviewed on:",null,null,null,null,null,null,null,null,null,null,null,null,null,null,null,null,{"$f":"Y362+Z362","v":0},{"$f":"COUNTIF(Y361,\"Yes\")*3","v":0},{"$f":"COUNTIF(Z361,\"No\")*3","v":0}]
[{"$f":"HYPERLINK(\"http://sdlegislature.gov/Rules/DisplayRule.aspx?Rule=24:05:27:12\",\"Specific Graduation Requirements:\n(24:05:27:12)\")","v":"Specific Graduation Requirements:\n(24:05:27:12)"},null,null,null,null,null,"Graduation requirements addressed on:",null,null,null,null,null,null,null,null,null,null,null,"Select",null,null,null,null,null,{"$f":"S363","v":"Select"},{"$f":"S363","v":"Select"}]
[null,null,null,null,null,null,"Student is projected to graduate:",null,null,null,null,null,null,null,null,null,null,null,null,null,null,null,null,{"$f":"Y364+Z364","v":0},{"$f":"COUNTIF(Y363,\"Yes\")*3","v":0},{"$f":"COUNTIF(Z363,\"No\")*3","v":0}]
[{"$f":"HYPERLINK(\"http://sdlegislature.gov/Rules/DisplayRule.aspx?Rule=24:05:27:12\",\"When Student has Graduated\n(24:05:27:12)\")","v":"When Student has Graduated\n(24:05:27:12)"},null,null,null,null,null,"Written prior notice was sent:",null,null,null,null,null,null,null,null,null,null,null,"Select",null,null,null,null,null,{"$f":"S365","v":"Select"},{"$f":"S365","v":"Select"}]
[null,null,null,null,null,null,{"$f":"HYPERLINK(\"https://gosynth.com/p/s/pisllo\",\"When a student graduates, it is a change in placement. It must have a written\n prior notice sent.  If student has \"\"aged-out\"\", a PPWN is required.  \")","v":"When a student graduates, it is a change in placement. It must have a written\n prior notice sent.  If student has \"aged-out\", a PPWN is required.  "},null,null,null,null,null,null,null,null,null,null,null,null,null,null,null,null,{"$f":"Y366+Z366","v":0},{"$f":"COUNTIF(Y365,\"Yes\")*3","v":0},{"$f":"COUNTIF(Z365,\"No\")*3","v":0}]
[]
[{"$f":"HYPERLINK(\"http://sdlegislature.gov/Rules/DisplayRule.aspx?Rule=24:05:27:12\",\"Summary of Performance was provided to the Student/Parent/Guardian\n(24:05:27:12)\")","v":"Summary of Performance was provided to the Student/Parent/Guardian\n(24:05:27:12)"},null,null,null,null,null,{"$f":"HYPERLINK(\"https://gosynth.com/p/s/pisllo\",\"Summary of Performance (SOP) is required for students who graduated and\n aged out. A copy of the SOP should remain in the file.\")","v":"Summary of Performance (SOP) is required for students who graduated and\n aged out. A copy of the SOP should remain in the file."},null,null,null,null,null,null,null,null,null,null,null,"Select",null,null,null,null,null,{"$f":"S368","v":"Select"},{"$f":"S368","v":"Select"}]
[null,null,null,null,null,null,null,null,null,null,null,null,null,null,null,null,null,null,null,null,null,null,null,{"$f":"Y369+Z369","v":0},{"$f":"COUNTIF(Y368,\"Yes\")*3","v":0},{"$f":"COUNTIF(Z368,\"No\")*3","v":0}]
[]
["Click on the [+] button to expand or the [-] button to collapse."]
[{"$f":"HYPERLINK(\"https://gosynth.com/p/s/kldkzb\",\"Related Services\")","v":"Related Services"},null,null,null,null,null,null,null,null,null,null,null,null,null,null,null,null,null,{"$f":"IFERROR(Y375/X375,\"N/A\")","v":"N/A"}]
[{"$f":"HYPERLINK(\"http://sdlegislature.gov/Rules/DisplayRule.aspx?Rule=24:05:27:16\",\"Related Services\n(24:05:27)\")","v":"Related Services\n(24:05:27)"},null,null,null,null,null,"Service Provided:",null,null,null,null,null,"If student will receive services in a different location, then must break it out to calculate the Least Restrictive Environment.",null,null,null,null,null,"Select","V324",null,null,null,null,{"$f":"S373","v":"Select"},{"$f":"S373","v":"Select"}]
[null,null,null,null,null,null,null,null,null,null,null,null,null,null,null,null,null,null,null,null,null,null,null,{"$f":"Y374+Z374","v":0},{"$f":"COUNTIF(Y373,\"Yes\")*3","v":0},{"$f":"COUNTIF(Z373,\"No\")*3","v":0}]
[null,null,null,null,null,null,null,"Frequency",null,null,"Location",null,null,null,null,null,null,null,null,null,null,null,null,{"$f":"(X374+X379)/2","v":0},{"$f":"(Y374+Y379)/2","v":0}]
[null,null,null,null,null,null,null,"Duration",null,null,"Other"]
[null,null,null,null,null,null,"Service Provided:",null,null,null,null,null,"At a minimum, all areas student qualifies and has an annual goal must have service time documented. If not addressed, then PPWN must explain reason."]
[null,null,null,null,null,null,null,null,null,null,null,null,null,null,null,null,null,null,"Select",null,null,null,null,null,{"$f":"S378","v":"Select"},{"$f":"S378","v":"Select"}]
[null,null,null,null,null,null,null,"Frequency",null,null,"Location",null,null,null,null,null,null,null,null,null,null,null,null,{"$f":"Y379+Z379","v":0},{"$f":"COUNTIF(Y378,\"Yes\")*3","v":0},{"$f":"COUNTIF(Z378,\"No\")*3","v":0}]
[null,null,null,null,null,null,null,"Duration",null,null,"Other"]
[]
["Least Restrictive Environment ",null,null,null,null,null,null,null,null,null,null,null,null,null,null,null,null,null,{"$f":"IFERROR(Y382/X382,\"N/A\")","v":"N/A"},null,null,null,null,{"$f":"(X384+X388+X392+X396+X400+X402+X404+X406+X408)/9","v":0},{"$f":"(Y384+Y388+Y392+Y396+Y400+Y402+Y404+Y406+Y408)/9","v":0}]
[{"$f":"HYPERLINK(\"https://sdlegislature.gov/Rules/DisplayRule.aspx?Rule=24:05:28\",\"Least Restrictive Enviornment \n(Chapter 24:05:28)\")","v":"Least Restrictive Enviornment \n(Chapter 24:05:28)"},null,null,null,null,null,{"$f":"HYPERLINK(\"https://gosynth.com/p/s/llxjsq\",\"Skill area:\")","v":"Skill area:"},null,null,null,null,null,null,null,null,null,null,null,"Select","V334",null,null,null,null,{"$f":"S383","v":"Select"},{"$f":"S383","v":"Select"}]
[null,null,null,null,null,null,null,null,null,null,null,null,null,null,null,null,null,null,null,null,null,null,null,{"$f":"Y384+Z384","v":0},{"$f":"COUNTIF(Y383,\"Yes\")*3","v":0},{"$f":"COUNTIF(Z383,\"No\")*3","v":0}]
[null,null,null,null,null,null,null,null,"Frequency",null,null,"Duration",null,null,"Location"]
[]
[null,null,null,null,null,null,"Skill area:",null,null,null,null,null,null,null,null,null,null,null,"Select",null,null,null,null,null,{"$f":"S387","v":"Select"},{"$f":"S387","v":"Select"}]
[null,null,null,null,null,null,null,null,null,null,null,null,null,null,null,null,null,null,null,null,null,null,null,{"$f":"Y388+Z388","v":0},{"$f":"COUNTIF(Y387,\"Yes\")*3","v":0},{"$f":"COUNTIF(Z387,\"No\")*3","v":0}]
[null,null,null,null,null,null,null,null,"Frequency",null,null,"Duration",null,null,"Location"]
[]
[null,null,null,null,null,null,"Skill area:",null,null,null,null,null,null,null,null,null,null,null,"Select",null,null,null,null,null,{"$f":"S391","v":"Select"},{"$f":"S391","v":"Select"}]
[null,null,null,null,null,null,null,null,null,null,null,null,null,null,null,null,null,null,null,null,null,null,null,{"$f":"Y392+Z392","v":0},{"$f":"COUNTIF(Y391,\"Yes\")*3","v":0},{"$f":"COUNTIF(Z391,\"No\")*3","v":0}]
[null,null,null,null,null,null,null,null,"Frequency",null,null,"Duration",null,null,"Location"]
[]
[null,null,null,null,null,null,"Skill area:",null,null,null,null,null,null,null,null,null,null,null,"Select",null,null,null,null,null,{"$f":"S395","v":"Select"},{"$f":"S395","v":"Select"}]
[null,null,null,null,null,null,null,null,null,null,null,null,null,null,null,null,null,null,null,null,null,null,null,{"$f":"Y396+Z396","v":0},{"$f":"COUNTIF(Y395,\"Yes\")*3","v":0},{"$f":"COUNTIF(Z395,\"No\")*3","v":0}]
[null,null,null,null,null,null,null,null,"Frequency",null,null,"Duration",null,null,"Location"]
[]
[{"$f":"HYPERLINK(\"http://sdlegislature.gov/Rules/DisplayRule.aspx?Rule=24:05:28:02\",\"Continuum of Placement\n(24:05:28:02)\")","v":"Continuum of Placement\n(24:05:28:02)"},null,null,null,null,null,"Select:",null,null,null,null,null,null,null,null,null,null,null,"Select","V350",null,null,null,null,{"$f":"S399","v":"Select"},{"$f":"S399","v":"Select"}]
[null,null,null,null,null,null,null,null,null,null,null,null,null,null,null,null,null,null,null,null,null,null,null,{"$f":"Y400+Z400","v":0},{"$f":"COUNTIF(Y399,\"Yes\")*3","v":0},{"$f":"COUNTIF(Z399,\"No\")*3","v":0}]
[null,null,null,null,null,null,"Select for Early Childhood (Ages 3-5):",null,null,null,null,null,null,null,null,null,null,null,"Select",null,null,null,null,null,{"$f":"S401","v":"Select"},{"$f":"S401","v":"Select"}]
[null,null,null,null,null,null,null,null,null,null,null,null,null,null,null,null,null,null,null,null,null,null,null,{"$f":"Y402+Z402","v":0},{"$f":"COUNTIF(Y401,\"Yes\")*3","v":0},{"$f":"COUNTIF(Z401,\"No\")*3","v":0}]
[{"$f":"HYPERLINK(\"http://sdlegislature.gov/Rules/DisplayRule.aspx?Rule=24:05:27:01.03\",\"Participation with Non-disabled Peers\n(24:05:27:01.03)\")","v":"Participation with Non-disabled Peers\n(24:05:27:01.03)"},null,null,null,null,null,{"$f":"HYPERLINK(\"https://gosynth.com/p/s/wjqcuh\",\"Document opportunities to participate with non-disabled peers.\")","v":"Document opportunities to participate with non-disabled peers."},null,null,null,null,null,null,null,null,null,null,null,"Select",null,null,null,null,null,{"$f":"S403","v":"Select"},{"$f":"S403","v":"Select"}]
[null,null,null,null,null,null,null,null,null,null,null,null,null,null,null,null,null,null,null,null,null,null,null,{"$f":"Y404+Z404","v":0},{"$f":"COUNTIF(Y403,\"Yes\")*3","v":0},{"$f":"COUNTIF(Z403,\"No\")*3","v":0}]
[{"$f":"HYPERLINK(\"http://sdlegislature.gov/Rules/DisplayRule.aspx?Rule=24:05:28:03\",\"Justification for Placement \n(24:05:28:03)\")","v":"Justification for Placement \n(24:05:28:03)"},null,null,null,null,null,{"$f":"HYPERLINK(\"https://gosynth.com/p/s/rjxcoc\",\"                  Select from the following:\")","v":"                  Select from the following:"},null,null,null,null,null,null,null,null,null,null,null,"Select",null,null,null,null,null,{"$f":"S405","v":"Select"},{"$f":"S405","v":"Select"}]
[null,null,null,null,null,null,null,null,null,null,null,null,null,null,null,null,null,null,null,null,null,null,null,{"$f":"Y406+Z406","v":0},{"$f":"COUNTIF(Y405,\"Yes\")*3","v":0},{"$f":"COUNTIF(Z405,\"No\")*3","v":0}]
[{"$f":"HYPERLINK(\"http://sdlegislature.gov/Rules/DisplayRule.aspx?Rule=24:05:25:26\",\"Extended School Year\n(24:05:25:26)\")","v":"Extended School Year\n(24:05:25:26)"},null,null,null,null,null,{"$f":"HYPERLINK(\"https://gosynth.com/p/s/bbepxx\",\"                  Check the following:\")","v":"                  Check the following:"},null,null,null,null,null,null,null,null,null,null,null,"Select","V358",null,null,null,null,{"$f":"S407","v":"Select"},{"$f":"S407","v":"Select"}]
[null,null,null,null,null,null,null,null,null,null,null,null,null,null,null,null,null,null,null,null,null,null,null,{"$f":"Y408+Z408","v":0},{"$f":"COUNTIF(Y407,\"Yes\")*3","v":0},{"$f":"COUNTIF(Z407,\"No\")*3","v":0}]
[null,null,null,null,null,null,null,null,"Determination",null,null,null,"Beginning/end dates"]
[null,null,null,null,null,null,null,null,"Goals",null,null,null,"Amount of service"]
[]
[]
[]
[{"$f":"HYPERLINK(\"https://gosynth.com/p/s/acbbuk\",\"Prior Parental Written Notice\")","v":"Prior Parental Written Notice"},null,null,null,null,null,null,null,null,null,null,null,null,null,null,null,null,null,{"$f":"IFERROR(Y414/X414,\"N/A\")","v":"N/A"},null,null,null,null,{"$f":"(X416+X421)/2","v":0},{"$f":"(Y416+Y421)/2","v":0}]
[{"$f":"HYPERLINK(\"http://sdlegislature.gov/Rules/DisplayRule.aspx?Rule=24:05:30:04\",\"Prior Written Notice Sent to Parent Regarding IEP Implementation\n(24:05:30:04)\")","v":"Prior Written Notice Sent to Parent Regarding IEP Implementation\n(24:05:30:04)"},null,null,null,null,null,"Date the district sent the PPWN:",null,null,null,null,null,null,null,"The implementation date documented on the PPWN must be reflected on IEP.\n\nThe five-day notice requirement may be waived by the parents.",null,null,null,"Select","V366",null,null,null,null,{"$f":"S415","v":"Select"},{"$f":"S415","v":"Select"}]
[null,null,null,null,null,null,"District proposed at least 5 calendar days to begin implementation:",null,null,null,null,null,{"$f":"M415+5","v":"1900-01-05"},null,null,null,null,null,null,null,null,null,null,{"$f":"Y416+Z416","v":0},{"$f":"COUNTIF(Y415,\"Yes\")*3","v":0},{"$f":"COUNTIF(Z415,\"No\")*3","v":0}]
[]
[null,null,null,null,null,null,"Was the 5 calendar day notice requirement met?",null,null,null,null,null,null,"Yes"]
[null,null,null,null,null,null,null,null,null,null,null,null,null,"No"]
[{"$f":"HYPERLINK(\"http://sdlegislature.gov/Rules/DisplayRule.aspx?Rule=24:05:30:05\",\"Content of PPWN\n(24:05:30:05)\")","v":"Content of PPWN\n(24:05:30:05)"},null,null,null,null,null,"Check the following:",null,null,null,null,null,null,null,null,null,null,null,"Select","V371",null,null,null,null,{"$f":"S420","v":"Select"},{"$f":"S420","v":"Select"}]
[null,null,null,null,null,null,"PPWN must be individualized to the student, IEP team discussions and situation.",null,null,null,null,null,null,null,null,null,null,null,null,null,null,null,null,{"$f":"Y421+Z421","v":0},{"$f":"COUNTIF(Y420,\"Yes\")*3","v":0},{"$f":"COUNTIF(Z420,\"No\")*3","v":0}]
[]
[null,null,null,null,null,null,null,"Explanation of why the district proposed or refused to take the action"]
[null,null,null,null,null,null,null,"Description of other options considered and why they were rejected "]
[null,null,null,null,null,null,null,"Description of evidence used for the proposed or refused action"]
[null,null,null,null,null,null,null,"Description of other factors that are relevant to proposal or refusal"]
[]
[null,null,null,null,null,null,"To skip back to Eligibility section click ",null,null,null,null,"HERE."]
[]
[{"$f":"HYPERLINK(\"https://gosynth.com/p/s/iwvzyu\",\"Amendment to IEP\")","v":"Amendment to IEP"},null,null,null,null,null,null,null,null,null,null,null,null,null,null,null,null,null,{"$f":"IFERROR(Z430/Y430,\"N/A\")","v":"N/A"},null,null,null,null,null,{"$f":"(X432+X434)/2","v":0},{"$f":"(Y432+Y434)/2","v":0}]
["Amendment to IEP",null,null,null,null,null,null,null,null,null,null,null,null,null,null,null,null,null,"Select","V381",null,null,null,null,{"$f":"S431","v":"Select"},{"$f":"S431","v":"Select"}]
[{"$f":"HYPERLINK(\"http://sdlegislature.gov/Rules/DisplayRule.aspx?Rule=24:05:27:08.01\",\"(24:05:27:08.01)\")","v":"(24:05:27:08.01)"},null,null,{"$f":"HYPERLINK(\"http://sdlegislature.gov/Rules/DisplayRule.aspx?Rule=24:05:27:08.02\",\"(24:05:27:08.02)\")","v":"(24:05:27:08.02)"},null,null,null,null,null,null,null,null,null,null,null,null,null,null,null,null,null,null,null,{"$f":"Y432+Z432","v":0},{"$f":"COUNTIF(Y431,\"Yes\")*3","v":0},{"$f":"COUNTIF(Z431,\"No\")*3","v":0}]
[{"$f":"HYPERLINK(\"http://sdlegislature.gov/Rules/DisplayRule.aspx?Rule=24:05:30:04\",\"Prior Notice\n(24:05:30:04)\")","v":"Prior Notice\n(24:05:30:04)"},null,null,null,null,null,"Document if the amendment was made with or without a meeting.",null,null,null,null,null,null,null,null,null,null,null,"Select",null,null,null,null,null,{"$f":"S433","v":"Select"},{"$f":"S433","v":"Select"}]
[null,null,null,null,null,null,null,null,null,null,null,null,null,null,null,null,null,null,null,null,null,null,null,{"$f":"Y434+Z434","v":0},{"$f":"COUNTIF(Y433,\"Yes\")*3","v":0},{"$f":"COUNTIF(Z433,\"No\")*3","v":0}]
[]
[{"$f":"HYPERLINK(\"https://gosynth.com/p/s/jdtswp\",\"Additional Items\")","v":"Additional Items"},null,null,null,null,null,null,null,null,null,null,null,null,null,null,null,null,null,{"$f":"IFERROR(AB436/AA436,\"N/A\")","v":"N/A"},null,null,null,null,null,{"$f":"S437","v":"Select"},{"$f":"S437","v":"Select"},{"$f":"(X437+X439+X441+X443)/4","v":0},{"$f":"(Y437+Y439+Y441+Y443)/4","v":0}]
["Parent Declined/\nWithdrew Consent for Services ",null,null,null,null,null,"Revocation signed:",null,null,null,null,null,null,{"$f":"HYPERLINK(\"http://sdlegislature.gov/Rules/DisplayRule.aspx?Rule=24:05:27:04.02\",\"(24:05:27:04.02)\")","v":"(24:05:27:04.02)"},null,null,null,null,"Select","V387",null,null,null,{"$f":"Y437+Z437","v":0},{"$f":"COUNTIF(Y436,\"Yes\")*3","v":0},{"$f":"COUNTIF(Z436,\"No\")*3","v":0}]
[null,null,null,null,null,null,"Date prior notice was sent:",null,null,null,null,null,null,null,null,null,null,null,null,null,null,null,null,null,{"$f":"S439","v":"Select"},{"$f":"S439","v":"Select"}]
["Surrogate Parent",null,null,null,null,null,null,null,null,null,null,null,null,null,null,null,null,null,"Select",null,null,null,null,{"$f":"Y439+Z439","v":0},{"$f":"COUNTIF(Y438,\"Yes\")*3","v":0},{"$f":"COUNTIF(Z438,\"No\")*3","v":0}]
["Transfer Students Provided with  FAPE/Comparable Services ",null,null,null,null,null,"Date prior notice was sent:",null,null,null,null,null,null,{"$f":"HYPERLINK(\"http://sdlegislature.gov/Rules/DisplayRule.aspx?Rule=24:05:27:15.01\",\"In-state (24:05:27:15.01)\")","v":"In-state (24:05:27:15.01)"},null,null,null,null,"Select",null,null,null,null,null,{"$f":"S440","v":"Select"},{"$f":"S440","v":"Select"}]
[null,null,null,null,null,null,null,null,null,null,null,null,null,{"$f":"HYPERLINK(\"http://sdlegislature.gov/Rules/DisplayRule.aspx?Rule=24:05:27:15.02\",\"Out-of-state (24:05:27:15.02)\")","v":"Out-of-state (24:05:27:15.02)"},null,null,null,null,null,null,null,null,null,{"$f":"Y441+Z441","v":0},{"$f":"COUNTIF(Y440,\"Yes\")*3","v":0},{"$f":"COUNTIF(Z440,\"No\")*3","v":0}]
["Transfer Students Evaluated for \nSouth Dakota Eligibility",null,null,null,null,null,"Eligibility determination date:",null,null,null,null,null,null,null,null,null,null,null,"Select",null,null,null,null,null,{"$f":"S442","v":"Select"},{"$f":"S442","v":"Select"}]
[null,null,null,null,null,null,"IEP date:",null,null,null,null,null,null,null,null,null,null,null,null,null,null,null,null,{"$f":"Y443+Z443","v":0},{"$f":"COUNTIF(Y442,\"Yes\")*3","v":0},{"$f":"COUNTIF(Z442,\"No\")*3","v":0}]
[null,null,null,null,null,null,"PPWN Implementing IEP sent:"]

{"sheet":"File 20","index":24,"n_rows":444,"n_cols":28,"rows_kept":444,"cut":false,"hidden":false,"merged":[[436,18,437,18],[437,6,437,10],[437,11,437,12],[438,6,438,17],[442,6,442,10],[442,11,442,12],[413,19,413,21],[414,6,414,11],[414,12,414,13],[414,14,418,17],[414,18,418,18],[414,19,418,21],[417,6,418,11],[419,6,419,17],[420,6,420,17],[216,14,216,16],[443,6,443,10],[443,11,443,12],[446,11,447,12],[439,6,440,10],[439,11,440,12],[439,13,439,17],[440,13,440,17],[441,6,441,10],[441,11,441,12],[441,13,443,17],[415,6,416,11],[415,12,416,13],[413,0,413,17],[422,7,422,17],[423,7,423,17],[424,7,424,17],[425,7,425,17],[426,6,426,17],[427,6,427,10],[427,11,427,17],[436,6,436,10],[436,11,436,12],[436,13,437,17],[216,6,216,7],[216,8,216,10],[205,0,206,5],[207,0,209,5],[216,11,216,13],[231,7,231,10],[209,6,209,13],[210,0,210,17],[211,0,213,5],[211,6,213,16],[214,0,215,5],[214,6,215,16],[216,0,233,5],[225,12,225,13],[225,15,225,16],[226,7,226,10],[227,6,227,10],[228,6,228,7],[228,8,228,10],[228,11,228,13],[228,14,228,16],[230,7,230,10],[230,12,230,13],[230,15,230,16],[196,0,200,5],[196,6,200,17],[196,18,200,18],[201,0,201,21],[202,0,202,17],[202,19,202,21],[203,0,204,5],[188,7,188,9],[188,10,188,12],[189,7,189,9],[189,10,189,12],[186,0,189,5],[186,7,186,9],[186,10,186,12],[192,7,192,9],[193,7,193,9],[193,10,193,12],[194,7,194,9],[190,0,190,5],[190,7,190,9],[190,10,190,12],[191,0,195,5],[191,7,191,9],[191,10,191,12],[152,12,156,15],[154,7,156,10],[145,7,146,10],[145,12,146,15],[149,18,162,18],[149,19,162,21],[150,6,150,15],[150,17,160,17],[158,12,159,15],[151,6,151,15],[152,7,153,10],[157,7,158,10],[157,12,157,15],[210,19,210,21],[211,19,215,21],[214,18,215,18],[196,19,200,21],[203,19,209,21],[205,18,206,18],[207,14,208,17],[207,18,209,18],[209,14,209,17],[211,18,213,18],[205,6,206,17],[207,6,207,10],[207,11,207,13],[208,6,208,10],[208,11,208,13],[203,6,204,17],[203,18,204,18],[190,13,190,16],[191,13,191,16],[192,13,192,16],[193,13,193,16],[194,13,194,16],[176,12,177,17],[184,13,185,16],[186,13,186,16],[184,10,185,12],[194,10,194,12],[180,6,180,17],[182,7,183,16],[187,7,187,9],[187,10,187,12],[187,13,187,16],[188,13,188,16],[192,10,192,12],[172,12,173,17],[172,18,173,18],[172,19,173,21],[177,0,177,2],[177,3,177,5],[177,6,177,8],[177,9,177,11],[178,0,178,5],[178,6,179,17],[179,0,179,2],[179,3,179,5],[176,18,177,18],[176,19,195,21],[178,18,179,18],[180,18,195,18],[176,0,176,5],[176,6,176,8],[176,9,176,11],[174,0,174,21],[175,0,175,17],[175,19,175,21],[180,0,185,5],[184,7,185,9],[189,13,189,16],[216,18,221,18],[216,19,233,21],[222,18,227,18],[228,18,233,18],[218,7,218,10],[218,12,218,13],[220,7,220,10],[221,6,221,10],[222,6,222,7],[222,8,222,10],[222,11,222,13],[222,14,222,16],[231,12,231,13],[231,15,231,16],[232,7,232,10],[233,6,233,10],[218,15,218,16],[219,7,219,10],[219,12,219,13],[219,15,219,16],[224,7,224,10],[224,12,224,13],[224,15,224,16],[225,7,225,10],[117,6,117,13],[117,14,117,17],[118,6,119,17],[120,0,120,21],[118,0,119,5],[130,18,148,18],[130,19,148,21],[133,12,134,15],[135,7,137,10],[135,12,136,15],[137,12,138,15],[138,7,141,10],[139,12,144,15],[142,7,144,10],[121,0,121,17],[121,19,121,21],[122,0,122,17],[122,18,129,18],[122,19,129,21],[123,0,129,5],[123,6,123,17],[124,6,124,17],[125,7,125,11],[126,7,126,11],[165,12,169,17],[167,7,167,11],[168,7,168,11],[110,18,112,18],[110,19,119,21],[113,18,114,18],[115,18,117,18],[118,18,119,18],[104,18,105,18],[106,18,107,18],[169,7,169,11],[162,0,162,17],[163,0,166,5],[163,6,163,17],[163,18,171,18],[163,19,171,21],[164,6,164,17],[167,0,173,5],[165,7,165,11],[166,7,166,11],[170,7,170,13],[171,7,171,11],[172,6,173,10],[172,11,173,11],[98,18,101,18],[98,19,101,21],[99,11,99,13],[106,6,107,17],[84,18,97,18],[84,19,97,21],[86,6,86,8],[86,9,86,12],[87,15,87,17],[100,11,100,13],[101,11,101,13],[102,6,103,17],[102,18,103,18],[94,13,94,14],[94,15,94,17],[95,15,95,17],[96,13,96,14],[96,15,96,17],[99,6,99,10],[100,6,100,10],[102,19,109,21],[108,18,109,18],[89,13,89,14],[89,15,89,17],[91,13,91,14],[91,15,91,17],[92,13,92,14],[92,15,92,17],[97,13,97,14],[97,15,97,17],[98,11,98,13],[98,14,101,17],[93,15,93,17],[93,13,93,14],[110,0,112,5],[110,6,110,10],[111,6,111,10],[113,0,114,5],[115,0,117,5],[115,6,115,12],[116,6,116,12],[98,0,101,5],[98,6,98,10],[101,6,101,10],[102,0,103,5],[104,0,105,5],[106,0,107,5],[108,0,109,5],[104,6,105,17],[108,6,109,17],[110,11,110,13],[110,14,111,17],[111,11,111,13],[112,6,112,13],[112,14,112,17],[113,6,114,17],[115,13,115,15],[116,13,116,15],[90,6,90,8],[90,9,90,12],[78,6,78,8],[78,9,78,12],[80,0,83,5],[80,6,80,8],[80,9,80,12],[81,9,81,12],[84,0,90,5],[83,9,83,12],[96,6,96,8],[96,9,96,12],[91,0,91,5],[91,6,91,8],[91,9,91,12],[92,0,97,5],[92,9,92,12],[93,9,93,12],[94,9,94,12],[93,6,93,8],[94,6,94,8],[92,6,92,8],[97,6,97,8],[97,9,97,12],[74,19,83,21],[76,6,76,8],[76,9,76,12],[76,13,76,14],[76,15,76,17],[77,6,77,8],[77,9,77,12],[77,13,77,14],[77,15,77,17],[82,6,82,8],[82,9,82,12],[82,13,82,14],[82,15,82,17],[83,15,83,17],[78,13,78,14],[78,15,78,17],[80,13,80,14],[80,15,80,17],[81,13,81,14],[81,15,81,17],[83,13,83,14],[74,18,83,18],[81,6,81,8],[83,6,83,8],[150,0,161,5],[159,6,160,6],[159,7,160,10],[161,6,161,15],[89,6,89,8],[89,9,89,12],[90,13,90,14],[90,15,90,17],[95,9,95,12],[147,6,147,15],[148,0,148,17],[149,0,149,17],[128,7,128,11],[128,13,128,17],[131,0,147,5],[131,6,131,15],[131,17,147,17],[132,6,132,15],[133,7,134,10],[95,6,95,8],[127,7,127,11],[127,13,127,17],[129,6,129,17],[130,0,130,17],[84,15,85,17],[84,6,85,8],[86,13,86,14],[86,15,86,17],[87,9,87,12],[87,13,87,14],[88,6,88,8],[88,9,88,12],[84,13,85,14],[88,13,88,14],[88,15,88,17],[84,9,85,12],[87,6,87,8],[125,13,125,17],[126,13,126,17],[66,15,66,17],[66,13,66,14],[67,0,67,5],[67,6,67,8],[67,9,67,12],[67,13,67,14],[67,15,67,17],[68,0,73,5],[79,0,79,5],[79,6,79,8],[79,9,79,12],[79,13,79,14],[79,15,79,17],[72,6,72,8],[72,9,72,12],[74,0,78,5],[74,6,75,8],[74,9,75,12],[74,13,75,14],[74,15,75,17],[68,13,68,14],[73,6,73,8],[60,13,61,14],[60,15,61,17],[62,13,62,14],[62,15,62,17],[63,13,63,14],[63,15,63,17],[64,13,64,14],[64,15,64,17],[65,13,65,14],[65,15,65,17],[54,0,59,5],[54,6,54,9],[54,10,54,12],[55,6,55,9],[55,10,55,12],[45,19,53,21],[54,19,59,21],[58,13,59,17],[56,6,56,9],[56,10,56,12],[57,6,57,9],[57,10,57,12],[58,6,58,9],[58,10,58,12],[59,6,59,9],[59,10,59,12],[62,9,62,12],[63,9,63,12],[64,9,64,12],[65,9,65,12],[66,9,66,12],[60,0,66,5],[60,6,61,8],[62,6,62,8],[63,6,63,8],[64,6,64,8],[65,6,65,8],[66,6,66,8],[60,9,61,12],[21,10,21,13],[21,14,21,17],[27,9,27,11],[27,12,27,17],[52,6,52,17],[53,6,53,17],[45,6,45,17],[46,6,46,17],[47,6,47,17],[48,7,48,17],[49,7,49,17],[50,7,50,17],[51,7,51,17],[39,6,40,17],[22,6,22,9],[22,10,22,13],[25,0,25,21],[26,0,26,17],[26,19,26,21],[22,14,22,17],[23,6,23,9],[23,10,23,13],[23,14,23,17],[45,0,53,5],[17,0,17,21],[18,0,18,17],[19,0,24,5],[19,9,19,11],[19,12,19,17],[20,14,20,17],[24,6,24,17],[8,3,8,6],[8,7,8,9],[9,0,9,21],[8,0,8,2],[10,0,12,5],[10,10,11,10],[10,11,11,13],[10,14,11,17],[10,18,11,18],[10,19,11,21],[18,19,18,21],[19,18,24,18],[19,19,24,21],[20,6,20,9],[20,10,20,13],[19,6,19,8],[21,6,21,9],[10,6,10,9],[11,6,11,9],[12,6,12,21],[13,0,13,21],[14,0,14,17],[14,19,14,21],[15,0,16,5],[15,18,16,18],[15,19,16,21],[15,6,16,17],[6,0,6,2],[6,10,6,13],[7,14,7,18],[8,14,8,18],[8,19,8,21],[4,14,4,18],[4,19,4,21],[5,14,5,18],[5,19,5,21],[6,14,6,18],[6,19,6,21],[7,19,7,21],[6,3,6,6],[6,7,6,9],[7,0,7,2],[7,3,7,6],[7,7,7,9],[7,10,7,13],[8,10,8,13],[3,0,3,21],[4,0,4,2],[4,3,4,6],[4,7,4,9],[4,10,4,13],[5,0,5,2],[5,3,5,6],[5,7,5,9],[5,11,5,13],[0,0,0,3],[0,4,0,5],[0,6,0,8],[0,9,0,11],[0,12,0,14],[0,15,0,17],[0,19,0,21],[1,0,2,13],[1,14,2,17],[1,18,2,18],[1,19,2,21],[73,9,73,12],[73,13,73,14],[73,15,73,17],[68,6,68,8],[68,9,68,12],[69,6,69,8],[69,9,69,12],[69,13,69,14],[69,15,69,17],[70,6,70,8],[70,9,70,12],[70,13,70,14],[70,15,70,17],[71,6,71,8],[71,9,71,12],[71,13,71,14],[71,15,71,17],[68,15,68,17],[72,13,72,14],[72,15,72,17],[41,0,42,5],[41,6,42,17],[43,6,44,17],[27,18,29,18],[27,19,29,21],[30,18,32,18],[30,19,32,21],[35,18,38,18],[35,19,44,21],[39,18,40,18],[43,0,44,5],[27,6,27,8],[28,6,29,17],[30,6,30,17],[31,8,32,17],[408,8,408,10],[408,12,408,15],[409,8,409,10],[411,0,411,16],[412,0,412,21],[27,0,29,5],[30,0,32,5],[31,6,32,7],[35,0,36,5],[35,6,35,9],[33,0,33,21],[34,0,34,17],[34,19,34,21],[35,10,35,12],[35,13,35,17],[41,18,42,18],[43,18,44,18],[45,18,53,18],[54,18,59,18],[60,18,73,18],[60,19,73,21],[36,6,38,17],[37,0,38,5],[39,0,40,5],[397,6,397,16],[398,6,398,16],[399,6,399,16],[400,6,400,16],[401,6,401,16],[402,6,403,16],[404,6,404,16],[405,6,405,16],[406,6,406,16],[391,6,391,16],[392,11,392,12],[392,14,392,16],[393,6,393,16],[394,6,394,8],[394,9,394,16],[395,6,395,16],[396,11,396,12],[396,14,396,16],[385,6,385,16],[386,6,386,8],[386,9,386,16],[387,6,387,16],[388,11,388,12],[388,14,388,16],[389,6,389,16],[390,6,390,8],[390,9,390,16],[382,17,411,17],[406,19,411,21],[419,19,427,21],[430,19,433,21],[436,19,443,21],[372,19,380,21],[377,18,380,18],[382,19,397,21],[390,18,393,18],[394,18,397,18],[398,19,405,21],[400,18,401,18],[380,0,380,17],[381,0,381,17],[381,19,381,21],[382,9,382,16],[383,6,383,16],[384,8,384,9],[388,8,388,9],[392,8,392,9],[396,8,396,9],[382,6,382,8],[384,11,384,12],[384,14,384,16],[402,18,403,18],[404,18,405,18],[398,18,399,18],[406,18,411,18],[419,18,427,18],[432,18,433,18],[439,18,440,18],[441,18,443,18],[341,18,342,18],[343,18,344,18],[354,18,358,18],[360,18,361,18],[372,18,376,18],[428,0,428,21],[429,0,429,17],[429,19,429,21],[430,18,431,18],[430,6,431,17],[431,0,431,2],[431,3,431,5],[432,6,433,17],[434,0,434,21],[435,0,435,17],[435,19,435,21],[341,19,346,21],[345,18,346,18],[353,18,353,21],[354,19,358,21],[359,18,359,21],[360,19,370,21],[362,18,363,18],[382,18,385,18],[386,18,389,18],[371,19,371,21],[439,0,440,5],[441,0,443,5],[406,0,410,5],[414,0,418,5],[419,0,427,5],[430,0,430,5],[432,0,433,5],[436,0,437,5],[438,0,438,5],[359,0,359,5],[360,0,361,5],[362,0,363,5],[364,0,366,5],[372,0,379,5],[382,0,397,5],[398,0,401,5],[402,0,403,5],[404,0,405,5],[367,0,369,5],[353,6,353,16],[354,6,354,10],[354,13,354,16],[355,13,355,16],[356,13,356,16],[341,0,346,5],[347,0,347,5],[348,0,352,5],[353,0,353,5],[354,0,358,5],[334,18,335,18],[317,18,318,18],[317,19,322,21],[319,18,320,18],[321,18,322,18],[323,18,323,21],[324,19,325,21],[326,18,326,21],[327,19,332,21],[329,18,330,18],[331,18,332,18],[327,0,332,5],[327,6,328,6],[329,6,330,6],[329,7,330,16],[331,7,331,16],[332,6,332,16],[306,18,307,18],[306,19,315,21],[308,18,309,18],[309,6,310,6],[310,18,311,18],[314,18,315,18],[319,6,320,6],[319,7,320,16],[321,6,322,6],[321,7,322,16],[324,18,325,18],[327,18,328,18],[314,0,315,5],[314,6,315,16],[316,0,316,5],[316,6,316,16],[317,0,322,5],[317,6,318,6],[317,7,318,16],[323,0,323,5],[323,6,323,16],[364,6,364,12],[364,13,364,16],[365,6,366,16],[364,18,366,18],[367,18,370,18],[375,7,375,8],[375,10,375,11],[367,6,369,16],[370,0,370,17],[371,0,371,17],[359,6,359,16],[360,6,360,12],[360,13,360,16],[361,6,361,12],[361,13,361,16],[362,6,362,12],[362,13,362,16],[363,6,363,12],[363,13,363,16],[340,0,340,5],[340,6,340,16],[376,6,376,11],[376,12,379,16],[377,6,377,11],[378,7,378,8],[379,7,379,8],[372,17,379,17],[378,10,378,11],[379,10,379,11],[373,6,373,11],[374,7,374,8],[374,10,374,11],[372,6,372,11],[372,12,375,16],[340,18,340,21],[341,7,342,16],[343,7,344,16],[345,7,345,16],[346,6,346,16],[357,13,357,16],[358,13,358,16],[350,7,350,10],[351,7,351,10],[347,6,347,16],[347,18,347,21],[348,6,348,10],[348,11,352,16],[348,18,352,18],[348,19,352,21],[349,6,349,10],[352,6,352,10],[355,6,356,10],[357,6,357,10],[357,11,357,12],[358,6,358,10],[358,11,358,12],[341,6,342,6],[343,6,344,6],[282,14,282,16],[283,14,283,16],[336,7,337,16],[338,7,338,16],[333,0,333,5],[334,0,339,5],[334,6,335,6],[334,7,335,16],[334,19,339,21],[336,6,337,6],[336,18,337,18],[338,18,339,18],[339,6,339,16],[333,18,333,21],[333,6,333,16],[324,0,325,5],[324,6,325,16],[326,0,326,5],[326,6,326,16],[327,7,328,16],[309,7,310,16],[311,7,311,16],[305,6,305,16],[306,6,307,16],[257,9,257,12],[258,6,258,8],[292,7,293,16],[281,10,281,13],[282,10,282,13],[283,10,283,13],[289,18,303,18],[289,19,303,21],[300,12,302,12],[300,13,300,16],[302,13,302,15],[283,6,283,9],[284,6,284,9],[286,6,288,11],[264,18,288,18],[264,19,288,21],[255,17,298,17],[284,14,284,16],[272,14,272,16],[273,14,273,16],[279,14,279,16],[280,14,280,16],[281,14,281,16],[285,14,285,16],[279,6,279,9],[280,6,280,9],[281,6,281,9],[282,6,282,9],[285,6,285,9],[274,6,274,9],[274,10,274,13],[277,6,277,9],[278,6,278,9],[278,10,278,13],[284,10,284,13],[285,10,285,13],[279,10,279,13],[280,10,280,13],[276,10,276,13],[276,14,276,16],[277,10,277,13],[277,14,277,16],[262,6,262,8],[262,9,262,11],[262,12,262,16],[263,6,263,8],[263,9,263,12],[263,13,263,16],[265,7,265,10],[266,6,266,16],[267,6,268,16],[269,10,271,13],[275,6,275,9],[275,10,275,13],[269,6,271,9],[272,6,272,9],[272,10,272,13],[273,6,273,9],[273,10,273,13],[254,19,254,21],[255,0,263,5],[255,9,256,16],[255,18,263,18],[255,19,263,21],[258,9,258,13],[259,6,259,8],[239,19,253,21],[245,7,248,9],[259,9,259,11],[259,12,259,16],[260,6,260,8],[260,9,260,13],[260,14,260,16],[261,6,261,8],[261,9,261,15],[241,7,241,8],[241,11,241,16],[243,6,244,10],[243,11,243,16],[244,11,244,16],[245,11,245,16],[255,6,256,8],[257,6,257,8],[289,0,302,5],[306,0,307,5],[309,0,313,5],[301,13,301,15],[301,16,302,16],[303,0,303,17],[304,0,304,17],[304,18,305,18],[304,19,305,21],[305,0,305,5],[312,7,312,16],[312,18,313,18],[313,6,313,16],[294,6,295,6],[294,7,295,16],[296,6,297,6],[296,7,297,16],[298,6,298,16],[299,6,299,16],[300,6,302,11],[289,6,289,16],[290,6,290,16],[291,7,291,16],[292,6,293,6],[234,18,238,18],[234,19,238,21],[235,6,235,16],[236,7,236,10],[236,12,236,15],[239,11,239,16],[246,11,246,16],[239,18,253,18],[253,0,253,17],[240,7,240,8],[240,11,240,16],[240,9,242,10],[242,11,242,16],[247,11,247,16],[250,11,250,16],[251,6,252,10],[251,11,251,16],[252,11,252,16],[264,0,288,5],[237,7,237,10],[238,6,238,10],[239,0,252,5],[239,6,239,10],[286,12,288,12],[286,13,286,16],[287,13,287,15],[287,16,288,16],[288,13,288,15],[248,11,248,16],[249,11,249,16],[257,13,257,16],[258,14,258,16],[265,12,265,16],[269,14,271,16],[264,6,264,16],[234,0,238,5],[234,6,234,16],[254,0,254,16],[278,14,278,16],[274,14,274,16],[275,14,275,16],[276,6,276,9]]}
[{"$f":"'Caseload Files'!B2","v":"Teacher Caseload Review"},null,null,null,{"$f":"'Caseload Files'!D30","v":"File 20"},null,"Reviewer:",null,null,{"$f":"'Caseload Files'!F30","v":"Reviewer 20"},null,null,"Staff Reviewed:",null,null,{"$f":"'Caseload Files'!I30","v":"Staff 20"},null,null,"Score","Findings/Notes"]
[{"$f":"'Caseload Files'!B2","v":"Teacher Caseload Review"},null,null,null,null,null,null,null,null,null,null,null,null,null,null,null,null,null,"Rating","Record notes\nand/or findings."]
[]
[]
["Student Name:",null,null,{"$f":"'Caseload Files'!$L$30","v":"Student 20"},null,null,null,"Date of Birth:",null,null,{"$f":"'Caseload Files'!$R$30","v":"2020-02-20"},null,null,null,"Current IEP Meeting Date:"]
["SIMS Numer:",null,null,{"$f":"'Caseload Files'!$O$30","v":201234567},null,null,null,"Age/Grade:",null,null,{"$f":"INT(YEARFRAC(K5,TODAY()))","v":1},"/Sophomore",null,null,"Previous IEP Meeting Date:"]
["School District:",null,null,{"$f":"'Caseload Files'!B3","v":"District 00-0"},null,null,null,"Disability Code:",null,null,{"$f":"'Caseload Files'!$W$30","v":"DisCode 20"},null,null,null,"Current Eligibility Determination Date:"]
["School Name:",null,null,{"$f":"'Caseload Files'!E6","v":"School Name"},null,null,null,"Race/Ethnicity:",null,null,{"$f":"'Caseload Files'!T30","v":"Race 20"},null,null,null,"Previous Eligibility Determination Date:"]
["School Year:",null,null,{"$f":"'Caseload Files'!E7","v":"1998-1999"},null,null,null,"Type of Review:",null,null,{"$f":"'Caseload Files'!Z30","v":"Type 20"},null,null,null,"Date of Review:"]
[]
[{"$f":"HYPERLINK(\"http://sdlegislature.gov/Rules/DisplayRule.aspx?Rule=24:05\",\"Subsection Title and \nCorresponding ARSD Links \")","v":"Subsection Title and \nCorresponding ARSD Links "},null,null,null,null,null,"Yellow boxes are prompts",null,null,null,null,"Use checkboxes to help record findings.",null,null,"Voided space and/or clarifying information.",null,null,null,"\"N/A\" may be appropriate for certain sections.","Findings/Notes"]
[null,null,null,null,null,null,"for information."]
[]
[]
[{"$f":"HYPERLINK(\"https://gosynth.com/p/s/aboqwv\",\"Record of Access\")","v":"Record of Access"},null,null,null,null,null,null,null,null,null,null,null,null,null,null,null,null,null,{"$f":"IFERROR(Y17/X17,\"N/A\")","v":"N/A"},"Findings/Notes"]
[{"$f":"HYPERLINK(\"http://sdlegislature.gov/Rules/DisplayRule.aspx?Rule=24:05:29:15\",\"Record of Access\n(24:05:29:15)\")","v":"Record of Access\n(24:05:29:15)"},null,null,null,null,null,null,null,null,null,null,null,null,null,null,null,null,null,"Select","V16",null,null,null,null,{"$f":"S16","v":"Select"},{"$f":"S16","v":"Select"}]
[null,null,null,null,null,null,null,null,null,null,null,null,null,null,null,null,null,null,null,null,null,null,null,{"$f":"Y17+Z17","v":0},{"$f":"COUNTIF(Y16,\"Yes\")*3","v":0},{"$f":"COUNTIF(Z16,\"No\")*3","v":0}]
[]
[{"$f":"HYPERLINK(\"https://gosynth.com/p/s/grdmsy\",\"Referral\")","v":"Referral"},null,null,null,null,null,null,null,null,null,null,null,null,null,null,null,null,null,{"$f":"IFERROR(Y21/X21,\"N/A\")","v":"N/A"}]
[{"$f":"HYPERLINK(\"http://sdlegislature.gov/Rules/DisplayRule.aspx?Rule=24:05:24:01\",\"Referral Document\n(initial only)\n(24:05:24:01)\")","v":"Referral Document\n(initial only)\n(24:05:24:01)"},null,null,null,null,null,"Date of referral:",null,null,null,null,null,"The top two spaces are available to type in.",null,null,null,null,null,"Select","V20",null,null,null,null,{"$f":"S20","v":"Select"},{"$f":"S20","v":"Select"}]
[null,null,null,null,null,null,"List all areas of referral:",null,null,null,null,null,null,null,null,null,null,null,null,null,null,null,null,{"$f":"Y21+Z21","v":0},{"$f":"COUNTIF(Y20,\"Yes\")*3","v":0},{"$f":"COUNTIF(Z20,\"No\")*3","v":0}]
[]
[]
[]
[null,null,null,null,null,null,"If referral can not be found and is older than three years, N/A is appropriate."]
[]
[{"$f":"HYPERLINK(\"https://gosynth.com/p/s/lihblf\",\"Initial Placement\")","v":"Initial Placement"},null,null,null,null,null,null,null,null,null,null,null,null,null,null,null,null,null,{"$f":"IFERROR(Y33/X33,\"N/A\")","v":"N/A"}]
[{"$f":"HYPERLINK(\"http://sdlegislature.gov/rules/DisplayRule.aspx?Rule=24:05:27:04.01\",\"Consent Signed for Initial Placement \ninto Special Education\n(24:05:27:04.01)\")","v":"Consent Signed for Initial Placement \ninto Special Education\n(24:05:27:04.01)"},null,null,null,null,null,"Date Signed:",null,null,null,null,null,null,null,null,null,null,null,"Select","V28",null,null,null,null,{"$f":"S28","v":"Select"},{"$f":"S28","v":"Select"}]
[null,null,null,null,null,null,"(The Consent Signed for Initial Placement into Special Education form is a separate document.  In the past, it may have been found at the end of the IEP.",null,null,null,null,null,null,null,null,null,null,null,null,null,null,null,null,{"$f":"Y29+Z29","v":0},{"$f":"COUNTIF(Y28,\"Yes\")*3","v":0},{"$f":"COUNTIF(Z28,\"No\")*3","v":0}]
[]
[{"$f":"HYPERLINK(\"https://sdlegislature.gov/Rules/DisplayRule.aspx?Rule=24:05:25:04.02\",\"Determination of Needed \nEvaluation Data\n(24:05:25:04.02)\")","v":"Determination of Needed \nEvaluation Data\n(24:05:25:04.02)"},null,null,null,null,null,"Did the team review existing data before completing the PPWN Consent?",null,null,null,null,null,null,null,null,null,null,null,"Select","V31",null,null,null,null,{"$f":"S31","v":"Select"},{"$f":"S31","v":"Select"}]
[null,null,null,null,null,null,"Select",null,"The existing data includes evaluations and information provided by the parents, current classroom-based local or state assessments, and observations by teachers and related services providers.",null,null,null,null,null,null,null,null,null,null,null,null,null,null,{"$f":"Y32+Z32","v":0},{"$f":"COUNTIF(Y31,\"Yes\")*3","v":0},{"$f":"COUNTIF(Z31,\"No\")*3","v":0}]
[null,null,null,null,null,null,null,null,null,null,null,null,null,null,null,null,null,null,null,null,null,null,null,{"$f":"(X32+X29)/2","v":0},{"$f":"(Y32+Y29)/2","v":0}]
[]
[{"$f":"HYPERLINK(\"https://gosynth.com/p/s/qxevgy\",\"Evaluation\")","v":"Evaluation"},null,null,null,null,null,null,null,null,null,null,null,null,null,null,null,null,null,{"$f":"IFERROR(Y38/X38,\"N/A\")","v":"N/A"},{"$f":"IFERROR(Y58/X58,\"N/A\")","v":"N/A"}]
[{"$f":"HYPERLINK(\"http://sdlegislature.gov/rules/DisplayRule.aspx?Rule=24:05:25:02.01\",\"Initial Evaluation \n(24:05:25:02.01)\")","v":"Initial Evaluation \n(24:05:25:02.01)"},null,null,null,null,null,"PPWN Consent was Sent:",null,null,null,null,null,null,"Use the most recent evaluation. ",null,null,null,null,"Select","V36",null,null,null,null,{"$f":"S36","v":"Select"},{"$f":"S36","v":"Select"}]
[null,null,null,null,null,null,{"$f":"HYPERLINK(\"https://gosynth.com/p/s/qxevgy\",\"Consent was acquired for initial evaluation. \n\nIf consent was not given by the parent for reevaluation, evidence of  attempts were made to elicit parent.\")","v":"Consent was acquired for initial evaluation. \n\nIf consent was not given by the parent for reevaluation, evidence of  attempts were made to elicit parent."},null,null,null,null,null,null,null,null,null,null,null,null,null,null,null,null,{"$f":"Y37+Z37","v":0},{"$f":"COUNTIF(Y36,\"Yes\")*3","v":0},{"$f":"COUNTIF(Z36,\"No\")*3","v":0}]
[{"$f":"HYPERLINK(\"http://sdlegislature.gov/Rules/DisplayRule.aspx?Rule=24:05:25:06.01\",\"Reevaluation\n(24:05:25:06.01)\")","v":"Reevaluation\n(24:05:25:06.01)"},null,null,null,null,null,null,null,null,null,null,null,null,null,null,null,null,null,null,null,null,null,null,{"$f":"(X37+X41+X43+X45+X47+X56+X62+X76+X86+X100+X104+X106+X108+X110+X112+X115+X117+X120)/18","v":0},{"$f":"(Y37+Y41+Y43+Y45+Y47+Y56+Y62+Y76+Y86+Y100+Y104+Y106+Y108+Y110+Y112+Y115+Y117+Y120)/18","v":0}]
[]
[{"$f":"HYPERLINK(\"http://sdlegislature.gov/Rules/DisplayRule.aspx?Rule=24:05:25:16\",\"Parent Input into Evalaution\n(24:05:25:16)\")","v":"Parent Input into Evalaution\n(24:05:25:16)"},null,null,null,null,null,{"$f":"HYPERLINK(\"https://gosynth.com/p/s/ycomsx\",\"Parent input must be documented in the PPWN Consent on input exiting data and \nupcoming evaluation.   (refer to phone logs, progress notes, prior notice)\")","v":"Parent input must be documented in the PPWN Consent on input exiting data and \nupcoming evaluation.   (refer to phone logs, progress notes, prior notice)"},null,null,null,null,null,null,null,null,null,null,null,"Select",null,null,null,null,null,{"$f":"S40","v":"Select"},{"$f":"S40","v":"Select"}]
[null,null,null,null,null,null,null,null,null,null,null,null,null,null,null,null,null,null,null,null,null,null,null,{"$f":"Y41+Z41","v":0},{"$f":"COUNTIF(Y40,\"Yes\")*3","v":0},{"$f":"COUNTIF(Z40,\"No\")*3","v":0}]
[{"$f":"HYPERLINK(\"http://sdlegislature.gov/Rules/DisplayRule.aspx?Rule=24:05:30:06.01\",\"Procedural Safeguards\n(24:05:30:06.01)\")","v":"Procedural Safeguards\n(24:05:30:06.01)"},null,null,null,null,null,{"$f":"HYPERLINK(\"https://gosynth.com/p/s/tdkmfj\",\"[INCLUDE LANGUAGE FOR THIS SECTION]\")","v":"[INCLUDE LANGUAGE FOR THIS SECTION]"},null,null,null,null,null,null,null,null,null,null,null,"Select",null,null,null,null,null,{"$f":"S42","v":"Select"},{"$f":"S42","v":"Select"}]
[null,null,null,null,null,null,null,null,null,null,null,null,null,null,null,null,null,null,null,null,null,null,null,{"$f":"Y43+Z43","v":0},{"$f":"COUNTIF(Y42,\"Yes\")*3","v":0},{"$f":"COUNTIF(Z42,\"No\")*3","v":0}]
[{"$f":"HYPERLINK(\"http://sdlegislature.gov/Rules/DisplayRule.aspx?Rule=24:05:25:03\",\"Extension on 25 Day Timeline\n(24:05:25:03)\")","v":"Extension on 25 Day Timeline\n(24:05:25:03)"},null,null,null,null,null,{"$f":"HYPERLINK(\"https://gosynth.com/p/s/wcheia\",\"Documented agreement with parent and district on new extension date.  \nEligibility and IEP developed 30 days after the agreed extension date.\")","v":"Documented agreement with parent and district on new extension date.  \nEligibility and IEP developed 30 days after the agreed extension date."},null,null,null,null,null,null,null,null,null,null,null,"Select",null,null,null,null,null,{"$f":"S44","v":"Select"},{"$f":"S44","v":"Select"}]
[null,null,null,null,null,null,null,null,null,null,null,null,null,null,null,null,null,null,null,null,null,null,null,{"$f":"Y45+Z45","v":0},{"$f":"COUNTIF(Y44,\"Yes\")*3","v":0},{"$f":"COUNTIF(Z44,\"No\")*3","v":0}]
[{"$f":"HYPERLINK(\"http://sdlegislature.gov/Rules/DisplayRule.aspx?Rule=24:05:30:05\",\"Content of Prior Written Notice/\nConsent for Evaluation\n (24:05:30:05)\")","v":"Content of Prior Written Notice/\nConsent for Evaluation\n (24:05:30:05)"},null,null,null,null,null,{"$f":"HYPERLINK(\"https://gosynth.com/p/s/xymlpn\",\"Check the following:\")","v":"Check the following:"},null,null,null,null,null,null,null,null,null,null,null,"Select","V46",null,null,null,null,{"$f":"S46","v":"Select"},{"$f":"S46","v":"Select"}]
[null,null,null,null,null,null,"PPWN must be individualized to the student, IEP team discussions and situation.",null,null,null,null,null,null,null,null,null,null,null,null,null,null,null,null,{"$f":"Y47+Z47","v":0},{"$f":"COUNTIF(Y46,\"Yes\")*3","v":0},{"$f":"COUNTIF(Z46,\"No\")*3","v":0}]
[]
[null,null,null,null,null,null,null,"Explanation of why the district proposed or refused to take the action"]
[null,null,null,null,null,null,null,"Description of other options considered and why they were rejected "]
[null,null,null,null,null,null,null,"Description of evidence used for the proposed or refused action"]
[null,null,null,null,null,null,null,"Description of other factors that are relevant to proposal or refusal"]
[]
[null,null,null,null,null,null,"All components should be completed and have a clear description."]
[{"$f":"HYPERLINK(\"http://sdlegislature.gov/Rules/DisplayRule.aspx?Rule=24:05:30:05\",\"Timeline of Prior Written Notice/\nConsent for Evaluation\n(24:05:25:03)\")","v":"Timeline of Prior Written Notice/\nConsent for Evaluation\n(24:05:25:03)"},null,null,null,null,null,{"$f":"HYPERLINK(\"https://gosynth.com/p/s/xylthm\",\"Date sent:\")","v":"Date sent:"},null,null,null,"2020-01-18",null,null,null,null,null,null,null,"Select","V54",null,null,null,null,{"$f":"S55","v":"Select"},{"$f":"S55","v":"Select"}]
[null,null,null,null,null,null,"Date signed:",null,null,null,"2020-01-19",null,null,null,null,null,null,null,null,null,null,null,null,{"$f":"Y56+Z56","v":0},{"$f":"COUNTIF(Y55,\"Yes\")*3","v":0},{"$f":"COUNTIF(Z55,\"No\")*3","v":0}]
[null,null,null,null,null,null,"Date received:",null,null,null,"2020-01-20"]
[null,null,null,null,null,null,"25 school days:",null,null,null,{"$f":"WORKDAY(K57,25)","v":"2020-02-24"}]
[null,null,null,null,null,null,"30 calendar days:"]
[null,null,null,null,null,null,"Extension on 25 day:"]
[{"$f":"HYPERLINK(\"http://sdlegislature.gov/Rules/DisplayRule.aspx?Rule=24:05:25:04.02\",\"Evaluations to be Completed by the District per Parental Prior Written/Consent for Evaluation\n(24:05:25:04.02)\")","v":"Evaluations to be Completed by the District per Parental Prior Written/Consent for Evaluation\n(24:05:25:04.02)"},null,null,null,null,null,{"$f":"HYPERLINK(\"https://gosynth.com/p/s/zgdeev\",\"List areas:\")","v":"List areas:"},null,null,"Test administered:",null,null,null,"Test date:",null,"Evaluator:",null,null,"Select","V60",null,null,null,null,{"$f":"S61","v":"Select"},{"$f":"S61","v":"Select"}]
[null,null,null,null,null,null,null,null,null,null,null,null,null,null,null,null,null,null,null,null,null,null,null,{"$f":"Y62+Z62","v":0},{"$f":"COUNTIF(Y61,\"Yes\")*3","v":0},{"$f":"COUNTIF(Z61,\"No\")*3","v":0}]
[]
[]
[]
[]
[]
["For more evaluations requested click the [+]"]
[]
[]
[]
[]
[]
[]
[{"$f":"HYPERLINK(\"http://sdlegislature.gov/Rules/DisplayRule.aspx?Rule=24:05:25:04.02\",\"Existing Evaluation Data\nto be Pulled Forward\n(24:05:25:04.02)\")","v":"Existing Evaluation Data\nto be Pulled Forward\n(24:05:25:04.02)"},null,null,null,null,null,{"$f":"HYPERLINK(\"https://gosynth.com/p/s/pfohnr\",\"List areas:\")","v":"List areas:"},null,null,"Test administered:",null,null,null,"Test date:",null,"Evaluator:",null,null,"Select","V74",null,null,null,null,{"$f":"S75","v":"Select"},{"$f":"S75","v":"Select"}]
[null,null,null,null,null,null,null,null,null,null,null,null,null,null,null,null,null,null,null,null,null,null,null,{"$f":"Y76+Z76","v":0},{"$f":"COUNTIF(Y75,\"Yes\")*3","v":0},{"$f":"COUNTIF(Z75,\"No\")*3","v":0}]
[]
[]
[]
["For more existing data requested click the [+]"]
[]
[]
[]
[]
[{"$f":"HYPERLINK(\"http://sdlegislature.gov/Rules/DisplayRule.aspx?Rule=24:05:25:04.02\",\"Skills Based Assessment and Report\n(24:05:25:04.02)\")","v":"Skills Based Assessment and Report\n(24:05:25:04.02)"},null,null,null,null,null,{"$f":"HYPERLINK(\"https://gosynth.com/p/s/tbqnts\",\"List areas:\")","v":"List areas:"},null,null,"Test administered:",null,null,null,"Test date:",null,"Evaluator:",null,null,"Select","V84",null,null,null,null,{"$f":"S85","v":"Select"},{"$f":"S85","v":"Select"}]
[null,null,null,null,null,null,null,null,null,null,null,null,null,null,null,null,null,null,null,null,null,null,null,{"$f":"Y86+Z86","v":0},{"$f":"COUNTIF(Y85,\"Yes\")*3","v":0},{"$f":"COUNTIF(Z85,\"No\")*3","v":0}]
[]
[null,null,null,null,null,null,null,null,null,null,null,null,null,null,null,null,null,null,null,null,null,null,null,{"$f":"(X86+X100+X104+X106+X108+X110+X112+X115+X117+X120)/10","v":0},{"$f":"(Y86+Y100+Y104+Y106+Y108+Y110+Y112+Y115+Y117+Y120)/10","v":0}]
[]
[]
[]
["For more skills based requested click the [+]"]
[]
[]
[]
[]
[]
[]
[{"$f":"HYPERLINK(\"http://sdlegislature.gov/Rules/DisplayRule.aspx?Rule=24:05:25:03\",\"Consent Received\n(24:05:25:03)\")","v":"Consent Received\n(24:05:25:03)"},null,null,null,null,null,{"$f":"HYPERLINK(\"https://gosynth.com/p/s/ctcnlr\",\"Consent received date:\")","v":"Consent received date:"},null,null,null,null,{"$f":"K57","v":"2020-01-20"},null,null,"Mark \"No\" if dates are outside of \"consent received\" and/or \"25 school days\".",null,null,null,"Select","V98",null,null,null,null,{"$f":"S99","v":"Select"},{"$f":"S99","v":"Select"}]
[null,null,null,null,null,null,"Earliest testing date:",null,null,null,null,{"$f":"MIN(N63:O74,N87:O98)","v":"00:00:00"},null,null,null,null,null,null,null,null,null,null,null,{"$f":"Y100+Z100","v":0},{"$f":"COUNTIF(Y99,\"Yes\")*3","v":0},{"$f":"COUNTIF(Z99,\"No\")*3","v":0}]
[null,null,null,null,null,null,"Latest testing date:",null,null,null,null,{"$f":"MAX(N63:O74,N87:O98)","v":"00:00:00"}]
[null,null,null,null,null,null,"Within 25 School Days:",null,null,null,null,{"$f":"IF(ISBLANK(K60),K58,K60)","v":"2020-02-24"}]
[{"$f":"HYPERLINK(\"http://sdlegislature.gov/Rules/DisplayRule.aspx?Rule=24:05:25:20\",\"All Evaluations Administered \n(24:05:25:20)\")","v":"All Evaluations Administered \n(24:05:25:20)"},null,null,null,null,null,{"$f":"HYPERLINK(\"https://gosynth.com/p/s/mkcdef\",\"All evaluations marked on the PWWN/Consent for Evaluation form must be administered.\")","v":"All evaluations marked on the PWWN/Consent for Evaluation form must be administered."},null,null,null,null,null,null,null,null,null,null,null,"Select","V102",null,null,null,null,{"$f":"S103","v":"Select"},{"$f":"S103","v":"Select"}]
[null,null,null,null,null,null,null,null,null,null,null,null,null,null,null,null,null,null,null,null,null,null,null,{"$f":"Y104+Z104","v":0},{"$f":"COUNTIF(Y103,\"Yes\")*3","v":0},{"$f":"COUNTIF(Z103,\"No\")*3","v":0}]
[{"$f":"HYPERLINK(\"http://sdlegislature.gov/Rules/DisplayRule.aspx?Rule=24:05:25:06.01\",\"Consent was Acquired\n(24:05:25:06.01)\")","v":"Consent was Acquired\n(24:05:25:06.01)"},null,null,null,null,null,{"$f":"HYPERLINK(\"https://gosynth.com/p/s/mkcdef\",\"All evaluations administered must be requested on the PWWN/Consent for Evaluation \nform.\")","v":"All evaluations administered must be requested on the PWWN/Consent for Evaluation \nform."},null,null,null,null,null,null,null,null,null,null,null,"Select",null,null,null,null,null,{"$f":"S105","v":"Select"},{"$f":"S105","v":"Select"}]
[null,null,null,null,null,null,null,null,null,null,null,null,null,null,null,null,null,null,null,null,null,null,null,{"$f":"Y106+Z106","v":0},{"$f":"COUNTIF(Y105,\"Yes\")*3","v":0},{"$f":"COUNTIF(Z105,\"No\")*3","v":0}]
[{"$f":"HYPERLINK(\"http://sdlegislature.gov/Rules/DisplayRule.aspx?Rule=24:05:25:04\",\"Variety of Sources \n(24:05:25:04)\")","v":"Variety of Sources \n(24:05:25:04)"},null,null,null,null,null,{"$f":"HYPERLINK(\"https://gosynth.com/p/s/mkcdef\",\"Appropritate means to provide evaluations for accurate data were used. \")","v":"Appropritate means to provide evaluations for accurate data were used. "},null,null,null,null,null,null,null,null,null,null,null,"Select",null,null,null,null,null,{"$f":"S107","v":"Select"},{"$f":"S107","v":"Select"}]
[null,null,null,null,null,null,null,null,null,null,null,null,null,null,null,null,null,null,null,null,null,null,null,{"$f":"Y108+Z108","v":0},{"$f":"COUNTIF(Y107,\"Yes\")*3","v":0},{"$f":"COUNTIF(Z107,\"No\")*3","v":0}]
[{"$f":"HYPERLINK(\"http://sdlegislature.gov/Rules/DisplayRule.aspx?Rule=24:05:25:04\",\"Met Requirements for the Disability\n(24:05:25:04) \")","v":"Met Requirements for the Disability\n(24:05:25:04) "},null,null,null,null,null,{"$f":"HYPERLINK(\"https://gosynth.com/p/s/mkcdef\",\"Comprehensive Evaluations in all areas required for the disability. \")","v":"Comprehensive Evaluations in all areas required for the disability. "},null,null,null,null,null,null,null,null,null,null,null,"Select",null,null,null,null,null,{"$f":"S109","v":"Select"},{"$f":"S109","v":"Select"}]
[null,null,null,null,null,null,null,null,null,null,null,null,null,null,null,null,null,null,null,null,null,null,null,{"$f":"Y110+Z110","v":0},{"$f":"COUNTIF(Y109,\"Yes\")*3","v":0},{"$f":"COUNTIF(Z109,\"No\")*3","v":0}]
[{"$f":"HYPERLINK(\"http://sdlegislature.gov/Rules/DisplayRule.aspx?Rule=24:05:25:03\",\"Eligibility within 30 Calendar Days \n(24:05:25:03)\")","v":"Eligibility within 30 Calendar Days \n(24:05:25:03)"},null,null,null,null,null,{"$f":"HYPERLINK(\"https://gosynth.com/p/s/mkcdef\",\"Day 26 was on:\")","v":"Day 26 was on:"},null,null,null,null,{"$f":"WORKDAY(L102,1)","v":"2020-02-25"},null,null,null,null,null,null,"Select","V110",null,null,null,null,{"$f":"S111","v":"Select"},{"$f":"S111","v":"Select"}]
[null,null,null,null,null,null,"Eligibility Determination Date:",null,null,null,null,{"$f":"T7","v":"00:00:00"},null,null,null,null,null,null,null,null,null,null,null,{"$f":"Y112+Z112","v":0},{"$f":"COUNTIF(Y111,\"Yes\")*3","v":0},{"$f":"COUNTIF(Z111,\"No\")*3","v":0}]
[null,null,null,null,null,null,"Eligibility meeting date should have been by:",null,null,null,null,null,null,null,{"$f":"K59","v":"00:00:00"}]
[{"$f":"HYPERLINK(\"http://sdlegislature.gov/Rules/DisplayRule.aspx?Rule=24:05:25:04.03\",\"Student Eligible for Special Education \n(24:05:25:04.03)\")","v":"Student Eligible for Special Education \n(24:05:25:04.03)"},null,null,null,null,null,null,null,null,null,null,null,null,null,null,null,null,null,"Select",null,null,null,null,null,{"$f":"S114","v":"Select"},{"$f":"S114","v":"Select"}]
[null,null,null,null,null,null,null,null,null,null,null,null,null,null,null,null,null,null,null,null,null,null,null,{"$f":"Y115+Z115","v":0},{"$f":"COUNTIF(Y114,\"Yes\")*3","v":0},{"$f":"COUNTIF(Z114,\"No\")*3","v":0}]
[{"$f":"HYPERLINK(\"http://sdlegislature.gov/Rules/DisplayRule.aspx?Rule=24:05:25:06\",\"Three Year Re-Evaluation\n(24:05:25:06)\")","v":"Three Year Re-Evaluation\n(24:05:25:06)"},null,null,null,null,null,{"$f":"HYPERLINK(\"https://gosynth.com/p/s/mkcdef\",\"Current Eligibility Determination Date:\")","v":"Current Eligibility Determination Date:"},null,null,null,null,null,null,{"$f":"L112","v":"00:00:00"},null,null,null,null,"Select",null,null,null,null,null,{"$f":"S116","v":"Select"},{"$f":"S116","v":"Select"}]
[null,null,null,null,null,null,"Previous Eligibility Determination Date:",null,null,null,null,null,null,{"$f":"T8","v":"00:00:00"},null,null,null,null,null,null,null,null,null,{"$f":"Y117+Z117","v":0},{"$f":"COUNTIF(Y116,\"Yes\")*3","v":0},{"$f":"COUNTIF(Z116,\"No\")*3","v":0}]
[]
[{"$f":"HYPERLINK(\"https://gosynth.com/p/s/mkcdef\",\"Evaluated to Dismiss from Services  \")","v":"Evaluated to Dismiss from Services  "},null,null,null,null,null,null,null,null,null,null,null,null,null,null,null,null,null,"Select",null,null,null,null,null,{"$f":"S119","v":"Select"},{"$f":"S119","v":"Select"}]
[null,null,null,null,null,null,null,null,null,null,null,null,null,null,null,null,null,null,null,null,null,null,null,{"$f":"Y120+Z120","v":0},{"$f":"COUNTIF(Y119,\"Yes\")*3","v":0},{"$f":"COUNTIF(Z119,\"No\")*3","v":0}]
[]
[{"$f":"HYPERLINK(\"https://gosynth.com/p/s/giwoma\",\"Eligibility Document for Specific Learning Disability\")","v":"Eligibility Document for Specific Learning Disability"},null,null,null,null,null,null,null,null,null,null,null,null,null,null,null,null,null,{"$f":"IFERROR(Y126/X126,\"N/A\")","v":"N/A"}]
["If student is not eligible for Specific Learning Disability, skip this section.  Click on the [+] button if section is not visible. ",null,null,null,null,null,null,null,null,null,null,null,null,null,null,null,null,null,"Select","V122",null,null,null,null,{"$f":"S123","v":"Select"},{"$f":"S123","v":"Select"}]
[{"$f":"HYPERLINK(\"http://sdlegislature.gov/Rules/DisplayRule.aspx?Rule=24:05:24.01:19\",\"Specific Learning Disabilities\n(24:05:24.01:19)\")","v":"Specific Learning Disabilities\n(24:05:24.01:19)"},null,null,null,null,null,"Check the following:",null,null,null,null,null,null,null,null,null,null,null,null,null,null,null,null,{"$f":"Y124+Z124","v":0},{"$f":"COUNTIF(Y123,\"Yes\")*3","v":0},{"$f":"COUNTIF(Z123,\"No\")*3","v":0}]
[]
[null,null,null,null,null,null,null,"Reading Comprehension",null,null,null,null,null,"Math Calculation",null,null,null,null,null,null,null,null,null,{"$f":"(X124+X132+X151+X165+X174)/5","v":0},{"$f":"(Y124+Y132+Y151+Y165+Y174)/5","v":0}]
[null,null,null,null,null,null,null,"Basic Reading Skills",null,null,null,null,null,"Math Problem Solving"]
[null,null,null,null,null,null,null,"Reading Fluency",null,null,null,null,null,"Listening Comprehension"]
[null,null,null,null,null,null,null,"Written Expression",null,null,null,null,null,"Oral Expression"]
[]
["For Initial Determination of Eligibility Only",null,null,null,null,null,null,null,null,null,null,null,null,null,null,null,null,null,"Select","V130",null,null,null,null,{"$f":"S131","v":"Select"},{"$f":"S131","v":"Select"}]
[{"$f":"HYPERLINK(\"http://sdlegislature.gov/Rules/DisplayRule.aspx?Rule=24:05:24.01:19\",\"Initial Eligibility\n(24:05:24.01:19)\")","v":"Initial Eligibility\n(24:05:24.01:19)"},null,null,null,null,null,"Written report must include:",null,null,null,null,null,null,null,null,null,null,null,null,null,null,null,null,{"$f":"Y132+Z132","v":0},{"$f":"COUNTIF(Y131,\"Yes\")*3","v":0},{"$f":"COUNTIF(Z131,\"No\")*3","v":0}]
[]
[null,null,null,null,null,null,null,"Student achieves adequately",null,null,null,null,"Lack of appropriate instruction"]
[]
[null,null,null,null,null,null,null,"Student exhibits pattern of strengths & weaknesses",null,null,null,null,"Observation of the student"]
[]
[null,null,null,null,null,null,null,null,null,null,null,null,"Relevant medical findings (if any)"]
[null,null,null,null,null,null,null,"Student was provided appropriate instruction in regular education settings by qualified personnel"]
[null,null,null,null,null,null,null,null,null,null,null,null,"Achievement level problem is/is not primarily the result of another factor (e.g. emotional disturbance, cognitive impairment, etc.)"]
[]
[]
[null,null,null,null,null,null,null,"Repeated assessment of achievement reflecting student progress"]
[]
[]
[null,null,null,null,null,null,null,"Attendance record",null,null,null,null,"Adverse effect on educational performance"]
[]
[]
["Click on the [+] button to expand or the [-] button to collapse."]
["For Reevaluation of Eligibility Only",null,null,null,null,null,null,null,null,null,null,null,null,null,null,null,null,null,"Select","V149",null,null,null,null,{"$f":"S150","v":"Select"},{"$f":"S150","v":"Select"}]
[{"$f":"HYPERLINK(\"http://sdlegislature.gov/Rules/DisplayRule.aspx?Rule=24:05:24.01:19\",\"Reevaluation of Eligibility\n(24:05:24.01:19)\")","v":"Reevaluation of Eligibility\n(24:05:24.01:19)"},null,null,null,null,null,"Written report must include:",null,null,null,null,null,null,null,null,null,null,null,null,null,null,null,null,{"$f":"Y151+Z151","v":0},{"$f":"COUNTIF(Y150,\"Yes\")*3","v":0},{"$f":"COUNTIF(Z150,\"No\")*3","v":0}]
[]
[null,null,null,null,null,null,null,"Student achieves adequately",null,null,null,null,"Achievement level problem is/is not primarily the result of another factor (e.g. emotional disturbance, cognitive impairment, etc.)"]
[]
[null,null,null,null,null,null,null,"Student exhibits pattern of strengths & weaknesses"]
[]
[]
[null,null,null,null,null,null,null,"Observation of the student"]
[null,null,null,null,null,null,null,null,null,null,null,null,"Adverse effect on educational performance"]
[null,null,null,null,null,null,null,"Relevant medical findings (if any)"]
[]
[]
["Click on the [+] button to expand or the [-] button to collapse."]
[{"$f":"HYPERLINK(\"http://sdlegislature.gov/Rules/DisplayRule.aspx?Rule=24:05:25:08\",\"Team Member Signatures \n(24:05:25:08)\")","v":"Team Member Signatures \n(24:05:25:08)"},null,null,null,null,null,"Check the following:",null,null,null,null,null,null,null,null,null,null,null,"Select","V163",null,null,null,null,{"$f":"S164","v":"Select"},{"$f":"S164","v":"Select"}]
[null,null,null,null,null,null,null,null,null,null,null,null,null,null,null,null,null,null,null,null,null,null,null,{"$f":"Y165+Z165","v":0},{"$f":"COUNTIF(Y164,\"Yes\")*3","v":0},{"$f":"COUNTIF(Z164,\"No\")*3","v":0}]
[null,null,null,null,null,null,null,"Parent",null,null,null,null,"Each group member shall certify in writing whether the report reflects the group member's conclusion. If it does not reflect the group member's conclusion, the group member must submit the conclusion in a separate statement."]
[null,null,null,null,null,null,null,"General Education Teacher"]
[{"$f":"HYPERLINK(\"http://sdlegislature.gov/Rules/DisplayRule.aspx?Rule=24:05:25:13\",\"Group Members to Certify \nReport in Writing \n(24:05:25:13)\")","v":"Group Members to Certify \nReport in Writing \n(24:05:25:13)"},null,null,null,null,null,null,"Special Education Teacher"]
[null,null,null,null,null,null,null,"Qualified interpreter of results"]
[null,null,null,null,null,null,null,"LEA Representative"]
[null,null,null,null,null,null,null,"If disagreed, written input was provided"]
[]
[null,null,null,null,null,null,"Check PWWN for eligibility decisions.                         ",null,null,null,null,"Skip to","PPWN.",null,null,null,null,null,"Select",null,null,null,null,null,{"$f":"S173","v":"Select"},{"$f":"S173","v":"Select"}]
[null,null,null,null,null,null,null,null,null,null,null,null,null,null,null,null,null,null,null,null,null,null,null,{"$f":"Y174+Z174","v":0},{"$f":"COUNTIF(Y173,\"Yes\")*3","v":0},{"$f":"COUNTIF(Z173,\"No\")*3","v":0}]
[]
[{"$f":"HYPERLINK(\"https://gosynth.com/p/s/mzphio\",\"Meeting Notice\")","v":"Meeting Notice"},null,null,null,null,null,null,null,null,null,null,null,null,null,null,null,null,null,{"$f":"IFERROR(Y184/X184,\"N/A\")","v":"N/A"}]
["Meeting Notice",null,null,null,null,null,"Date sent:",null,null,null,null,null,"From this point on use the current IEP's documentation.",null,null,null,null,null,"Select","V174",null,null,null,null,{"$f":"S177","v":"Select"},{"$f":"S177","v":"Select"}]
[{"$f":"HYPERLINK(\"http://sdlegislature.gov/Rules/DisplayRule.aspx?Rule=24:05:30:02.01\",\"(24:05:30:02.01)\")","v":"(24:05:30:02.01)"},null,null,{"$f":"HYPERLINK(\"http://sdlegislature.gov/Rules/DisplayRule.aspx?Rule=24:05:25:16\",\"(24:05:25:16)\")","v":"(24:05:25:16)"},null,null,"Meeting date:",null,null,{"$f":"T5","v":"00:00:00"},null,null,null,null,null,null,null,null,null,null,null,null,null,{"$f":"Y178+Z178","v":0},{"$f":"COUNTIF(Y177,\"Yes\")*3","v":0},{"$f":"COUNTIF(Z177,\"No\")*3","v":0}]
["Procedural Safeguards",null,null,null,null,null,"Must be given to parents annually.",null,null,null,null,null,null,null,null,null,null,null,"Select",null,null,null,null,null,{"$f":"S179","v":"Select"},{"$f":"S179","v":"Select"}]
[{"$f":"HYPERLINK(\"http://sdlegislature.gov/Rules/DisplayRule.aspx?Rule=24:05:30:06.01\",\"(24:05:30:06.01)\")","v":"(24:05:30:06.01)"},null,null,{"$f":"HYPERLINK(\"http://sdlegislature.gov/Rules/DisplayRule.aspx?Rule=24:05:30:06.02\",\"(24:05:30:06.02)\")","v":"(24:05:30:06.02)"},null,null,null,null,null,null,null,null,null,null,null,null,null,null,null,null,null,null,null,{"$f":"Y180+Z180","v":0},{"$f":"COUNTIF(Y179,\"Yes\")*3","v":0},{"$f":"COUNTIF(Z179,\"No\")*3","v":0}]
["IEP Team",null,null,null,null,null,"Complete the following:",null,null,null,null,null,null,null,null,null,null,null,"Select",null,null,null,null,null,{"$f":"S181","v":"Select"},{"$f":"S181","v":"Select"}]
[null,null,null,null,null,null,null,null,null,null,null,null,null,null,null,null,null,null,null,null,null,null,null,{"$f":"Y182+Z182","v":0},{"$f":"COUNTIF(Y181,\"Yes\")*3","v":0},{"$f":"COUNTIF(Z181,\"No\")*3","v":0}]
[null,null,null,null,null,null,null,"The documentation of people attending the IEP meeting on front page of the IEP does not imply agreement, it is for participation purposes only."]
[null,null,null,null,null,null,null,null,null,null,null,null,null,null,null,null,null,null,null,null,null,null,null,{"$f":"(X178+X180+X182+X198)/4","v":0},{"$f":"(Y178+Y180+Y182+Y198)/4","v":0}]
[null,null,null,null,null,null,null,"Identified on the meeting notice:",null,null,"Attended the meeting:",null,null,"Did not attend\nthe meeting:"]
[]
[{"$f":"HYPERLINK(\"http://sdlegislature.gov/Rules/DisplayRule.aspx?Rule=24:05:25:16\",\"(24:05:25:16)\")","v":"(24:05:25:16)"},null,null,null,null,null,null,"Parent/Guardian"]
[null,null,null,null,null,null,null,"Student"]
[null,null,null,null,null,null,null,"Gen. Ed. Teacher"]
[null,null,null,null,null,null,null,"Sp. Ed. Teacher"]
["Parent Participation",null,null,null,null,null,null,"Eval Interpreter"]
[{"$f":"HYPERLINK(\"http://sdlegislature.gov/Rules/DisplayRule.aspx?Rule=24:05:25:16\",\"(24:05:25:16)\")","v":"(24:05:25:16)"},null,null,null,null,null,null,"LEA Representative"]
[null,null,null,null,null,null,null,"List Others"]
[null,null,null,null,null,null,null,"List Others"]
[null,null,null,null,null,null,null,"List Others"]
[]
["IEP Team Attendance \n (24:05:27:01.05)",null,null,null,null,null,"A member of the IEP team may be excused from attending, in whole or in part, an IEP team meeting that involves a modification to or discussion of the member's area of the curriculum or related services, if:\n   (1) The parent and school district consent in writing to the excusal; and\n   (2) The member submits, in writing to the parent and the IEP team, input into the development of the IEP before the meeting.",null,null,null,null,null,null,null,null,null,null,null,"Select","V194",null,null,null,null,{"$f":"S197","v":"Select"},{"$f":"S197","v":"Select"}]
[null,null,null,null,null,null,null,null,null,null,null,null,null,null,null,null,null,null,null,null,null,null,null,{"$f":"Y198+Z198","v":0},{"$f":"COUNTIF(Y197,\"Yes\")*3","v":0},{"$f":"COUNTIF(Z197,\"No\")*3","v":0}]
[]
[]
[]
[]
[{"$f":"HYPERLINK(\"https://gosynth.com/p/s/jshfqs\",\"          Individual Education Plan (Use the most recent IEP.)\n\")","v":"          Individual Education Plan (Use the most recent IEP.)\n"},null,null,null,null,null,null,null,null,null,null,null,null,null,null,null,null,null,{"$f":"IFERROR(Y210/X210,\"N/A\")","v":"N/A"}]
[{"$f":"HYPERLINK(\"http://sdlegislature.gov/Rules/DisplayRule.aspx?Rule=24:05:25:04.03\",\"Evaluation Reports Given to Parents \n(24:05:25:04.03)\")","v":"Evaluation Reports Given to Parents \n(24:05:25:04.03)"},null,null,null,null,null,"Evidence the parent received a copy of the reports (e.g.  initials on the front page IEP or other evidence). ",null,null,null,null,null,null,null,null,null,null,null,"Select","V201",null,null,null,null,{"$f":"S204","v":"Select"},{"$f":"S204","v":"Select"}]
[null,null,null,null,null,null,null,null,null,null,null,null,null,null,null,null,null,null,null,null,null,null,null,{"$f":"Y205+Z205","v":0},{"$f":"COUNTIF(Y204,\"Yes\")*3","v":0},{"$f":"COUNTIF(Z204,\"No\")*3","v":0}]
[{"$f":"HYPERLINK(\"http://sdlegislature.gov/Rules/DisplayRule.aspx?Rule=24:05:25:19\",\"Copy of IEP Given to Parents \n(24:05:25:19)\")","v":"Copy of IEP Given to Parents \n(24:05:25:19)"},null,null,null,null,null,"Evidence copy of the IEP was given to parents (e.g.  initials on the front page, addressed in PPWN, or other evidence).",null,null,null,null,null,null,null,null,null,null,null,"Select",null,null,null,null,null,{"$f":"S206","v":"Select"},{"$f":"S206","v":"Select"}]
[null,null,null,null,null,null,null,null,null,null,null,null,null,null,null,null,null,null,null,null,null,null,null,{"$f":"Y207+Z207","v":0},{"$f":"COUNTIF(Y206,\"Yes\")*3","v":0},{"$f":"COUNTIF(Z206,\"No\")*3","v":0}]
[{"$f":"HYPERLINK(\"http://sdlegislature.gov/Rules/DisplayRule.aspx?Rule=24:05:27:08\",\"Met Annually\n(24:05:27:08)\")","v":"Met Annually\n(24:05:27:08)"},null,null,null,null,null,"Current IEP Meeting Date:",null,null,null,null,{"$f":"T5","v":"00:00:00"},null,null,null,null,null,null,"Select",null,null,null,null,null,{"$f":"S208","v":"Select"},{"$f":"S208","v":"Select"}]
[null,null,null,null,null,null,"Previous IEP Meeting Date:",null,null,null,null,{"$f":"T6","v":"00:00:00"},null,null,null,null,null,null,null,null,null,null,null,{"$f":"Y209+Z209","v":0},{"$f":"COUNTIF(Y208,\"Yes\")*3","v":0},{"$f":"COUNTIF(Z208,\"No\")*3","v":0}]
[null,null,null,null,null,null,null,null,null,null,null,null,null,null,null,null,null,null,null,null,null,null,null,{"$f":"(X205+X207+X209)/3","v":0},{"$f":"(Y205+Y207+Y209)/3","v":0}]
[{"$f":"HYPERLINK(\"https://gosynth.com/p/s/eypdgf\",\"Present Levels of Academic Achievement & Functional Performance\")","v":"Present Levels of Academic Achievement & Functional Performance"},null,null,null,null,null,null,null,null,null,null,null,null,null,null,null,null,null,{"$f":"IFERROR(Y243/X243,\"N/A\")","v":"N/A"}]
[{"$f":"HYPERLINK(\"http://sdlegislature.gov/Rules/DisplayRule.aspx?Rule=24:05:27:01.03\",\"Progress/Involvement in \nGeneral Education Curriculum\n(24:05:27:01.03)\")","v":"Progress/Involvement in \nGeneral Education Curriculum\n(24:05:27:01.03)"},null,null,null,null,null,"A statement of the student's present levels of academic achievement and functional performance, including:\n   (a)  How the student's disability affects the student's involvement and progress in the general education curriculum (i.e., the same curriculum as for nondisabled students); or\n   (b)  For preschool student, as appropriate, how the disability affects the student's participation in appropriate activities;\nis found in the document.",null,null,null,null,null,null,null,null,null,null,null,"Select","V209",null,null,null,null,{"$f":"S212","v":"Select"},{"$f":"S212","v":"Select"}]
[null,null,null,null,null,null,null,null,null,null,null,null,null,null,null,null,null,null,null,null,null,null,null,{"$f":"Y213+Z213","v":0},{"$f":"COUNTIF(Y212,\"Yes\")*3","v":0},{"$f":"COUNTIF(Z212,\"No\")*3","v":0}]
[]
[{"$f":"HYPERLINK(\"https://sdlegislature.gov/Rules/DisplayRule.aspx?Rule=24:05:25:16\",\"Parent Participation\n(24:05:25:16)\")","v":"Parent Participation\n(24:05:25:16)"},null,null,null,null,null,"The purpose of this area for parent to provide IEP team information about how the child’s disability is impacted at home. Parents can also provide input on types of strategies and supports they provide at home.",null,null,null,null,null,null,null,null,null,null,null,"Select",null,null,null,null,null,{"$f":"S215","v":"Select"},{"$f":"S215","v":"Select"}]
[null,null,null,null,null,null,null,null,null,null,null,null,null,null,null,null,null,null,null,null,null,null,null,{"$f":"Y216+Z216","v":0},{"$f":"COUNTIF(Y215,\"Yes\")*3","v":0},{"$f":"COUNTIF(Z215,\"No\")*3","v":0}]
[{"$f":"HYPERLINK(\"http://sdlegislature.gov/Rules/DisplayRule.aspx?Rule=24:05:27:01.03\",\"Present Levels of \nAcademic Achievement \n& Functional Performance\nLinked to Annual Goals\n(24:05:27:01.03)\")","v":"Present Levels of \nAcademic Achievement \n& Functional Performance\nLinked to Annual Goals\n(24:05:27:01.03)"},null,null,null,null,null,"Skill Area:",null,null,null,null,"Measuarable Goal:",null,null,null,null,null,null,"Select","V214",null,null,null,null,{"$f":"S217","v":"Select"},{"$f":"S217","v":"Select"}]
[null,null,null,null,null,null,null,null,null,null,null,null,null,null,null,null,null,null,null,null,null,null,null,{"$f":"Y218+Z218","v":0},{"$f":"COUNTIF(Y217,\"Yes\")*3","v":0},{"$f":"COUNTIF(Z217,\"No\")*3","v":0}]
[null,null,null,null,null,null,null,"Strengths",null,null,null,null,"Condition",null,null,"How well"]
[null,null,null,null,null,null,null,"Needs",null,null,null,null,"Performance",null,null,"How often"]
[null,null,null,null,null,null,null,"Link to evaluation"]
[]
[null,null,null,null,null,null,"Skill Area:",null,null,null,null,"Measuarable Goal:",null,null,null,null,null,null,"Select",null,null,null,null,null,{"$f":"S223","v":"Select"},{"$f":"S223","v":"Select"}]
[null,null,null,null,null,null,null,null,null,null,null,null,null,null,null,null,null,null,null,null,null,null,null,{"$f":"Y224+Z224","v":0},{"$f":"COUNTIF(Y223,\"Yes\")*3","v":0},{"$f":"COUNTIF(Z223,\"No\")*3","v":0}]
[null,null,null,null,null,null,null,"Strengths",null,null,null,null,"Condition",null,null,"How well"]
[null,null,null,null,null,null,null,"Needs",null,null,null,null,"Performance",null,null,"How often"]
[null,null,null,null,null,null,null,"Link to evaluation"]
[]
[null,null,null,null,null,null,"Skill Area:",null,null,null,null,"Measuarable Goal:",null,null,null,null,null,null,"Select",null,null,null,null,null,{"$f":"S229","v":"Select"},{"$f":"S229","v":"Select"}]
[null,null,null,null,null,null,null,null,null,null,null,null,null,null,null,null,null,null,null,null,null,null,null,{"$f":"Y230+Z230","v":0},{"$f":"COUNTIF(Y229,\"Yes\")*3","v":0},{"$f":"COUNTIF(Z229,\"No\")*3","v":0}]
[null,null,null,null,null,null,null,"Strengths",null,null,null,null,"Condition",null,null,"How well"]
[null,null,null,null,null,null,null,"Needs",null,null,null,null,"Performance",null,null,"How often"]
[null,null,null,null,null,null,null,"Link to evaluation"]
[]
[{"$f":"HYPERLINK(\"http://sdlegislature.gov/Rules/DisplayRule.aspx?Rule=24:05:27:01.03\",\"How Progress will be Measured\n(24:05:27:01.03)\")","v":"How Progress will be Measured\n(24:05:27:01.03)"},null,null,null,null,null,{"$f":"HYPERLINK(\"https://gosynth.com/p/s/psaxcx\",\"         Check the following:\")","v":"         Check the following:"},null,null,null,null,null,null,null,null,null,null,null,"Select","V232",null,null,null,null,{"$f":"S235","v":"Select"},{"$f":"S235","v":"Select"}]
[null,null,null,null,null,null,null,null,null,null,null,null,null,null,null,null,null,null,null,null,null,null,null,{"$f":"Y236+Z236","v":0},{"$f":"COUNTIF(Y235,\"Yes\")*3","v":0},{"$f":"COUNTIF(Z235,\"No\")*3","v":0}]
[null,null,null,null,null,null,null,"Reporting frequency",null,null,null,null,"Extent of progress"]
[null,null,null,null,null,null,null,"Reporting method"]
[]
[{"$f":"HYPERLINK(\"http://sdlegislature.gov/Rules/DisplayRule.aspx?Rule=24:05:27:01.03\",\"Accommodations/Modifications\n(24:05:27:01.03)\")","v":"Accommodations/Modifications\n(24:05:27:01.03)"},null,null,null,null,null,{"$f":"HYPERLINK(\"https://gosynth.com/p/s/rtpvrq\",\"         Check the following:\")","v":"         Check the following:"},null,null,null,null,"List Instructional Accommodations:",null,null,null,null,null,null,"Select","V237",null,null,null,null,{"$f":"S240","v":"Select"},{"$f":"S240","v":"Select"}]
[null,null,null,null,null,null,null,"Frequency",null,null,null,null,null,null,null,null,null,null,null,null,null,null,null,{"$f":"Y241+Z241","v":0},{"$f":"COUNTIF(Y240,\"Yes\")*3","v":0},{"$f":"COUNTIF(Z240,\"No\")*3","v":0}]
[null,null,null,null,null,null,null,"Duration"]
[null,null,null,null,null,null,null,"Location",null,null,null,null,null,null,null,null,null,null,null,null,null,null,null,{"$f":"(X241+X236+X230+X224+X218+X216+X213)/7","v":0},{"$f":"(Y241+Y236+Y230+Y224+Y218+Y216+Y213)/7","v":0}]
[]
[]
[null,null,null,null,null,null,null,"Are the accommodations appropriate for the skill areas affected by the diability?"]
[]
[]
[]
[null,null,null,null,null,null,null,null,"Yes"]
[null,null,null,null,null,null,null,null,"No"]
[]
[]
[]
[{"$f":"HYPERLINK(\"https://gosynth.com/p/s/ygpazf\",\"Special Factors\")","v":"Special Factors"},null,null,null,null,null,null,null,null,null,null,null,null,null,null,null,null,null,{"$f":"IFERROR(Y294/X294,\"N/A\")","v":"N/A"}]
[{"$f":"HYPERLINK(\"http://sdlegislature.gov/Rules/DisplayRule.aspx?Rule=24:05:27:01.02\",\"Considerations\n(24:05:27:01.02)\")","v":"Considerations\n(24:05:27:01.02)"},null,null,null,null,null,"Select for each:",null,null,"Determine if data supports the selection for each special factor; if not addressed, check \"N\"  for score.",null,null,null,null,null,null,null,null,"Select","V243",null,null,null,null,{"$f":"S256","v":"Select"},{"$f":"S256","v":"Select"}]
[null,null,null,null,null,null,null,null,null,null,null,null,null,null,null,null,null,null,null,null,null,null,null,{"$f":"Y257+Z257","v":0},{"$f":"COUNTIF(Y256,\"Yes\")*3","v":0},{"$f":"COUNTIF(Z256,\"No\")*3","v":0}]
[null,null,null,null,null,null,null,null,null,"Limited English proficient"]
[null,null,null,null,null,null,null,null,null,"Special communication needs"]
[null,null,null,null,null,null,null,null,null,"Requires Braille"]
[null,null,null,null,null,null,null,null,null,"Behavior impedes learning"]
[null,null,null,null,null,null,null,null,null,"Requires assistive technology & services"]
[null,null,null,null,null,null,null,null,null,"Physical education"]
[null,null,null,null,null,null,null,null,null,"Hearing aid maintenance"]
[{"$f":"HYPERLINK(\"http://sdlegislature.gov/Rules/DisplayRule.aspx?Rule=24:05:27:01.03\",\"State/District Assessments\n(24:05:27:01.03)\")","v":"State/District Assessments\n(24:05:27:01.03)"},null,null,null,null,null,{"$f":"HYPERLINK(\"https://gosynth.com/p/s/jdbbir\",\"             Students will be taking state and district-wide assessments:\")","v":"             Students will be taking state and district-wide assessments:"},null,null,null,null,null,null,null,null,null,null,null,"Select","V263",null,null,null,null,{"$f":"S265","v":"Select"},{"$f":"S265","v":"Select"}]
[null,null,null,null,null,null,null,"With accommodations",null,null,null,null,"Without accommodations",null,null,null,null,null,null,null,null,null,null,{"$f":"Y266+Z266","v":0},{"$f":"COUNTIF(Y265,\"Yes\")*3","v":0},{"$f":"COUNTIF(Z265,\"No\")*3","v":0}]
[null,null,null,null,null,null,"Testing accommodations must reflect instructional accommodations."]
[null,null,null,null,null,null,"Do the accommodations for the state/district assesment(s) \nmatch the instructional accommodations?"]
[]
[null,null,null,null,null,null,"Instructional \nAccommodations",null,null,null,"State/District\nAssessment\nAccommodations",null,null,null,"Select\nyes or no:"]
[]
[]
[null,null,null,null,null,null,{"$f":"L241","v":0},null,null,null,null,null,null,null,"- Select -"]
[null,null,null,null,null,null,0,null,null,null,null,null,null,null,"- Select -"]
[null,null,null,null,null,null,0,null,null,null,null,null,null,null,"- Select -"]
[null,null,null,null,null,null,0,null,null,null,null,null,null,null,"- Select -"]
[null,null,null,null,null,null,0]
[null,null,null,null,null,null,0,null,null,null,null,null,null,null,"- Select -"]
[null,null,null,null,null,null,0,null,null,null,null,null,null,null,"- Select -"]
[null,null,null,null,null,null,0]
[null,null,null,null,null,null,0]
[null,null,null,null,null,null,0,null,null,null,null,null,null,null,"- Select -"]
[null,null,null,null,null,null,0,null,null,null,null,null,null,null,"- Select -"]
[null,null,null,null,null,null,0,null,null,null,null,null,null,null,"- Select -"]
[null,null,null,null,null,null,0,null,null,null,null,null,null,null,"- Select -"]
[null,null,null,null,null,null,0,null,null,null,null,null,null,null,"- Select -"]
[null,null,null,null,null,null,"Were the accommodations for\n the state assessment identified \non the IEP provided according to \nthe assessment data sheet?"]
[null,null,null,null,null,null,null,null,null,null,null,null,null,"- Select -"]
[]
[{"$f":"HYPERLINK(\"http://sdlegislature.gov/Rules/DisplayRule.aspx?Rule=24:05:27:01.03\",\"Alternate Assessments\n(24:05:27:01.03)\")","v":"Alternate Assessments\n(24:05:27:01.03)"},null,null,null,null,null,{"$f":"HYPERLINK(\"https://gosynth.com/p/s/bjlejx\",\"                  The following must be met:\")","v":"                  The following must be met:"},null,null,null,null,null,null,null,null,null,null,null,"Select","V257",null,null,null,null,{"$f":"S290","v":"Select"},{"$f":"S290","v":"Select"}]
[null,null,null,null,null,null,null,null,null,null,null,null,null,null,null,null,null,null,null,null,null,null,null,{"$f":"Y291+Z291","v":0},{"$f":"COUNTIF(Y290,\"Yes\")*3","v":0},{"$f":"COUNTIF(Z290,\"No\")*3","v":0}]
[null,null,null,null,null,null,null,"Student meets the significant cognitive disability criteria"]
[null,null,null,null,null,null,null,"Explanation for why student cannot participate in the regular assessment"]
[null,null,null,null,null,null,null,null,null,null,null,null,null,null,null,null,null,null,null,null,null,null,null,{"$f":"(X291+X266+X257)/3","v":0},{"$f":"(Y291+Y266+Y257)/3","v":0}]
[null,null,null,null,null,null,null,"Explanation for why the alternate assessment selected is appropriate"]
[]
[null,null,null,null,null,null,null,"The alternate assessment is for students working in the alternate achievement standards.  Annual goals and short term objectives are required.                                                                         \n                                                                        "]
[]
[]
[null,null,null,null,null,null,"Does the PPWN explain why IEP team decided alternate assessment for the student?"]
[null,null,null,null,null,null,"Does the student taking the\n alternate assessment meet\n the criteria, has it been \ndocumented on the IEP?"]
[null,null,null,null,null,null,null,null,null,null,null,null,null,"- Select -"]
[]
[]
[{"$f":"HYPERLINK(\"https://gosynth.com/p/s/itwkve\",\"Transition\")","v":"Transition"},null,null,null,null,null,null,null,null,null,null,null,null,null,null,null,null,null,{"$f":"IFERROR(Y306/X306,\"N/A\")","v":"N/A"}]
["Indicator 13 Item 1",null,null,null,null,null,null,null,null,null,null,null,null,null,null,null,null,null,null,null,null,null,null,{"$f":"(X308+X310+X312+X314+X316+X319+X321+X323+X326+X329+X331+X333+X336+X338+X340+X343+X345+X347+X350+X356+X362+X364+X366+X369)/24","v":0},{"$f":"(Y308+Y310+Y312+Y314+Y316+Y319+Y321+Y323+Y326+Y329+Y331+Y333+Y336+Y338+Y340+Y343+Y345+Y347+Y350+Y356+Y362+Y364+Y366+Y369)/24","v":0}]
[{"$f":"HYPERLINK(\"http://sdlegislature.gov/Rules/DisplayRule.aspx?Rule=24:05:27:01.03\",\"Transition IEP*\n(24:05:27:01.03)\")","v":"Transition IEP*\n(24:05:27:01.03)"},null,null,null,null,null,{"$f":"HYPERLINK(\"https://gosynth.com/p/s/itwkve\",\"Transition IEP must be in effect for all students on their 16 birthday or for younger students if it is addressed in the IEP.   \n*This is not on the Indicator 13 checklist, but it is a compliance requirement. \")","v":"Transition IEP must be in effect for all students on their 16 birthday or for younger students if it is addressed in the IEP.   \n*This is not on the Indicator 13 checklist, but it is a compliance requirement. "},null,null,null,null,null,null,null,null,null,null,null,"Select","V269",null,null,null,null,{"$f":"S307","v":"Select"},{"$f":"S307","v":"Select"}]
[null,null,null,null,null,null,null,null,null,null,null,null,null,null,null,null,null,null,null,null,null,null,null,{"$f":"Y308+Z308","v":0},{"$f":"COUNTIF(Y307,\"Yes\")*3","v":0},{"$f":"COUNTIF(Z307,\"No\")*3","v":0}]
[null,null,null,null,null,null,null,null,null,null,null,null,null,null,null,null,null,null,"Select",null,null,null,null,null,{"$f":"S309","v":"Select"},{"$f":"S309","v":"Select"}]
[{"$f":"HYPERLINK(\"http://sdlegislature.gov/Rules/DisplayRule.aspx?Rule=24:05:27:01.03\",\"Transition Assessments\n(24:05:27:01.03)\")","v":"Transition Assessments\n(24:05:27:01.03)"},null,null,null,null,null,null,"Employment",null,null,null,null,null,null,null,null,null,null,null,null,null,null,null,{"$f":"Y310+Z310","v":0},{"$f":"COUNTIF(Y309,\"Yes\")*3","v":0},{"$f":"COUNTIF(Z309,\"No\")*3","v":0}]
[null,null,null,null,null,null,null,null,null,null,null,null,null,null,null,null,null,null,"Select",null,null,null,null,null,{"$f":"S311","v":"Select"},{"$f":"S311","v":"Select"}]
[null,null,null,null,null,null,null,"Education/Training",null,null,null,null,null,null,null,null,null,null,null,null,null,null,null,{"$f":"Y312+Z312","v":0},{"$f":"COUNTIF(Y311,\"Yes\")*3","v":0},{"$f":"COUNTIF(Z311,\"No\")*3","v":0}]
[null,null,null,null,null,null,null,"Independent Living",null,null,null,null,null,null,null,null,null,null,"Select",null,null,null,null,null,{"$f":"S313","v":"Select"},{"$f":"S313","v":"Select"}]
[null,null,null,null,null,null,{"$f":"HYPERLINK(\"https://gosynth.com/p/s/itwkve\",\"The transition assessment must be completed prior to the age of 16 and updated annually.  Evidence of transition strengths/ needs are document on the PLAAFPs.  \")","v":"The transition assessment must be completed prior to the age of 16 and updated annually.  Evidence of transition strengths/ needs are document on the PLAAFPs.  "},null,null,null,null,null,null,null,null,null,null,null,null,null,null,null,null,{"$f":"Y314+Z314","v":0},{"$f":"COUNTIF(Y313,\"Yes\")*3","v":0},{"$f":"COUNTIF(Z313,\"No\")*3","v":0}]
["Transition Evaluation Report*\n",null,null,null,null,null,{"$f":"HYPERLINK(\"https://gosynth.com/p/s/itwkve\",\"A transition evaluation report is located in the file.\n\n*This is not on the Indicator 13 checklist, but it is a compliance requirement. \")","v":"A transition evaluation report is located in the file.\n\n*This is not on the Indicator 13 checklist, but it is a compliance requirement. "},null,null,null,null,null,null,null,null,null,null,null,"Select",null,null,null,null,null,{"$f":"S315","v":"Select"},{"$f":"S315","v":"Select"}]
[null,null,null,null,null,null,null,null,null,null,null,null,null,null,null,null,null,null,null,null,null,null,null,{"$f":"Y316+Z316","v":0},{"$f":"COUNTIF(Y315,\"Yes\")*3","v":0},{"$f":"COUNTIF(Z315,\"No\")*3","v":0}]
[{"$f":"HYPERLINK(\"https://gosynth.com/p/s/itwkve\",\"Indicator 13 Item 2\")","v":"Indicator 13 Item 2"}]
[{"$f":"HYPERLINK(\"http://sdlegislature.gov/Rules/DisplayRule.aspx?Rule=24:05:27:01.03\",\"Age-Appropriate Measurable \nPost-Secondary Goals \n(24:05:27:01.03)\")","v":"Age-Appropriate Measurable \nPost-Secondary Goals \n(24:05:27:01.03)"},null,null,null,null,null,null,"Employment",null,null,null,null,null,null,null,null,null,null,"Select","V278",null,null,null,null,{"$f":"S318","v":"Select"},{"$f":"S318","v":"Select"}]
[null,null,null,null,null,null,null,null,null,null,null,null,null,null,null,null,null,null,null,null,null,null,null,{"$f":"Y319+Z319","v":0},{"$f":"COUNTIF(Y318,\"Yes\")*3","v":0},{"$f":"COUNTIF(Z318,\"No\")*3","v":0}]
[null,null,null,null,null,null,null,"Education/Training",null,null,null,null,null,null,null,null,null,null,"Select",null,null,null,null,null,{"$f":"S320","v":"Select"},{"$f":"S320","v":"Select"}]
[null,null,null,null,null,null,null,null,null,null,null,null,null,null,null,null,null,null,null,null,null,null,null,{"$f":"Y321+Z321","v":0},{"$f":"COUNTIF(Y320,\"Yes\")*3","v":0},{"$f":"COUNTIF(Z320,\"No\")*3","v":0}]
[null,null,null,null,null,null,null,"Independent Living",null,null,null,null,null,null,null,null,null,null,"Select",null,null,null,null,null,{"$f":"S322","v":"Select"},{"$f":"S322","v":"Select"}]
[null,null,null,null,null,null,null,null,null,null,null,null,null,null,null,null,null,null,null,null,null,null,null,{"$f":"Y323+Z323","v":0},{"$f":"COUNTIF(Y322,\"Yes\")*3","v":0},{"$f":"COUNTIF(Z322,\"No\")*3","v":0}]
[{"$f":"HYPERLINK(\"https://gosynth.com/p/s/itwkve\",\"Indicator 13 Item 3\")","v":"Indicator 13 Item 3"}]
["MPSGs Updated Annually",null,null,null,null,null,null,null,null,null,null,null,null,null,null,null,null,null,"Select","V282",null,null,null,null,{"$f":"S325","v":"Select"},{"$f":"S325","v":"Select"}]
[null,null,null,null,null,null,null,null,null,null,null,null,null,null,null,null,null,null,null,null,null,null,null,{"$f":"Y326+Z326","v":0},{"$f":"COUNTIF(Y325,\"Yes\")*3","v":0},{"$f":"COUNTIF(Z325,\"No\")*3","v":0}]
["Indicator 13 Item 4"]
[{"$f":"HYPERLINK(\"http://sdlegislature.gov/Rules/DisplayRule.aspx?Rule=24:05:27:01.03\",\"Course of Study Aligns to \nPost-Secondary Goals\n(24:05:27:01.03)\")","v":"Course of Study Aligns to \nPost-Secondary Goals\n(24:05:27:01.03)"},null,null,null,null,null,null,"Employment",null,null,null,null,null,null,null,null,null,null,"Select","V285",null,null,null,null,{"$f":"S328","v":"Select"},{"$f":"S328","v":"Select"}]
[null,null,null,null,null,null,null,null,null,null,null,null,null,null,null,null,null,null,null,null,null,null,null,{"$f":"Y329+Z329","v":0},{"$f":"COUNTIF(Y328,\"Yes\")*3","v":0},{"$f":"COUNTIF(Z328,\"No\")*3","v":0}]
[null,null,null,null,null,null,null,"Education/Training",null,null,null,null,null,null,null,null,null,null,"Select",null,null,null,null,null,{"$f":"S330","v":"Select"},{"$f":"S330","v":"Select"}]
[null,null,null,null,null,null,null,null,null,null,null,null,null,null,null,null,null,null,null,null,null,null,null,{"$f":"Y331+Z331","v":0},{"$f":"COUNTIF(Y330,\"Yes\")*3","v":0},{"$f":"COUNTIF(Z330,\"No\")*3","v":0}]
[null,null,null,null,null,null,null,"Independent Living",null,null,null,null,null,null,null,null,null,null,"Select",null,null,null,null,null,{"$f":"S332","v":"Select"},{"$f":"S332","v":"Select"}]
[null,null,null,null,null,null,"Completed by age 16, or younger if transition has been addressed in the IEP, and updated annually through graduation or ‘age out’.",null,null,null,null,null,null,null,null,null,null,null,null,null,null,null,null,{"$f":"Y333+Z333","v":0},{"$f":"COUNTIF(Y332,\"Yes\")*3","v":0},{"$f":"COUNTIF(Z332,\"No\")*3","v":0}]
[{"$f":"HYPERLINK(\"https://gosynth.com/p/s/itwkve\",\"Indicator 13 Item 5\")","v":"Indicator 13 Item 5"}]
[{"$f":"HYPERLINK(\"http://sdlegislature.gov/Rules/DisplayRule.aspx?Rule=24:05:27:13.02\",\"Transition Services/Activities\n(24:05:27:13.02)\")","v":"Transition Services/Activities\n(24:05:27:13.02)"},null,null,null,null,null,null,"Employment",null,null,null,null,null,null,null,null,null,null,"Select","V290",null,null,null,null,{"$f":"S335","v":"Select"},{"$f":"S335","v":"Select"}]
[null,null,null,null,null,null,null,null,null,null,null,null,null,null,null,null,null,null,null,null,null,null,null,{"$f":"Y336+Z336","v":0},{"$f":"COUNTIF(Y335,\"Yes\")*3","v":0},{"$f":"COUNTIF(Z335,\"No\")*3","v":0}]
[null,null,null,null,null,null,null,"Education/Training",null,null,null,null,null,null,null,null,null,null,"Select",null,null,null,null,null,{"$f":"S337","v":"Select"},{"$f":"S337","v":"Select"}]
[null,null,null,null,null,null,null,null,null,null,null,null,null,null,null,null,null,null,null,null,null,null,null,{"$f":"Y338+Z338","v":0},{"$f":"COUNTIF(Y337,\"Yes\")*3","v":0},{"$f":"COUNTIF(Z337,\"No\")*3","v":0}]
[null,null,null,null,null,null,null,"Independent Living",null,null,null,null,null,null,null,null,null,null,"Select",null,null,null,null,null,{"$f":"S339","v":"Select"},{"$f":"S339","v":"Select"}]
[null,null,null,null,null,null,"Services/activities will reasonably enable the student to meet post-secondary goals and have at least one activity per MPSG addressed.",null,null,null,null,null,null,null,null,null,null,null,null,null,null,null,null,{"$f":"Y340+Z340","v":0},{"$f":"COUNTIF(Y339,\"Yes\")*3","v":0},{"$f":"COUNTIF(Z339,\"No\")*3","v":0}]
[{"$f":"HYPERLINK(\"https://gosynth.com/p/s/itwkve\",\"Indicator 13 Item 6\")","v":"Indicator 13 Item 6"}]
[{"$f":"HYPERLINK(\"http://sdlegislature.gov/Rules/DisplayRule.aspx?Rule=24:05:27:13.02\",\"Annual Goal Related to Student’s Transition Service needs in\n(24:05:27:13.02)\")","v":"Annual Goal Related to Student’s Transition Service needs in\n(24:05:27:13.02)"},null,null,null,null,null,null,"Employment",null,null,null,null,null,null,null,null,null,null,"Select","V295",null,null,null,null,{"$f":"S342","v":"Select"},{"$f":"S342","v":"Select"}]
[null,null,null,null,null,null,null,null,null,null,null,null,null,null,null,null,null,null,null,null,null,null,null,{"$f":"Y343+Z343","v":0},{"$f":"COUNTIF(Y342,\"Yes\")*3","v":0},{"$f":"COUNTIF(Z342,\"No\")*3","v":0}]
[null,null,null,null,null,null,null,"Education/Training",null,null,null,null,null,null,null,null,null,null,"Select",null,null,null,null,null,{"$f":"S344","v":"Select"},{"$f":"S344","v":"Select"}]
[null,null,null,null,null,null,null,null,null,null,null,null,null,null,null,null,null,null,null,null,null,null,null,{"$f":"Y345+Z345","v":0},{"$f":"COUNTIF(Y344,\"Yes\")*3","v":0},{"$f":"COUNTIF(Z344,\"No\")*3","v":0}]
[null,null,null,null,null,null,null,"Independent Living",null,null,null,null,null,null,null,null,null,null,"Select",null,null,null,null,null,{"$f":"S346","v":"Select"},{"$f":"S346","v":"Select"}]
[null,null,null,null,null,null,{"$f":"HYPERLINK(\"https://gosynth.com/p/s/itwkve\",\"Annual goals are linked to the MPSGs.\")","v":"Annual goals are linked to the MPSGs."},null,null,null,null,null,null,null,null,null,null,null,null,null,null,null,null,{"$f":"Y347+Z347","v":0},{"$f":"COUNTIF(Y346,\"Yes\")*3","v":0},{"$f":"COUNTIF(Z346,\"No\")*3","v":0}]
[{"$f":"HYPERLINK(\"https://gosynth.com/p/s/pisllo\",\"Indicator 13 Item 7\")","v":"Indicator 13 Item 7"}]
[{"$f":"HYPERLINK(\"http://sdlegislature.gov/Rules/DisplayRule.aspx?Rule=24:05:25:16.01\",\"Student Invitation/Participation\n(24:05:25:16.01)\")","v":"Student Invitation/Participation\n(24:05:25:16.01)"},null,null,null,null,null,"How the student invited?",null,null,null,null,{"$f":"HYPERLINK(\"https://gosynth.com/p/s/pisllo\",\"If student was not in attendance at the meeting, the IEP should show evidence that student's preferences and interests were taken into account. *\")","v":"If student was not in attendance at the meeting, the IEP should show evidence that student's preferences and interests were taken into account. *"},null,null,null,null,null,null,"Select","V300",null,null,null,null,{"$f":"S349","v":"Select"},{"$f":"S349","v":"Select"}]
[null,null,null,null,null,null,null,null,null,null,null,null,null,null,null,null,null,null,null,null,null,null,null,{"$f":"Y350+Z350","v":0},{"$f":"COUNTIF(Y349,\"Yes\")*3","v":0},{"$f":"COUNTIF(Z349,\"No\")*3","v":0}]
[null,null,null,null,null,null,null,"Meeting notice"]
[null,null,null,null,null,null,null,"Individual student invite"]
[]
[{"$f":"HYPERLINK(\"https://gosynth.com/p/s/pisllo\",\"Indicator 13 Item 8\")","v":"Indicator 13 Item 8"}]
[{"$f":"HYPERLINK(\"http://sdlegislature.gov/Rules/DisplayRule.aspx?Rule=24:05:25:16.01\",\"Consent to Invite Outside Agency\n(24:05:25:16.01)\")","v":"Consent to Invite Outside Agency\n(24:05:25:16.01)"},null,null,null,null,null,{"$f":"HYPERLINK(\"https://gosynth.com/p/s/pisllo\",\" Written Consent to invite:\")","v":" Written Consent to invite:"},null,null,null,null,null,null,"List of agencies invited:",null,null,null,null,"Select","V306",null,null,null,null,{"$f":"S355","v":"Select"},{"$f":"S355","v":"Select"}]
[null,null,null,null,null,null,"Invited on Meeting Notice:",null,null,null,null,null,"Yes",null,null,null,null,null,null,null,null,null,null,{"$f":"Y356+Z356","v":0},{"$f":"COUNTIF(Y355,\"Yes\")*3","v":0},{"$f":"COUNTIF(Z355,\"No\")*3","v":0}]
[null,null,null,null,null,null,null,null,null,null,null,null,"No"]
[null,null,null,null,null,null,"Meeting Notice Date:",null,null,null,null,{"$f":"J177","v":"00:00:00"}]
[null,null,null,null,null,null,"Date of Current IEP Meeting:",null,null,null,null,{"$f":"T5","v":"00:00:00"}]
[{"$f":"HYPERLINK(\"https://gosynth.com/p/s/pisllo\",\"Other Transition Areas *\")","v":"Other Transition Areas *"}]
[{"$f":"HYPERLINK(\"http://sdlegislature.gov/Rules/DisplayRule.aspx?Rule=24:05:30:16.01\",\"Transfer of Parental Rights:\n(24:05:30:16.01)\")","v":"Transfer of Parental Rights:\n(24:05:30:16.01)"},null,null,null,null,null,"Turned 17 on:",null,null,null,null,null,null,null,null,null,null,null,"Select","V312",null,null,null,null,{"$f":"S361","v":"Select"},{"$f":"S361","v":"Select"}]
[null,null,null,null,null,null,"Rights reviewed on:",null,null,null,null,null,null,null,null,null,null,null,null,null,null,null,null,{"$f":"Y362+Z362","v":0},{"$f":"COUNTIF(Y361,\"Yes\")*3","v":0},{"$f":"COUNTIF(Z361,\"No\")*3","v":0}]
[{"$f":"HYPERLINK(\"http://sdlegislature.gov/Rules/DisplayRule.aspx?Rule=24:05:27:12\",\"Specific Graduation Requirements:\n(24:05:27:12)\")","v":"Specific Graduation Requirements:\n(24:05:27:12)"},null,null,null,null,null,"Graduation requirements addressed on:",null,null,null,null,null,null,null,null,null,null,null,"Select",null,null,null,null,null,{"$f":"S363","v":"Select"},{"$f":"S363","v":"Select"}]
[null,null,null,null,null,null,"Student is projected to graduate:",null,null,null,null,null,null,null,null,null,null,null,null,null,null,null,null,{"$f":"Y364+Z364","v":0},{"$f":"COUNTIF(Y363,\"Yes\")*3","v":0},{"$f":"COUNTIF(Z363,\"No\")*3","v":0}]
[{"$f":"HYPERLINK(\"http://sdlegislature.gov/Rules/DisplayRule.aspx?Rule=24:05:27:12\",\"When Student has Graduated\n(24:05:27:12)\")","v":"When Student has Graduated\n(24:05:27:12)"},null,null,null,null,null,"Written prior notice was sent:",null,null,null,null,null,null,null,null,null,null,null,"Select",null,null,null,null,null,{"$f":"S365","v":"Select"},{"$f":"S365","v":"Select"}]
[null,null,null,null,null,null,{"$f":"HYPERLINK(\"https://gosynth.com/p/s/pisllo\",\"When a student graduates, it is a change in placement. It must have a written\n prior notice sent.  If student has \"\"aged-out\"\", a PPWN is required.  \")","v":"When a student graduates, it is a change in placement. It must have a written\n prior notice sent.  If student has \"aged-out\", a PPWN is required.  "},null,null,null,null,null,null,null,null,null,null,null,null,null,null,null,null,{"$f":"Y366+Z366","v":0},{"$f":"COUNTIF(Y365,\"Yes\")*3","v":0},{"$f":"COUNTIF(Z365,\"No\")*3","v":0}]
[]
[{"$f":"HYPERLINK(\"http://sdlegislature.gov/Rules/DisplayRule.aspx?Rule=24:05:27:12\",\"Summary of Performance was provided to the Student/Parent/Guardian\n(24:05:27:12)\")","v":"Summary of Performance was provided to the Student/Parent/Guardian\n(24:05:27:12)"},null,null,null,null,null,{"$f":"HYPERLINK(\"https://gosynth.com/p/s/pisllo\",\"Summary of Performance (SOP) is required for students who graduated and\n aged out. A copy of the SOP should remain in the file.\")","v":"Summary of Performance (SOP) is required for students who graduated and\n aged out. A copy of the SOP should remain in the file."},null,null,null,null,null,null,null,null,null,null,null,"Select",null,null,null,null,null,{"$f":"S368","v":"Select"},{"$f":"S368","v":"Select"}]
[null,null,null,null,null,null,null,null,null,null,null,null,null,null,null,null,null,null,null,null,null,null,null,{"$f":"Y369+Z369","v":0},{"$f":"COUNTIF(Y368,\"Yes\")*3","v":0},{"$f":"COUNTIF(Z368,\"No\")*3","v":0}]
[]
["Click on the [+] button to expand or the [-] button to collapse."]
[{"$f":"HYPERLINK(\"https://gosynth.com/p/s/kldkzb\",\"Related Services\")","v":"Related Services"},null,null,null,null,null,null,null,null,null,null,null,null,null,null,null,null,null,{"$f":"IFERROR(Y375/X375,\"N/A\")","v":"N/A"}]
[{"$f":"HYPERLINK(\"http://sdlegislature.gov/Rules/DisplayRule.aspx?Rule=24:05:27:16\",\"Related Services\n(24:05:27)\")","v":"Related Services\n(24:05:27)"},null,null,null,null,null,"Service Provided:",null,null,null,null,null,"If student will receive services in a different location, then must break it out to calculate the Least Restrictive Environment.",null,null,null,null,null,"Select","V324",null,null,null,null,{"$f":"S373","v":"Select"},{"$f":"S373","v":"Select"}]
[null,null,null,null,null,null,null,null,null,null,null,null,null,null,null,null,null,null,null,null,null,null,null,{"$f":"Y374+Z374","v":0},{"$f":"COUNTIF(Y373,\"Yes\")*3","v":0},{"$f":"COUNTIF(Z373,\"No\")*3","v":0}]
[null,null,null,null,null,null,null,"Frequency",null,null,"Location",null,null,null,null,null,null,null,null,null,null,null,null,{"$f":"(X374+X379)/2","v":0},{"$f":"(Y374+Y379)/2","v":0}]
[null,null,null,null,null,null,null,"Duration",null,null,"Other"]
[null,null,null,null,null,null,"Service Provided:",null,null,null,null,null,"At a minimum, all areas student qualifies and has an annual goal must have service time documented. If not addressed, then PPWN must explain reason."]
[null,null,null,null,null,null,null,null,null,null,null,null,null,null,null,null,null,null,"Select",null,null,null,null,null,{"$f":"S378","v":"Select"},{"$f":"S378","v":"Select"}]
[null,null,null,null,null,null,null,"Frequency",null,null,"Location",null,null,null,null,null,null,null,null,null,null,null,null,{"$f":"Y379+Z379","v":0},{"$f":"COUNTIF(Y378,\"Yes\")*3","v":0},{"$f":"COUNTIF(Z378,\"No\")*3","v":0}]
[null,null,null,null,null,null,null,"Duration",null,null,"Other"]
[]
["Least Restrictive Environment ",null,null,null,null,null,null,null,null,null,null,null,null,null,null,null,null,null,{"$f":"IFERROR(Y382/X382,\"N/A\")","v":"N/A"},null,null,null,null,{"$f":"(X384+X388+X392+X396+X400+X402+X404+X406+X408)/9","v":0},{"$f":"(Y384+Y388+Y392+Y396+Y400+Y402+Y404+Y406+Y408)/9","v":0}]
[{"$f":"HYPERLINK(\"https://sdlegislature.gov/Rules/DisplayRule.aspx?Rule=24:05:28\",\"Least Restrictive Enviornment \n(Chapter 24:05:28)\")","v":"Least Restrictive Enviornment \n(Chapter 24:05:28)"},null,null,null,null,null,{"$f":"HYPERLINK(\"https://gosynth.com/p/s/llxjsq\",\"Skill area:\")","v":"Skill area:"},null,null,null,null,null,null,null,null,null,null,null,"Select","V334",null,null,null,null,{"$f":"S383","v":"Select"},{"$f":"S383","v":"Select"}]
[null,null,null,null,null,null,null,null,null,null,null,null,null,null,null,null,null,null,null,null,null,null,null,{"$f":"Y384+Z384","v":0},{"$f":"COUNTIF(Y383,\"Yes\")*3","v":0},{"$f":"COUNTIF(Z383,\"No\")*3","v":0}]
[null,null,null,null,null,null,null,null,"Frequency",null,null,"Duration",null,null,"Location"]
[]
[null,null,null,null,null,null,"Skill area:",null,null,null,null,null,null,null,null,null,null,null,"Select",null,null,null,null,null,{"$f":"S387","v":"Select"},{"$f":"S387","v":"Select"}]
[null,null,null,null,null,null,null,null,null,null,null,null,null,null,null,null,null,null,null,null,null,null,null,{"$f":"Y388+Z388","v":0},{"$f":"COUNTIF(Y387,\"Yes\")*3","v":0},{"$f":"COUNTIF(Z387,\"No\")*3","v":0}]
[null,null,null,null,null,null,null,null,"Frequency",null,null,"Duration",null,null,"Location"]
[]
[null,null,null,null,null,null,"Skill area:",null,null,null,null,null,null,null,null,null,null,null,"Select",null,null,null,null,null,{"$f":"S391","v":"Select"},{"$f":"S391","v":"Select"}]
[null,null,null,null,null,null,null,null,null,null,null,null,null,null,null,null,null,null,null,null,null,null,null,{"$f":"Y392+Z392","v":0},{"$f":"COUNTIF(Y391,\"Yes\")*3","v":0},{"$f":"COUNTIF(Z391,\"No\")*3","v":0}]
[null,null,null,null,null,null,null,null,"Frequency",null,null,"Duration",null,null,"Location"]
[]
[null,null,null,null,null,null,"Skill area:",null,null,null,null,null,null,null,null,null,null,null,"Select",null,null,null,null,null,{"$f":"S395","v":"Select"},{"$f":"S395","v":"Select"}]
[null,null,null,null,null,null,null,null,null,null,null,null,null,null,null,null,null,null,null,null,null,null,null,{"$f":"Y396+Z396","v":0},{"$f":"COUNTIF(Y395,\"Yes\")*3","v":0},{"$f":"COUNTIF(Z395,\"No\")*3","v":0}]
[null,null,null,null,null,null,null,null,"Frequency",null,null,"Duration",null,null,"Location"]
[]
[{"$f":"HYPERLINK(\"http://sdlegislature.gov/Rules/DisplayRule.aspx?Rule=24:05:28:02\",\"Continuum of Placement\n(24:05:28:02)\")","v":"Continuum of Placement\n(24:05:28:02)"},null,null,null,null,null,"Select:",null,null,null,null,null,null,null,null,null,null,null,"Select","V350",null,null,null,null,{"$f":"S399","v":"Select"},{"$f":"S399","v":"Select"}]
[null,null,null,null,null,null,null,null,null,null,null,null,null,null,null,null,null,null,null,null,null,null,null,{"$f":"Y400+Z400","v":0},{"$f":"COUNTIF(Y399,\"Yes\")*3","v":0},{"$f":"COUNTIF(Z399,\"No\")*3","v":0}]
[null,null,null,null,null,null,"Select for Early Childhood (Ages 3-5):",null,null,null,null,null,null,null,null,null,null,null,"Select",null,null,null,null,null,{"$f":"S401","v":"Select"},{"$f":"S401","v":"Select"}]
[null,null,null,null,null,null,null,null,null,null,null,null,null,null,null,null,null,null,null,null,null,null,null,{"$f":"Y402+Z402","v":0},{"$f":"COUNTIF(Y401,\"Yes\")*3","v":0},{"$f":"COUNTIF(Z401,\"No\")*3","v":0}]
[{"$f":"HYPERLINK(\"http://sdlegislature.gov/Rules/DisplayRule.aspx?Rule=24:05:27:01.03\",\"Participation with Non-disabled Peers\n(24:05:27:01.03)\")","v":"Participation with Non-disabled Peers\n(24:05:27:01.03)"},null,null,null,null,null,{"$f":"HYPERLINK(\"https://gosynth.com/p/s/wjqcuh\",\"Document opportunities to participate with non-disabled peers.\")","v":"Document opportunities to participate with non-disabled peers."},null,null,null,null,null,null,null,null,null,null,null,"Select",null,null,null,null,null,{"$f":"S403","v":"Select"},{"$f":"S403","v":"Select"}]
[null,null,null,null,null,null,null,null,null,null,null,null,null,null,null,null,null,null,null,null,null,null,null,{"$f":"Y404+Z404","v":0},{"$f":"COUNTIF(Y403,\"Yes\")*3","v":0},{"$f":"COUNTIF(Z403,\"No\")*3","v":0}]
[{"$f":"HYPERLINK(\"http://sdlegislature.gov/Rules/DisplayRule.aspx?Rule=24:05:28:03\",\"Justification for Placement \n(24:05:28:03)\")","v":"Justification for Placement \n(24:05:28:03)"},null,null,null,null,null,{"$f":"HYPERLINK(\"https://gosynth.com/p/s/rjxcoc\",\"                  Select from the following:\")","v":"                  Select from the following:"},null,null,null,null,null,null,null,null,null,null,null,"Select",null,null,null,null,null,{"$f":"S405","v":"Select"},{"$f":"S405","v":"Select"}]
[null,null,null,null,null,null,null,null,null,null,null,null,null,null,null,null,null,null,null,null,null,null,null,{"$f":"Y406+Z406","v":0},{"$f":"COUNTIF(Y405,\"Yes\")*3","v":0},{"$f":"COUNTIF(Z405,\"No\")*3","v":0}]
[{"$f":"HYPERLINK(\"http://sdlegislature.gov/Rules/DisplayRule.aspx?Rule=24:05:25:26\",\"Extended School Year\n(24:05:25:26)\")","v":"Extended School Year\n(24:05:25:26)"},null,null,null,null,null,{"$f":"HYPERLINK(\"https://gosynth.com/p/s/bbepxx\",\"                  Check the following:\")","v":"                  Check the following:"},null,null,null,null,null,null,null,null,null,null,null,"Select","V358",null,null,null,null,{"$f":"S407","v":"Select"},{"$f":"S407","v":"Select"}]
[null,null,null,null,null,null,null,null,null,null,null,null,null,null,null,null,null,null,null,null,null,null,null,{"$f":"Y408+Z408","v":0},{"$f":"COUNTIF(Y407,\"Yes\")*3","v":0},{"$f":"COUNTIF(Z407,\"No\")*3","v":0}]
[null,null,null,null,null,null,null,null,"Determination",null,null,null,"Beginning/end dates"]
[null,null,null,null,null,null,null,null,"Goals",null,null,null,"Amount of service"]
[]
[]
[]
[{"$f":"HYPERLINK(\"https://gosynth.com/p/s/acbbuk\",\"Prior Parental Written Notice\")","v":"Prior Parental Written Notice"},null,null,null,null,null,null,null,null,null,null,null,null,null,null,null,null,null,{"$f":"IFERROR(Y414/X414,\"N/A\")","v":"N/A"},null,null,null,null,{"$f":"(X416+X421)/2","v":0},{"$f":"(Y416+Y421)/2","v":0}]
[{"$f":"HYPERLINK(\"http://sdlegislature.gov/Rules/DisplayRule.aspx?Rule=24:05:30:04\",\"Prior Written Notice Sent to Parent Regarding IEP Implementation\n(24:05:30:04)\")","v":"Prior Written Notice Sent to Parent Regarding IEP Implementation\n(24:05:30:04)"},null,null,null,null,null,"Date the district sent the PPWN:",null,null,null,null,null,null,null,"The implementation date documented on the PPWN must be reflected on IEP.\n\nThe five-day notice requirement may be waived by the parents.",null,null,null,"Select","V366",null,null,null,null,{"$f":"S415","v":"Select"},{"$f":"S415","v":"Select"}]
[null,null,null,null,null,null,"District proposed at least 5 calendar days to begin implementation:",null,null,null,null,null,{"$f":"M415+5","v":"1900-01-05"},null,null,null,null,null,null,null,null,null,null,{"$f":"Y416+Z416","v":0},{"$f":"COUNTIF(Y415,\"Yes\")*3","v":0},{"$f":"COUNTIF(Z415,\"No\")*3","v":0}]
[]
[null,null,null,null,null,null,"Was the 5 calendar day notice requirement met?",null,null,null,null,null,null,"Yes"]
[null,null,null,null,null,null,null,null,null,null,null,null,null,"No"]
[{"$f":"HYPERLINK(\"http://sdlegislature.gov/Rules/DisplayRule.aspx?Rule=24:05:30:05\",\"Content of PPWN\n(24:05:30:05)\")","v":"Content of PPWN\n(24:05:30:05)"},null,null,null,null,null,"Check the following:",null,null,null,null,null,null,null,null,null,null,null,"Select","V371",null,null,null,null,{"$f":"S420","v":"Select"},{"$f":"S420","v":"Select"}]
[null,null,null,null,null,null,"PPWN must be individualized to the student, IEP team discussions and situation.",null,null,null,null,null,null,null,null,null,null,null,null,null,null,null,null,{"$f":"Y421+Z421","v":0},{"$f":"COUNTIF(Y420,\"Yes\")*3","v":0},{"$f":"COUNTIF(Z420,\"No\")*3","v":0}]
[]
[null,null,null,null,null,null,null,"Explanation of why the district proposed or refused to take the action"]
[null,null,null,null,null,null,null,"Description of other options considered and why they were rejected "]
[null,null,null,null,null,null,null,"Description of evidence used for the proposed or refused action"]
[null,null,null,null,null,null,null,"Description of other factors that are relevant to proposal or refusal"]
[]
[null,null,null,null,null,null,"To skip back to Eligibility section click ",null,null,null,null,"HERE."]
[]
[{"$f":"HYPERLINK(\"https://gosynth.com/p/s/iwvzyu\",\"Amendment to IEP\")","v":"Amendment to IEP"},null,null,null,null,null,null,null,null,null,null,null,null,null,null,null,null,null,{"$f":"IFERROR(Z430/Y430,\"N/A\")","v":"N/A"},null,null,null,null,null,{"$f":"(X432+X434)/2","v":0},{"$f":"(Y432+Y434)/2","v":0}]
["Amendment to IEP",null,null,null,null,null,null,null,null,null,null,null,null,null,null,null,null,null,"Select","V381",null,null,null,null,{"$f":"S431","v":"Select"},{"$f":"S431","v":"Select"}]
[{"$f":"HYPERLINK(\"http://sdlegislature.gov/Rules/DisplayRule.aspx?Rule=24:05:27:08.01\",\"(24:05:27:08.01)\")","v":"(24:05:27:08.01)"},null,null,{"$f":"HYPERLINK(\"http://sdlegislature.gov/Rules/DisplayRule.aspx?Rule=24:05:27:08.02\",\"(24:05:27:08.02)\")","v":"(24:05:27:08.02)"},null,null,null,null,null,null,null,null,null,null,null,null,null,null,null,null,null,null,null,{"$f":"Y432+Z432","v":0},{"$f":"COUNTIF(Y431,\"Yes\")*3","v":0},{"$f":"COUNTIF(Z431,\"No\")*3","v":0}]
[{"$f":"HYPERLINK(\"http://sdlegislature.gov/Rules/DisplayRule.aspx?Rule=24:05:30:04\",\"Prior Notice\n(24:05:30:04)\")","v":"Prior Notice\n(24:05:30:04)"},null,null,null,null,null,"Document if the amendment was made with or without a meeting.",null,null,null,null,null,null,null,null,null,null,null,"Select",null,null,null,null,null,{"$f":"S433","v":"Select"},{"$f":"S433","v":"Select"}]
[null,null,null,null,null,null,null,null,null,null,null,null,null,null,null,null,null,null,null,null,null,null,null,{"$f":"Y434+Z434","v":0},{"$f":"COUNTIF(Y433,\"Yes\")*3","v":0},{"$f":"COUNTIF(Z433,\"No\")*3","v":0}]
[]
[{"$f":"HYPERLINK(\"https://gosynth.com/p/s/jdtswp\",\"Additional Items\")","v":"Additional Items"},null,null,null,null,null,null,null,null,null,null,null,null,null,null,null,null,null,{"$f":"IFERROR(AB436/AA436,\"N/A\")","v":"N/A"},null,null,null,null,null,{"$f":"S437","v":"Select"},{"$f":"S437","v":"Select"},{"$f":"(X437+X439+X441+X443)/4","v":0},{"$f":"(Y437+Y439+Y441+Y443)/4","v":0}]
["Parent Declined/\nWithdrew Consent for Services ",null,null,null,null,null,"Revocation signed:",null,null,null,null,null,null,{"$f":"HYPERLINK(\"http://sdlegislature.gov/Rules/DisplayRule.aspx?Rule=24:05:27:04.02\",\"(24:05:27:04.02)\")","v":"(24:05:27:04.02)"},null,null,null,null,"Select","V387",null,null,null,{"$f":"Y437+Z437","v":0},{"$f":"COUNTIF(Y436,\"Yes\")*3","v":0},{"$f":"COUNTIF(Z436,\"No\")*3","v":0}]
[null,null,null,null,null,null,"Date prior notice was sent:",null,null,null,null,null,null,null,null,null,null,null,null,null,null,null,null,null,{"$f":"S439","v":"Select"},{"$f":"S439","v":"Select"}]
["Surrogate Parent",null,null,null,null,null,null,null,null,null,null,null,null,null,null,null,null,null,"Select",null,null,null,null,{"$f":"Y439+Z439","v":0},{"$f":"COUNTIF(Y438,\"Yes\")*3","v":0},{"$f":"COUNTIF(Z438,\"No\")*3","v":0}]
["Transfer Students Provided with  FAPE/Comparable Services ",null,null,null,null,null,"Date prior notice was sent:",null,null,null,null,null,null,{"$f":"HYPERLINK(\"http://sdlegislature.gov/Rules/DisplayRule.aspx?Rule=24:05:27:15.01\",\"In-state (24:05:27:15.01)\")","v":"In-state (24:05:27:15.01)"},null,null,null,null,"Select",null,null,null,null,null,{"$f":"S440","v":"Select"},{"$f":"S440","v":"Select"}]
[null,null,null,null,null,null,null,null,null,null,null,null,null,{"$f":"HYPERLINK(\"http://sdlegislature.gov/Rules/DisplayRule.aspx?Rule=24:05:27:15.02\",\"Out-of-state (24:05:27:15.02)\")","v":"Out-of-state (24:05:27:15.02)"},null,null,null,null,null,null,null,null,null,{"$f":"Y441+Z441","v":0},{"$f":"COUNTIF(Y440,\"Yes\")*3","v":0},{"$f":"COUNTIF(Z440,\"No\")*3","v":0}]
["Transfer Students Evaluated for \nSouth Dakota Eligibility",null,null,null,null,null,"Eligibility determination date:",null,null,null,null,null,null,null,null,null,null,null,"Select",null,null,null,null,null,{"$f":"S442","v":"Select"},{"$f":"S442","v":"Select"}]
[null,null,null,null,null,null,"IEP date:",null,null,null,null,null,null,null,null,null,null,null,null,null,null,null,null,{"$f":"Y443+Z443","v":0},{"$f":"COUNTIF(Y442,\"Yes\")*3","v":0},{"$f":"COUNTIF(Z442,\"No\")*3","v":0}]
[null,null,null,null,null,null,"PPWN Implementing IEP sent:"]